{"text_format":"1","workbook":"xlsx","n_sheets":22,"sheets":["Metadatos","Indicaciones (LÉEME)","Datos generales (cumplimentar)","NFO_availability","NFO_encoding","NFO_reference_system","NFO_format","NFO_dcat_type","NFO_frequency","NFO_language","NFO_mimetype","NFO_publisher_type","NFO_representation_type","NFO_rights","NFO_spatial_uri","NFO_status","NFO_topic","NFO_theme_es","NFO_tag_uri","NFO_theme","Licencia","Palabras_clave"],"not_rendered":{"charts":0,"images":1,"macros":1,"external_links":0,"defined_names":3,"comments":0,"pivot_tables":0},"unopened":[],"bounds":{"document_bytes":16777216,"sheet_cells":100000,"rows_first":2000,"rows_last":500,"rows_between":2000,"halvings":0,"cell_chars":16384,"cell_head_chars":4096},"cells_cut":0,"cells_raw":0,"read":"whole","date_system":"1900"}

{"sheet":"Metadatos","index":0,"n_rows":22,"n_cols":2,"rows_kept":22,"cut":false,"hidden":false,"merged":[[22,0,22,1]]}
[]
[]
[]
[]
["Título/Title","Catalogo de datos. Portal de datos y servicios IEPNB"]
["Identificador/Identifer"]
["Autor/Creator","MITECO. DG Biodiversidad, Bosques y Desertificación"]
["Fecha/Date"]
["Tema/Subject","Plantilla para la carga de: Datos espaciales"]
["Estado/Status","BORRADOR"]
["Editor/Publisher","Banco de Datos de la Naturaleza. Inventario Español del Patrimonio Natural y la Biodiversidad (IEPNB)"]
["Descripción/Description","Plantilla para la carga de datos espaciales en el portal de datos y servicios del IEPNB.es"]
[null,"Los campos marcados en verde oscuro son los que se rellenan de manera obligatoria"]
[]
[]
["Contribuciones/Contributors","Banco de Datos de la Naturaleza. Inventario Español del Patrimonio Natural y la Biodiversidad (IEPNB)"]
["Fuente/Source"]
["Difusión/Rights","PRIVADO"]
["Idioma/Language","Español (Es)"]
["Documentos Relacionados/Relations"]
["Período de validez/Coverage","Temporal"]
["Fecha modificacion del diccionario","2024-04-09"]

{"sheet":"Indicaciones (LÉEME)","index":1,"n_rows":16,"n_cols":2,"rows_kept":16,"cut":false,"hidden":false,"merged":[]}
["Rellenar solamente los datos solicitados en la hoja \"Datos generales (cumplimentar)\""]
["UNA VEZ CUMPLIMENTADA LA PLANTILLA, GUARDAR COMO Y SELECCIONAR TIPO: \"LIBRO DE EXCEL\" (muy importante para poder enviarla por mail, el formato con macros, puede dar problemas)"]
[]
["OBLIGATORIO","Cumplimentar siempre que se tenga la información"]
["RECOMENDADO","Recomendado "]
[null,"Información complementaria"]
[]
["Campo Privado (visibilidad del recurso)","Seleccionar TRUE, si se desea mantener en PRIVADO por algún motivo"]
[]
["Campo Temas INSPIRE","Permite seleccionar varios términos del desplegable"]
["Campo Palabras clave","Palabras que describen el tema del recurso. Permite seleccionar varios términos del desplegable"]
["Campo Identificador geográfico","Permite seleccionar varios términos del desplegable"]
["Campo Formato","Permite seleccionar varios términos del desplegable"]
[]
[]
["Ejemplos de metadatos","En las primeras lineas se incluyen unos ejemplos de metadatos para ayudar al usuario a catalogar."]

{"sheet":"Datos generales (cumplimentar)","index":2,"n_rows":5,"n_cols":39,"rows_kept":5,"cut":false,"hidden":false,"merged":[]}
["Título del recurso","PRIVADO (Visibilidad del recurso: TRUE/FALSE)\n","URL del recurso (Enlace al recurso ) ","Resumen del contenido (propósito, metodologías, pasos del proceso, origen de los datos usados,…)","Declaración de linaje (Historia de un conjunto de datos y su ciclo de vida desde su recogida y adquisición hasta su compilación y derivación hasta su forma actual) ","Fuentes (Información sobre la fuente de datos usada en la creación de los datos: por medio de un URI o una cadena conforme a un sistema de identificación formal si lo tiene)","Recurso(s) relacionado(s) -(URI que identifica al recurso relacionado, si lo tiene. Se pueden incluir tantas propiedades como referencias se conozcan, especialmente si ya está en el catálogo) ","Fecha de creación del recurso\n (dd/mm/aaaa)","Fecha de última modificación del recurso (dd/mm/aaaa)","Licencia \n(Por defecto: CC BY 4.0 -La información se puede usar de modo libre y gratuito, siempre que se mencione al autor-, en caso de ser otra, indicarla)\n Las definiciones de las licencias y la información adicional pueden encontrarse en: Open Definition)","Nombre del autor del recurso","Email del autor del recurso","Web del autor del recurso","Nombre del publicador del recurso ","Email del publicador del recurso","Web del publicador del recurso","Nombre del mantenedor  (Persona u organización responsable de mantener o actualizar un conjunto de datos.)","Email del mantenedor ","Web del mantenedor  ","Nombre del punto de contacto de los metadatos ","Email del punto de contacto de los metadatos ","Web del punto de contacto de los metadatos ","Tipo de recurso (Conjunto de datos espaciales, Serie o Servicio…)","Categoría temática","Temas INSPIRE","Palabras clave (permite seleccionar varias)\n","Sistema de Referencia de Coordenadas ( URI EPSG del sistema para identificar la posición en el mundo real [ISO 19112]. El prefijo URI para los sistemas de referencia de coordenadas es el siguiente: http://www.opengis.net/def/crs/EPSG/0/{Código EPSG})","Tipo de representación espacial (Tipos de representación espacial (INSPIRE)","Identificador geográfico  (Ámbito geográfico cubierto por el conjunto de datos: país, autonomías, provincias)","Resolución espacial del dataset (si existe escala equivalente o una distancia de resolución, m.)","Cobertura temporal (fecha inicio) (Si en el recurso se establece un marco temporal) (dd/mm/aaaa)","Cobertura temporal (fecha fin) (Si en el recurso se establece un marco temporal) (dd/mm/aaaa)","Frecuencia de actualización ","Identificador INSPIRE\n (Incorporar Identificador universal de metadatos si ya lo tiene)","Formato","Información adicional sobre el formato ( Enlace(s) relacionado(s) con el formato, en dónde se indica el formato, el esquema utilizado para su representación u otra información técnica sobre cómo acceder a los documentos o recursos de información.)","Versión (Número de versión u otra designación de versión del conjunto de datos.)","Notas sobre la versión (Una descripción de las diferencias entre esta versión y una versión anterior del Dataset.) ","Descripción gráfica del conjunto de datos (imagen ilustrativa / URL)"]
["Alertas mensuales del año en curso (Península y Baleares) sobre la superficie forestal (MFE)","FALSE","https://geoserver-des.iepnb.es/geoserver/EIKOS_Alertas/wms\nhttps://geoserver-des.iepnb.es/geoserver/EIKOS_Alertas/wmts","Producto automático para la identificación de pérdidas significativas de actividad vegetativa ocurridas en la superficie forestal del MFE.\nCalculada a partir del NDVI.\nValores de la capa: superficie sin cambio, pérdidas de actividad vegetativa, incendios, superficie sin dato dentro de la superficie forestal. \nLas alertas mensuales se obtienen al comparar el NDVI máximo del mes del año en curso con el NDVI máximo del mes de la serie histórica (últimos 5 años).\nEn el cálculo de la alerta se tiene en cuenta:\n- La anomalía absoluta y estandarizada del NDVI obtenida al comparar el NDVI máximo mensual del año en curso con el NDVI máximo mensual de la serie histórica, para identificar las pérdidas y ganancias significativas de la actividad vegetativa. \n- El índice de incendio, BAI, derivado de Sentinel-2 e información de EFFIS y HS para la identificación de incendios.\n- El índice de agua, MNDWI, derivado de Sentinel-2, permite depurar falsos positivos asociados a nieve y bruma, principalmente.\n- Disponibilidad del dato histórico (número de imágenes libres de nubes dentro del periodo histórico).\n",null,"Producto derivado principalmente de la comparación del NDVI máximo mensual del año en curso con el NDVI máximo mensual histórico. También tiene en consideración el índice de incendios, BAI (Burn Area Index), derivado de Sentinel-2 e información de incendios y Hot Spot procedentes de EFFIS (https://effis.jrc.ec.europa.eu/) y HS (https://firms.modaps.eosdis.nasa.gov/). Todo ello para la superficie forestal del MFE.\n",null,"2024-01-01",null,"Creative Commons Attribution (CC BY 4.0)","Área de Banco de Datos de la Naturaleza. Dirección General Biodiversidad, Bosques y Desertificación. Ministerio para la Transición Ecológica y el Reto Demográfico","buzon-bdatos@miteco.es",null,"Ministerio para la Transición Ecológica y el Reto Demográfico","buzon-bdatos@miteco.es ","https://www.miteco.gob.es/","Área de Banco de Datos de la Naturaleza. ",null,null,"Área de Banco de Datos de la Naturaleza. Dirección General Biodiversidad, Bosques y Desertificación. Ministerio para la Transición Ecológica y el Reto Demográfico","buzon-bdatos@miteco.es",null,"Conjunto de datos espacial","Cobertura de Tierra con mapas básicos e imágenes","Cubierta terrestre (LC)","presiones y amenazas, incendios","EPSG:25830 Proyección UTM ETRS89 Huso 30 N","Rejilla","España, Illes Balears",25,null,null,"Mensual","ESMITECOIEPNBALERTMENSAÑOCURSO20230110","WMS, WMTS"]
["Visor del Sistema de Información Geográfico del Banco de Datos de la Naturaleza","FALSE","https://sig.mapama.gob.es/bdn/","Con la puesta en marcha del Inventario Español del Patrimonio Natural y la Biodiversidad, el Banco de Datos de la Naturaleza, ligado tradicionalmente a los datos cartográficos, amplía su funcionalidad para lograr la armonización, análisis y difusión de toda la información contenida en dicho Inventario.\n","La aplicación Sistema de Información Geográfico del Banco de Datos de la Naturaleza (BDN), pretende ofrecer un sistema completo de navegación por todo el territorio nacional, poniendo a su disposición de forma fácil e intuitiva para todo tipo de usuarios, información alfanumérica, cartográfica, documental completa y detallada sobre distintos componentes del Inventario Estatal del Patrimonio Natural y de la Biodiversidad, depositada en el Banco de Datos de la Naturaleza (en adelante BDN).\nA través de este visor el usuario puede navegar, analizar, consultar y tener una visión de conjunto sobre el territorio de la información geográfica disponible, mediante herramientas tales como acercar y alejar, desplazamiento, herramientas de medición, visualización u ocultación de capas y servicios, obtener información, herramientas de localización...","La aplicación visualiza la información procedente de los servidores corporativos del Ministerio con geodatos","https://www.miteco.gob.es/es/cartografia-y-sig/visores/visores-biodiversidad.html","2006-01-01",null,"Creative Commons Attribution (CC BY 4.0)","Área de Banco de Datos de la Naturaleza. Dirección General Biodiversidad, Bosques y Desertificación. Ministerio para la Transición Ecológica y el Reto Demográfico","buzon-bdatos@miteco.es","https://www.miteco.gob.es/es/biodiversidad/servicios/banco-datos-naturaleza.html","Ministerio para la Transición Ecológica y el Reto Demográfico","buzon-bdatos@miteco.es ","https://www.miteco.gob.es/","Área de Banco de Datos de la Naturaleza. ","sig@mapa.es","https://www.miteco.gob.es/es/biodiversidad/servicios/banco-datos-naturaleza.html","Área de Banco de Datos de la Naturaleza. Dirección General Biodiversidad, Bosques y Desertificación. Ministerio para la Transición Ecológica y el Reto Demográfico","buzon-bdatos@miteco.es","https://www.miteco.gob.es/es/biodiversidad/servicios/banco-datos-naturaleza.html","Servicio de datos espaciales","Medio ambiente",null,"cartografía","EPSG:25830 Proyección UTM ETRS89 Huso 30 N",null,"España",null,null,null,"Según necesidad",null,"HTML5","https://sig.mapama.gob.es/bdn/ayuda/requisitos.html",null,null,"https://sig.mapama.gob.es/bdn/ayuda/img/uso-aplicacion-bdn.png"]
["Red Natura 2000","FALSE","https://www.mapama.gob.es/ide/metadatos/srv/spa/catalog.search#/metadata/0d427e21-be52-4723-b78e-8b00a43319cb","La información que se presenta corresponde a la actualización a 15/01/2024, según la información de los espacios Red Natura 2000 remitida por el Ministerio para la Transición Ecológica y el Reto Demográfico (MITECO) a la Comisión Europea hasta esa fecha.\nLos Lugares de Importancia Comunitaria (LIC) son propuestos por las distintas administraciones competentes, posteriormente deben ser designados como Zonas Especiales del Conservación (ZEC), estas junto con las Zonas de Especial Protección para las Aves (ZEPA) componen la Red Natura 2000.\nLos datos de LIC adquieren carácter oficial sólo cuando la Comisión Europea aprueba las respectivas listas biogeográficas de LIC. Las Zonas de Especial Protección para las Aves (ZEPA) son propuestas y declaradas por las distintas administraciones competentes, estas junto con las Zonas Especiales de Conservación (ZEC), conforman la Red Natura 2000. Las primeras declaraciones se inician en 1995.","La propuesta de la lista de Lugares de Importancia Comunitaria y la declaración de las Zonas de Especial Protección para las Aves (ZEPA), así como su delimitación geográfica ha sido realizada por los diferentes gobiernos autonómicos y el MITECO en el ámbito de sus competencias. El Banco de Datos armoniza la información de acuerdo a un modelo de datos estatal. Para conocer el proceso de elaboración de cada una, se deben consultar los metadatos de las autoridades competentes, donde se describe entre otros la escala, fechas y contactos propios.","Ministerio para la Transición Ecológica y el Reto Demográfico y autoridades competentes en las Comunidades Autónomas","https://www.mapama.gob.es/ide/metadatos/srv/spa/catalog.search#/metadata/a205157d-6ab9-4746-a6d6-ddeddbdb6495","2010-11-01","2024-01-15","Creative Commons Attribution Share-Alike (CC BY-SA)","Ministerio para la Transición Ecológica y el Reto Demográfico",null,"https://www.miteco.gob.es/","Ministerio para la Transición Ecológica y el Reto Demográfico",null,"https://www.miteco.gob.es/","Ministerio para la Transición Ecológica y el Reto Demográfico",null,"https://www.miteco.gob.es/","Área de Banco de Datos de la Naturaleza. Dirección General Biodiversidad, Bosques y Desertificación. Ministerio para la Transición Ecológica y el Reto Demográfico","buzon-bdatos@miteco.es","https://www.miteco.gob.es/es/biodiversidad/servicios/banco-datos-naturaleza.html","Conjunto de datos espacial","Biota","Lugares protegidos (PS)","áreas de importancia ecológica, cartografía","EPSG:4258 Coordenadas Elipsoidales ETRS89","Vector","España",25000,null,null,"Según necesidad","ESMAGRAMAREDNATURA20101101","SHP, GML, XML",null,null,"La información que se presenta corresponde a la actualización a 15/01/2024","https://www.mapama.gob.es/ide/metadatos/srv/api/records/0d427e21-be52-4723-b78e-8b00a43319cb/attachments/ESMAGRAMAREDNATURA20101101_vInspire.png"]
["Municipios de la Cuenca Hidrográfica del Segura","FALSE","https://www.chsegura.es/export/sites/chs/descargas/cuenca/resumendedatosbasicos/cartografia/docsdescarga/ph2227/municipios.zip","Cobertura de polígonos que representa los municipios incluidos en la cuenca del río Segura.\nEl propósito es disponer de una cobertura territorial para consulta de información espacial en la cuenca del río Segura.","Cartografía generada por la Oficina de Planificación Hidrológica de la Confederación Hidrográfica del Segura.","Oficina de Planificación Hidrológica de la Confederación Hidrográfica del Segura.",null,"2016-09-24","2023-01-24","Creative Commons Attribution (CC BY 4.0)","Jose Antonio Vera Gomis","joseantonio.vera@chsegura.es",null,"Oficina de Planificación Hidrológica de la Confederación Hidrográfica del Segura",null,"https://www.chsegura.es/es/","Oficina de Planificación Hidrológica de la Confederación Hidrográfica del Segura",null,null,null,null,null,"Conjunto de datos espacial","Medio ambiente","Hidrografía (HY)",null,null,"Vector","Castilla-La Mancha",null,null,null,"Desconocida",null,"shp"]

{"sheet":"NFO_availability","index":3,"n_rows":6,"n_cols":3,"rows_kept":6,"cut":false,"hidden":true,"merged":[]}
[{"$f":"IFERROR(__xludf.DUMMYFUNCTION(\"IMPORTRANGE(\"\"https://docs.google.com/spreadsheets/d/1p4h5y82-jiH68qGY_WeCV6HuyJKmuyC1XLjVbwjsAdg\"\",\"\"availability!A1:Z1000\"\")\"),\"id\")","v":"id"},{"$f":"IFERROR(__xludf.DUMMYFUNCTION(\"\"\"COMPUTED_VALUE\"\"\"),\"label\")","v":"label"}]
[{"$f":"IFERROR(__xludf.DUMMYFUNCTION(\"\"\"COMPUTED_VALUE\"\"\"),\"http://publications.europa.eu/resource/authority/planned-availability/AVAILABLE\")","v":"http://publications.europa.eu/resource/authority/planned-availability/AVAILABLE"},{"$f":"IFERROR(__xludf.DUMMYFUNCTION(\"\"\"COMPUTED_VALUE\"\"\"),\"Avalaible\")","v":"Avalaible"},"Disponible"]
[{"$f":"IFERROR(__xludf.DUMMYFUNCTION(\"\"\"COMPUTED_VALUE\"\"\"),\"http://publications.europa.eu/resource/authority/planned-availability/STABLE\")","v":"http://publications.europa.eu/resource/authority/planned-availability/STABLE"},{"$f":"IFERROR(__xludf.DUMMYFUNCTION(\"\"\"COMPUTED_VALUE\"\"\"),\"Stable\")","v":"Stable"},"Estable"]
[{"$f":"IFERROR(__xludf.DUMMYFUNCTION(\"\"\"COMPUTED_VALUE\"\"\"),\"http://publications.europa.eu/resource/authority/planned-availability/EXPERIMENTAL\")","v":"http://publications.europa.eu/resource/authority/planned-availability/EXPERIMENTAL"},{"$f":"IFERROR(__xludf.DUMMYFUNCTION(\"\"\"COMPUTED_VALUE\"\"\"),\"Experimental\")","v":"Experimental"},"Experimental"]
[{"$f":"IFERROR(__xludf.DUMMYFUNCTION(\"\"\"COMPUTED_VALUE\"\"\"),\"http://publications.europa.eu/resource/authority/planned-availability/OP_DATPRO\")","v":"http://publications.europa.eu/resource/authority/planned-availability/OP_DATPRO"},{"$f":"IFERROR(__xludf.DUMMYFUNCTION(\"\"\"COMPUTED_VALUE\"\"\"),\"Provisional data\")","v":"Provisional data"},"Datos provisionales"]
[{"$f":"IFERROR(__xludf.DUMMYFUNCTION(\"\"\"COMPUTED_VALUE\"\"\"),\"http://publications.europa.eu/resource/authority/planned-availability/TEMPORARY\")","v":"http://publications.europa.eu/resource/authority/planned-availability/TEMPORARY"},{"$f":"IFERROR(__xludf.DUMMYFUNCTION(\"\"\"COMPUTED_VALUE\"\"\"),\"Temporal\")","v":"Temporal"},"Temporal"]

{"sheet":"NFO_encoding","index":4,"n_rows":2,"n_cols":2,"rows_kept":2,"cut":false,"hidden":true,"merged":[]}
[{"$f":"IFERROR(__xludf.DUMMYFUNCTION(\"IMPORTRANGE(\"\"https://docs.google.com/spreadsheets/d/1p4h5y82-jiH68qGY_WeCV6HuyJKmuyC1XLjVbwjsAdg\"\",\"\"encoding!A1:Z1000\"\")\"),\"id\")","v":"id"},{"$f":"IFERROR(__xludf.DUMMYFUNCTION(\"\"\"COMPUTED_VALUE\"\"\"),\"label\")","v":"label"}]
[{"$f":"IFERROR(__xludf.DUMMYFUNCTION(\"\"\"COMPUTED_VALUE\"\"\"),\"UTF-8\")","v":"UTF-8"},{"$f":"IFERROR(__xludf.DUMMYFUNCTION(\"\"\"COMPUTED_VALUE\"\"\"),\"UTF-8\")","v":"UTF-8"}]

{"sheet":"NFO_reference_system","index":5,"n_rows":14,"n_cols":1,"rows_kept":14,"cut":false,"hidden":true,"merged":[]}
["EPSG:4326 Coordenadas Geográficas WGS84"]
["EPSG:4258 Coordenadas Elipsoidales ETRS89"]
["EPSG:4082 Proyección UTM REGCAN95 Huso 27 N"]
["EPSG:4083 Proyección UTM REGCAN95 Huso 28 N"]
["EPSG:32628 Proyección UTM WGS84 Huso 28 N"]
["EPSG:32629 Proyección UTM WGS84 Huso 29 N"]
["EPSG:32630 Proyección UTM WGS84 Huso 30 N"]
["EPSG:32631 Proyección UTM WGS84 Huso 31 N"]
["EPSG:25828 Proyección UTM ETRS89 Huso 28 N"]
["EPSG:25829 Proyección UTM ETRS89 Huso 29 N"]
["EPSG:25830 Proyección UTM ETRS89 Huso 30 N"]
["EPSG:25831 Proyección UTM ETRS89 Huso 31 N"]
["EPSG:3857 Proyección WGS84 / Pseudo-Mercator"]
["EPSG:3035 LAEA"]

{"sheet":"NFO_format","index":6,"n_rows":289,"n_cols":15,"rows_kept":289,"cut":false,"hidden":true,"merged":[]}
[{"$f":"IFERROR(__xludf.DUMMYFUNCTION(\"IMPORTRANGE(\"\"https://docs.google.com/spreadsheets/d/1p4h5y82-jiH68qGY_WeCV6HuyJKmuyC1XLjVbwjsAdg\"\",\"\"format!A1:Z1000\"\")\"),\"id\")","v":"id"},{"$f":"IFERROR(__xludf.DUMMYFUNCTION(\"\"\"COMPUTED_VALUE\"\"\"),\"format\")","v":"format"},{"$f":"IFERROR(__xludf.DUMMYFUNCTION(\"\"\"COMPUTED_VALUE\"\"\"),\"media_type\")","v":"media_type"},{"$f":"IFERROR(__xludf.DUMMYFUNCTION(\"\"\"COMPUTED_VALUE\"\"\"),\"label\")","v":"label"},{"$f":"IFERROR(__xludf.DUMMYFUNCTION(\"\"\"COMPUTED_VALUE\"\"\"),\"conformance\")","v":"conformance"},{"$f":"IFERROR(__xludf.DUMMYFUNCTION(\"\"\"COMPUTED_VALUE\"\"\"),\"file_extension\")","v":"file_extension"},{"$f":"IFERROR(__xludf.DUMMYFUNCTION(\"\"\"COMPUTED_VALUE\"\"\"),\"language\")","v":"language"},null,{"$f":"IFERROR(__xludf.DUMMYFUNCTION(\"IMPORTRANGE(\"\"https://docs.google.com/spreadsheets/d/1p4h5y82-jiH68qGY_WeCV6HuyJKmuyC1XLjVbwjsAdg\"\",\"\"format!A1:Z1000\"\")\"),\"id\")","v":"id"},{"$f":"IFERROR(__xludf.DUMMYFUNCTION(\"\"\"COMPUTED_VALUE\"\"\"),\"format\")","v":"format"},{"$f":"IFERROR(__xludf.DUMMYFUNCTION(\"\"\"COMPUTED_VALUE\"\"\"),\"media_type\")","v":"media_type"},{"$f":"IFERROR(__xludf.DUMMYFUNCTION(\"\"\"COMPUTED_VALUE\"\"\"),\"label\")","v":"label"},{"$f":"IFERROR(__xludf.DUMMYFUNCTION(\"\"\"COMPUTED_VALUE\"\"\"),\"conformance\")","v":"conformance"},{"$f":"IFERROR(__xludf.DUMMYFUNCTION(\"\"\"COMPUTED_VALUE\"\"\"),\"file_extension\")","v":"file_extension"},{"$f":"IFERROR(__xludf.DUMMYFUNCTION(\"\"\"COMPUTED_VALUE\"\"\"),\"language\")","v":"language"}]
[null,{"$f":"IFERROR(__xludf.DUMMYFUNCTION(\"\"\"COMPUTED_VALUE\"\"\"),\"3DGEOVOLUMES\")","v":"3DGEOVOLUMES"},{"$f":"IFERROR(__xludf.DUMMYFUNCTION(\"\"\"COMPUTED_VALUE\"\"\"),\"http://www.opengis.net/def/interface/ogcapi-3d-geo-volumes\")","v":"http://www.opengis.net/def/interface/ogcapi-3d-geo-volumes"},{"$f":"IFERROR(__xludf.DUMMYFUNCTION(\"\"\"COMPUTED_VALUE\"\"\"),\"3DGEOVOLUMES\")","v":"3DGEOVOLUMES"},null,null,{"$f":"IFERROR(__xludf.DUMMYFUNCTION(\"\"\"COMPUTED_VALUE\"\"\"),\"en\")","v":"en"},null,{"$f":"IFERROR(__xludf.DUMMYFUNCTION(\"\"\"COMPUTED_VALUE\"\"\"),\"http://publications.europa.eu/resource/authority/file-type/ARC\")","v":"http://publications.europa.eu/resource/authority/file-type/ARC"},{"$f":"IFERROR(__xludf.DUMMYFUNCTION(\"\"\"COMPUTED_VALUE\"\"\"),\"ARC\")","v":"ARC"},null,{"$f":"IFERROR(__xludf.DUMMYFUNCTION(\"\"\"COMPUTED_VALUE\"\"\"),\"ARC\")","v":"ARC"},null,{"$f":"IFERROR(__xludf.DUMMYFUNCTION(\"\"\"COMPUTED_VALUE\"\"\"),\".arc\")","v":".arc"},{"$f":"IFERROR(__xludf.DUMMYFUNCTION(\"\"\"COMPUTED_VALUE\"\"\"),\"en\")","v":"en"}]
[{"$f":"IFERROR(__xludf.DUMMYFUNCTION(\"\"\"COMPUTED_VALUE\"\"\"),\"http://publications.europa.eu/resource/authority/file-type/7Z\")","v":"http://publications.europa.eu/resource/authority/file-type/7Z"},{"$f":"IFERROR(__xludf.DUMMYFUNCTION(\"\"\"COMPUTED_VALUE\"\"\"),\"7Z\")","v":"7Z"},null,{"$f":"IFERROR(__xludf.DUMMYFUNCTION(\"\"\"COMPUTED_VALUE\"\"\"),\"7Z\")","v":"7Z"},null,{"$f":"IFERROR(__xludf.DUMMYFUNCTION(\"\"\"COMPUTED_VALUE\"\"\"),\".7z\")","v":".7z"},{"$f":"IFERROR(__xludf.DUMMYFUNCTION(\"\"\"COMPUTED_VALUE\"\"\"),\"en\")","v":"en"},null,{"$f":"IFERROR(__xludf.DUMMYFUNCTION(\"\"\"COMPUTED_VALUE\"\"\"),\"http://publications.europa.eu/resource/authority/file-type/ARC_GZ\")","v":"http://publications.europa.eu/resource/authority/file-type/ARC_GZ"},{"$f":"IFERROR(__xludf.DUMMYFUNCTION(\"\"\"COMPUTED_VALUE\"\"\"),\"ARC_GZ\")","v":"ARC_GZ"},null,{"$f":"IFERROR(__xludf.DUMMYFUNCTION(\"\"\"COMPUTED_VALUE\"\"\"),\"ARC_GZ\")","v":"ARC_GZ"},null,{"$f":"IFERROR(__xludf.DUMMYFUNCTION(\"\"\"COMPUTED_VALUE\"\"\"),\".arc.gz\")","v":".arc.gz"},{"$f":"IFERROR(__xludf.DUMMYFUNCTION(\"\"\"COMPUTED_VALUE\"\"\"),\"en\")","v":"en"}]
[{"$f":"IFERROR(__xludf.DUMMYFUNCTION(\"\"\"COMPUTED_VALUE\"\"\"),\"http://publications.europa.eu/resource/authority/file-type/AAB\")","v":"http://publications.europa.eu/resource/authority/file-type/AAB"},{"$f":"IFERROR(__xludf.DUMMYFUNCTION(\"\"\"COMPUTED_VALUE\"\"\"),\"AAB\")","v":"AAB"},null,{"$f":"IFERROR(__xludf.DUMMYFUNCTION(\"\"\"COMPUTED_VALUE\"\"\"),\"AAB\")","v":"AAB"},null,{"$f":"IFERROR(__xludf.DUMMYFUNCTION(\"\"\"COMPUTED_VALUE\"\"\"),\".aab\")","v":".aab"},{"$f":"IFERROR(__xludf.DUMMYFUNCTION(\"\"\"COMPUTED_VALUE\"\"\"),\"en\")","v":"en"},null,null,{"$f":"IFERROR(__xludf.DUMMYFUNCTION(\"\"\"COMPUTED_VALUE\"\"\"),\"ARCGIS\")","v":"ARCGIS"},null,{"$f":"IFERROR(__xludf.DUMMYFUNCTION(\"\"\"COMPUTED_VALUE\"\"\"),\"ARCGIS\")","v":"ARCGIS"},null,null,{"$f":"IFERROR(__xludf.DUMMYFUNCTION(\"\"\"COMPUTED_VALUE\"\"\"),\"en\")","v":"en"}]
[{"$f":"IFERROR(__xludf.DUMMYFUNCTION(\"\"\"COMPUTED_VALUE\"\"\"),\"http://publications.europa.eu/resource/authority/file-type/AAC\")","v":"http://publications.europa.eu/resource/authority/file-type/AAC"},{"$f":"IFERROR(__xludf.DUMMYFUNCTION(\"\"\"COMPUTED_VALUE\"\"\"),\"AAC\")","v":"AAC"},null,{"$f":"IFERROR(__xludf.DUMMYFUNCTION(\"\"\"COMPUTED_VALUE\"\"\"),\"AAC\")","v":"AAC"},null,{"$f":"IFERROR(__xludf.DUMMYFUNCTION(\"\"\"COMPUTED_VALUE\"\"\"),\".adts\")","v":".adts"},{"$f":"IFERROR(__xludf.DUMMYFUNCTION(\"\"\"COMPUTED_VALUE\"\"\"),\"en\")","v":"en"},null,null,{"$f":"IFERROR(__xludf.DUMMYFUNCTION(\"\"\"COMPUTED_VALUE\"\"\"),\"ARCGIS_REST\")","v":"ARCGIS_REST"},null,{"$f":"IFERROR(__xludf.DUMMYFUNCTION(\"\"\"COMPUTED_VALUE\"\"\"),\"ARCGIS_REST\")","v":"ARCGIS_REST"},null,null,{"$f":"IFERROR(__xludf.DUMMYFUNCTION(\"\"\"COMPUTED_VALUE\"\"\"),\"en\")","v":"en"}]
[{"$f":"IFERROR(__xludf.DUMMYFUNCTION(\"\"\"COMPUTED_VALUE\"\"\"),\"http://publications.europa.eu/resource/authority/file-type/AKN4EU\")","v":"http://publications.europa.eu/resource/authority/file-type/AKN4EU"},{"$f":"IFERROR(__xludf.DUMMYFUNCTION(\"\"\"COMPUTED_VALUE\"\"\"),\"AKN4EU\")","v":"AKN4EU"},null,{"$f":"IFERROR(__xludf.DUMMYFUNCTION(\"\"\"COMPUTED_VALUE\"\"\"),\"AKN4EU\")","v":"AKN4EU"},null,{"$f":"IFERROR(__xludf.DUMMYFUNCTION(\"\"\"COMPUTED_VALUE\"\"\"),\".xml\")","v":".xml"},{"$f":"IFERROR(__xludf.DUMMYFUNCTION(\"\"\"COMPUTED_VALUE\"\"\"),\"en\")","v":"en"},null,{"$f":"IFERROR(__xludf.DUMMYFUNCTION(\"\"\"COMPUTED_VALUE\"\"\"),\"http://publications.europa.eu/resource/authority/file-type/CSV\")","v":"http://publications.europa.eu/resource/authority/file-type/CSV"},{"$f":"IFERROR(__xludf.DUMMYFUNCTION(\"\"\"COMPUTED_VALUE\"\"\"),\"CSV\")","v":"CSV"},{"$f":"IFERROR(__xludf.DUMMYFUNCTION(\"\"\"COMPUTED_VALUE\"\"\"),\"https://www.iana.org/assignments/media-types/text/csv\")","v":"https://www.iana.org/assignments/media-types/text/csv"},{"$f":"IFERROR(__xludf.DUMMYFUNCTION(\"\"\"COMPUTED_VALUE\"\"\"),\"CSV\")","v":"CSV"},null,{"$f":"IFERROR(__xludf.DUMMYFUNCTION(\"\"\"COMPUTED_VALUE\"\"\"),\".csv\")","v":".csv"},{"$f":"IFERROR(__xludf.DUMMYFUNCTION(\"\"\"COMPUTED_VALUE\"\"\"),\"en\")","v":"en"}]
[{"$f":"IFERROR(__xludf.DUMMYFUNCTION(\"\"\"COMPUTED_VALUE\"\"\"),\"http://publications.europa.eu/resource/authority/file-type/AKN4EU_ZIP\")","v":"http://publications.europa.eu/resource/authority/file-type/AKN4EU_ZIP"},{"$f":"IFERROR(__xludf.DUMMYFUNCTION(\"\"\"COMPUTED_VALUE\"\"\"),\"AKN4EU_ZIP\")","v":"AKN4EU_ZIP"},null,{"$f":"IFERROR(__xludf.DUMMYFUNCTION(\"\"\"COMPUTED_VALUE\"\"\"),\"AKN4EU_ZIP\")","v":"AKN4EU_ZIP"},null,{"$f":"IFERROR(__xludf.DUMMYFUNCTION(\"\"\"COMPUTED_VALUE\"\"\"),\".leg\")","v":".leg"},{"$f":"IFERROR(__xludf.DUMMYFUNCTION(\"\"\"COMPUTED_VALUE\"\"\"),\"en\")","v":"en"},null,null,{"$f":"IFERROR(__xludf.DUMMYFUNCTION(\"\"\"COMPUTED_VALUE\"\"\"),\"CSW\")","v":"CSW"},{"$f":"IFERROR(__xludf.DUMMYFUNCTION(\"\"\"COMPUTED_VALUE\"\"\"),\"http://www.opengis.net/def/serviceType/ogc/csw\")","v":"http://www.opengis.net/def/serviceType/ogc/csw"},{"$f":"IFERROR(__xludf.DUMMYFUNCTION(\"\"\"COMPUTED_VALUE\"\"\"),\"CSW\")","v":"CSW"},null,null,{"$f":"IFERROR(__xludf.DUMMYFUNCTION(\"\"\"COMPUTED_VALUE\"\"\"),\"en\")","v":"en"}]
[null,{"$f":"IFERROR(__xludf.DUMMYFUNCTION(\"\"\"COMPUTED_VALUE\"\"\"),\"AMQP\")","v":"AMQP"},{"$f":"IFERROR(__xludf.DUMMYFUNCTION(\"\"\"COMPUTED_VALUE\"\"\"),\"https://amqp.org\")","v":"https://amqp.org"},{"$f":"IFERROR(__xludf.DUMMYFUNCTION(\"\"\"COMPUTED_VALUE\"\"\"),\"AMQP\")","v":"AMQP"},null,null,{"$f":"IFERROR(__xludf.DUMMYFUNCTION(\"\"\"COMPUTED_VALUE\"\"\"),\"en\")","v":"en"},null,{"$f":"IFERROR(__xludf.DUMMYFUNCTION(\"\"\"COMPUTED_VALUE\"\"\"),\"http://publications.europa.eu/resource/authority/file-type/DBF\")","v":"http://publications.europa.eu/resource/authority/file-type/DBF"},{"$f":"IFERROR(__xludf.DUMMYFUNCTION(\"\"\"COMPUTED_VALUE\"\"\"),\"DBF\")","v":"DBF"},{"$f":"IFERROR(__xludf.DUMMYFUNCTION(\"\"\"COMPUTED_VALUE\"\"\"),\"https://www.iana.org/assignments/media-types/application/vnd.dbf\")","v":"https://www.iana.org/assignments/media-types/application/vnd.dbf"},{"$f":"IFERROR(__xludf.DUMMYFUNCTION(\"\"\"COMPUTED_VALUE\"\"\"),\"DBF\")","v":"DBF"},null,{"$f":"IFERROR(__xludf.DUMMYFUNCTION(\"\"\"COMPUTED_VALUE\"\"\"),\".dbf\")","v":".dbf"},{"$f":"IFERROR(__xludf.DUMMYFUNCTION(\"\"\"COMPUTED_VALUE\"\"\"),\"en\")","v":"en"}]
[{"$f":"IFERROR(__xludf.DUMMYFUNCTION(\"\"\"COMPUTED_VALUE\"\"\"),\"http://publications.europa.eu/resource/authority/file-type/APK\")","v":"http://publications.europa.eu/resource/authority/file-type/APK"},{"$f":"IFERROR(__xludf.DUMMYFUNCTION(\"\"\"COMPUTED_VALUE\"\"\"),\"APK\")","v":"APK"},null,{"$f":"IFERROR(__xludf.DUMMYFUNCTION(\"\"\"COMPUTED_VALUE\"\"\"),\"APK\")","v":"APK"},null,{"$f":"IFERROR(__xludf.DUMMYFUNCTION(\"\"\"COMPUTED_VALUE\"\"\"),\".apk\")","v":".apk"},{"$f":"IFERROR(__xludf.DUMMYFUNCTION(\"\"\"COMPUTED_VALUE\"\"\"),\"en\")","v":"en"},null,{"$f":"IFERROR(__xludf.DUMMYFUNCTION(\"\"\"COMPUTED_VALUE\"\"\"),\"http://publications.europa.eu/resource/authority/file-type/DTD_SGML\")","v":"http://publications.europa.eu/resource/authority/file-type/DTD_SGML"},{"$f":"IFERROR(__xludf.DUMMYFUNCTION(\"\"\"COMPUTED_VALUE\"\"\"),\"DTD_SGML\")","v":"DTD_SGML"},null,{"$f":"IFERROR(__xludf.DUMMYFUNCTION(\"\"\"COMPUTED_VALUE\"\"\"),\"DTD_SGML\")","v":"DTD_SGML"},null,{"$f":"IFERROR(__xludf.DUMMYFUNCTION(\"\"\"COMPUTED_VALUE\"\"\"),\".dtd\")","v":".dtd"},{"$f":"IFERROR(__xludf.DUMMYFUNCTION(\"\"\"COMPUTED_VALUE\"\"\"),\"en\")","v":"en"}]
[{"$f":"IFERROR(__xludf.DUMMYFUNCTION(\"\"\"COMPUTED_VALUE\"\"\"),\"http://publications.europa.eu/resource/authority/file-type/APPX\")","v":"http://publications.europa.eu/resource/authority/file-type/APPX"},{"$f":"IFERROR(__xludf.DUMMYFUNCTION(\"\"\"COMPUTED_VALUE\"\"\"),\"APPX\")","v":"APPX"},null,{"$f":"IFERROR(__xludf.DUMMYFUNCTION(\"\"\"COMPUTED_VALUE\"\"\"),\"APPX\")","v":"APPX"},null,{"$f":"IFERROR(__xludf.DUMMYFUNCTION(\"\"\"COMPUTED_VALUE\"\"\"),\".appx\")","v":".appx"},{"$f":"IFERROR(__xludf.DUMMYFUNCTION(\"\"\"COMPUTED_VALUE\"\"\"),\"en\")","v":"en"},null,{"$f":"IFERROR(__xludf.DUMMYFUNCTION(\"\"\"COMPUTED_VALUE\"\"\"),\"http://publications.europa.eu/resource/authority/file-type/DXF\")","v":"http://publications.europa.eu/resource/authority/file-type/DXF"},{"$f":"IFERROR(__xludf.DUMMYFUNCTION(\"\"\"COMPUTED_VALUE\"\"\"),\"DXF\")","v":"DXF"},{"$f":"IFERROR(__xludf.DUMMYFUNCTION(\"\"\"COMPUTED_VALUE\"\"\"),\"https://www.iana.org/assignments/media-types/image/vnd.dxf\")","v":"https://www.iana.org/assignments/media-types/image/vnd.dxf"},{"$f":"IFERROR(__xludf.DUMMYFUNCTION(\"\"\"COMPUTED_VALUE\"\"\"),\"DXF\")","v":"DXF"},null,{"$f":"IFERROR(__xludf.DUMMYFUNCTION(\"\"\"COMPUTED_VALUE\"\"\"),\".dxf\")","v":".dxf"},{"$f":"IFERROR(__xludf.DUMMYFUNCTION(\"\"\"COMPUTED_VALUE\"\"\"),\"en\")","v":"en"}]
[{"$f":"IFERROR(__xludf.DUMMYFUNCTION(\"\"\"COMPUTED_VALUE\"\"\"),\"http://publications.europa.eu/resource/authority/file-type/ARC\")","v":"http://publications.europa.eu/resource/authority/file-type/ARC"},{"$f":"IFERROR(__xludf.DUMMYFUNCTION(\"\"\"COMPUTED_VALUE\"\"\"),\"ARC\")","v":"ARC"},null,{"$f":"IFERROR(__xludf.DUMMYFUNCTION(\"\"\"COMPUTED_VALUE\"\"\"),\"ARC\")","v":"ARC"},null,{"$f":"IFERROR(__xludf.DUMMYFUNCTION(\"\"\"COMPUTED_VALUE\"\"\"),\".arc\")","v":".arc"},{"$f":"IFERROR(__xludf.DUMMYFUNCTION(\"\"\"COMPUTED_VALUE\"\"\"),\"en\")","v":"en"},null,{"$f":"IFERROR(__xludf.DUMMYFUNCTION(\"\"\"COMPUTED_VALUE\"\"\"),\"http://publications.europa.eu/resource/authority/file-type/ECW\")","v":"http://publications.europa.eu/resource/authority/file-type/ECW"},{"$f":"IFERROR(__xludf.DUMMYFUNCTION(\"\"\"COMPUTED_VALUE\"\"\"),\"ECW\")","v":"ECW"},null,{"$f":"IFERROR(__xludf.DUMMYFUNCTION(\"\"\"COMPUTED_VALUE\"\"\"),\"ECW\")","v":"ECW"},null,{"$f":"IFERROR(__xludf.DUMMYFUNCTION(\"\"\"COMPUTED_VALUE\"\"\"),\".ecw\")","v":".ecw"},{"$f":"IFERROR(__xludf.DUMMYFUNCTION(\"\"\"COMPUTED_VALUE\"\"\"),\"en\")","v":"en"}]
[{"$f":"IFERROR(__xludf.DUMMYFUNCTION(\"\"\"COMPUTED_VALUE\"\"\"),\"http://publications.europa.eu/resource/authority/file-type/ARC_GZ\")","v":"http://publications.europa.eu/resource/authority/file-type/ARC_GZ"},{"$f":"IFERROR(__xludf.DUMMYFUNCTION(\"\"\"COMPUTED_VALUE\"\"\"),\"ARC_GZ\")","v":"ARC_GZ"},null,{"$f":"IFERROR(__xludf.DUMMYFUNCTION(\"\"\"COMPUTED_VALUE\"\"\"),\"ARC_GZ\")","v":"ARC_GZ"},null,{"$f":"IFERROR(__xludf.DUMMYFUNCTION(\"\"\"COMPUTED_VALUE\"\"\"),\".arc.gz\")","v":".arc.gz"},{"$f":"IFERROR(__xludf.DUMMYFUNCTION(\"\"\"COMPUTED_VALUE\"\"\"),\"en\")","v":"en"},null,{"$f":"IFERROR(__xludf.DUMMYFUNCTION(\"\"\"COMPUTED_VALUE\"\"\"),\"http://publications.europa.eu/resource/authority/file-type/GEOJSON\")","v":"http://publications.europa.eu/resource/authority/file-type/GEOJSON"},{"$f":"IFERROR(__xludf.DUMMYFUNCTION(\"\"\"COMPUTED_VALUE\"\"\"),\"GEOJSON\")","v":"GEOJSON"},{"$f":"IFERROR(__xludf.DUMMYFUNCTION(\"\"\"COMPUTED_VALUE\"\"\"),\"https://www.iana.org/assignments/media-types/application/geo+json\")","v":"https://www.iana.org/assignments/media-types/application/geo+json"},{"$f":"IFERROR(__xludf.DUMMYFUNCTION(\"\"\"COMPUTED_VALUE\"\"\"),\"GEOJSON\")","v":"GEOJSON"},null,{"$f":"IFERROR(__xludf.DUMMYFUNCTION(\"\"\"COMPUTED_VALUE\"\"\"),\".json\")","v":".json"},{"$f":"IFERROR(__xludf.DUMMYFUNCTION(\"\"\"COMPUTED_VALUE\"\"\"),\"en\")","v":"en"}]
[null,{"$f":"IFERROR(__xludf.DUMMYFUNCTION(\"\"\"COMPUTED_VALUE\"\"\"),\"ARCGIS\")","v":"ARCGIS"},null,{"$f":"IFERROR(__xludf.DUMMYFUNCTION(\"\"\"COMPUTED_VALUE\"\"\"),\"ARCGIS\")","v":"ARCGIS"},null,null,{"$f":"IFERROR(__xludf.DUMMYFUNCTION(\"\"\"COMPUTED_VALUE\"\"\"),\"en\")","v":"en"},null,{"$f":"IFERROR(__xludf.DUMMYFUNCTION(\"\"\"COMPUTED_VALUE\"\"\"),\"http://publications.europa.eu/resource/authority/file-type/GEOTIFF\")","v":"http://publications.europa.eu/resource/authority/file-type/GEOTIFF"},{"$f":"IFERROR(__xludf.DUMMYFUNCTION(\"\"\"COMPUTED_VALUE\"\"\"),\"GEOTIFF\")","v":"GEOTIFF"},null,{"$f":"IFERROR(__xludf.DUMMYFUNCTION(\"\"\"COMPUTED_VALUE\"\"\"),\"GEOTIFF\")","v":"GEOTIFF"},null,{"$f":"IFERROR(__xludf.DUMMYFUNCTION(\"\"\"COMPUTED_VALUE\"\"\"),\".tiff\")","v":".tiff"},{"$f":"IFERROR(__xludf.DUMMYFUNCTION(\"\"\"COMPUTED_VALUE\"\"\"),\"en\")","v":"en"}]
[null,{"$f":"IFERROR(__xludf.DUMMYFUNCTION(\"\"\"COMPUTED_VALUE\"\"\"),\"ARCGIS_REST\")","v":"ARCGIS_REST"},null,{"$f":"IFERROR(__xludf.DUMMYFUNCTION(\"\"\"COMPUTED_VALUE\"\"\"),\"ARCGIS_REST\")","v":"ARCGIS_REST"},null,null,{"$f":"IFERROR(__xludf.DUMMYFUNCTION(\"\"\"COMPUTED_VALUE\"\"\"),\"en\")","v":"en"},null,{"$f":"IFERROR(__xludf.DUMMYFUNCTION(\"\"\"COMPUTED_VALUE\"\"\"),\"http://publications.europa.eu/resource/authority/file-type/GML\")","v":"http://publications.europa.eu/resource/authority/file-type/GML"},{"$f":"IFERROR(__xludf.DUMMYFUNCTION(\"\"\"COMPUTED_VALUE\"\"\"),\"GML\")","v":"GML"},{"$f":"IFERROR(__xludf.DUMMYFUNCTION(\"\"\"COMPUTED_VALUE\"\"\"),\"https://www.iana.org/assignments/media-types/application/gml+xml\")","v":"https://www.iana.org/assignments/media-types/application/gml+xml"},{"$f":"IFERROR(__xludf.DUMMYFUNCTION(\"\"\"COMPUTED_VALUE\"\"\"),\"GML\")","v":"GML"},null,{"$f":"IFERROR(__xludf.DUMMYFUNCTION(\"\"\"COMPUTED_VALUE\"\"\"),\".gml .xml\")","v":".gml .xml"},{"$f":"IFERROR(__xludf.DUMMYFUNCTION(\"\"\"COMPUTED_VALUE\"\"\"),\"en\")","v":"en"}]
[null,{"$f":"IFERROR(__xludf.DUMMYFUNCTION(\"\"\"COMPUTED_VALUE\"\"\"),\"ARCIMS\")","v":"ARCIMS"},null,{"$f":"IFERROR(__xludf.DUMMYFUNCTION(\"\"\"COMPUTED_VALUE\"\"\"),\"ARCIMS\")","v":"ARCIMS"},null,null,{"$f":"IFERROR(__xludf.DUMMYFUNCTION(\"\"\"COMPUTED_VALUE\"\"\"),\"en\")","v":"en"},null,{"$f":"IFERROR(__xludf.DUMMYFUNCTION(\"\"\"COMPUTED_VALUE\"\"\"),\"http://publications.europa.eu/resource/authority/file-type/GPKG\")","v":"http://publications.europa.eu/resource/authority/file-type/GPKG"},{"$f":"IFERROR(__xludf.DUMMYFUNCTION(\"\"\"COMPUTED_VALUE\"\"\"),\"GPKG\")","v":"GPKG"},{"$f":"IFERROR(__xludf.DUMMYFUNCTION(\"\"\"COMPUTED_VALUE\"\"\"),\"https://www.iana.org/assignments/media-types/application/geopackage+sqlite3\")","v":"https://www.iana.org/assignments/media-types/application/geopackage+sqlite3"},{"$f":"IFERROR(__xludf.DUMMYFUNCTION(\"\"\"COMPUTED_VALUE\"\"\"),\"GPKG\")","v":"GPKG"},null,{"$f":"IFERROR(__xludf.DUMMYFUNCTION(\"\"\"COMPUTED_VALUE\"\"\"),\".gpkg\")","v":".gpkg"},{"$f":"IFERROR(__xludf.DUMMYFUNCTION(\"\"\"COMPUTED_VALUE\"\"\"),\"en\")","v":"en"}]
[{"$f":"IFERROR(__xludf.DUMMYFUNCTION(\"\"\"COMPUTED_VALUE\"\"\"),\"http://publications.europa.eu/resource/authority/file-type/ARCINFO_COV\")","v":"http://publications.europa.eu/resource/authority/file-type/ARCINFO_COV"},{"$f":"IFERROR(__xludf.DUMMYFUNCTION(\"\"\"COMPUTED_VALUE\"\"\"),\"ARCINFO_COV\")","v":"ARCINFO_COV"},null,{"$f":"IFERROR(__xludf.DUMMYFUNCTION(\"\"\"COMPUTED_VALUE\"\"\"),\"ARCINFO_COV\")","v":"ARCINFO_COV"},null,{"$f":"IFERROR(__xludf.DUMMYFUNCTION(\"\"\"COMPUTED_VALUE\"\"\"),\"-\")","v":"-"},{"$f":"IFERROR(__xludf.DUMMYFUNCTION(\"\"\"COMPUTED_VALUE\"\"\"),\"en\")","v":"en"},null,{"$f":"IFERROR(__xludf.DUMMYFUNCTION(\"\"\"COMPUTED_VALUE\"\"\"),\"http://publications.europa.eu/resource/authority/file-type/GRID\")","v":"http://publications.europa.eu/resource/authority/file-type/GRID"},{"$f":"IFERROR(__xludf.DUMMYFUNCTION(\"\"\"COMPUTED_VALUE\"\"\"),\"GRID\")","v":"GRID"},{"$f":"IFERROR(__xludf.DUMMYFUNCTION(\"\"\"COMPUTED_VALUE\"\"\"),\"https://www.iana.org/assignments/media-types/application/vnd.gridmp\")","v":"https://www.iana.org/assignments/media-types/application/vnd.gridmp"},{"$f":"IFERROR(__xludf.DUMMYFUNCTION(\"\"\"COMPUTED_VALUE\"\"\"),\"GRID\")","v":"GRID"},null,{"$f":"IFERROR(__xludf.DUMMYFUNCTION(\"\"\"COMPUTED_VALUE\"\"\"),\"-\")","v":"-"},{"$f":"IFERROR(__xludf.DUMMYFUNCTION(\"\"\"COMPUTED_VALUE\"\"\"),\"en\")","v":"en"}]
[{"$f":"IFERROR(__xludf.DUMMYFUNCTION(\"\"\"COMPUTED_VALUE\"\"\"),\"http://publications.europa.eu/resource/authority/file-type/ARJ\")","v":"http://publications.europa.eu/resource/authority/file-type/ARJ"},{"$f":"IFERROR(__xludf.DUMMYFUNCTION(\"\"\"COMPUTED_VALUE\"\"\"),\"ARJ\")","v":"ARJ"},null,{"$f":"IFERROR(__xludf.DUMMYFUNCTION(\"\"\"COMPUTED_VALUE\"\"\"),\"ARJ\")","v":"ARJ"},null,{"$f":"IFERROR(__xludf.DUMMYFUNCTION(\"\"\"COMPUTED_VALUE\"\"\"),\".arj\")","v":".arj"},{"$f":"IFERROR(__xludf.DUMMYFUNCTION(\"\"\"COMPUTED_VALUE\"\"\"),\"en\")","v":"en"},null,{"$f":"IFERROR(__xludf.DUMMYFUNCTION(\"\"\"COMPUTED_VALUE\"\"\"),\"http://publications.europa.eu/resource/authority/file-type/GRID_ASCII\")","v":"http://publications.europa.eu/resource/authority/file-type/GRID_ASCII"},{"$f":"IFERROR(__xludf.DUMMYFUNCTION(\"\"\"COMPUTED_VALUE\"\"\"),\"GRID_ASCII\")","v":"GRID_ASCII"},null,{"$f":"IFERROR(__xludf.DUMMYFUNCTION(\"\"\"COMPUTED_VALUE\"\"\"),\"GRID_ASCII\")","v":"GRID_ASCII"},null,{"$f":"IFERROR(__xludf.DUMMYFUNCTION(\"\"\"COMPUTED_VALUE\"\"\"),\".asc\")","v":".asc"},{"$f":"IFERROR(__xludf.DUMMYFUNCTION(\"\"\"COMPUTED_VALUE\"\"\"),\"en\")","v":"en"}]
[{"$f":"IFERROR(__xludf.DUMMYFUNCTION(\"\"\"COMPUTED_VALUE\"\"\"),\"http://publications.europa.eu/resource/authority/file-type/ATOM\")","v":"http://publications.europa.eu/resource/authority/file-type/ATOM"},{"$f":"IFERROR(__xludf.DUMMYFUNCTION(\"\"\"COMPUTED_VALUE\"\"\"),\"ATOM\")","v":"ATOM"},{"$f":"IFERROR(__xludf.DUMMYFUNCTION(\"\"\"COMPUTED_VALUE\"\"\"),\"https://www.iana.org/assignments/media-types/application/atom+xml\")","v":"https://www.iana.org/assignments/media-types/application/atom+xml"},{"$f":"IFERROR(__xludf.DUMMYFUNCTION(\"\"\"COMPUTED_VALUE\"\"\"),\"ATOM\")","v":"ATOM"},null,{"$f":"IFERROR(__xludf.DUMMYFUNCTION(\"\"\"COMPUTED_VALUE\"\"\"),\".atom\")","v":".atom"},{"$f":"IFERROR(__xludf.DUMMYFUNCTION(\"\"\"COMPUTED_VALUE\"\"\"),\"en\")","v":"en"},null,{"$f":"IFERROR(__xludf.DUMMYFUNCTION(\"\"\"COMPUTED_VALUE\"\"\"),\"http://publications.europa.eu/resource/authority/file-type/HTML\")","v":"http://publications.europa.eu/resource/authority/file-type/HTML"},{"$f":"IFERROR(__xludf.DUMMYFUNCTION(\"\"\"COMPUTED_VALUE\"\"\"),\"HTML\")","v":"HTML"},{"$f":"IFERROR(__xludf.DUMMYFUNCTION(\"\"\"COMPUTED_VALUE\"\"\"),\"https://www.iana.org/assignments/media-types/text/html\")","v":"https://www.iana.org/assignments/media-types/text/html"},{"$f":"IFERROR(__xludf.DUMMYFUNCTION(\"\"\"COMPUTED_VALUE\"\"\"),\"HTML\")","v":"HTML"},null,{"$f":"IFERROR(__xludf.DUMMYFUNCTION(\"\"\"COMPUTED_VALUE\"\"\"),\".html\")","v":".html"},{"$f":"IFERROR(__xludf.DUMMYFUNCTION(\"\"\"COMPUTED_VALUE\"\"\"),\"en\")","v":"en"}]
[{"$f":"IFERROR(__xludf.DUMMYFUNCTION(\"\"\"COMPUTED_VALUE\"\"\"),\"http://publications.europa.eu/resource/authority/file-type/AZW\")","v":"http://publications.europa.eu/resource/authority/file-type/AZW"},{"$f":"IFERROR(__xludf.DUMMYFUNCTION(\"\"\"COMPUTED_VALUE\"\"\"),\"AZW\")","v":"AZW"},null,{"$f":"IFERROR(__xludf.DUMMYFUNCTION(\"\"\"COMPUTED_VALUE\"\"\"),\"AZW\")","v":"AZW"},null,{"$f":"IFERROR(__xludf.DUMMYFUNCTION(\"\"\"COMPUTED_VALUE\"\"\"),\".azw\")","v":".azw"},{"$f":"IFERROR(__xludf.DUMMYFUNCTION(\"\"\"COMPUTED_VALUE\"\"\"),\"en\")","v":"en"},null,{"$f":"IFERROR(__xludf.DUMMYFUNCTION(\"\"\"COMPUTED_VALUE\"\"\"),\"http://publications.europa.eu/resource/authority/file-type/HTML5\")","v":"http://publications.europa.eu/resource/authority/file-type/HTML5"},{"$f":"IFERROR(__xludf.DUMMYFUNCTION(\"\"\"COMPUTED_VALUE\"\"\"),\"HTML5\")","v":"HTML5"},null,{"$f":"IFERROR(__xludf.DUMMYFUNCTION(\"\"\"COMPUTED_VALUE\"\"\"),\"HTML5\")","v":"HTML5"},null,{"$f":"IFERROR(__xludf.DUMMYFUNCTION(\"\"\"COMPUTED_VALUE\"\"\"),\".html\")","v":".html"},{"$f":"IFERROR(__xludf.DUMMYFUNCTION(\"\"\"COMPUTED_VALUE\"\"\"),\"en\")","v":"en"}]
[null,{"$f":"IFERROR(__xludf.DUMMYFUNCTION(\"\"\"COMPUTED_VALUE\"\"\"),\"BIGQUERY\")","v":"BIGQUERY"},{"$f":"IFERROR(__xludf.DUMMYFUNCTION(\"\"\"COMPUTED_VALUE\"\"\"),\"https://cloud.google.com/bigquery/\")","v":"https://cloud.google.com/bigquery/"},{"$f":"IFERROR(__xludf.DUMMYFUNCTION(\"\"\"COMPUTED_VALUE\"\"\"),\"BIGQUERY\")","v":"BIGQUERY"},null,null,{"$f":"IFERROR(__xludf.DUMMYFUNCTION(\"\"\"COMPUTED_VALUE\"\"\"),\"en\")","v":"en"},null,null,{"$f":"IFERROR(__xludf.DUMMYFUNCTION(\"\"\"COMPUTED_VALUE\"\"\"),\"JOINS\")","v":"JOINS"},{"$f":"IFERROR(__xludf.DUMMYFUNCTION(\"\"\"COMPUTED_VALUE\"\"\"),\"http://www.opengis.net/def/interface/ogcapi-joins\")","v":"http://www.opengis.net/def/interface/ogcapi-joins"},{"$f":"IFERROR(__xludf.DUMMYFUNCTION(\"\"\"COMPUTED_VALUE\"\"\"),\"JOINS\")","v":"JOINS"},null,null,{"$f":"IFERROR(__xludf.DUMMYFUNCTION(\"\"\"COMPUTED_VALUE\"\"\"),\"en\")","v":"en"}]
[{"$f":"IFERROR(__xludf.DUMMYFUNCTION(\"\"\"COMPUTED_VALUE\"\"\"),\"http://publications.europa.eu/resource/authority/file-type/BIN\")","v":"http://publications.europa.eu/resource/authority/file-type/BIN"},{"$f":"IFERROR(__xludf.DUMMYFUNCTION(\"\"\"COMPUTED_VALUE\"\"\"),\"BIN\")","v":"BIN"},{"$f":"IFERROR(__xludf.DUMMYFUNCTION(\"\"\"COMPUTED_VALUE\"\"\"),\"https://www.iana.org/assignments/media-types/application/octet-stream\")","v":"https://www.iana.org/assignments/media-types/application/octet-stream"},{"$f":"IFERROR(__xludf.DUMMYFUNCTION(\"\"\"COMPUTED_VALUE\"\"\"),\"BIN\")","v":"BIN"},null,{"$f":"IFERROR(__xludf.DUMMYFUNCTION(\"\"\"COMPUTED_VALUE\"\"\"),\".bin\")","v":".bin"},{"$f":"IFERROR(__xludf.DUMMYFUNCTION(\"\"\"COMPUTED_VALUE\"\"\"),\"en\")","v":"en"},null,{"$f":"IFERROR(__xludf.DUMMYFUNCTION(\"\"\"COMPUTED_VALUE\"\"\"),\"http://publications.europa.eu/resource/authority/file-type/JPEG\")","v":"http://publications.europa.eu/resource/authority/file-type/JPEG"},{"$f":"IFERROR(__xludf.DUMMYFUNCTION(\"\"\"COMPUTED_VALUE\"\"\"),\"JPEG\")","v":"JPEG"},null,{"$f":"IFERROR(__xludf.DUMMYFUNCTION(\"\"\"COMPUTED_VALUE\"\"\"),\"JPEG\")","v":"JPEG"},null,{"$f":"IFERROR(__xludf.DUMMYFUNCTION(\"\"\"COMPUTED_VALUE\"\"\"),\".jpeg\")","v":".jpeg"},{"$f":"IFERROR(__xludf.DUMMYFUNCTION(\"\"\"COMPUTED_VALUE\"\"\"),\"en\")","v":"en"}]
[{"$f":"IFERROR(__xludf.DUMMYFUNCTION(\"\"\"COMPUTED_VALUE\"\"\"),\"http://publications.europa.eu/resource/authority/file-type/BITS\")","v":"http://publications.europa.eu/resource/authority/file-type/BITS"},{"$f":"IFERROR(__xludf.DUMMYFUNCTION(\"\"\"COMPUTED_VALUE\"\"\"),\"BITS\")","v":"BITS"},null,{"$f":"IFERROR(__xludf.DUMMYFUNCTION(\"\"\"COMPUTED_VALUE\"\"\"),\"BITS\")","v":"BITS"},null,{"$f":"IFERROR(__xludf.DUMMYFUNCTION(\"\"\"COMPUTED_VALUE\"\"\"),\".xml\")","v":".xml"},{"$f":"IFERROR(__xludf.DUMMYFUNCTION(\"\"\"COMPUTED_VALUE\"\"\"),\"en\")","v":"en"},null,{"$f":"IFERROR(__xludf.DUMMYFUNCTION(\"\"\"COMPUTED_VALUE\"\"\"),\"http://publications.europa.eu/resource/authority/file-type/JPEG2000\")","v":"http://publications.europa.eu/resource/authority/file-type/JPEG2000"},{"$f":"IFERROR(__xludf.DUMMYFUNCTION(\"\"\"COMPUTED_VALUE\"\"\"),\"JPEG2000\")","v":"JPEG2000"},null,{"$f":"IFERROR(__xludf.DUMMYFUNCTION(\"\"\"COMPUTED_VALUE\"\"\"),\"JPEG2000\")","v":"JPEG2000"},null,{"$f":"IFERROR(__xludf.DUMMYFUNCTION(\"\"\"COMPUTED_VALUE\"\"\"),\".jp2\")","v":".jp2"},{"$f":"IFERROR(__xludf.DUMMYFUNCTION(\"\"\"COMPUTED_VALUE\"\"\"),\"en\")","v":"en"}]
[{"$f":"IFERROR(__xludf.DUMMYFUNCTION(\"\"\"COMPUTED_VALUE\"\"\"),\"http://publications.europa.eu/resource/authority/file-type/BMP\")","v":"http://publications.europa.eu/resource/authority/file-type/BMP"},{"$f":"IFERROR(__xludf.DUMMYFUNCTION(\"\"\"COMPUTED_VALUE\"\"\"),\"BMP\")","v":"BMP"},null,{"$f":"IFERROR(__xludf.DUMMYFUNCTION(\"\"\"COMPUTED_VALUE\"\"\"),\"BMP\")","v":"BMP"},null,{"$f":"IFERROR(__xludf.DUMMYFUNCTION(\"\"\"COMPUTED_VALUE\"\"\"),\".bm\")","v":".bm"},{"$f":"IFERROR(__xludf.DUMMYFUNCTION(\"\"\"COMPUTED_VALUE\"\"\"),\"en\")","v":"en"},null,{"$f":"IFERROR(__xludf.DUMMYFUNCTION(\"\"\"COMPUTED_VALUE\"\"\"),\"http://publications.europa.eu/resource/authority/file-type/JSON\")","v":"http://publications.europa.eu/resource/authority/file-type/JSON"},{"$f":"IFERROR(__xludf.DUMMYFUNCTION(\"\"\"COMPUTED_VALUE\"\"\"),\"JSON\")","v":"JSON"},{"$f":"IFERROR(__xludf.DUMMYFUNCTION(\"\"\"COMPUTED_VALUE\"\"\"),\"https://www.iana.org/assignments/media-types/application/json\")","v":"https://www.iana.org/assignments/media-types/application/json"},{"$f":"IFERROR(__xludf.DUMMYFUNCTION(\"\"\"COMPUTED_VALUE\"\"\"),\"JSON\")","v":"JSON"},null,{"$f":"IFERROR(__xludf.DUMMYFUNCTION(\"\"\"COMPUTED_VALUE\"\"\"),\".json\")","v":".json"},{"$f":"IFERROR(__xludf.DUMMYFUNCTION(\"\"\"COMPUTED_VALUE\"\"\"),\"en\")","v":"en"}]
[{"$f":"IFERROR(__xludf.DUMMYFUNCTION(\"\"\"COMPUTED_VALUE\"\"\"),\"http://publications.europa.eu/resource/authority/file-type/BWF\")","v":"http://publications.europa.eu/resource/authority/file-type/BWF"},{"$f":"IFERROR(__xludf.DUMMYFUNCTION(\"\"\"COMPUTED_VALUE\"\"\"),\"BWF\")","v":"BWF"},null,{"$f":"IFERROR(__xludf.DUMMYFUNCTION(\"\"\"COMPUTED_VALUE\"\"\"),\"BWF\")","v":"BWF"},null,{"$f":"IFERROR(__xludf.DUMMYFUNCTION(\"\"\"COMPUTED_VALUE\"\"\"),\".bwf\")","v":".bwf"},{"$f":"IFERROR(__xludf.DUMMYFUNCTION(\"\"\"COMPUTED_VALUE\"\"\"),\"en\")","v":"en"},null,{"$f":"IFERROR(__xludf.DUMMYFUNCTION(\"\"\"COMPUTED_VALUE\"\"\"),\"http://publications.europa.eu/resource/authority/file-type/JSON_LD\")","v":"http://publications.europa.eu/resource/authority/file-type/JSON_LD"},{"$f":"IFERROR(__xludf.DUMMYFUNCTION(\"\"\"COMPUTED_VALUE\"\"\"),\"JSON_LD\")","v":"JSON_LD"},{"$f":"IFERROR(__xludf.DUMMYFUNCTION(\"\"\"COMPUTED_VALUE\"\"\"),\"https://www.iana.org/assignments/media-types/application/ld+json\")","v":"https://www.iana.org/assignments/media-types/application/ld+json"},{"$f":"IFERROR(__xludf.DUMMYFUNCTION(\"\"\"COMPUTED_VALUE\"\"\"),\"JSON_LD\")","v":"JSON_LD"},null,{"$f":"IFERROR(__xludf.DUMMYFUNCTION(\"\"\"COMPUTED_VALUE\"\"\"),\".jsonld\")","v":".jsonld"},{"$f":"IFERROR(__xludf.DUMMYFUNCTION(\"\"\"COMPUTED_VALUE\"\"\"),\"en\")","v":"en"}]
[{"$f":"IFERROR(__xludf.DUMMYFUNCTION(\"\"\"COMPUTED_VALUE\"\"\"),\"http://publications.europa.eu/resource/authority/file-type/BZIP2\")","v":"http://publications.europa.eu/resource/authority/file-type/BZIP2"},{"$f":"IFERROR(__xludf.DUMMYFUNCTION(\"\"\"COMPUTED_VALUE\"\"\"),\"BZIP2\")","v":"BZIP2"},null,{"$f":"IFERROR(__xludf.DUMMYFUNCTION(\"\"\"COMPUTED_VALUE\"\"\"),\"BZIP2\")","v":"BZIP2"},null,{"$f":"IFERROR(__xludf.DUMMYFUNCTION(\"\"\"COMPUTED_VALUE\"\"\"),\".bz2\")","v":".bz2"},{"$f":"IFERROR(__xludf.DUMMYFUNCTION(\"\"\"COMPUTED_VALUE\"\"\"),\"en\")","v":"en"},null,{"$f":"IFERROR(__xludf.DUMMYFUNCTION(\"\"\"COMPUTED_VALUE\"\"\"),\"http://publications.europa.eu/resource/authority/file-type/KML\")","v":"http://publications.europa.eu/resource/authority/file-type/KML"},{"$f":"IFERROR(__xludf.DUMMYFUNCTION(\"\"\"COMPUTED_VALUE\"\"\"),\"KML\")","v":"KML"},{"$f":"IFERROR(__xludf.DUMMYFUNCTION(\"\"\"COMPUTED_VALUE\"\"\"),\"https://www.iana.org/assignments/media-types/application/vnd.google-earth.kml+xml\")","v":"https://www.iana.org/assignments/media-types/application/vnd.google-earth.kml+xml"},{"$f":"IFERROR(__xludf.DUMMYFUNCTION(\"\"\"COMPUTED_VALUE\"\"\"),\"KML\")","v":"KML"},null,{"$f":"IFERROR(__xludf.DUMMYFUNCTION(\"\"\"COMPUTED_VALUE\"\"\"),\".kml\")","v":".kml"},{"$f":"IFERROR(__xludf.DUMMYFUNCTION(\"\"\"COMPUTED_VALUE\"\"\"),\"en\")","v":"en"}]
[null,{"$f":"IFERROR(__xludf.DUMMYFUNCTION(\"\"\"COMPUTED_VALUE\"\"\"),\"CDM\")","v":"CDM"},null,{"$f":"IFERROR(__xludf.DUMMYFUNCTION(\"\"\"COMPUTED_VALUE\"\"\"),\"CDM\")","v":"CDM"},null,null,{"$f":"IFERROR(__xludf.DUMMYFUNCTION(\"\"\"COMPUTED_VALUE\"\"\"),\"en\")","v":"en"},null,{"$f":"IFERROR(__xludf.DUMMYFUNCTION(\"\"\"COMPUTED_VALUE\"\"\"),\"http://publications.europa.eu/resource/authority/file-type/KMZ\")","v":"http://publications.europa.eu/resource/authority/file-type/KMZ"},{"$f":"IFERROR(__xludf.DUMMYFUNCTION(\"\"\"COMPUTED_VALUE\"\"\"),\"KMZ\")","v":"KMZ"},{"$f":"IFERROR(__xludf.DUMMYFUNCTION(\"\"\"COMPUTED_VALUE\"\"\"),\"https://www.iana.org/assignments/media-types/application/vnd.google-earth.kmz\")","v":"https://www.iana.org/assignments/media-types/application/vnd.google-earth.kmz"},{"$f":"IFERROR(__xludf.DUMMYFUNCTION(\"\"\"COMPUTED_VALUE\"\"\"),\"KMZ\")","v":"KMZ"},null,{"$f":"IFERROR(__xludf.DUMMYFUNCTION(\"\"\"COMPUTED_VALUE\"\"\"),\".kmz\")","v":".kmz"},{"$f":"IFERROR(__xludf.DUMMYFUNCTION(\"\"\"COMPUTED_VALUE\"\"\"),\"en\")","v":"en"}]
[null,{"$f":"IFERROR(__xludf.DUMMYFUNCTION(\"\"\"COMPUTED_VALUE\"\"\"),\"CDMREMOTE\")","v":"CDMREMOTE"},null,{"$f":"IFERROR(__xludf.DUMMYFUNCTION(\"\"\"COMPUTED_VALUE\"\"\"),\"CDMREMOTE\")","v":"CDMREMOTE"},null,null,{"$f":"IFERROR(__xludf.DUMMYFUNCTION(\"\"\"COMPUTED_VALUE\"\"\"),\"en\")","v":"en"},null,{"$f":"IFERROR(__xludf.DUMMYFUNCTION(\"\"\"COMPUTED_VALUE\"\"\"),\"http://publications.europa.eu/resource/authority/file-type/MAP_SRVC\")","v":"http://publications.europa.eu/resource/authority/file-type/MAP_SRVC"},{"$f":"IFERROR(__xludf.DUMMYFUNCTION(\"\"\"COMPUTED_VALUE\"\"\"),\"MAP\")","v":"MAP"},null,{"$f":"IFERROR(__xludf.DUMMYFUNCTION(\"\"\"COMPUTED_VALUE\"\"\"),\"MAP_SRVC\")","v":"MAP_SRVC"},null,{"$f":"IFERROR(__xludf.DUMMYFUNCTION(\"\"\"COMPUTED_VALUE\"\"\"),\"-\")","v":"-"},{"$f":"IFERROR(__xludf.DUMMYFUNCTION(\"\"\"COMPUTED_VALUE\"\"\"),\"en\")","v":"en"}]
[null,{"$f":"IFERROR(__xludf.DUMMYFUNCTION(\"\"\"COMPUTED_VALUE\"\"\"),\"CDMRFEATURE\")","v":"CDMRFEATURE"},null,{"$f":"IFERROR(__xludf.DUMMYFUNCTION(\"\"\"COMPUTED_VALUE\"\"\"),\"CDMRFEATURE\")","v":"CDMRFEATURE"},null,null,{"$f":"IFERROR(__xludf.DUMMYFUNCTION(\"\"\"COMPUTED_VALUE\"\"\"),\"en\")","v":"en"},null,{"$f":"IFERROR(__xludf.DUMMYFUNCTION(\"\"\"COMPUTED_VALUE\"\"\"),\"http://publications.europa.eu/resource/authority/file-type/MAP_PRVW\")","v":"http://publications.europa.eu/resource/authority/file-type/MAP_PRVW"},{"$f":"IFERROR(__xludf.DUMMYFUNCTION(\"\"\"COMPUTED_VALUE\"\"\"),\"MAP_PRVW\")","v":"MAP_PRVW"},null,{"$f":"IFERROR(__xludf.DUMMYFUNCTION(\"\"\"COMPUTED_VALUE\"\"\"),\"MAP_PRVW\")","v":"MAP_PRVW"},null,{"$f":"IFERROR(__xludf.DUMMYFUNCTION(\"\"\"COMPUTED_VALUE\"\"\"),\"-\")","v":"-"},{"$f":"IFERROR(__xludf.DUMMYFUNCTION(\"\"\"COMPUTED_VALUE\"\"\"),\"en\")","v":"en"}]
[null,{"$f":"IFERROR(__xludf.DUMMYFUNCTION(\"\"\"COMPUTED_VALUE\"\"\"),\"COLLECTIONCAST\")","v":"COLLECTIONCAST"},{"$f":"IFERROR(__xludf.DUMMYFUNCTION(\"\"\"COMPUTED_VALUE\"\"\"),\"http://commons.esipfed.org/ns/discovery/1.2/collectionCast#\")","v":"http://commons.esipfed.org/ns/discovery/1.2/collectionCast#"},{"$f":"IFERROR(__xludf.DUMMYFUNCTION(\"\"\"COMPUTED_VALUE\"\"\"),\"COLLECTIONCAST\")","v":"COLLECTIONCAST"},null,null,{"$f":"IFERROR(__xludf.DUMMYFUNCTION(\"\"\"COMPUTED_VALUE\"\"\"),\"en\")","v":"en"},null,{"$f":"IFERROR(__xludf.DUMMYFUNCTION(\"\"\"COMPUTED_VALUE\"\"\"),\"http://publications.europa.eu/resource/authority/file-type/MAP_SRVC\")","v":"http://publications.europa.eu/resource/authority/file-type/MAP_SRVC"},{"$f":"IFERROR(__xludf.DUMMYFUNCTION(\"\"\"COMPUTED_VALUE\"\"\"),\"MAP_SRVC\")","v":"MAP_SRVC"},null,{"$f":"IFERROR(__xludf.DUMMYFUNCTION(\"\"\"COMPUTED_VALUE\"\"\"),\"MAP_SRVC\")","v":"MAP_SRVC"},null,{"$f":"IFERROR(__xludf.DUMMYFUNCTION(\"\"\"COMPUTED_VALUE\"\"\"),\"-\")","v":"-"},{"$f":"IFERROR(__xludf.DUMMYFUNCTION(\"\"\"COMPUTED_VALUE\"\"\"),\"en\")","v":"en"}]
[{"$f":"IFERROR(__xludf.DUMMYFUNCTION(\"\"\"COMPUTED_VALUE\"\"\"),\"http://publications.europa.eu/resource/authority/file-type/CSS\")","v":"http://publications.europa.eu/resource/authority/file-type/CSS"},{"$f":"IFERROR(__xludf.DUMMYFUNCTION(\"\"\"COMPUTED_VALUE\"\"\"),\"CSS\")","v":"CSS"},{"$f":"IFERROR(__xludf.DUMMYFUNCTION(\"\"\"COMPUTED_VALUE\"\"\"),\"https://www.iana.org/assignments/media-types/text/css\")","v":"https://www.iana.org/assignments/media-types/text/css"},{"$f":"IFERROR(__xludf.DUMMYFUNCTION(\"\"\"COMPUTED_VALUE\"\"\"),\"CSS\")","v":"CSS"},null,{"$f":"IFERROR(__xludf.DUMMYFUNCTION(\"\"\"COMPUTED_VALUE\"\"\"),\".css\")","v":".css"},{"$f":"IFERROR(__xludf.DUMMYFUNCTION(\"\"\"COMPUTED_VALUE\"\"\"),\"en\")","v":"en"},null,{"$f":"IFERROR(__xludf.DUMMYFUNCTION(\"\"\"COMPUTED_VALUE\"\"\"),\"http://publications.europa.eu/resource/authority/file-type/MDB\")","v":"http://publications.europa.eu/resource/authority/file-type/MDB"},{"$f":"IFERROR(__xludf.DUMMYFUNCTION(\"\"\"COMPUTED_VALUE\"\"\"),\"MDB\")","v":"MDB"},null,{"$f":"IFERROR(__xludf.DUMMYFUNCTION(\"\"\"COMPUTED_VALUE\"\"\"),\"MDB\")","v":"MDB"},null,{"$f":"IFERROR(__xludf.DUMMYFUNCTION(\"\"\"COMPUTED_VALUE\"\"\"),\".mdb\")","v":".mdb"},{"$f":"IFERROR(__xludf.DUMMYFUNCTION(\"\"\"COMPUTED_VALUE\"\"\"),\"en\")","v":"en"}]
[{"$f":"IFERROR(__xludf.DUMMYFUNCTION(\"\"\"COMPUTED_VALUE\"\"\"),\"http://publications.europa.eu/resource/authority/file-type/CSV\")","v":"http://publications.europa.eu/resource/authority/file-type/CSV"},{"$f":"IFERROR(__xludf.DUMMYFUNCTION(\"\"\"COMPUTED_VALUE\"\"\"),\"CSV\")","v":"CSV"},{"$f":"IFERROR(__xludf.DUMMYFUNCTION(\"\"\"COMPUTED_VALUE\"\"\"),\"https://www.iana.org/assignments/media-types/text/csv\")","v":"https://www.iana.org/assignments/media-types/text/csv"},{"$f":"IFERROR(__xludf.DUMMYFUNCTION(\"\"\"COMPUTED_VALUE\"\"\"),\"CSV\")","v":"CSV"},null,{"$f":"IFERROR(__xludf.DUMMYFUNCTION(\"\"\"COMPUTED_VALUE\"\"\"),\".csv\")","v":".csv"},{"$f":"IFERROR(__xludf.DUMMYFUNCTION(\"\"\"COMPUTED_VALUE\"\"\"),\"en\")","v":"en"},null,{"$f":"IFERROR(__xludf.DUMMYFUNCTION(\"\"\"COMPUTED_VALUE\"\"\"),\"http://publications.europa.eu/resource/authority/file-type/MRSID\")","v":"http://publications.europa.eu/resource/authority/file-type/MRSID"},{"$f":"IFERROR(__xludf.DUMMYFUNCTION(\"\"\"COMPUTED_VALUE\"\"\"),\"MRSID\")","v":"MRSID"},null,{"$f":"IFERROR(__xludf.DUMMYFUNCTION(\"\"\"COMPUTED_VALUE\"\"\"),\"MRSID\")","v":"MRSID"},null,{"$f":"IFERROR(__xludf.DUMMYFUNCTION(\"\"\"COMPUTED_VALUE\"\"\"),\".sid\")","v":".sid"},{"$f":"IFERROR(__xludf.DUMMYFUNCTION(\"\"\"COMPUTED_VALUE\"\"\"),\"en\")","v":"en"}]
[null,{"$f":"IFERROR(__xludf.DUMMYFUNCTION(\"\"\"COMPUTED_VALUE\"\"\"),\"CSW\")","v":"CSW"},{"$f":"IFERROR(__xludf.DUMMYFUNCTION(\"\"\"COMPUTED_VALUE\"\"\"),\"http://www.opengis.net/def/serviceType/ogc/csw\")","v":"http://www.opengis.net/def/serviceType/ogc/csw"},{"$f":"IFERROR(__xludf.DUMMYFUNCTION(\"\"\"COMPUTED_VALUE\"\"\"),\"CSW\")","v":"CSW"},null,null,{"$f":"IFERROR(__xludf.DUMMYFUNCTION(\"\"\"COMPUTED_VALUE\"\"\"),\"en\")","v":"en"},null,null,{"$f":"IFERROR(__xludf.DUMMYFUNCTION(\"\"\"COMPUTED_VALUE\"\"\"),\"OGCCov\")","v":"OGCCov"},{"$f":"IFERROR(__xludf.DUMMYFUNCTION(\"\"\"COMPUTED_VALUE\"\"\"),\"http://www.opengis.net/def/interface/ogcapi-coverages\")","v":"http://www.opengis.net/def/interface/ogcapi-coverages"},{"$f":"IFERROR(__xludf.DUMMYFUNCTION(\"\"\"COMPUTED_VALUE\"\"\"),\"OGCCov\")","v":"OGCCov"},null,null,{"$f":"IFERROR(__xludf.DUMMYFUNCTION(\"\"\"COMPUTED_VALUE\"\"\"),\"en\")","v":"en"}]
[null,{"$f":"IFERROR(__xludf.DUMMYFUNCTION(\"\"\"COMPUTED_VALUE\"\"\"),\"CT\")","v":"CT"},{"$f":"IFERROR(__xludf.DUMMYFUNCTION(\"\"\"COMPUTED_VALUE\"\"\"),\"http://www.opengeospatial.org/standards/ct\")","v":"http://www.opengeospatial.org/standards/ct"},{"$f":"IFERROR(__xludf.DUMMYFUNCTION(\"\"\"COMPUTED_VALUE\"\"\"),\"CT\")","v":"CT"},null,null,{"$f":"IFERROR(__xludf.DUMMYFUNCTION(\"\"\"COMPUTED_VALUE\"\"\"),\"en\")","v":"en"},null,null,{"$f":"IFERROR(__xludf.DUMMYFUNCTION(\"\"\"COMPUTED_VALUE\"\"\"),\"OGCDGGS\")","v":"OGCDGGS"},{"$f":"IFERROR(__xludf.DUMMYFUNCTION(\"\"\"COMPUTED_VALUE\"\"\"),\"http://www.opengis.net/def/interface/ogcapi-dggs\")","v":"http://www.opengis.net/def/interface/ogcapi-dggs"},{"$f":"IFERROR(__xludf.DUMMYFUNCTION(\"\"\"COMPUTED_VALUE\"\"\"),\"OGCDGGS\")","v":"OGCDGGS"},null,null,{"$f":"IFERROR(__xludf.DUMMYFUNCTION(\"\"\"COMPUTED_VALUE\"\"\"),\"en\")","v":"en"}]
[{"$f":"IFERROR(__xludf.DUMMYFUNCTION(\"\"\"COMPUTED_VALUE\"\"\"),\"http://publications.europa.eu/resource/authority/file-type/DAPK\")","v":"http://publications.europa.eu/resource/authority/file-type/DAPK"},{"$f":"IFERROR(__xludf.DUMMYFUNCTION(\"\"\"COMPUTED_VALUE\"\"\"),\"DAPK\")","v":"DAPK"},null,{"$f":"IFERROR(__xludf.DUMMYFUNCTION(\"\"\"COMPUTED_VALUE\"\"\"),\"DAPK\")","v":"DAPK"},null,{"$f":"IFERROR(__xludf.DUMMYFUNCTION(\"\"\"COMPUTED_VALUE\"\"\"),\".apk\")","v":".apk"},{"$f":"IFERROR(__xludf.DUMMYFUNCTION(\"\"\"COMPUTED_VALUE\"\"\"),\"en\")","v":"en"},null,null,{"$f":"IFERROR(__xludf.DUMMYFUNCTION(\"\"\"COMPUTED_VALUE\"\"\"),\"OGCEDR\")","v":"OGCEDR"},{"$f":"IFERROR(__xludf.DUMMYFUNCTION(\"\"\"COMPUTED_VALUE\"\"\"),\"http://www.opengis.net/def/interface/ogcapi-edr\")","v":"http://www.opengis.net/def/interface/ogcapi-edr"},{"$f":"IFERROR(__xludf.DUMMYFUNCTION(\"\"\"COMPUTED_VALUE\"\"\"),\"OGCEDR\")","v":"OGCEDR"},null,null,{"$f":"IFERROR(__xludf.DUMMYFUNCTION(\"\"\"COMPUTED_VALUE\"\"\"),\"en\")","v":"en"}]
[null,{"$f":"IFERROR(__xludf.DUMMYFUNCTION(\"\"\"COMPUTED_VALUE\"\"\"),\"DAT\")","v":"DAT"},{"$f":"IFERROR(__xludf.DUMMYFUNCTION(\"\"\"COMPUTED_VALUE\"\"\"),\"http://dat-data.com\")","v":"http://dat-data.com"},{"$f":"IFERROR(__xludf.DUMMYFUNCTION(\"\"\"COMPUTED_VALUE\"\"\"),\"DAT\")","v":"DAT"},null,null,{"$f":"IFERROR(__xludf.DUMMYFUNCTION(\"\"\"COMPUTED_VALUE\"\"\"),\"en\")","v":"en"},null,null,{"$f":"IFERROR(__xludf.DUMMYFUNCTION(\"\"\"COMPUTED_VALUE\"\"\"),\"OGCFeat\")","v":"OGCFeat"},{"$f":"IFERROR(__xludf.DUMMYFUNCTION(\"\"\"COMPUTED_VALUE\"\"\"),\"http://www.opengis.net/def/interface/ogcapi-features\")","v":"http://www.opengis.net/def/interface/ogcapi-features"},{"$f":"IFERROR(__xludf.DUMMYFUNCTION(\"\"\"COMPUTED_VALUE\"\"\"),\"OGCFeat\")","v":"OGCFeat"},null,null,{"$f":"IFERROR(__xludf.DUMMYFUNCTION(\"\"\"COMPUTED_VALUE\"\"\"),\"en\")","v":"en"}]
[null,{"$f":"IFERROR(__xludf.DUMMYFUNCTION(\"\"\"COMPUTED_VALUE\"\"\"),\"DATAPACKAGE\")","v":"DATAPACKAGE"},{"$f":"IFERROR(__xludf.DUMMYFUNCTION(\"\"\"COMPUTED_VALUE\"\"\"),\"http://data.okfn.org/doc/data-package\")","v":"http://data.okfn.org/doc/data-package"},{"$f":"IFERROR(__xludf.DUMMYFUNCTION(\"\"\"COMPUTED_VALUE\"\"\"),\"DATAPACKAGE\")","v":"DATAPACKAGE"},null,null,{"$f":"IFERROR(__xludf.DUMMYFUNCTION(\"\"\"COMPUTED_VALUE\"\"\"),\"en\")","v":"en"},null,null,{"$f":"IFERROR(__xludf.DUMMYFUNCTION(\"\"\"COMPUTED_VALUE\"\"\"),\"OGCMaps\")","v":"OGCMaps"},{"$f":"IFERROR(__xludf.DUMMYFUNCTION(\"\"\"COMPUTED_VALUE\"\"\"),\"http://www.opengis.net/def/interface/ogcapi-maps\")","v":"http://www.opengis.net/def/interface/ogcapi-maps"},{"$f":"IFERROR(__xludf.DUMMYFUNCTION(\"\"\"COMPUTED_VALUE\"\"\"),\"OGCMaps\")","v":"OGCMaps"},null,null,{"$f":"IFERROR(__xludf.DUMMYFUNCTION(\"\"\"COMPUTED_VALUE\"\"\"),\"en\")","v":"en"}]
[{"$f":"IFERROR(__xludf.DUMMYFUNCTION(\"\"\"COMPUTED_VALUE\"\"\"),\"http://publications.europa.eu/resource/authority/file-type/DBF\")","v":"http://publications.europa.eu/resource/authority/file-type/DBF"},{"$f":"IFERROR(__xludf.DUMMYFUNCTION(\"\"\"COMPUTED_VALUE\"\"\"),\"DBF\")","v":"DBF"},{"$f":"IFERROR(__xludf.DUMMYFUNCTION(\"\"\"COMPUTED_VALUE\"\"\"),\"https://www.iana.org/assignments/media-types/application/vnd.dbf\")","v":"https://www.iana.org/assignments/media-types/application/vnd.dbf"},{"$f":"IFERROR(__xludf.DUMMYFUNCTION(\"\"\"COMPUTED_VALUE\"\"\"),\"DBF\")","v":"DBF"},null,{"$f":"IFERROR(__xludf.DUMMYFUNCTION(\"\"\"COMPUTED_VALUE\"\"\"),\".dbf\")","v":".dbf"},{"$f":"IFERROR(__xludf.DUMMYFUNCTION(\"\"\"COMPUTED_VALUE\"\"\"),\"en\")","v":"en"},null,null,{"$f":"IFERROR(__xludf.DUMMYFUNCTION(\"\"\"COMPUTED_VALUE\"\"\"),\"OGCProc\")","v":"OGCProc"},{"$f":"IFERROR(__xludf.DUMMYFUNCTION(\"\"\"COMPUTED_VALUE\"\"\"),\"http://www.opengis.net/def/interface/ogcapi-processes\")","v":"http://www.opengis.net/def/interface/ogcapi-processes"},{"$f":"IFERROR(__xludf.DUMMYFUNCTION(\"\"\"COMPUTED_VALUE\"\"\"),\"OGCProc\")","v":"OGCProc"},null,null,{"$f":"IFERROR(__xludf.DUMMYFUNCTION(\"\"\"COMPUTED_VALUE\"\"\"),\"en\")","v":"en"}]
[{"$f":"IFERROR(__xludf.DUMMYFUNCTION(\"\"\"COMPUTED_VALUE\"\"\"),\"http://publications.europa.eu/resource/authority/file-type/DCR\")","v":"http://publications.europa.eu/resource/authority/file-type/DCR"},{"$f":"IFERROR(__xludf.DUMMYFUNCTION(\"\"\"COMPUTED_VALUE\"\"\"),\"DCR\")","v":"DCR"},null,{"$f":"IFERROR(__xludf.DUMMYFUNCTION(\"\"\"COMPUTED_VALUE\"\"\"),\"DCR\")","v":"DCR"},null,{"$f":"IFERROR(__xludf.DUMMYFUNCTION(\"\"\"COMPUTED_VALUE\"\"\"),\".dcr\")","v":".dcr"},{"$f":"IFERROR(__xludf.DUMMYFUNCTION(\"\"\"COMPUTED_VALUE\"\"\"),\"en\")","v":"en"},null,null,{"$f":"IFERROR(__xludf.DUMMYFUNCTION(\"\"\"COMPUTED_VALUE\"\"\"),\"OGCRec\")","v":"OGCRec"},{"$f":"IFERROR(__xludf.DUMMYFUNCTION(\"\"\"COMPUTED_VALUE\"\"\"),\"http://www.opengis.net/def/interface/ogcapi-records\")","v":"http://www.opengis.net/def/interface/ogcapi-records"},{"$f":"IFERROR(__xludf.DUMMYFUNCTION(\"\"\"COMPUTED_VALUE\"\"\"),\"OGCRec\")","v":"OGCRec"},null,null,{"$f":"IFERROR(__xludf.DUMMYFUNCTION(\"\"\"COMPUTED_VALUE\"\"\"),\"en\")","v":"en"}]
[{"$f":"IFERROR(__xludf.DUMMYFUNCTION(\"\"\"COMPUTED_VALUE\"\"\"),\"http://publications.europa.eu/resource/authority/file-type/DEB\")","v":"http://publications.europa.eu/resource/authority/file-type/DEB"},{"$f":"IFERROR(__xludf.DUMMYFUNCTION(\"\"\"COMPUTED_VALUE\"\"\"),\"DEB\")","v":"DEB"},null,{"$f":"IFERROR(__xludf.DUMMYFUNCTION(\"\"\"COMPUTED_VALUE\"\"\"),\"DEB\")","v":"DEB"},null,{"$f":"IFERROR(__xludf.DUMMYFUNCTION(\"\"\"COMPUTED_VALUE\"\"\"),\".deb\")","v":".deb"},{"$f":"IFERROR(__xludf.DUMMYFUNCTION(\"\"\"COMPUTED_VALUE\"\"\"),\"en\")","v":"en"},null,null,{"$f":"IFERROR(__xludf.DUMMYFUNCTION(\"\"\"COMPUTED_VALUE\"\"\"),\"OGCRout\")","v":"OGCRout"},{"$f":"IFERROR(__xludf.DUMMYFUNCTION(\"\"\"COMPUTED_VALUE\"\"\"),\"http://www.opengis.net/def/interface/ogcapi-routes\")","v":"http://www.opengis.net/def/interface/ogcapi-routes"},{"$f":"IFERROR(__xludf.DUMMYFUNCTION(\"\"\"COMPUTED_VALUE\"\"\"),\"OGCRout\")","v":"OGCRout"},null,null,{"$f":"IFERROR(__xludf.DUMMYFUNCTION(\"\"\"COMPUTED_VALUE\"\"\"),\"en\")","v":"en"}]
[{"$f":"IFERROR(__xludf.DUMMYFUNCTION(\"\"\"COMPUTED_VALUE\"\"\"),\"http://publications.europa.eu/resource/authority/file-type/DGN\")","v":"http://publications.europa.eu/resource/authority/file-type/DGN"},{"$f":"IFERROR(__xludf.DUMMYFUNCTION(\"\"\"COMPUTED_VALUE\"\"\"),\"DGN\")","v":"DGN"},null,{"$f":"IFERROR(__xludf.DUMMYFUNCTION(\"\"\"COMPUTED_VALUE\"\"\"),\"DGN\")","v":"DGN"},null,{"$f":"IFERROR(__xludf.DUMMYFUNCTION(\"\"\"COMPUTED_VALUE\"\"\"),\".dgn\")","v":".dgn"},{"$f":"IFERROR(__xludf.DUMMYFUNCTION(\"\"\"COMPUTED_VALUE\"\"\"),\"en\")","v":"en"},null,null,{"$f":"IFERROR(__xludf.DUMMYFUNCTION(\"\"\"COMPUTED_VALUE\"\"\"),\"OGCStyl\")","v":"OGCStyl"},{"$f":"IFERROR(__xludf.DUMMYFUNCTION(\"\"\"COMPUTED_VALUE\"\"\"),\"http://www.opengis.net/def/interface/ogcapi-styles\")","v":"http://www.opengis.net/def/interface/ogcapi-styles"},{"$f":"IFERROR(__xludf.DUMMYFUNCTION(\"\"\"COMPUTED_VALUE\"\"\"),\"OGCStyl\")","v":"OGCStyl"},null,null,{"$f":"IFERROR(__xludf.DUMMYFUNCTION(\"\"\"COMPUTED_VALUE\"\"\"),\"en\")","v":"en"}]
[{"$f":"IFERROR(__xludf.DUMMYFUNCTION(\"\"\"COMPUTED_VALUE\"\"\"),\"http://publications.europa.eu/resource/authority/file-type/DMG\")","v":"http://publications.europa.eu/resource/authority/file-type/DMG"},{"$f":"IFERROR(__xludf.DUMMYFUNCTION(\"\"\"COMPUTED_VALUE\"\"\"),\"DMG\")","v":"DMG"},null,{"$f":"IFERROR(__xludf.DUMMYFUNCTION(\"\"\"COMPUTED_VALUE\"\"\"),\"DMG\")","v":"DMG"},null,{"$f":"IFERROR(__xludf.DUMMYFUNCTION(\"\"\"COMPUTED_VALUE\"\"\"),\".dmg\")","v":".dmg"},{"$f":"IFERROR(__xludf.DUMMYFUNCTION(\"\"\"COMPUTED_VALUE\"\"\"),\"en\")","v":"en"},null,null,{"$f":"IFERROR(__xludf.DUMMYFUNCTION(\"\"\"COMPUTED_VALUE\"\"\"),\"OGCTile\")","v":"OGCTile"},{"$f":"IFERROR(__xludf.DUMMYFUNCTION(\"\"\"COMPUTED_VALUE\"\"\"),\"http://www.opengis.net/def/interface/ogcapi-tiles\")","v":"http://www.opengis.net/def/interface/ogcapi-tiles"},{"$f":"IFERROR(__xludf.DUMMYFUNCTION(\"\"\"COMPUTED_VALUE\"\"\"),\"OGCTile\")","v":"OGCTile"},null,null,{"$f":"IFERROR(__xludf.DUMMYFUNCTION(\"\"\"COMPUTED_VALUE\"\"\"),\"en\")","v":"en"}]
[{"$f":"IFERROR(__xludf.DUMMYFUNCTION(\"\"\"COMPUTED_VALUE\"\"\"),\"http://publications.europa.eu/resource/authority/file-type/DMP\")","v":"http://publications.europa.eu/resource/authority/file-type/DMP"},{"$f":"IFERROR(__xludf.DUMMYFUNCTION(\"\"\"COMPUTED_VALUE\"\"\"),\"DMP\")","v":"DMP"},null,{"$f":"IFERROR(__xludf.DUMMYFUNCTION(\"\"\"COMPUTED_VALUE\"\"\"),\"DMP\")","v":"DMP"},null,{"$f":"IFERROR(__xludf.DUMMYFUNCTION(\"\"\"COMPUTED_VALUE\"\"\"),\".dmp\")","v":".dmp"},{"$f":"IFERROR(__xludf.DUMMYFUNCTION(\"\"\"COMPUTED_VALUE\"\"\"),\"en\")","v":"en"},null,null,{"$f":"IFERROR(__xludf.DUMMYFUNCTION(\"\"\"COMPUTED_VALUE\"\"\"),\"OGS\")","v":"OGS"},{"$f":"IFERROR(__xludf.DUMMYFUNCTION(\"\"\"COMPUTED_VALUE\"\"\"),\"http://www.opengeospatial.org/standards/ols#ogs\")","v":"http://www.opengeospatial.org/standards/ols#ogs"},{"$f":"IFERROR(__xludf.DUMMYFUNCTION(\"\"\"COMPUTED_VALUE\"\"\"),\"OGS\")","v":"OGS"},null,null,{"$f":"IFERROR(__xludf.DUMMYFUNCTION(\"\"\"COMPUTED_VALUE\"\"\"),\"en\")","v":"en"}]
[{"$f":"IFERROR(__xludf.DUMMYFUNCTION(\"\"\"COMPUTED_VALUE\"\"\"),\"http://publications.europa.eu/resource/authority/file-type/DOC\")","v":"http://publications.europa.eu/resource/authority/file-type/DOC"},{"$f":"IFERROR(__xludf.DUMMYFUNCTION(\"\"\"COMPUTED_VALUE\"\"\"),\"DOC\")","v":"DOC"},{"$f":"IFERROR(__xludf.DUMMYFUNCTION(\"\"\"COMPUTED_VALUE\"\"\"),\"https://www.iana.org/assignments/media-types/application/msword\")","v":"https://www.iana.org/assignments/media-types/application/msword"},{"$f":"IFERROR(__xludf.DUMMYFUNCTION(\"\"\"COMPUTED_VALUE\"\"\"),\"DOC\")","v":"DOC"},null,{"$f":"IFERROR(__xludf.DUMMYFUNCTION(\"\"\"COMPUTED_VALUE\"\"\"),\".doc\")","v":".doc"},{"$f":"IFERROR(__xludf.DUMMYFUNCTION(\"\"\"COMPUTED_VALUE\"\"\"),\"en\")","v":"en"},null,null,{"$f":"IFERROR(__xludf.DUMMYFUNCTION(\"\"\"COMPUTED_VALUE\"\"\"),\"OPS\")","v":"OPS"},{"$f":"IFERROR(__xludf.DUMMYFUNCTION(\"\"\"COMPUTED_VALUE\"\"\"),\"http://www.opengeospatial.org/standards/ols#ops\")","v":"http://www.opengeospatial.org/standards/ols#ops"},{"$f":"IFERROR(__xludf.DUMMYFUNCTION(\"\"\"COMPUTED_VALUE\"\"\"),\"OPS\")","v":"OPS"},null,null,{"$f":"IFERROR(__xludf.DUMMYFUNCTION(\"\"\"COMPUTED_VALUE\"\"\"),\"en\")","v":"en"}]
[{"$f":"IFERROR(__xludf.DUMMYFUNCTION(\"\"\"COMPUTED_VALUE\"\"\"),\"http://publications.europa.eu/resource/authority/file-type/DOCX\")","v":"http://publications.europa.eu/resource/authority/file-type/DOCX"},{"$f":"IFERROR(__xludf.DUMMYFUNCTION(\"\"\"COMPUTED_VALUE\"\"\"),\"DOCX\")","v":"DOCX"},{"$f":"IFERROR(__xludf.DUMMYFUNCTION(\"\"\"COMPUTED_VALUE\"\"\"),\"https://www.iana.org/assignments/media-types/application/vnd.openxmlformats-officedocument.wordprocessingml.document\")","v":"https://www.iana.org/assignments/media-types/application/vnd.openxmlformats-officedocument.wordprocessingml.document"},{"$f":"IFERROR(__xludf.DUMMYFUNCTION(\"\"\"COMPUTED_VALUE\"\"\"),\"DOCX\")","v":"DOCX"},null,{"$f":"IFERROR(__xludf.DUMMYFUNCTION(\"\"\"COMPUTED_VALUE\"\"\"),\".docx\")","v":".docx"},{"$f":"IFERROR(__xludf.DUMMYFUNCTION(\"\"\"COMPUTED_VALUE\"\"\"),\"en\")","v":"en"},null,null,{"$f":"IFERROR(__xludf.DUMMYFUNCTION(\"\"\"COMPUTED_VALUE\"\"\"),\"ORS\")","v":"ORS"},{"$f":"IFERROR(__xludf.DUMMYFUNCTION(\"\"\"COMPUTED_VALUE\"\"\"),\"http://www.opengeospatial.org/standards/ols#ors\")","v":"http://www.opengeospatial.org/standards/ols#ors"},{"$f":"IFERROR(__xludf.DUMMYFUNCTION(\"\"\"COMPUTED_VALUE\"\"\"),\"ORS\")","v":"ORS"},null,null,{"$f":"IFERROR(__xludf.DUMMYFUNCTION(\"\"\"COMPUTED_VALUE\"\"\"),\"en\")","v":"en"}]
[null,{"$f":"IFERROR(__xludf.DUMMYFUNCTION(\"\"\"COMPUTED_VALUE\"\"\"),\"DOWNLOAD\")","v":"DOWNLOAD"},null,{"$f":"IFERROR(__xludf.DUMMYFUNCTION(\"\"\"COMPUTED_VALUE\"\"\"),\"DOWNLOAD\")","v":"DOWNLOAD"},null,null,{"$f":"IFERROR(__xludf.DUMMYFUNCTION(\"\"\"COMPUTED_VALUE\"\"\"),\"en\")","v":"en"},null,null,{"$f":"IFERROR(__xludf.DUMMYFUNCTION(\"\"\"COMPUTED_VALUE\"\"\"),\"OSM\")","v":"OSM"},{"$f":"IFERROR(__xludf.DUMMYFUNCTION(\"\"\"COMPUTED_VALUE\"\"\"),\"http://wiki.openstreetmap.org/wiki/API\")","v":"http://wiki.openstreetmap.org/wiki/API"},{"$f":"IFERROR(__xludf.DUMMYFUNCTION(\"\"\"COMPUTED_VALUE\"\"\"),\"OSM\")","v":"OSM"},null,null,{"$f":"IFERROR(__xludf.DUMMYFUNCTION(\"\"\"COMPUTED_VALUE\"\"\"),\"en\")","v":"en"}]
[{"$f":"IFERROR(__xludf.DUMMYFUNCTION(\"\"\"COMPUTED_VALUE\"\"\"),\"http://publications.europa.eu/resource/authority/file-type/DTD_SGML\")","v":"http://publications.europa.eu/resource/authority/file-type/DTD_SGML"},{"$f":"IFERROR(__xludf.DUMMYFUNCTION(\"\"\"COMPUTED_VALUE\"\"\"),\"DTD_SGML\")","v":"DTD_SGML"},null,{"$f":"IFERROR(__xludf.DUMMYFUNCTION(\"\"\"COMPUTED_VALUE\"\"\"),\"DTD_SGML\")","v":"DTD_SGML"},null,{"$f":"IFERROR(__xludf.DUMMYFUNCTION(\"\"\"COMPUTED_VALUE\"\"\"),\".dtd\")","v":".dtd"},{"$f":"IFERROR(__xludf.DUMMYFUNCTION(\"\"\"COMPUTED_VALUE\"\"\"),\"en\")","v":"en"},null,null,{"$f":"IFERROR(__xludf.DUMMYFUNCTION(\"\"\"COMPUTED_VALUE\"\"\"),\"OUS\")","v":"OUS"},{"$f":"IFERROR(__xludf.DUMMYFUNCTION(\"\"\"COMPUTED_VALUE\"\"\"),\"http://www.opengeospatial.org/standards/ols#ous\")","v":"http://www.opengeospatial.org/standards/ols#ous"},{"$f":"IFERROR(__xludf.DUMMYFUNCTION(\"\"\"COMPUTED_VALUE\"\"\"),\"OUS\")","v":"OUS"},null,null,{"$f":"IFERROR(__xludf.DUMMYFUNCTION(\"\"\"COMPUTED_VALUE\"\"\"),\"en\")","v":"en"}]
[{"$f":"IFERROR(__xludf.DUMMYFUNCTION(\"\"\"COMPUTED_VALUE\"\"\"),\"http://publications.europa.eu/resource/authority/file-type/DTD_XML\")","v":"http://publications.europa.eu/resource/authority/file-type/DTD_XML"},{"$f":"IFERROR(__xludf.DUMMYFUNCTION(\"\"\"COMPUTED_VALUE\"\"\"),\"DTD_XML\")","v":"DTD_XML"},{"$f":"IFERROR(__xludf.DUMMYFUNCTION(\"\"\"COMPUTED_VALUE\"\"\"),\"https://www.iana.org/assignments/media-types/application/xml-dtd\")","v":"https://www.iana.org/assignments/media-types/application/xml-dtd"},{"$f":"IFERROR(__xludf.DUMMYFUNCTION(\"\"\"COMPUTED_VALUE\"\"\"),\"DTD_XML\")","v":"DTD_XML"},null,{"$f":"IFERROR(__xludf.DUMMYFUNCTION(\"\"\"COMPUTED_VALUE\"\"\"),\".dtd\")","v":".dtd"},{"$f":"IFERROR(__xludf.DUMMYFUNCTION(\"\"\"COMPUTED_VALUE\"\"\"),\"en\")","v":"en"},null,{"$f":"IFERROR(__xludf.DUMMYFUNCTION(\"\"\"COMPUTED_VALUE\"\"\"),\"http://publications.europa.eu/resource/authority/file-type/OVF\")","v":"http://publications.europa.eu/resource/authority/file-type/OVF"},{"$f":"IFERROR(__xludf.DUMMYFUNCTION(\"\"\"COMPUTED_VALUE\"\"\"),\"OVF\")","v":"OVF"},null,{"$f":"IFERROR(__xludf.DUMMYFUNCTION(\"\"\"COMPUTED_VALUE\"\"\"),\"OVF\")","v":"OVF"},null,{"$f":"IFERROR(__xludf.DUMMYFUNCTION(\"\"\"COMPUTED_VALUE\"\"\"),\".ovf\")","v":".ovf"},{"$f":"IFERROR(__xludf.DUMMYFUNCTION(\"\"\"COMPUTED_VALUE\"\"\"),\"en\")","v":"en"}]
[{"$f":"IFERROR(__xludf.DUMMYFUNCTION(\"\"\"COMPUTED_VALUE\"\"\"),\"http://publications.europa.eu/resource/authority/file-type/DWG\")","v":"http://publications.europa.eu/resource/authority/file-type/DWG"},{"$f":"IFERROR(__xludf.DUMMYFUNCTION(\"\"\"COMPUTED_VALUE\"\"\"),\"DWG\")","v":"DWG"},{"$f":"IFERROR(__xludf.DUMMYFUNCTION(\"\"\"COMPUTED_VALUE\"\"\"),\"https://www.iana.org/assignments/media-types/image/vnd.dwg\")","v":"https://www.iana.org/assignments/media-types/image/vnd.dwg"},{"$f":"IFERROR(__xludf.DUMMYFUNCTION(\"\"\"COMPUTED_VALUE\"\"\"),\"DWG\")","v":"DWG"},null,{"$f":"IFERROR(__xludf.DUMMYFUNCTION(\"\"\"COMPUTED_VALUE\"\"\"),\".dwg\")","v":".dwg"},{"$f":"IFERROR(__xludf.DUMMYFUNCTION(\"\"\"COMPUTED_VALUE\"\"\"),\"en\")","v":"en"},null,null,{"$f":"IFERROR(__xludf.DUMMYFUNCTION(\"\"\"COMPUTED_VALUE\"\"\"),\"OWC\")","v":"OWC"},{"$f":"IFERROR(__xludf.DUMMYFUNCTION(\"\"\"COMPUTED_VALUE\"\"\"),\"http://www.opengeospatial.org/standards/owc\")","v":"http://www.opengeospatial.org/standards/owc"},{"$f":"IFERROR(__xludf.DUMMYFUNCTION(\"\"\"COMPUTED_VALUE\"\"\"),\"OWC\")","v":"OWC"},null,null,{"$f":"IFERROR(__xludf.DUMMYFUNCTION(\"\"\"COMPUTED_VALUE\"\"\"),\"en\")","v":"en"}]
[{"$f":"IFERROR(__xludf.DUMMYFUNCTION(\"\"\"COMPUTED_VALUE\"\"\"),\"http://publications.europa.eu/resource/authority/file-type/DXF\")","v":"http://publications.europa.eu/resource/authority/file-type/DXF"},{"$f":"IFERROR(__xludf.DUMMYFUNCTION(\"\"\"COMPUTED_VALUE\"\"\"),\"DXF\")","v":"DXF"},{"$f":"IFERROR(__xludf.DUMMYFUNCTION(\"\"\"COMPUTED_VALUE\"\"\"),\"https://www.iana.org/assignments/media-types/image/vnd.dxf\")","v":"https://www.iana.org/assignments/media-types/image/vnd.dxf"},{"$f":"IFERROR(__xludf.DUMMYFUNCTION(\"\"\"COMPUTED_VALUE\"\"\"),\"DXF\")","v":"DXF"},null,{"$f":"IFERROR(__xludf.DUMMYFUNCTION(\"\"\"COMPUTED_VALUE\"\"\"),\".dxf\")","v":".dxf"},{"$f":"IFERROR(__xludf.DUMMYFUNCTION(\"\"\"COMPUTED_VALUE\"\"\"),\"en\")","v":"en"},null,{"$f":"IFERROR(__xludf.DUMMYFUNCTION(\"\"\"COMPUTED_VALUE\"\"\"),\"http://publications.europa.eu/resource/authority/file-type/PDF\")","v":"http://publications.europa.eu/resource/authority/file-type/PDF"},{"$f":"IFERROR(__xludf.DUMMYFUNCTION(\"\"\"COMPUTED_VALUE\"\"\"),\"PDF\")","v":"PDF"},{"$f":"IFERROR(__xludf.DUMMYFUNCTION(\"\"\"COMPUTED_VALUE\"\"\"),\"https://www.iana.org/assignments/media-types/application/pdf\")","v":"https://www.iana.org/assignments/media-types/application/pdf"},{"$f":"IFERROR(__xludf.DUMMYFUNCTION(\"\"\"COMPUTED_VALUE\"\"\"),\"PDF\")","v":"PDF"},null,{"$f":"IFERROR(__xludf.DUMMYFUNCTION(\"\"\"COMPUTED_VALUE\"\"\"),\".pdf\")","v":".pdf"},{"$f":"IFERROR(__xludf.DUMMYFUNCTION(\"\"\"COMPUTED_VALUE\"\"\"),\"en\")","v":"en"}]
[{"$f":"IFERROR(__xludf.DUMMYFUNCTION(\"\"\"COMPUTED_VALUE\"\"\"),\"http://publications.europa.eu/resource/authority/file-type/E00\")","v":"http://publications.europa.eu/resource/authority/file-type/E00"},{"$f":"IFERROR(__xludf.DUMMYFUNCTION(\"\"\"COMPUTED_VALUE\"\"\"),\"E00\")","v":"E00"},null,{"$f":"IFERROR(__xludf.DUMMYFUNCTION(\"\"\"COMPUTED_VALUE\"\"\"),\"E00\")","v":"E00"},null,{"$f":"IFERROR(__xludf.DUMMYFUNCTION(\"\"\"COMPUTED_VALUE\"\"\"),\".e00\")","v":".e00"},{"$f":"IFERROR(__xludf.DUMMYFUNCTION(\"\"\"COMPUTED_VALUE\"\"\"),\"en\")","v":"en"},null,{"$f":"IFERROR(__xludf.DUMMYFUNCTION(\"\"\"COMPUTED_VALUE\"\"\"),\"http://publications.europa.eu/resource/authority/file-type/SHP\")","v":"http://publications.europa.eu/resource/authority/file-type/SHP"},{"$f":"IFERROR(__xludf.DUMMYFUNCTION(\"\"\"COMPUTED_VALUE\"\"\"),\"SHP\")","v":"SHP"},{"$f":"IFERROR(__xludf.DUMMYFUNCTION(\"\"\"COMPUTED_VALUE\"\"\"),\"https://www.iana.org/assignments/media-types/application/vnd.shp\")","v":"https://www.iana.org/assignments/media-types/application/vnd.shp"},{"$f":"IFERROR(__xludf.DUMMYFUNCTION(\"\"\"COMPUTED_VALUE\"\"\"),\"SHP\")","v":"SHP"},null,{"$f":"IFERROR(__xludf.DUMMYFUNCTION(\"\"\"COMPUTED_VALUE\"\"\"),\".shp\")","v":".shp"},{"$f":"IFERROR(__xludf.DUMMYFUNCTION(\"\"\"COMPUTED_VALUE\"\"\"),\"en\")","v":"en"}]
[{"$f":"IFERROR(__xludf.DUMMYFUNCTION(\"\"\"COMPUTED_VALUE\"\"\"),\"http://publications.europa.eu/resource/authority/file-type/EAR\")","v":"http://publications.europa.eu/resource/authority/file-type/EAR"},{"$f":"IFERROR(__xludf.DUMMYFUNCTION(\"\"\"COMPUTED_VALUE\"\"\"),\"EAR\")","v":"EAR"},null,{"$f":"IFERROR(__xludf.DUMMYFUNCTION(\"\"\"COMPUTED_VALUE\"\"\"),\"EAR\")","v":"EAR"},null,{"$f":"IFERROR(__xludf.DUMMYFUNCTION(\"\"\"COMPUTED_VALUE\"\"\"),\".ear\")","v":".ear"},{"$f":"IFERROR(__xludf.DUMMYFUNCTION(\"\"\"COMPUTED_VALUE\"\"\"),\"en\")","v":"en"},null,{"$f":"IFERROR(__xludf.DUMMYFUNCTION(\"\"\"COMPUTED_VALUE\"\"\"),\"http://publications.europa.eu/resource/authority/file-type/TIFF\")","v":"http://publications.europa.eu/resource/authority/file-type/TIFF"},{"$f":"IFERROR(__xludf.DUMMYFUNCTION(\"\"\"COMPUTED_VALUE\"\"\"),\"TIFF\")","v":"TIFF"},{"$f":"IFERROR(__xludf.DUMMYFUNCTION(\"\"\"COMPUTED_VALUE\"\"\"),\"https://www.iana.org/assignments/media-types/image/tiff\")","v":"https://www.iana.org/assignments/media-types/image/tiff"},{"$f":"IFERROR(__xludf.DUMMYFUNCTION(\"\"\"COMPUTED_VALUE\"\"\"),\"TIFF\")","v":"TIFF"},null,{"$f":"IFERROR(__xludf.DUMMYFUNCTION(\"\"\"COMPUTED_VALUE\"\"\"),\".tiff\")","v":".tiff"},{"$f":"IFERROR(__xludf.DUMMYFUNCTION(\"\"\"COMPUTED_VALUE\"\"\"),\"en\")","v":"en"}]
[{"$f":"IFERROR(__xludf.DUMMYFUNCTION(\"\"\"COMPUTED_VALUE\"\"\"),\"http://publications.europa.eu/resource/authority/file-type/ECW\")","v":"http://publications.europa.eu/resource/authority/file-type/ECW"},{"$f":"IFERROR(__xludf.DUMMYFUNCTION(\"\"\"COMPUTED_VALUE\"\"\"),\"ECW\")","v":"ECW"},null,{"$f":"IFERROR(__xludf.DUMMYFUNCTION(\"\"\"COMPUTED_VALUE\"\"\"),\"ECW\")","v":"ECW"},null,{"$f":"IFERROR(__xludf.DUMMYFUNCTION(\"\"\"COMPUTED_VALUE\"\"\"),\".ecw\")","v":".ecw"},{"$f":"IFERROR(__xludf.DUMMYFUNCTION(\"\"\"COMPUTED_VALUE\"\"\"),\"en\")","v":"en"},null,{"$f":"IFERROR(__xludf.DUMMYFUNCTION(\"\"\"COMPUTED_VALUE\"\"\"),\"http://publications.europa.eu/resource/authority/file-type/RDF_TURTLE\")","v":"http://publications.europa.eu/resource/authority/file-type/RDF_TURTLE"},{"$f":"IFERROR(__xludf.DUMMYFUNCTION(\"\"\"COMPUTED_VALUE\"\"\"),\"TTL\")","v":"TTL"},{"$f":"IFERROR(__xludf.DUMMYFUNCTION(\"\"\"COMPUTED_VALUE\"\"\"),\"https://www.iana.org/assignments/media-types/text/turtle\")","v":"https://www.iana.org/assignments/media-types/text/turtle"},{"$f":"IFERROR(__xludf.DUMMYFUNCTION(\"\"\"COMPUTED_VALUE\"\"\"),\"RDF_TURTLE\")","v":"RDF_TURTLE"},null,{"$f":"IFERROR(__xludf.DUMMYFUNCTION(\"\"\"COMPUTED_VALUE\"\"\"),\".ttl\")","v":".ttl"},{"$f":"IFERROR(__xludf.DUMMYFUNCTION(\"\"\"COMPUTED_VALUE\"\"\"),\"en\")","v":"en"}]
[{"$f":"IFERROR(__xludf.DUMMYFUNCTION(\"\"\"COMPUTED_VALUE\"\"\"),\"http://publications.europa.eu/resource/authority/file-type/EFORMS_XML\")","v":"http://publications.europa.eu/resource/authority/file-type/EFORMS_XML"},{"$f":"IFERROR(__xludf.DUMMYFUNCTION(\"\"\"COMPUTED_VALUE\"\"\"),\"EFORMS_XML\")","v":"EFORMS_XML"},null,{"$f":"IFERROR(__xludf.DUMMYFUNCTION(\"\"\"COMPUTED_VALUE\"\"\"),\"EFORMS_XML\")","v":"EFORMS_XML"},null,{"$f":"IFERROR(__xludf.DUMMYFUNCTION(\"\"\"COMPUTED_VALUE\"\"\"),\".xml\")","v":".xml"},{"$f":"IFERROR(__xludf.DUMMYFUNCTION(\"\"\"COMPUTED_VALUE\"\"\"),\"en\")","v":"en"},null,{"$f":"IFERROR(__xludf.DUMMYFUNCTION(\"\"\"COMPUTED_VALUE\"\"\"),\"http://publications.europa.eu/resource/authority/file-type/WFS_SRVC\")","v":"http://publications.europa.eu/resource/authority/file-type/WFS_SRVC"},{"$f":"IFERROR(__xludf.DUMMYFUNCTION(\"\"\"COMPUTED_VALUE\"\"\"),\"WFS\")","v":"WFS"},{"$f":"IFERROR(__xludf.DUMMYFUNCTION(\"\"\"COMPUTED_VALUE\"\"\"),\"http://www.opengis.net/def/serviceType/ogc/wfs\")","v":"http://www.opengis.net/def/serviceType/ogc/wfs"},{"$f":"IFERROR(__xludf.DUMMYFUNCTION(\"\"\"COMPUTED_VALUE\"\"\"),\"WFS_SRVC\")","v":"WFS_SRVC"},null,{"$f":"IFERROR(__xludf.DUMMYFUNCTION(\"\"\"COMPUTED_VALUE\"\"\"),\"-\")","v":"-"},{"$f":"IFERROR(__xludf.DUMMYFUNCTION(\"\"\"COMPUTED_VALUE\"\"\"),\"en\")","v":"en"}]
[{"$f":"IFERROR(__xludf.DUMMYFUNCTION(\"\"\"COMPUTED_VALUE\"\"\"),\"http://publications.europa.eu/resource/authority/file-type/EPS\")","v":"http://publications.europa.eu/resource/authority/file-type/EPS"},{"$f":"IFERROR(__xludf.DUMMYFUNCTION(\"\"\"COMPUTED_VALUE\"\"\"),\"EPS\")","v":"EPS"},null,{"$f":"IFERROR(__xludf.DUMMYFUNCTION(\"\"\"COMPUTED_VALUE\"\"\"),\"EPS\")","v":"EPS"},null,{"$f":"IFERROR(__xludf.DUMMYFUNCTION(\"\"\"COMPUTED_VALUE\"\"\"),\".eps\")","v":".eps"},{"$f":"IFERROR(__xludf.DUMMYFUNCTION(\"\"\"COMPUTED_VALUE\"\"\"),\"en\")","v":"en"},null,{"$f":"IFERROR(__xludf.DUMMYFUNCTION(\"\"\"COMPUTED_VALUE\"\"\"),\"http://publications.europa.eu/resource/authority/file-type/WFS_SRVC\")","v":"http://publications.europa.eu/resource/authority/file-type/WFS_SRVC"},{"$f":"IFERROR(__xludf.DUMMYFUNCTION(\"\"\"COMPUTED_VALUE\"\"\"),\"WFS_SRVC\")","v":"WFS_SRVC"},{"$f":"IFERROR(__xludf.DUMMYFUNCTION(\"\"\"COMPUTED_VALUE\"\"\"),\"http://www.opengis.net/def/serviceType/ogc/wfs\")","v":"http://www.opengis.net/def/serviceType/ogc/wfs"},{"$f":"IFERROR(__xludf.DUMMYFUNCTION(\"\"\"COMPUTED_VALUE\"\"\"),\"WFS_SRVC\")","v":"WFS_SRVC"},null,{"$f":"IFERROR(__xludf.DUMMYFUNCTION(\"\"\"COMPUTED_VALUE\"\"\"),\"-\")","v":"-"},{"$f":"IFERROR(__xludf.DUMMYFUNCTION(\"\"\"COMPUTED_VALUE\"\"\"),\"en\")","v":"en"}]
[{"$f":"IFERROR(__xludf.DUMMYFUNCTION(\"\"\"COMPUTED_VALUE\"\"\"),\"http://publications.europa.eu/resource/authority/file-type/EPUB\")","v":"http://publications.europa.eu/resource/authority/file-type/EPUB"},{"$f":"IFERROR(__xludf.DUMMYFUNCTION(\"\"\"COMPUTED_VALUE\"\"\"),\"EPUB\")","v":"EPUB"},{"$f":"IFERROR(__xludf.DUMMYFUNCTION(\"\"\"COMPUTED_VALUE\"\"\"),\"https://www.iana.org/assignments/media-types/application/epub+zip\")","v":"https://www.iana.org/assignments/media-types/application/epub+zip"},{"$f":"IFERROR(__xludf.DUMMYFUNCTION(\"\"\"COMPUTED_VALUE\"\"\"),\"EPUB\")","v":"EPUB"},null,{"$f":"IFERROR(__xludf.DUMMYFUNCTION(\"\"\"COMPUTED_VALUE\"\"\"),\".epub\")","v":".epub"},{"$f":"IFERROR(__xludf.DUMMYFUNCTION(\"\"\"COMPUTED_VALUE\"\"\"),\"en\")","v":"en"},null,null,{"$f":"IFERROR(__xludf.DUMMYFUNCTION(\"\"\"COMPUTED_VALUE\"\"\"),\"WFS-G\")","v":"WFS-G"},{"$f":"IFERROR(__xludf.DUMMYFUNCTION(\"\"\"COMPUTED_VALUE\"\"\"),\"http://www.opengeospatial.org/standards/wfs-g\")","v":"http://www.opengeospatial.org/standards/wfs-g"},{"$f":"IFERROR(__xludf.DUMMYFUNCTION(\"\"\"COMPUTED_VALUE\"\"\"),\"WFS-G\")","v":"WFS-G"},null,null,{"$f":"IFERROR(__xludf.DUMMYFUNCTION(\"\"\"COMPUTED_VALUE\"\"\"),\"en\")","v":"en"}]
[null,null,null,null,null,null,null,null,{"$f":"IFERROR(__xludf.DUMMYFUNCTION(\"\"\"COMPUTED_VALUE\"\"\"),\"http://publications.europa.eu/resource/authority/file-type/WIM\")","v":"http://publications.europa.eu/resource/authority/file-type/WIM"},{"$f":"IFERROR(__xludf.DUMMYFUNCTION(\"\"\"COMPUTED_VALUE\"\"\"),\"WIM\")","v":"WIM"},null,{"$f":"IFERROR(__xludf.DUMMYFUNCTION(\"\"\"COMPUTED_VALUE\"\"\"),\"WIM\")","v":"WIM"},null,{"$f":"IFERROR(__xludf.DUMMYFUNCTION(\"\"\"COMPUTED_VALUE\"\"\"),\".swm\")","v":".swm"},{"$f":"IFERROR(__xludf.DUMMYFUNCTION(\"\"\"COMPUTED_VALUE\"\"\"),\"en\")","v":"en"}]
[{"$f":"IFERROR(__xludf.DUMMYFUNCTION(\"\"\"COMPUTED_VALUE\"\"\"),\"http://publications.europa.eu/resource/authority/file-type/ETSI_XML\")","v":"http://publications.europa.eu/resource/authority/file-type/ETSI_XML"},{"$f":"IFERROR(__xludf.DUMMYFUNCTION(\"\"\"COMPUTED_VALUE\"\"\"),\"ETSI_XML\")","v":"ETSI_XML"},null,{"$f":"IFERROR(__xludf.DUMMYFUNCTION(\"\"\"COMPUTED_VALUE\"\"\"),\"ETSI_XML\")","v":"ETSI_XML"},null,{"$f":"IFERROR(__xludf.DUMMYFUNCTION(\"\"\"COMPUTED_VALUE\"\"\"),\".xml\")","v":".xml"},{"$f":"IFERROR(__xludf.DUMMYFUNCTION(\"\"\"COMPUTED_VALUE\"\"\"),\"en\")","v":"en"},null,{"$f":"IFERROR(__xludf.DUMMYFUNCTION(\"\"\"COMPUTED_VALUE\"\"\"),\"http://publications.europa.eu/resource/authority/file-type/WMS_SRVC\")","v":"http://publications.europa.eu/resource/authority/file-type/WMS_SRVC"},{"$f":"IFERROR(__xludf.DUMMYFUNCTION(\"\"\"COMPUTED_VALUE\"\"\"),\"WMS\")","v":"WMS"},{"$f":"IFERROR(__xludf.DUMMYFUNCTION(\"\"\"COMPUTED_VALUE\"\"\"),\"http://www.opengis.net/def/serviceType/ogc/wms\")","v":"http://www.opengis.net/def/serviceType/ogc/wms"},{"$f":"IFERROR(__xludf.DUMMYFUNCTION(\"\"\"COMPUTED_VALUE\"\"\"),\"WMS_SRVC\")","v":"WMS_SRVC"},null,{"$f":"IFERROR(__xludf.DUMMYFUNCTION(\"\"\"COMPUTED_VALUE\"\"\"),\"-\")","v":"-"},{"$f":"IFERROR(__xludf.DUMMYFUNCTION(\"\"\"COMPUTED_VALUE\"\"\"),\"en\")","v":"en"}]
[{"$f":"IFERROR(__xludf.DUMMYFUNCTION(\"\"\"COMPUTED_VALUE\"\"\"),\"http://publications.europa.eu/resource/authority/file-type/EXE\")","v":"http://publications.europa.eu/resource/authority/file-type/EXE"},{"$f":"IFERROR(__xludf.DUMMYFUNCTION(\"\"\"COMPUTED_VALUE\"\"\"),\"EXE\")","v":"EXE"},{"$f":"IFERROR(__xludf.DUMMYFUNCTION(\"\"\"COMPUTED_VALUE\"\"\"),\"https://www.iana.org/assignments/media-types/application/vnd.microsoft.portable-executable\")","v":"https://www.iana.org/assignments/media-types/application/vnd.microsoft.portable-executable"},{"$f":"IFERROR(__xludf.DUMMYFUNCTION(\"\"\"COMPUTED_VALUE\"\"\"),\"EXE\")","v":"EXE"},null,{"$f":"IFERROR(__xludf.DUMMYFUNCTION(\"\"\"COMPUTED_VALUE\"\"\"),\".exe\")","v":".exe"},{"$f":"IFERROR(__xludf.DUMMYFUNCTION(\"\"\"COMPUTED_VALUE\"\"\"),\"en\")","v":"en"},null,{"$f":"IFERROR(__xludf.DUMMYFUNCTION(\"\"\"COMPUTED_VALUE\"\"\"),\"http://publications.europa.eu/resource/authority/file-type/WMS_SRVC\")","v":"http://publications.europa.eu/resource/authority/file-type/WMS_SRVC"},{"$f":"IFERROR(__xludf.DUMMYFUNCTION(\"\"\"COMPUTED_VALUE\"\"\"),\"WMS_SRVC\")","v":"WMS_SRVC"},{"$f":"IFERROR(__xludf.DUMMYFUNCTION(\"\"\"COMPUTED_VALUE\"\"\"),\"http://www.opengis.net/def/serviceType/ogc/wms\")","v":"http://www.opengis.net/def/serviceType/ogc/wms"},{"$f":"IFERROR(__xludf.DUMMYFUNCTION(\"\"\"COMPUTED_VALUE\"\"\"),\"WMS_SRVC\")","v":"WMS_SRVC"},null,{"$f":"IFERROR(__xludf.DUMMYFUNCTION(\"\"\"COMPUTED_VALUE\"\"\"),\"-\")","v":"-"},{"$f":"IFERROR(__xludf.DUMMYFUNCTION(\"\"\"COMPUTED_VALUE\"\"\"),\"en\")","v":"en"}]
[null,{"$f":"IFERROR(__xludf.DUMMYFUNCTION(\"\"\"COMPUTED_VALUE\"\"\"),\"FDSNWS-EVENT\")","v":"FDSNWS-EVENT"},{"$f":"IFERROR(__xludf.DUMMYFUNCTION(\"\"\"COMPUTED_VALUE\"\"\"),\"http://service.iris.edu/fdsnws/event/1/\")","v":"http://service.iris.edu/fdsnws/event/1/"},{"$f":"IFERROR(__xludf.DUMMYFUNCTION(\"\"\"COMPUTED_VALUE\"\"\"),\"FDSNWS-EVENT\")","v":"FDSNWS-EVENT"},null,null,{"$f":"IFERROR(__xludf.DUMMYFUNCTION(\"\"\"COMPUTED_VALUE\"\"\"),\"en\")","v":"en"},null,null,{"$f":"IFERROR(__xludf.DUMMYFUNCTION(\"\"\"COMPUTED_VALUE\"\"\"),\"WMS-C\")","v":"WMS-C"},{"$f":"IFERROR(__xludf.DUMMYFUNCTION(\"\"\"COMPUTED_VALUE\"\"\"),\"http://www.opengis.net/def/serviceType/ogc/wms\")","v":"http://www.opengis.net/def/serviceType/ogc/wms"},{"$f":"IFERROR(__xludf.DUMMYFUNCTION(\"\"\"COMPUTED_VALUE\"\"\"),\"WMS-C\")","v":"WMS-C"},null,null,{"$f":"IFERROR(__xludf.DUMMYFUNCTION(\"\"\"COMPUTED_VALUE\"\"\"),\"en\")","v":"en"}]
[null,{"$f":"IFERROR(__xludf.DUMMYFUNCTION(\"\"\"COMPUTED_VALUE\"\"\"),\"FILE\")","v":"FILE"},null,{"$f":"IFERROR(__xludf.DUMMYFUNCTION(\"\"\"COMPUTED_VALUE\"\"\"),\"FILE\")","v":"FILE"},null,null,{"$f":"IFERROR(__xludf.DUMMYFUNCTION(\"\"\"COMPUTED_VALUE\"\"\"),\"en\")","v":"en"},null,{"$f":"IFERROR(__xludf.DUMMYFUNCTION(\"\"\"COMPUTED_VALUE\"\"\"),\"http://publications.europa.eu/resource/authority/file-type/WMTS_SRVC\")","v":"http://publications.europa.eu/resource/authority/file-type/WMTS_SRVC"},{"$f":"IFERROR(__xludf.DUMMYFUNCTION(\"\"\"COMPUTED_VALUE\"\"\"),\"WMTS\")","v":"WMTS"},{"$f":"IFERROR(__xludf.DUMMYFUNCTION(\"\"\"COMPUTED_VALUE\"\"\"),\"http://www.opengeospatial.org/standards/wmts\")","v":"http://www.opengeospatial.org/standards/wmts"},{"$f":"IFERROR(__xludf.DUMMYFUNCTION(\"\"\"COMPUTED_VALUE\"\"\"),\"WMTS_SRVC\")","v":"WMTS_SRVC"},null,{"$f":"IFERROR(__xludf.DUMMYFUNCTION(\"\"\"COMPUTED_VALUE\"\"\"),\"-\")","v":"-"},{"$f":"IFERROR(__xludf.DUMMYFUNCTION(\"\"\"COMPUTED_VALUE\"\"\"),\"en\")","v":"en"}]
[{"$f":"IFERROR(__xludf.DUMMYFUNCTION(\"\"\"COMPUTED_VALUE\"\"\"),\"http://publications.europa.eu/resource/authority/file-type/FMX2\")","v":"http://publications.europa.eu/resource/authority/file-type/FMX2"},{"$f":"IFERROR(__xludf.DUMMYFUNCTION(\"\"\"COMPUTED_VALUE\"\"\"),\"FMX2\")","v":"FMX2"},null,{"$f":"IFERROR(__xludf.DUMMYFUNCTION(\"\"\"COMPUTED_VALUE\"\"\"),\"FMX2\")","v":"FMX2"},null,{"$f":"IFERROR(__xludf.DUMMYFUNCTION(\"\"\"COMPUTED_VALUE\"\"\"),\".xml\")","v":".xml"},{"$f":"IFERROR(__xludf.DUMMYFUNCTION(\"\"\"COMPUTED_VALUE\"\"\"),\"en\")","v":"en"},null,{"$f":"IFERROR(__xludf.DUMMYFUNCTION(\"\"\"COMPUTED_VALUE\"\"\"),\"http://publications.europa.eu/resource/authority/file-type/WMTS_SRVC\")","v":"http://publications.europa.eu/resource/authority/file-type/WMTS_SRVC"},{"$f":"IFERROR(__xludf.DUMMYFUNCTION(\"\"\"COMPUTED_VALUE\"\"\"),\"WMTS_SRVC\")","v":"WMTS_SRVC"},{"$f":"IFERROR(__xludf.DUMMYFUNCTION(\"\"\"COMPUTED_VALUE\"\"\"),\"http://www.opengeospatial.org/standards/wmts\")","v":"http://www.opengeospatial.org/standards/wmts"},{"$f":"IFERROR(__xludf.DUMMYFUNCTION(\"\"\"COMPUTED_VALUE\"\"\"),\"WMTS_SRVC\")","v":"WMTS_SRVC"},null,{"$f":"IFERROR(__xludf.DUMMYFUNCTION(\"\"\"COMPUTED_VALUE\"\"\"),\"-\")","v":"-"},{"$f":"IFERROR(__xludf.DUMMYFUNCTION(\"\"\"COMPUTED_VALUE\"\"\"),\"en\")","v":"en"}]
[{"$f":"IFERROR(__xludf.DUMMYFUNCTION(\"\"\"COMPUTED_VALUE\"\"\"),\"http://publications.europa.eu/resource/authority/file-type/FMX3\")","v":"http://publications.europa.eu/resource/authority/file-type/FMX3"},{"$f":"IFERROR(__xludf.DUMMYFUNCTION(\"\"\"COMPUTED_VALUE\"\"\"),\"FMX3\")","v":"FMX3"},null,{"$f":"IFERROR(__xludf.DUMMYFUNCTION(\"\"\"COMPUTED_VALUE\"\"\"),\"FMX3\")","v":"FMX3"},null,{"$f":"IFERROR(__xludf.DUMMYFUNCTION(\"\"\"COMPUTED_VALUE\"\"\"),\".xml\")","v":".xml"},{"$f":"IFERROR(__xludf.DUMMYFUNCTION(\"\"\"COMPUTED_VALUE\"\"\"),\"en\")","v":"en"},null,null,{"$f":"IFERROR(__xludf.DUMMYFUNCTION(\"\"\"COMPUTED_VALUE\"\"\"),\"WPS\")","v":"WPS"},{"$f":"IFERROR(__xludf.DUMMYFUNCTION(\"\"\"COMPUTED_VALUE\"\"\"),\"http://www.opengis.net/def/serviceType/ogc/wps\")","v":"http://www.opengis.net/def/serviceType/ogc/wps"},{"$f":"IFERROR(__xludf.DUMMYFUNCTION(\"\"\"COMPUTED_VALUE\"\"\"),\"WPS\")","v":"WPS"},null,null,{"$f":"IFERROR(__xludf.DUMMYFUNCTION(\"\"\"COMPUTED_VALUE\"\"\"),\"en\")","v":"en"}]
[{"$f":"IFERROR(__xludf.DUMMYFUNCTION(\"\"\"COMPUTED_VALUE\"\"\"),\"http://publications.europa.eu/resource/authority/file-type/FMX4\")","v":"http://publications.europa.eu/resource/authority/file-type/FMX4"},{"$f":"IFERROR(__xludf.DUMMYFUNCTION(\"\"\"COMPUTED_VALUE\"\"\"),\"FMX4\")","v":"FMX4"},null,{"$f":"IFERROR(__xludf.DUMMYFUNCTION(\"\"\"COMPUTED_VALUE\"\"\"),\"FMX4\")","v":"FMX4"},null,{"$f":"IFERROR(__xludf.DUMMYFUNCTION(\"\"\"COMPUTED_VALUE\"\"\"),\".xml\")","v":".xml"},{"$f":"IFERROR(__xludf.DUMMYFUNCTION(\"\"\"COMPUTED_VALUE\"\"\"),\"en\")","v":"en"},null,{"$f":"IFERROR(__xludf.DUMMYFUNCTION(\"\"\"COMPUTED_VALUE\"\"\"),\"http://publications.europa.eu/resource/authority/file-type/XLS\")","v":"http://publications.europa.eu/resource/authority/file-type/XLS"},{"$f":"IFERROR(__xludf.DUMMYFUNCTION(\"\"\"COMPUTED_VALUE\"\"\"),\"XLS\")","v":"XLS"},{"$f":"IFERROR(__xludf.DUMMYFUNCTION(\"\"\"COMPUTED_VALUE\"\"\"),\"https://www.iana.org/assignments/media-types/application/vnd.ms-excel\")","v":"https://www.iana.org/assignments/media-types/application/vnd.ms-excel"},{"$f":"IFERROR(__xludf.DUMMYFUNCTION(\"\"\"COMPUTED_VALUE\"\"\"),\"XLS\")","v":"XLS"},null,{"$f":"IFERROR(__xludf.DUMMYFUNCTION(\"\"\"COMPUTED_VALUE\"\"\"),\".xls\")","v":".xls"},{"$f":"IFERROR(__xludf.DUMMYFUNCTION(\"\"\"COMPUTED_VALUE\"\"\"),\"en\")","v":"en"}]
[{"$f":"IFERROR(__xludf.DUMMYFUNCTION(\"\"\"COMPUTED_VALUE\"\"\"),\"http://publications.europa.eu/resource/authority/file-type/FMX4_ZIP\")","v":"http://publications.europa.eu/resource/authority/file-type/FMX4_ZIP"},{"$f":"IFERROR(__xludf.DUMMYFUNCTION(\"\"\"COMPUTED_VALUE\"\"\"),\"FMX4_ZIP\")","v":"FMX4_ZIP"},null,{"$f":"IFERROR(__xludf.DUMMYFUNCTION(\"\"\"COMPUTED_VALUE\"\"\"),\"FMX4_ZIP\")","v":"FMX4_ZIP"},null,{"$f":"IFERROR(__xludf.DUMMYFUNCTION(\"\"\"COMPUTED_VALUE\"\"\"),\".zip\")","v":".zip"},{"$f":"IFERROR(__xludf.DUMMYFUNCTION(\"\"\"COMPUTED_VALUE\"\"\"),\"en\")","v":"en"},null,{"$f":"IFERROR(__xludf.DUMMYFUNCTION(\"\"\"COMPUTED_VALUE\"\"\"),\"http://publications.europa.eu/resource/authority/file-type/XML\")","v":"http://publications.europa.eu/resource/authority/file-type/XML"},{"$f":"IFERROR(__xludf.DUMMYFUNCTION(\"\"\"COMPUTED_VALUE\"\"\"),\"XML\")","v":"XML"},{"$f":"IFERROR(__xludf.DUMMYFUNCTION(\"\"\"COMPUTED_VALUE\"\"\"),\"https://www.iana.org/assignments/media-types/text/xml\")","v":"https://www.iana.org/assignments/media-types/text/xml"},{"$f":"IFERROR(__xludf.DUMMYFUNCTION(\"\"\"COMPUTED_VALUE\"\"\"),\"XML\")","v":"XML"},null,{"$f":"IFERROR(__xludf.DUMMYFUNCTION(\"\"\"COMPUTED_VALUE\"\"\"),\".xml\")","v":".xml"},{"$f":"IFERROR(__xludf.DUMMYFUNCTION(\"\"\"COMPUTED_VALUE\"\"\"),\"en\")","v":"en"}]
[null,{"$f":"IFERROR(__xludf.DUMMYFUNCTION(\"\"\"COMPUTED_VALUE\"\"\"),\"FTP\")","v":"FTP"},{"$f":"IFERROR(__xludf.DUMMYFUNCTION(\"\"\"COMPUTED_VALUE\"\"\"),\"https://tools.ietf.org/html/rfc959\")","v":"https://tools.ietf.org/html/rfc959"},{"$f":"IFERROR(__xludf.DUMMYFUNCTION(\"\"\"COMPUTED_VALUE\"\"\"),\"FTP\")","v":"FTP"},null,null,{"$f":"IFERROR(__xludf.DUMMYFUNCTION(\"\"\"COMPUTED_VALUE\"\"\"),\"en\")","v":"en"}]
[null,{"$f":"IFERROR(__xludf.DUMMYFUNCTION(\"\"\"COMPUTED_VALUE\"\"\"),\"FUSION-TABLES\")","v":"FUSION-TABLES"},{"$f":"IFERROR(__xludf.DUMMYFUNCTION(\"\"\"COMPUTED_VALUE\"\"\"),\"http://google.com/fusiontables\")","v":"http://google.com/fusiontables"},{"$f":"IFERROR(__xludf.DUMMYFUNCTION(\"\"\"COMPUTED_VALUE\"\"\"),\"FUSION-TABLES\")","v":"FUSION-TABLES"},null,null,{"$f":"IFERROR(__xludf.DUMMYFUNCTION(\"\"\"COMPUTED_VALUE\"\"\"),\"en\")","v":"en"}]
[null,{"$f":"IFERROR(__xludf.DUMMYFUNCTION(\"\"\"COMPUTED_VALUE\"\"\"),\"GCS\")","v":"GCS"},{"$f":"IFERROR(__xludf.DUMMYFUNCTION(\"\"\"COMPUTED_VALUE\"\"\"),\"https://cloud.google.com/storage/\")","v":"https://cloud.google.com/storage/"},{"$f":"IFERROR(__xludf.DUMMYFUNCTION(\"\"\"COMPUTED_VALUE\"\"\"),\"GCS\")","v":"GCS"},null,null,{"$f":"IFERROR(__xludf.DUMMYFUNCTION(\"\"\"COMPUTED_VALUE\"\"\"),\"en\")","v":"en"}]
[{"$f":"IFERROR(__xludf.DUMMYFUNCTION(\"\"\"COMPUTED_VALUE\"\"\"),\"http://publications.europa.eu/resource/authority/file-type/GDB\")","v":"http://publications.europa.eu/resource/authority/file-type/GDB"},{"$f":"IFERROR(__xludf.DUMMYFUNCTION(\"\"\"COMPUTED_VALUE\"\"\"),\"GDB\")","v":"GDB"},null,{"$f":"IFERROR(__xludf.DUMMYFUNCTION(\"\"\"COMPUTED_VALUE\"\"\"),\"GDB\")","v":"GDB"},null,{"$f":"IFERROR(__xludf.DUMMYFUNCTION(\"\"\"COMPUTED_VALUE\"\"\"),\".gdb\")","v":".gdb"},{"$f":"IFERROR(__xludf.DUMMYFUNCTION(\"\"\"COMPUTED_VALUE\"\"\"),\"en\")","v":"en"}]
[null,{"$f":"IFERROR(__xludf.DUMMYFUNCTION(\"\"\"COMPUTED_VALUE\"\"\"),\"GEO\")","v":"GEO"},null,{"$f":"IFERROR(__xludf.DUMMYFUNCTION(\"\"\"COMPUTED_VALUE\"\"\"),\"GEO\")","v":"GEO"},null,null,{"$f":"IFERROR(__xludf.DUMMYFUNCTION(\"\"\"COMPUTED_VALUE\"\"\"),\"en\")","v":"en"}]
[null,{"$f":"IFERROR(__xludf.DUMMYFUNCTION(\"\"\"COMPUTED_VALUE\"\"\"),\"GEOGIGG\")","v":"GEOGIGG"},{"$f":"IFERROR(__xludf.DUMMYFUNCTION(\"\"\"COMPUTED_VALUE\"\"\"),\"http://geogig.org\")","v":"http://geogig.org"},{"$f":"IFERROR(__xludf.DUMMYFUNCTION(\"\"\"COMPUTED_VALUE\"\"\"),\"GEOGIGG\")","v":"GEOGIGG"},null,null,{"$f":"IFERROR(__xludf.DUMMYFUNCTION(\"\"\"COMPUTED_VALUE\"\"\"),\"en\")","v":"en"}]
[{"$f":"IFERROR(__xludf.DUMMYFUNCTION(\"\"\"COMPUTED_VALUE\"\"\"),\"http://publications.europa.eu/resource/authority/file-type/GEOJSON\")","v":"http://publications.europa.eu/resource/authority/file-type/GEOJSON"},{"$f":"IFERROR(__xludf.DUMMYFUNCTION(\"\"\"COMPUTED_VALUE\"\"\"),\"GEOJSON\")","v":"GEOJSON"},{"$f":"IFERROR(__xludf.DUMMYFUNCTION(\"\"\"COMPUTED_VALUE\"\"\"),\"https://www.iana.org/assignments/media-types/application/geo+json\")","v":"https://www.iana.org/assignments/media-types/application/geo+json"},{"$f":"IFERROR(__xludf.DUMMYFUNCTION(\"\"\"COMPUTED_VALUE\"\"\"),\"GEOJSON\")","v":"GEOJSON"},null,{"$f":"IFERROR(__xludf.DUMMYFUNCTION(\"\"\"COMPUTED_VALUE\"\"\"),\".json\")","v":".json"},{"$f":"IFERROR(__xludf.DUMMYFUNCTION(\"\"\"COMPUTED_VALUE\"\"\"),\"en\")","v":"en"}]
[{"$f":"IFERROR(__xludf.DUMMYFUNCTION(\"\"\"COMPUTED_VALUE\"\"\"),\"http://publications.europa.eu/resource/authority/file-type/GEOTIFF\")","v":"http://publications.europa.eu/resource/authority/file-type/GEOTIFF"},{"$f":"IFERROR(__xludf.DUMMYFUNCTION(\"\"\"COMPUTED_VALUE\"\"\"),\"GEOTIFF\")","v":"GEOTIFF"},null,{"$f":"IFERROR(__xludf.DUMMYFUNCTION(\"\"\"COMPUTED_VALUE\"\"\"),\"GEOTIFF\")","v":"GEOTIFF"},null,{"$f":"IFERROR(__xludf.DUMMYFUNCTION(\"\"\"COMPUTED_VALUE\"\"\"),\".tiff\")","v":".tiff"},{"$f":"IFERROR(__xludf.DUMMYFUNCTION(\"\"\"COMPUTED_VALUE\"\"\"),\"en\")","v":"en"}]
[{"$f":"IFERROR(__xludf.DUMMYFUNCTION(\"\"\"COMPUTED_VALUE\"\"\"),\"http://publications.europa.eu/resource/authority/file-type/GIF\")","v":"http://publications.europa.eu/resource/authority/file-type/GIF"},{"$f":"IFERROR(__xludf.DUMMYFUNCTION(\"\"\"COMPUTED_VALUE\"\"\"),\"GIF\")","v":"GIF"},null,{"$f":"IFERROR(__xludf.DUMMYFUNCTION(\"\"\"COMPUTED_VALUE\"\"\"),\"GIF\")","v":"GIF"},null,{"$f":"IFERROR(__xludf.DUMMYFUNCTION(\"\"\"COMPUTED_VALUE\"\"\"),\".gif\")","v":".gif"},{"$f":"IFERROR(__xludf.DUMMYFUNCTION(\"\"\"COMPUTED_VALUE\"\"\"),\"en\")","v":"en"}]
[null,{"$f":"IFERROR(__xludf.DUMMYFUNCTION(\"\"\"COMPUTED_VALUE\"\"\"),\"GIT\")","v":"GIT"},{"$f":"IFERROR(__xludf.DUMMYFUNCTION(\"\"\"COMPUTED_VALUE\"\"\"),\"http://git-scm.com/\")","v":"http://git-scm.com/"},{"$f":"IFERROR(__xludf.DUMMYFUNCTION(\"\"\"COMPUTED_VALUE\"\"\"),\"GIT\")","v":"GIT"},null,null,{"$f":"IFERROR(__xludf.DUMMYFUNCTION(\"\"\"COMPUTED_VALUE\"\"\"),\"en\")","v":"en"}]
[{"$f":"IFERROR(__xludf.DUMMYFUNCTION(\"\"\"COMPUTED_VALUE\"\"\"),\"http://publications.europa.eu/resource/authority/file-type/GML\")","v":"http://publications.europa.eu/resource/authority/file-type/GML"},{"$f":"IFERROR(__xludf.DUMMYFUNCTION(\"\"\"COMPUTED_VALUE\"\"\"),\"GML\")","v":"GML"},{"$f":"IFERROR(__xludf.DUMMYFUNCTION(\"\"\"COMPUTED_VALUE\"\"\"),\"https://www.iana.org/assignments/media-types/application/gml+xml\")","v":"https://www.iana.org/assignments/media-types/application/gml+xml"},{"$f":"IFERROR(__xludf.DUMMYFUNCTION(\"\"\"COMPUTED_VALUE\"\"\"),\"GML\")","v":"GML"},null,{"$f":"IFERROR(__xludf.DUMMYFUNCTION(\"\"\"COMPUTED_VALUE\"\"\"),\".gml .xml\")","v":".gml .xml"},{"$f":"IFERROR(__xludf.DUMMYFUNCTION(\"\"\"COMPUTED_VALUE\"\"\"),\"en\")","v":"en"}]
[{"$f":"IFERROR(__xludf.DUMMYFUNCTION(\"\"\"COMPUTED_VALUE\"\"\"),\"http://publications.europa.eu/resource/authority/file-type/GMZ\")","v":"http://publications.europa.eu/resource/authority/file-type/GMZ"},{"$f":"IFERROR(__xludf.DUMMYFUNCTION(\"\"\"COMPUTED_VALUE\"\"\"),\"GMZ\")","v":"GMZ"},null,{"$f":"IFERROR(__xludf.DUMMYFUNCTION(\"\"\"COMPUTED_VALUE\"\"\"),\"GMZ\")","v":"GMZ"},null,{"$f":"IFERROR(__xludf.DUMMYFUNCTION(\"\"\"COMPUTED_VALUE\"\"\"),\".gmz\")","v":".gmz"},{"$f":"IFERROR(__xludf.DUMMYFUNCTION(\"\"\"COMPUTED_VALUE\"\"\"),\"en\")","v":"en"}]
[{"$f":"IFERROR(__xludf.DUMMYFUNCTION(\"\"\"COMPUTED_VALUE\"\"\"),\"http://publications.europa.eu/resource/authority/file-type/GPKG\")","v":"http://publications.europa.eu/resource/authority/file-type/GPKG"},{"$f":"IFERROR(__xludf.DUMMYFUNCTION(\"\"\"COMPUTED_VALUE\"\"\"),\"GPKG\")","v":"GPKG"},{"$f":"IFERROR(__xludf.DUMMYFUNCTION(\"\"\"COMPUTED_VALUE\"\"\"),\"https://www.iana.org/assignments/media-types/application/geopackage+sqlite3\")","v":"https://www.iana.org/assignments/media-types/application/geopackage+sqlite3"},{"$f":"IFERROR(__xludf.DUMMYFUNCTION(\"\"\"COMPUTED_VALUE\"\"\"),\"GPKG\")","v":"GPKG"},null,{"$f":"IFERROR(__xludf.DUMMYFUNCTION(\"\"\"COMPUTED_VALUE\"\"\"),\".gpkg\")","v":".gpkg"},{"$f":"IFERROR(__xludf.DUMMYFUNCTION(\"\"\"COMPUTED_VALUE\"\"\"),\"en\")","v":"en"}]
[{"$f":"IFERROR(__xludf.DUMMYFUNCTION(\"\"\"COMPUTED_VALUE\"\"\"),\"http://publications.europa.eu/resource/authority/file-type/GRID\")","v":"http://publications.europa.eu/resource/authority/file-type/GRID"},{"$f":"IFERROR(__xludf.DUMMYFUNCTION(\"\"\"COMPUTED_VALUE\"\"\"),\"GRID\")","v":"GRID"},{"$f":"IFERROR(__xludf.DUMMYFUNCTION(\"\"\"COMPUTED_VALUE\"\"\"),\"https://www.iana.org/assignments/media-types/application/vnd.gridmp\")","v":"https://www.iana.org/assignments/media-types/application/vnd.gridmp"},{"$f":"IFERROR(__xludf.DUMMYFUNCTION(\"\"\"COMPUTED_VALUE\"\"\"),\"GRID\")","v":"GRID"},null,{"$f":"IFERROR(__xludf.DUMMYFUNCTION(\"\"\"COMPUTED_VALUE\"\"\"),\"-\")","v":"-"},{"$f":"IFERROR(__xludf.DUMMYFUNCTION(\"\"\"COMPUTED_VALUE\"\"\"),\"en\")","v":"en"}]
[{"$f":"IFERROR(__xludf.DUMMYFUNCTION(\"\"\"COMPUTED_VALUE\"\"\"),\"http://publications.europa.eu/resource/authority/file-type/GRID_ASCII\")","v":"http://publications.europa.eu/resource/authority/file-type/GRID_ASCII"},{"$f":"IFERROR(__xludf.DUMMYFUNCTION(\"\"\"COMPUTED_VALUE\"\"\"),\"GRID_ASCII\")","v":"GRID_ASCII"},null,{"$f":"IFERROR(__xludf.DUMMYFUNCTION(\"\"\"COMPUTED_VALUE\"\"\"),\"GRID_ASCII\")","v":"GRID_ASCII"},null,{"$f":"IFERROR(__xludf.DUMMYFUNCTION(\"\"\"COMPUTED_VALUE\"\"\"),\".asc\")","v":".asc"},{"$f":"IFERROR(__xludf.DUMMYFUNCTION(\"\"\"COMPUTED_VALUE\"\"\"),\"en\")","v":"en"}]
[null,{"$f":"IFERROR(__xludf.DUMMYFUNCTION(\"\"\"COMPUTED_VALUE\"\"\"),\"GRIDDAP\")","v":"GRIDDAP"},{"$f":"IFERROR(__xludf.DUMMYFUNCTION(\"\"\"COMPUTED_VALUE\"\"\"),\"http://coastwatch.pfeg.noaa.gov/erddap/griddap/documentation.html\")","v":"http://coastwatch.pfeg.noaa.gov/erddap/griddap/documentation.html"},{"$f":"IFERROR(__xludf.DUMMYFUNCTION(\"\"\"COMPUTED_VALUE\"\"\"),\"GRIDDAP\")","v":"GRIDDAP"},null,null,{"$f":"IFERROR(__xludf.DUMMYFUNCTION(\"\"\"COMPUTED_VALUE\"\"\"),\"en\")","v":"en"}]
[{"$f":"IFERROR(__xludf.DUMMYFUNCTION(\"\"\"COMPUTED_VALUE\"\"\"),\"http://publications.europa.eu/resource/authority/file-type/GTFS\")","v":"http://publications.europa.eu/resource/authority/file-type/GTFS"},{"$f":"IFERROR(__xludf.DUMMYFUNCTION(\"\"\"COMPUTED_VALUE\"\"\"),\"GTFS\")","v":"GTFS"},null,{"$f":"IFERROR(__xludf.DUMMYFUNCTION(\"\"\"COMPUTED_VALUE\"\"\"),\"GTFS\")","v":"GTFS"},null,{"$f":"IFERROR(__xludf.DUMMYFUNCTION(\"\"\"COMPUTED_VALUE\"\"\"),\".zip\")","v":".zip"},{"$f":"IFERROR(__xludf.DUMMYFUNCTION(\"\"\"COMPUTED_VALUE\"\"\"),\"en\")","v":"en"}]
[{"$f":"IFERROR(__xludf.DUMMYFUNCTION(\"\"\"COMPUTED_VALUE\"\"\"),\"http://publications.europa.eu/resource/authority/file-type/GZIP\")","v":"http://publications.europa.eu/resource/authority/file-type/GZIP"},{"$f":"IFERROR(__xludf.DUMMYFUNCTION(\"\"\"COMPUTED_VALUE\"\"\"),\"GZIP\")","v":"GZIP"},{"$f":"IFERROR(__xludf.DUMMYFUNCTION(\"\"\"COMPUTED_VALUE\"\"\"),\"https://www.iana.org/assignments/media-types/application/gzip\")","v":"https://www.iana.org/assignments/media-types/application/gzip"},{"$f":"IFERROR(__xludf.DUMMYFUNCTION(\"\"\"COMPUTED_VALUE\"\"\"),\"GZIP\")","v":"GZIP"},null,{"$f":"IFERROR(__xludf.DUMMYFUNCTION(\"\"\"COMPUTED_VALUE\"\"\"),\".gz\")","v":".gz"},{"$f":"IFERROR(__xludf.DUMMYFUNCTION(\"\"\"COMPUTED_VALUE\"\"\"),\"en\")","v":"en"}]
[{"$f":"IFERROR(__xludf.DUMMYFUNCTION(\"\"\"COMPUTED_VALUE\"\"\"),\"http://publications.europa.eu/resource/authority/file-type/HDF\")","v":"http://publications.europa.eu/resource/authority/file-type/HDF"},{"$f":"IFERROR(__xludf.DUMMYFUNCTION(\"\"\"COMPUTED_VALUE\"\"\"),\"HDF\")","v":"HDF"},null,{"$f":"IFERROR(__xludf.DUMMYFUNCTION(\"\"\"COMPUTED_VALUE\"\"\"),\"HDF\")","v":"HDF"},null,{"$f":"IFERROR(__xludf.DUMMYFUNCTION(\"\"\"COMPUTED_VALUE\"\"\"),\".hdf\")","v":".hdf"},{"$f":"IFERROR(__xludf.DUMMYFUNCTION(\"\"\"COMPUTED_VALUE\"\"\"),\"en\")","v":"en"}]
[{"$f":"IFERROR(__xludf.DUMMYFUNCTION(\"\"\"COMPUTED_VALUE\"\"\"),\"http://publications.europa.eu/resource/authority/file-type/HDT\")","v":"http://publications.europa.eu/resource/authority/file-type/HDT"},{"$f":"IFERROR(__xludf.DUMMYFUNCTION(\"\"\"COMPUTED_VALUE\"\"\"),\"HDT\")","v":"HDT"},{"$f":"IFERROR(__xludf.DUMMYFUNCTION(\"\"\"COMPUTED_VALUE\"\"\"),\"https://www.iana.org/assignments/media-types/application/vnd.hdt\")","v":"https://www.iana.org/assignments/media-types/application/vnd.hdt"},{"$f":"IFERROR(__xludf.DUMMYFUNCTION(\"\"\"COMPUTED_VALUE\"\"\"),\"HDT\")","v":"HDT"},null,{"$f":"IFERROR(__xludf.DUMMYFUNCTION(\"\"\"COMPUTED_VALUE\"\"\"),\".hdt\")","v":".hdt"},{"$f":"IFERROR(__xludf.DUMMYFUNCTION(\"\"\"COMPUTED_VALUE\"\"\"),\"en\")","v":"en"}]
[{"$f":"IFERROR(__xludf.DUMMYFUNCTION(\"\"\"COMPUTED_VALUE\"\"\"),\"http://publications.europa.eu/resource/authority/file-type/HTML\")","v":"http://publications.europa.eu/resource/authority/file-type/HTML"},{"$f":"IFERROR(__xludf.DUMMYFUNCTION(\"\"\"COMPUTED_VALUE\"\"\"),\"HTML\")","v":"HTML"},{"$f":"IFERROR(__xludf.DUMMYFUNCTION(\"\"\"COMPUTED_VALUE\"\"\"),\"https://www.iana.org/assignments/media-types/text/html\")","v":"https://www.iana.org/assignments/media-types/text/html"},{"$f":"IFERROR(__xludf.DUMMYFUNCTION(\"\"\"COMPUTED_VALUE\"\"\"),\"HTML\")","v":"HTML"},null,{"$f":"IFERROR(__xludf.DUMMYFUNCTION(\"\"\"COMPUTED_VALUE\"\"\"),\".html\")","v":".html"},{"$f":"IFERROR(__xludf.DUMMYFUNCTION(\"\"\"COMPUTED_VALUE\"\"\"),\"en\")","v":"en"}]
[{"$f":"IFERROR(__xludf.DUMMYFUNCTION(\"\"\"COMPUTED_VALUE\"\"\"),\"http://publications.europa.eu/resource/authority/file-type/HTML_SIMPL\")","v":"http://publications.europa.eu/resource/authority/file-type/HTML_SIMPL"},{"$f":"IFERROR(__xludf.DUMMYFUNCTION(\"\"\"COMPUTED_VALUE\"\"\"),\"HTML_SIMPL\")","v":"HTML_SIMPL"},null,{"$f":"IFERROR(__xludf.DUMMYFUNCTION(\"\"\"COMPUTED_VALUE\"\"\"),\"HTML_SIMPL\")","v":"HTML_SIMPL"},null,{"$f":"IFERROR(__xludf.DUMMYFUNCTION(\"\"\"COMPUTED_VALUE\"\"\"),\".html\")","v":".html"},{"$f":"IFERROR(__xludf.DUMMYFUNCTION(\"\"\"COMPUTED_VALUE\"\"\"),\"en\")","v":"en"}]
[{"$f":"IFERROR(__xludf.DUMMYFUNCTION(\"\"\"COMPUTED_VALUE\"\"\"),\"http://publications.europa.eu/resource/authority/file-type/HTML5\")","v":"http://publications.europa.eu/resource/authority/file-type/HTML5"},{"$f":"IFERROR(__xludf.DUMMYFUNCTION(\"\"\"COMPUTED_VALUE\"\"\"),\"HTML5\")","v":"HTML5"},null,{"$f":"IFERROR(__xludf.DUMMYFUNCTION(\"\"\"COMPUTED_VALUE\"\"\"),\"HTML5\")","v":"HTML5"},null,{"$f":"IFERROR(__xludf.DUMMYFUNCTION(\"\"\"COMPUTED_VALUE\"\"\"),\".html\")","v":".html"},{"$f":"IFERROR(__xludf.DUMMYFUNCTION(\"\"\"COMPUTED_VALUE\"\"\"),\"en\")","v":"en"}]
[null,{"$f":"IFERROR(__xludf.DUMMYFUNCTION(\"\"\"COMPUTED_VALUE\"\"\"),\"HTTPS\")","v":"HTTPS"},{"$f":"IFERROR(__xludf.DUMMYFUNCTION(\"\"\"COMPUTED_VALUE\"\"\"),\"https://www.ietf.org/rfc/rfc2616\")","v":"https://www.ietf.org/rfc/rfc2616"},{"$f":"IFERROR(__xludf.DUMMYFUNCTION(\"\"\"COMPUTED_VALUE\"\"\"),\"HTTPS\")","v":"HTTPS"},null,null,{"$f":"IFERROR(__xludf.DUMMYFUNCTION(\"\"\"COMPUTED_VALUE\"\"\"),\"en\")","v":"en"}]
[null,{"$f":"IFERROR(__xludf.DUMMYFUNCTION(\"\"\"COMPUTED_VALUE\"\"\"),\"HYRAX\")","v":"HYRAX"},null,{"$f":"IFERROR(__xludf.DUMMYFUNCTION(\"\"\"COMPUTED_VALUE\"\"\"),\"HYRAX\")","v":"HYRAX"},null,null,{"$f":"IFERROR(__xludf.DUMMYFUNCTION(\"\"\"COMPUTED_VALUE\"\"\"),\"en\")","v":"en"}]
[{"$f":"IFERROR(__xludf.DUMMYFUNCTION(\"\"\"COMPUTED_VALUE\"\"\"),\"http://publications.europa.eu/resource/authority/file-type/ICS\")","v":"http://publications.europa.eu/resource/authority/file-type/ICS"},{"$f":"IFERROR(__xludf.DUMMYFUNCTION(\"\"\"COMPUTED_VALUE\"\"\"),\"ICS\")","v":"ICS"},null,{"$f":"IFERROR(__xludf.DUMMYFUNCTION(\"\"\"COMPUTED_VALUE\"\"\"),\"ICS\")","v":"ICS"},null,{"$f":"IFERROR(__xludf.DUMMYFUNCTION(\"\"\"COMPUTED_VALUE\"\"\"),\".ical\")","v":".ical"},{"$f":"IFERROR(__xludf.DUMMYFUNCTION(\"\"\"COMPUTED_VALUE\"\"\"),\"en\")","v":"en"}]
[null,{"$f":"IFERROR(__xludf.DUMMYFUNCTION(\"\"\"COMPUTED_VALUE\"\"\"),\"IMAGE\")","v":"IMAGE"},{"$f":"IFERROR(__xludf.DUMMYFUNCTION(\"\"\"COMPUTED_VALUE\"\"\"),\"http://iiif.io/api/image\")","v":"http://iiif.io/api/image"},{"$f":"IFERROR(__xludf.DUMMYFUNCTION(\"\"\"COMPUTED_VALUE\"\"\"),\"IMAGE\")","v":"IMAGE"},null,null,{"$f":"IFERROR(__xludf.DUMMYFUNCTION(\"\"\"COMPUTED_VALUE\"\"\"),\"en\")","v":"en"}]
[{"$f":"IFERROR(__xludf.DUMMYFUNCTION(\"\"\"COMPUTED_VALUE\"\"\"),\"http://publications.europa.eu/resource/authority/file-type/IMMC_XML\")","v":"http://publications.europa.eu/resource/authority/file-type/IMMC_XML"},{"$f":"IFERROR(__xludf.DUMMYFUNCTION(\"\"\"COMPUTED_VALUE\"\"\"),\"IMMC_XML\")","v":"IMMC_XML"},null,{"$f":"IFERROR(__xludf.DUMMYFUNCTION(\"\"\"COMPUTED_VALUE\"\"\"),\"IMMC_XML\")","v":"IMMC_XML"},null,{"$f":"IFERROR(__xludf.DUMMYFUNCTION(\"\"\"COMPUTED_VALUE\"\"\"),\"_immc.xml\")","v":"_immc.xml"},{"$f":"IFERROR(__xludf.DUMMYFUNCTION(\"\"\"COMPUTED_VALUE\"\"\"),\"en\")","v":"en"}]
[{"$f":"IFERROR(__xludf.DUMMYFUNCTION(\"\"\"COMPUTED_VALUE\"\"\"),\"http://publications.europa.eu/resource/authority/file-type/INDD\")","v":"http://publications.europa.eu/resource/authority/file-type/INDD"},{"$f":"IFERROR(__xludf.DUMMYFUNCTION(\"\"\"COMPUTED_VALUE\"\"\"),\"INDD\")","v":"INDD"},null,{"$f":"IFERROR(__xludf.DUMMYFUNCTION(\"\"\"COMPUTED_VALUE\"\"\"),\"INDD\")","v":"INDD"},null,{"$f":"IFERROR(__xludf.DUMMYFUNCTION(\"\"\"COMPUTED_VALUE\"\"\"),\".indd\")","v":".indd"},{"$f":"IFERROR(__xludf.DUMMYFUNCTION(\"\"\"COMPUTED_VALUE\"\"\"),\"en\")","v":"en"}]
[null,{"$f":"IFERROR(__xludf.DUMMYFUNCTION(\"\"\"COMPUTED_VALUE\"\"\"),\"INFORMATION\")","v":"INFORMATION"},null,{"$f":"IFERROR(__xludf.DUMMYFUNCTION(\"\"\"COMPUTED_VALUE\"\"\"),\"INFORMATION\")","v":"INFORMATION"},null,null,{"$f":"IFERROR(__xludf.DUMMYFUNCTION(\"\"\"COMPUTED_VALUE\"\"\"),\"en\")","v":"en"}]
[null,{"$f":"IFERROR(__xludf.DUMMYFUNCTION(\"\"\"COMPUTED_VALUE\"\"\"),\"IOT\")","v":"IOT"},{"$f":"IFERROR(__xludf.DUMMYFUNCTION(\"\"\"COMPUTED_VALUE\"\"\"),\"http://www.ogcnetwork.net/IoT\")","v":"http://www.ogcnetwork.net/IoT"},{"$f":"IFERROR(__xludf.DUMMYFUNCTION(\"\"\"COMPUTED_VALUE\"\"\"),\"IOT\")","v":"IOT"},null,null,{"$f":"IFERROR(__xludf.DUMMYFUNCTION(\"\"\"COMPUTED_VALUE\"\"\"),\"en\")","v":"en"}]
[{"$f":"IFERROR(__xludf.DUMMYFUNCTION(\"\"\"COMPUTED_VALUE\"\"\"),\"http://publications.europa.eu/resource/authority/file-type/IPA\")","v":"http://publications.europa.eu/resource/authority/file-type/IPA"},{"$f":"IFERROR(__xludf.DUMMYFUNCTION(\"\"\"COMPUTED_VALUE\"\"\"),\"IPA\")","v":"IPA"},null,{"$f":"IFERROR(__xludf.DUMMYFUNCTION(\"\"\"COMPUTED_VALUE\"\"\"),\"IPA\")","v":"IPA"},null,{"$f":"IFERROR(__xludf.DUMMYFUNCTION(\"\"\"COMPUTED_VALUE\"\"\"),\".ipa\")","v":".ipa"},{"$f":"IFERROR(__xludf.DUMMYFUNCTION(\"\"\"COMPUTED_VALUE\"\"\"),\"en\")","v":"en"}]
[{"$f":"IFERROR(__xludf.DUMMYFUNCTION(\"\"\"COMPUTED_VALUE\"\"\"),\"http://publications.europa.eu/resource/authority/file-type/ISO\")","v":"http://publications.europa.eu/resource/authority/file-type/ISO"},{"$f":"IFERROR(__xludf.DUMMYFUNCTION(\"\"\"COMPUTED_VALUE\"\"\"),\"ISO\")","v":"ISO"},{"$f":"IFERROR(__xludf.DUMMYFUNCTION(\"\"\"COMPUTED_VALUE\"\"\"),\"https://www.iana.org/assignments/media-types/application/vnd.efi.iso\")","v":"https://www.iana.org/assignments/media-types/application/vnd.efi.iso"},{"$f":"IFERROR(__xludf.DUMMYFUNCTION(\"\"\"COMPUTED_VALUE\"\"\"),\"ISO\")","v":"ISO"},null,{"$f":"IFERROR(__xludf.DUMMYFUNCTION(\"\"\"COMPUTED_VALUE\"\"\"),\".iso\")","v":".iso"},{"$f":"IFERROR(__xludf.DUMMYFUNCTION(\"\"\"COMPUTED_VALUE\"\"\"),\"en\")","v":"en"}]
[{"$f":"IFERROR(__xludf.DUMMYFUNCTION(\"\"\"COMPUTED_VALUE\"\"\"),\"http://publications.europa.eu/resource/authority/file-type/ISO_ZIP\")","v":"http://publications.europa.eu/resource/authority/file-type/ISO_ZIP"},{"$f":"IFERROR(__xludf.DUMMYFUNCTION(\"\"\"COMPUTED_VALUE\"\"\"),\"ISO_ZIP\")","v":"ISO_ZIP"},null,{"$f":"IFERROR(__xludf.DUMMYFUNCTION(\"\"\"COMPUTED_VALUE\"\"\"),\"ISO_ZIP\")","v":"ISO_ZIP"},null,{"$f":"IFERROR(__xludf.DUMMYFUNCTION(\"\"\"COMPUTED_VALUE\"\"\"),\".zip\")","v":".zip"},{"$f":"IFERROR(__xludf.DUMMYFUNCTION(\"\"\"COMPUTED_VALUE\"\"\"),\"en\")","v":"en"}]
[null,{"$f":"IFERROR(__xludf.DUMMYFUNCTION(\"\"\"COMPUTED_VALUE\"\"\"),\"ISO-USGIN\")","v":"ISO-USGIN"},null,{"$f":"IFERROR(__xludf.DUMMYFUNCTION(\"\"\"COMPUTED_VALUE\"\"\"),\"ISO-USGIN\")","v":"ISO-USGIN"},null,null,{"$f":"IFERROR(__xludf.DUMMYFUNCTION(\"\"\"COMPUTED_VALUE\"\"\"),\"en\")","v":"en"}]
[null,{"$f":"IFERROR(__xludf.DUMMYFUNCTION(\"\"\"COMPUTED_VALUE\"\"\"),\"ISO-USGIN-1.3\")","v":"ISO-USGIN-1.3"},null,{"$f":"IFERROR(__xludf.DUMMYFUNCTION(\"\"\"COMPUTED_VALUE\"\"\"),\"ISO-USGIN-1.3\")","v":"ISO-USGIN-1.3"},null,null,{"$f":"IFERROR(__xludf.DUMMYFUNCTION(\"\"\"COMPUTED_VALUE\"\"\"),\"en\")","v":"en"}]
[null,{"$f":"IFERROR(__xludf.DUMMYFUNCTION(\"\"\"COMPUTED_VALUE\"\"\"),\"ISO19115\")","v":"ISO19115"},null,{"$f":"IFERROR(__xludf.DUMMYFUNCTION(\"\"\"COMPUTED_VALUE\"\"\"),\"ISO19115\")","v":"ISO19115"},null,null,{"$f":"IFERROR(__xludf.DUMMYFUNCTION(\"\"\"COMPUTED_VALUE\"\"\"),\"en\")","v":"en"}]
[{"$f":"IFERROR(__xludf.DUMMYFUNCTION(\"\"\"COMPUTED_VALUE\"\"\"),\"http://publications.europa.eu/resource/authority/file-type/JAR\")","v":"http://publications.europa.eu/resource/authority/file-type/JAR"},{"$f":"IFERROR(__xludf.DUMMYFUNCTION(\"\"\"COMPUTED_VALUE\"\"\"),\"JAR\")","v":"JAR"},null,{"$f":"IFERROR(__xludf.DUMMYFUNCTION(\"\"\"COMPUTED_VALUE\"\"\"),\"JAR\")","v":"JAR"},null,{"$f":"IFERROR(__xludf.DUMMYFUNCTION(\"\"\"COMPUTED_VALUE\"\"\"),\".jar\")","v":".jar"},{"$f":"IFERROR(__xludf.DUMMYFUNCTION(\"\"\"COMPUTED_VALUE\"\"\"),\"en\")","v":"en"}]
[{"$f":"IFERROR(__xludf.DUMMYFUNCTION(\"\"\"COMPUTED_VALUE\"\"\"),\"http://publications.europa.eu/resource/authority/file-type/JATS\")","v":"http://publications.europa.eu/resource/authority/file-type/JATS"},{"$f":"IFERROR(__xludf.DUMMYFUNCTION(\"\"\"COMPUTED_VALUE\"\"\"),\"JATS\")","v":"JATS"},null,{"$f":"IFERROR(__xludf.DUMMYFUNCTION(\"\"\"COMPUTED_VALUE\"\"\"),\"JATS\")","v":"JATS"},null,{"$f":"IFERROR(__xludf.DUMMYFUNCTION(\"\"\"COMPUTED_VALUE\"\"\"),\".xml\")","v":".xml"},{"$f":"IFERROR(__xludf.DUMMYFUNCTION(\"\"\"COMPUTED_VALUE\"\"\"),\"en\")","v":"en"}]
[null,{"$f":"IFERROR(__xludf.DUMMYFUNCTION(\"\"\"COMPUTED_VALUE\"\"\"),\"JOINS\")","v":"JOINS"},{"$f":"IFERROR(__xludf.DUMMYFUNCTION(\"\"\"COMPUTED_VALUE\"\"\"),\"http://www.opengis.net/def/interface/ogcapi-joins\")","v":"http://www.opengis.net/def/interface/ogcapi-joins"},{"$f":"IFERROR(__xludf.DUMMYFUNCTION(\"\"\"COMPUTED_VALUE\"\"\"),\"JOINS\")","v":"JOINS"},null,null,{"$f":"IFERROR(__xludf.DUMMYFUNCTION(\"\"\"COMPUTED_VALUE\"\"\"),\"en\")","v":"en"}]
[{"$f":"IFERROR(__xludf.DUMMYFUNCTION(\"\"\"COMPUTED_VALUE\"\"\"),\"http://publications.europa.eu/resource/authority/file-type/JPEG\")","v":"http://publications.europa.eu/resource/authority/file-type/JPEG"},{"$f":"IFERROR(__xludf.DUMMYFUNCTION(\"\"\"COMPUTED_VALUE\"\"\"),\"JPEG\")","v":"JPEG"},null,{"$f":"IFERROR(__xludf.DUMMYFUNCTION(\"\"\"COMPUTED_VALUE\"\"\"),\"JPEG\")","v":"JPEG"},null,{"$f":"IFERROR(__xludf.DUMMYFUNCTION(\"\"\"COMPUTED_VALUE\"\"\"),\".jpeg\")","v":".jpeg"},{"$f":"IFERROR(__xludf.DUMMYFUNCTION(\"\"\"COMPUTED_VALUE\"\"\"),\"en\")","v":"en"}]
[{"$f":"IFERROR(__xludf.DUMMYFUNCTION(\"\"\"COMPUTED_VALUE\"\"\"),\"http://publications.europa.eu/resource/authority/file-type/JPEG2000\")","v":"http://publications.europa.eu/resource/authority/file-type/JPEG2000"},{"$f":"IFERROR(__xludf.DUMMYFUNCTION(\"\"\"COMPUTED_VALUE\"\"\"),\"JPEG2000\")","v":"JPEG2000"},null,{"$f":"IFERROR(__xludf.DUMMYFUNCTION(\"\"\"COMPUTED_VALUE\"\"\"),\"JPEG2000\")","v":"JPEG2000"},null,{"$f":"IFERROR(__xludf.DUMMYFUNCTION(\"\"\"COMPUTED_VALUE\"\"\"),\".jp2\")","v":".jp2"},{"$f":"IFERROR(__xludf.DUMMYFUNCTION(\"\"\"COMPUTED_VALUE\"\"\"),\"en\")","v":"en"}]
[{"$f":"IFERROR(__xludf.DUMMYFUNCTION(\"\"\"COMPUTED_VALUE\"\"\"),\"http://publications.europa.eu/resource/authority/file-type/JS\")","v":"http://publications.europa.eu/resource/authority/file-type/JS"},{"$f":"IFERROR(__xludf.DUMMYFUNCTION(\"\"\"COMPUTED_VALUE\"\"\"),\"JS\")","v":"JS"},{"$f":"IFERROR(__xludf.DUMMYFUNCTION(\"\"\"COMPUTED_VALUE\"\"\"),\"https://www.iana.org/assignments/media-types/application/javascript\")","v":"https://www.iana.org/assignments/media-types/application/javascript"},{"$f":"IFERROR(__xludf.DUMMYFUNCTION(\"\"\"COMPUTED_VALUE\"\"\"),\"JS\")","v":"JS"},null,{"$f":"IFERROR(__xludf.DUMMYFUNCTION(\"\"\"COMPUTED_VALUE\"\"\"),\".js\")","v":".js"},{"$f":"IFERROR(__xludf.DUMMYFUNCTION(\"\"\"COMPUTED_VALUE\"\"\"),\"en\")","v":"en"}]
[{"$f":"IFERROR(__xludf.DUMMYFUNCTION(\"\"\"COMPUTED_VALUE\"\"\"),\"http://publications.europa.eu/resource/authority/file-type/JSON\")","v":"http://publications.europa.eu/resource/authority/file-type/JSON"},{"$f":"IFERROR(__xludf.DUMMYFUNCTION(\"\"\"COMPUTED_VALUE\"\"\"),\"JSON\")","v":"JSON"},{"$f":"IFERROR(__xludf.DUMMYFUNCTION(\"\"\"COMPUTED_VALUE\"\"\"),\"https://www.iana.org/assignments/media-types/application/json\")","v":"https://www.iana.org/assignments/media-types/application/json"},{"$f":"IFERROR(__xludf.DUMMYFUNCTION(\"\"\"COMPUTED_VALUE\"\"\"),\"JSON\")","v":"JSON"},null,{"$f":"IFERROR(__xludf.DUMMYFUNCTION(\"\"\"COMPUTED_VALUE\"\"\"),\".json\")","v":".json"},{"$f":"IFERROR(__xludf.DUMMYFUNCTION(\"\"\"COMPUTED_VALUE\"\"\"),\"en\")","v":"en"}]
[{"$f":"IFERROR(__xludf.DUMMYFUNCTION(\"\"\"COMPUTED_VALUE\"\"\"),\"http://publications.europa.eu/resource/authority/file-type/JSON_LD\")","v":"http://publications.europa.eu/resource/authority/file-type/JSON_LD"},{"$f":"IFERROR(__xludf.DUMMYFUNCTION(\"\"\"COMPUTED_VALUE\"\"\"),\"JSON_LD\")","v":"JSON_LD"},{"$f":"IFERROR(__xludf.DUMMYFUNCTION(\"\"\"COMPUTED_VALUE\"\"\"),\"https://www.iana.org/assignments/media-types/application/ld+json\")","v":"https://www.iana.org/assignments/media-types/application/ld+json"},{"$f":"IFERROR(__xludf.DUMMYFUNCTION(\"\"\"COMPUTED_VALUE\"\"\"),\"JSON_LD\")","v":"JSON_LD"},null,{"$f":"IFERROR(__xludf.DUMMYFUNCTION(\"\"\"COMPUTED_VALUE\"\"\"),\".jsonld\")","v":".jsonld"},{"$f":"IFERROR(__xludf.DUMMYFUNCTION(\"\"\"COMPUTED_VALUE\"\"\"),\"en\")","v":"en"}]
[{"$f":"IFERROR(__xludf.DUMMYFUNCTION(\"\"\"COMPUTED_VALUE\"\"\"),\"http://publications.europa.eu/resource/authority/file-type/KML\")","v":"http://publications.europa.eu/resource/authority/file-type/KML"},{"$f":"IFERROR(__xludf.DUMMYFUNCTION(\"\"\"COMPUTED_VALUE\"\"\"),\"KML\")","v":"KML"},{"$f":"IFERROR(__xludf.DUMMYFUNCTION(\"\"\"COMPUTED_VALUE\"\"\"),\"https://www.iana.org/assignments/media-types/application/vnd.google-earth.kml+xml\")","v":"https://www.iana.org/assignments/media-types/application/vnd.google-earth.kml+xml"},{"$f":"IFERROR(__xludf.DUMMYFUNCTION(\"\"\"COMPUTED_VALUE\"\"\"),\"KML\")","v":"KML"},null,{"$f":"IFERROR(__xludf.DUMMYFUNCTION(\"\"\"COMPUTED_VALUE\"\"\"),\".kml\")","v":".kml"},{"$f":"IFERROR(__xludf.DUMMYFUNCTION(\"\"\"COMPUTED_VALUE\"\"\"),\"en\")","v":"en"}]
[{"$f":"IFERROR(__xludf.DUMMYFUNCTION(\"\"\"COMPUTED_VALUE\"\"\"),\"http://publications.europa.eu/resource/authority/file-type/KMZ\")","v":"http://publications.europa.eu/resource/authority/file-type/KMZ"},{"$f":"IFERROR(__xludf.DUMMYFUNCTION(\"\"\"COMPUTED_VALUE\"\"\"),\"KMZ\")","v":"KMZ"},{"$f":"IFERROR(__xludf.DUMMYFUNCTION(\"\"\"COMPUTED_VALUE\"\"\"),\"https://www.iana.org/assignments/media-types/application/vnd.google-earth.kmz\")","v":"https://www.iana.org/assignments/media-types/application/vnd.google-earth.kmz"},{"$f":"IFERROR(__xludf.DUMMYFUNCTION(\"\"\"COMPUTED_VALUE\"\"\"),\"KMZ\")","v":"KMZ"},null,{"$f":"IFERROR(__xludf.DUMMYFUNCTION(\"\"\"COMPUTED_VALUE\"\"\"),\".kmz\")","v":".kmz"},{"$f":"IFERROR(__xludf.DUMMYFUNCTION(\"\"\"COMPUTED_VALUE\"\"\"),\"en\")","v":"en"}]
[{"$f":"IFERROR(__xludf.DUMMYFUNCTION(\"\"\"COMPUTED_VALUE\"\"\"),\"http://publications.europa.eu/resource/authority/file-type/LAS\")","v":"http://publications.europa.eu/resource/authority/file-type/LAS"},{"$f":"IFERROR(__xludf.DUMMYFUNCTION(\"\"\"COMPUTED_VALUE\"\"\"),\"LAS\")","v":"LAS"},{"$f":"IFERROR(__xludf.DUMMYFUNCTION(\"\"\"COMPUTED_VALUE\"\"\"),\"https://www.iana.org/assignments/media-types/application/vnd.las\")","v":"https://www.iana.org/assignments/media-types/application/vnd.las"},{"$f":"IFERROR(__xludf.DUMMYFUNCTION(\"\"\"COMPUTED_VALUE\"\"\"),\"LAS\")","v":"LAS"},null,{"$f":"IFERROR(__xludf.DUMMYFUNCTION(\"\"\"COMPUTED_VALUE\"\"\"),\".las\")","v":".las"},{"$f":"IFERROR(__xludf.DUMMYFUNCTION(\"\"\"COMPUTED_VALUE\"\"\"),\"en\")","v":"en"}]
[{"$f":"IFERROR(__xludf.DUMMYFUNCTION(\"\"\"COMPUTED_VALUE\"\"\"),\"http://publications.europa.eu/resource/authority/file-type/LAZ\")","v":"http://publications.europa.eu/resource/authority/file-type/LAZ"},{"$f":"IFERROR(__xludf.DUMMYFUNCTION(\"\"\"COMPUTED_VALUE\"\"\"),\"LAZ\")","v":"LAZ"},{"$f":"IFERROR(__xludf.DUMMYFUNCTION(\"\"\"COMPUTED_VALUE\"\"\"),\"https://www.iana.org/assignments/media-types/application/vnd.laszip\")","v":"https://www.iana.org/assignments/media-types/application/vnd.laszip"},{"$f":"IFERROR(__xludf.DUMMYFUNCTION(\"\"\"COMPUTED_VALUE\"\"\"),\"LAZ\")","v":"LAZ"},null,{"$f":"IFERROR(__xludf.DUMMYFUNCTION(\"\"\"COMPUTED_VALUE\"\"\"),\".laz\")","v":".laz"},{"$f":"IFERROR(__xludf.DUMMYFUNCTION(\"\"\"COMPUTED_VALUE\"\"\"),\"en\")","v":"en"}]
[{"$f":"IFERROR(__xludf.DUMMYFUNCTION(\"\"\"COMPUTED_VALUE\"\"\"),\"http://publications.europa.eu/resource/authority/file-type/LEG\")","v":"http://publications.europa.eu/resource/authority/file-type/LEG"},{"$f":"IFERROR(__xludf.DUMMYFUNCTION(\"\"\"COMPUTED_VALUE\"\"\"),\"LEG\")","v":"LEG"},null,{"$f":"IFERROR(__xludf.DUMMYFUNCTION(\"\"\"COMPUTED_VALUE\"\"\"),\"LEG\")","v":"LEG"},null,{"$f":"IFERROR(__xludf.DUMMYFUNCTION(\"\"\"COMPUTED_VALUE\"\"\"),\".leg\")","v":".leg"},{"$f":"IFERROR(__xludf.DUMMYFUNCTION(\"\"\"COMPUTED_VALUE\"\"\"),\"en\")","v":"en"}]
[{"$f":"IFERROR(__xludf.DUMMYFUNCTION(\"\"\"COMPUTED_VALUE\"\"\"),\"http://publications.europa.eu/resource/authority/file-type/LHA\")","v":"http://publications.europa.eu/resource/authority/file-type/LHA"},{"$f":"IFERROR(__xludf.DUMMYFUNCTION(\"\"\"COMPUTED_VALUE\"\"\"),\"LHA\")","v":"LHA"},null,{"$f":"IFERROR(__xludf.DUMMYFUNCTION(\"\"\"COMPUTED_VALUE\"\"\"),\"LHA\")","v":"LHA"},null,{"$f":"IFERROR(__xludf.DUMMYFUNCTION(\"\"\"COMPUTED_VALUE\"\"\"),\".lzh\")","v":".lzh"},{"$f":"IFERROR(__xludf.DUMMYFUNCTION(\"\"\"COMPUTED_VALUE\"\"\"),\"en\")","v":"en"}]
[null,{"$f":"IFERROR(__xludf.DUMMYFUNCTION(\"\"\"COMPUTED_VALUE\"\"\"),\"LINK\")","v":"LINK"},{"$f":"IFERROR(__xludf.DUMMYFUNCTION(\"\"\"COMPUTED_VALUE\"\"\"),\"http://www.w3.org/TR/xlink/\")","v":"http://www.w3.org/TR/xlink/"},{"$f":"IFERROR(__xludf.DUMMYFUNCTION(\"\"\"COMPUTED_VALUE\"\"\"),\"LINK\")","v":"LINK"},null,null,{"$f":"IFERROR(__xludf.DUMMYFUNCTION(\"\"\"COMPUTED_VALUE\"\"\"),\"en\")","v":"en"}]
[{"$f":"IFERROR(__xludf.DUMMYFUNCTION(\"\"\"COMPUTED_VALUE\"\"\"),\"http://publications.europa.eu/resource/authority/file-type/LPK\")","v":"http://publications.europa.eu/resource/authority/file-type/LPK"},{"$f":"IFERROR(__xludf.DUMMYFUNCTION(\"\"\"COMPUTED_VALUE\"\"\"),\"LPK\")","v":"LPK"},null,{"$f":"IFERROR(__xludf.DUMMYFUNCTION(\"\"\"COMPUTED_VALUE\"\"\"),\"LPK\")","v":"LPK"},null,{"$f":"IFERROR(__xludf.DUMMYFUNCTION(\"\"\"COMPUTED_VALUE\"\"\"),\".lpk\")","v":".lpk"},{"$f":"IFERROR(__xludf.DUMMYFUNCTION(\"\"\"COMPUTED_VALUE\"\"\"),\"en\")","v":"en"}]
[{"$f":"IFERROR(__xludf.DUMMYFUNCTION(\"\"\"COMPUTED_VALUE\"\"\"),\"http://publications.europa.eu/resource/authority/file-type/LZIP\")","v":"http://publications.europa.eu/resource/authority/file-type/LZIP"},{"$f":"IFERROR(__xludf.DUMMYFUNCTION(\"\"\"COMPUTED_VALUE\"\"\"),\"LZIP\")","v":"LZIP"},null,{"$f":"IFERROR(__xludf.DUMMYFUNCTION(\"\"\"COMPUTED_VALUE\"\"\"),\"LZIP\")","v":"LZIP"},null,{"$f":"IFERROR(__xludf.DUMMYFUNCTION(\"\"\"COMPUTED_VALUE\"\"\"),\".lz\")","v":".lz"},{"$f":"IFERROR(__xludf.DUMMYFUNCTION(\"\"\"COMPUTED_VALUE\"\"\"),\"en\")","v":"en"}]
[{"$f":"IFERROR(__xludf.DUMMYFUNCTION(\"\"\"COMPUTED_VALUE\"\"\"),\"http://publications.europa.eu/resource/authority/file-type/LZMA\")","v":"http://publications.europa.eu/resource/authority/file-type/LZMA"},{"$f":"IFERROR(__xludf.DUMMYFUNCTION(\"\"\"COMPUTED_VALUE\"\"\"),\"LZMA\")","v":"LZMA"},null,{"$f":"IFERROR(__xludf.DUMMYFUNCTION(\"\"\"COMPUTED_VALUE\"\"\"),\"LZMA\")","v":"LZMA"},null,{"$f":"IFERROR(__xludf.DUMMYFUNCTION(\"\"\"COMPUTED_VALUE\"\"\"),\".lzma\")","v":".lzma"},{"$f":"IFERROR(__xludf.DUMMYFUNCTION(\"\"\"COMPUTED_VALUE\"\"\"),\"en\")","v":"en"}]
[{"$f":"IFERROR(__xludf.DUMMYFUNCTION(\"\"\"COMPUTED_VALUE\"\"\"),\"http://publications.europa.eu/resource/authority/file-type/LZO\")","v":"http://publications.europa.eu/resource/authority/file-type/LZO"},{"$f":"IFERROR(__xludf.DUMMYFUNCTION(\"\"\"COMPUTED_VALUE\"\"\"),\"LZO\")","v":"LZO"},null,{"$f":"IFERROR(__xludf.DUMMYFUNCTION(\"\"\"COMPUTED_VALUE\"\"\"),\"LZO\")","v":"LZO"},null,{"$f":"IFERROR(__xludf.DUMMYFUNCTION(\"\"\"COMPUTED_VALUE\"\"\"),\".lzo\")","v":".lzo"},{"$f":"IFERROR(__xludf.DUMMYFUNCTION(\"\"\"COMPUTED_VALUE\"\"\"),\"en\")","v":"en"}]
[{"$f":"IFERROR(__xludf.DUMMYFUNCTION(\"\"\"COMPUTED_VALUE\"\"\"),\"http://publications.europa.eu/resource/authority/file-type/MAP_SRVC\")","v":"http://publications.europa.eu/resource/authority/file-type/MAP_SRVC"},{"$f":"IFERROR(__xludf.DUMMYFUNCTION(\"\"\"COMPUTED_VALUE\"\"\"),\"MAP\")","v":"MAP"},null,{"$f":"IFERROR(__xludf.DUMMYFUNCTION(\"\"\"COMPUTED_VALUE\"\"\"),\"MAP_SRVC\")","v":"MAP_SRVC"},null,{"$f":"IFERROR(__xludf.DUMMYFUNCTION(\"\"\"COMPUTED_VALUE\"\"\"),\"-\")","v":"-"},{"$f":"IFERROR(__xludf.DUMMYFUNCTION(\"\"\"COMPUTED_VALUE\"\"\"),\"en\")","v":"en"}]
[{"$f":"IFERROR(__xludf.DUMMYFUNCTION(\"\"\"COMPUTED_VALUE\"\"\"),\"http://publications.europa.eu/resource/authority/file-type/MAP_PRVW\")","v":"http://publications.europa.eu/resource/authority/file-type/MAP_PRVW"},{"$f":"IFERROR(__xludf.DUMMYFUNCTION(\"\"\"COMPUTED_VALUE\"\"\"),\"MAP_PRVW\")","v":"MAP_PRVW"},null,{"$f":"IFERROR(__xludf.DUMMYFUNCTION(\"\"\"COMPUTED_VALUE\"\"\"),\"MAP_PRVW\")","v":"MAP_PRVW"},null,{"$f":"IFERROR(__xludf.DUMMYFUNCTION(\"\"\"COMPUTED_VALUE\"\"\"),\"-\")","v":"-"},{"$f":"IFERROR(__xludf.DUMMYFUNCTION(\"\"\"COMPUTED_VALUE\"\"\"),\"en\")","v":"en"}]
[{"$f":"IFERROR(__xludf.DUMMYFUNCTION(\"\"\"COMPUTED_VALUE\"\"\"),\"http://publications.europa.eu/resource/authority/file-type/MAP_SRVC\")","v":"http://publications.europa.eu/resource/authority/file-type/MAP_SRVC"},{"$f":"IFERROR(__xludf.DUMMYFUNCTION(\"\"\"COMPUTED_VALUE\"\"\"),\"MAP_SRVC\")","v":"MAP_SRVC"},null,{"$f":"IFERROR(__xludf.DUMMYFUNCTION(\"\"\"COMPUTED_VALUE\"\"\"),\"MAP_SRVC\")","v":"MAP_SRVC"},null,{"$f":"IFERROR(__xludf.DUMMYFUNCTION(\"\"\"COMPUTED_VALUE\"\"\"),\"-\")","v":"-"},{"$f":"IFERROR(__xludf.DUMMYFUNCTION(\"\"\"COMPUTED_VALUE\"\"\"),\"en\")","v":"en"}]
[{"$f":"IFERROR(__xludf.DUMMYFUNCTION(\"\"\"COMPUTED_VALUE\"\"\"),\"http://publications.europa.eu/resource/authority/file-type/MBOX\")","v":"http://publications.europa.eu/resource/authority/file-type/MBOX"},{"$f":"IFERROR(__xludf.DUMMYFUNCTION(\"\"\"COMPUTED_VALUE\"\"\"),\"MBOX\")","v":"MBOX"},{"$f":"IFERROR(__xludf.DUMMYFUNCTION(\"\"\"COMPUTED_VALUE\"\"\"),\"https://www.iana.org/assignments/media-types/application/mbox\")","v":"https://www.iana.org/assignments/media-types/application/mbox"},{"$f":"IFERROR(__xludf.DUMMYFUNCTION(\"\"\"COMPUTED_VALUE\"\"\"),\"MBOX\")","v":"MBOX"},null,{"$f":"IFERROR(__xludf.DUMMYFUNCTION(\"\"\"COMPUTED_VALUE\"\"\"),\".mbox\")","v":".mbox"},{"$f":"IFERROR(__xludf.DUMMYFUNCTION(\"\"\"COMPUTED_VALUE\"\"\"),\"en\")","v":"en"}]
[{"$f":"IFERROR(__xludf.DUMMYFUNCTION(\"\"\"COMPUTED_VALUE\"\"\"),\"http://publications.europa.eu/resource/authority/file-type/MDB\")","v":"http://publications.europa.eu/resource/authority/file-type/MDB"},{"$f":"IFERROR(__xludf.DUMMYFUNCTION(\"\"\"COMPUTED_VALUE\"\"\"),\"MDB\")","v":"MDB"},null,{"$f":"IFERROR(__xludf.DUMMYFUNCTION(\"\"\"COMPUTED_VALUE\"\"\"),\"MDB\")","v":"MDB"},null,{"$f":"IFERROR(__xludf.DUMMYFUNCTION(\"\"\"COMPUTED_VALUE\"\"\"),\".mdb\")","v":".mdb"},{"$f":"IFERROR(__xludf.DUMMYFUNCTION(\"\"\"COMPUTED_VALUE\"\"\"),\"en\")","v":"en"}]
[{"$f":"IFERROR(__xludf.DUMMYFUNCTION(\"\"\"COMPUTED_VALUE\"\"\"),\"http://publications.europa.eu/resource/authority/file-type/METS\")","v":"http://publications.europa.eu/resource/authority/file-type/METS"},{"$f":"IFERROR(__xludf.DUMMYFUNCTION(\"\"\"COMPUTED_VALUE\"\"\"),\"METS\")","v":"METS"},{"$f":"IFERROR(__xludf.DUMMYFUNCTION(\"\"\"COMPUTED_VALUE\"\"\"),\"https://www.iana.org/assignments/media-types/application/mets+xml\")","v":"https://www.iana.org/assignments/media-types/application/mets+xml"},{"$f":"IFERROR(__xludf.DUMMYFUNCTION(\"\"\"COMPUTED_VALUE\"\"\"),\"METS\")","v":"METS"},null,{"$f":"IFERROR(__xludf.DUMMYFUNCTION(\"\"\"COMPUTED_VALUE\"\"\"),\".xml\")","v":".xml"},{"$f":"IFERROR(__xludf.DUMMYFUNCTION(\"\"\"COMPUTED_VALUE\"\"\"),\"en\")","v":"en"}]
[{"$f":"IFERROR(__xludf.DUMMYFUNCTION(\"\"\"COMPUTED_VALUE\"\"\"),\"http://publications.europa.eu/resource/authority/file-type/METS_ZIP\")","v":"http://publications.europa.eu/resource/authority/file-type/METS_ZIP"},{"$f":"IFERROR(__xludf.DUMMYFUNCTION(\"\"\"COMPUTED_VALUE\"\"\"),\"METS_ZIP\")","v":"METS_ZIP"},null,{"$f":"IFERROR(__xludf.DUMMYFUNCTION(\"\"\"COMPUTED_VALUE\"\"\"),\"METS_ZIP\")","v":"METS_ZIP"},null,{"$f":"IFERROR(__xludf.DUMMYFUNCTION(\"\"\"COMPUTED_VALUE\"\"\"),\".zip\")","v":".zip"},{"$f":"IFERROR(__xludf.DUMMYFUNCTION(\"\"\"COMPUTED_VALUE\"\"\"),\"en\")","v":"en"}]
[{"$f":"IFERROR(__xludf.DUMMYFUNCTION(\"\"\"COMPUTED_VALUE\"\"\"),\"http://publications.europa.eu/resource/authority/file-type/MHTML\")","v":"http://publications.europa.eu/resource/authority/file-type/MHTML"},{"$f":"IFERROR(__xludf.DUMMYFUNCTION(\"\"\"COMPUTED_VALUE\"\"\"),\"MHTML\")","v":"MHTML"},null,{"$f":"IFERROR(__xludf.DUMMYFUNCTION(\"\"\"COMPUTED_VALUE\"\"\"),\"MHTML\")","v":"MHTML"},null,{"$f":"IFERROR(__xludf.DUMMYFUNCTION(\"\"\"COMPUTED_VALUE\"\"\"),\".mhtml\")","v":".mhtml"},{"$f":"IFERROR(__xludf.DUMMYFUNCTION(\"\"\"COMPUTED_VALUE\"\"\"),\"en\")","v":"en"}]
[{"$f":"IFERROR(__xludf.DUMMYFUNCTION(\"\"\"COMPUTED_VALUE\"\"\"),\"http://publications.europa.eu/resource/authority/file-type/MIF_MID\")","v":"http://publications.europa.eu/resource/authority/file-type/MIF_MID"},{"$f":"IFERROR(__xludf.DUMMYFUNCTION(\"\"\"COMPUTED_VALUE\"\"\"),\"MIF_MID\")","v":"MIF_MID"},null,{"$f":"IFERROR(__xludf.DUMMYFUNCTION(\"\"\"COMPUTED_VALUE\"\"\"),\"MIF_MID\")","v":"MIF_MID"},null,{"$f":"IFERROR(__xludf.DUMMYFUNCTION(\"\"\"COMPUTED_VALUE\"\"\"),\".mif\")","v":".mif"},{"$f":"IFERROR(__xludf.DUMMYFUNCTION(\"\"\"COMPUTED_VALUE\"\"\"),\"en\")","v":"en"}]
[{"$f":"IFERROR(__xludf.DUMMYFUNCTION(\"\"\"COMPUTED_VALUE\"\"\"),\"http://publications.europa.eu/resource/authority/file-type/MOBI\")","v":"http://publications.europa.eu/resource/authority/file-type/MOBI"},{"$f":"IFERROR(__xludf.DUMMYFUNCTION(\"\"\"COMPUTED_VALUE\"\"\"),\"MOBI\")","v":"MOBI"},{"$f":"IFERROR(__xludf.DUMMYFUNCTION(\"\"\"COMPUTED_VALUE\"\"\"),\"https://www.iana.org/assignments/media-types/application/vnd.amazon.mobi8-ebook\")","v":"https://www.iana.org/assignments/media-types/application/vnd.amazon.mobi8-ebook"},{"$f":"IFERROR(__xludf.DUMMYFUNCTION(\"\"\"COMPUTED_VALUE\"\"\"),\"MOBI\")","v":"MOBI"},null,{"$f":"IFERROR(__xludf.DUMMYFUNCTION(\"\"\"COMPUTED_VALUE\"\"\"),\".mobi\")","v":".mobi"},{"$f":"IFERROR(__xludf.DUMMYFUNCTION(\"\"\"COMPUTED_VALUE\"\"\"),\"en\")","v":"en"}]
[{"$f":"IFERROR(__xludf.DUMMYFUNCTION(\"\"\"COMPUTED_VALUE\"\"\"),\"http://publications.europa.eu/resource/authority/file-type/MOP\")","v":"http://publications.europa.eu/resource/authority/file-type/MOP"},{"$f":"IFERROR(__xludf.DUMMYFUNCTION(\"\"\"COMPUTED_VALUE\"\"\"),\"MOP\")","v":"MOP"},null,{"$f":"IFERROR(__xludf.DUMMYFUNCTION(\"\"\"COMPUTED_VALUE\"\"\"),\"MOP\")","v":"MOP"},null,{"$f":"IFERROR(__xludf.DUMMYFUNCTION(\"\"\"COMPUTED_VALUE\"\"\"),\".mop\")","v":".mop"},{"$f":"IFERROR(__xludf.DUMMYFUNCTION(\"\"\"COMPUTED_VALUE\"\"\"),\"en\")","v":"en"}]
[null,{"$f":"IFERROR(__xludf.DUMMYFUNCTION(\"\"\"COMPUTED_VALUE\"\"\"),\"MOVINGFEATURES\")","v":"MOVINGFEATURES"},{"$f":"IFERROR(__xludf.DUMMYFUNCTION(\"\"\"COMPUTED_VALUE\"\"\"),\"http://www.opengis.net/def/interface/ogcapi-moving-features\")","v":"http://www.opengis.net/def/interface/ogcapi-moving-features"},{"$f":"IFERROR(__xludf.DUMMYFUNCTION(\"\"\"COMPUTED_VALUE\"\"\"),\"MOVINGFEATURES\")","v":"MOVINGFEATURES"},null,null,{"$f":"IFERROR(__xludf.DUMMYFUNCTION(\"\"\"COMPUTED_VALUE\"\"\"),\"en\")","v":"en"}]
[{"$f":"IFERROR(__xludf.DUMMYFUNCTION(\"\"\"COMPUTED_VALUE\"\"\"),\"http://publications.europa.eu/resource/authority/file-type/MP3\")","v":"http://publications.europa.eu/resource/authority/file-type/MP3"},{"$f":"IFERROR(__xludf.DUMMYFUNCTION(\"\"\"COMPUTED_VALUE\"\"\"),\"MP3\")","v":"MP3"},null,{"$f":"IFERROR(__xludf.DUMMYFUNCTION(\"\"\"COMPUTED_VALUE\"\"\"),\"MP3\")","v":"MP3"},null,{"$f":"IFERROR(__xludf.DUMMYFUNCTION(\"\"\"COMPUTED_VALUE\"\"\"),\".mp3\")","v":".mp3"},{"$f":"IFERROR(__xludf.DUMMYFUNCTION(\"\"\"COMPUTED_VALUE\"\"\"),\"en\")","v":"en"}]
[{"$f":"IFERROR(__xludf.DUMMYFUNCTION(\"\"\"COMPUTED_VALUE\"\"\"),\"http://publications.europa.eu/resource/authority/file-type/MPEG2\")","v":"http://publications.europa.eu/resource/authority/file-type/MPEG2"},{"$f":"IFERROR(__xludf.DUMMYFUNCTION(\"\"\"COMPUTED_VALUE\"\"\"),\"MPEG2\")","v":"MPEG2"},{"$f":"IFERROR(__xludf.DUMMYFUNCTION(\"\"\"COMPUTED_VALUE\"\"\"),\"https://www.iana.org/assignments/media-types/application/mp4\")","v":"https://www.iana.org/assignments/media-types/application/mp4"},{"$f":"IFERROR(__xludf.DUMMYFUNCTION(\"\"\"COMPUTED_VALUE\"\"\"),\"MPEG2\")","v":"MPEG2"},null,{"$f":"IFERROR(__xludf.DUMMYFUNCTION(\"\"\"COMPUTED_VALUE\"\"\"),\".mpeg\")","v":".mpeg"},{"$f":"IFERROR(__xludf.DUMMYFUNCTION(\"\"\"COMPUTED_VALUE\"\"\"),\"en\")","v":"en"}]
[{"$f":"IFERROR(__xludf.DUMMYFUNCTION(\"\"\"COMPUTED_VALUE\"\"\"),\"http://publications.europa.eu/resource/authority/file-type/MPEG4\")","v":"http://publications.europa.eu/resource/authority/file-type/MPEG4"},{"$f":"IFERROR(__xludf.DUMMYFUNCTION(\"\"\"COMPUTED_VALUE\"\"\"),\"MPEG4\")","v":"MPEG4"},{"$f":"IFERROR(__xludf.DUMMYFUNCTION(\"\"\"COMPUTED_VALUE\"\"\"),\"https://www.iana.org/assignments/media-types/application/mp4\")","v":"https://www.iana.org/assignments/media-types/application/mp4"},{"$f":"IFERROR(__xludf.DUMMYFUNCTION(\"\"\"COMPUTED_VALUE\"\"\"),\"MPEG4\")","v":"MPEG4"},null,{"$f":"IFERROR(__xludf.DUMMYFUNCTION(\"\"\"COMPUTED_VALUE\"\"\"),\".mpeg\")","v":".mpeg"},{"$f":"IFERROR(__xludf.DUMMYFUNCTION(\"\"\"COMPUTED_VALUE\"\"\"),\"en\")","v":"en"}]
[{"$f":"IFERROR(__xludf.DUMMYFUNCTION(\"\"\"COMPUTED_VALUE\"\"\"),\"http://publications.europa.eu/resource/authority/file-type/MPEG4_AVC\")","v":"http://publications.europa.eu/resource/authority/file-type/MPEG4_AVC"},{"$f":"IFERROR(__xludf.DUMMYFUNCTION(\"\"\"COMPUTED_VALUE\"\"\"),\"MPEG4_AVC\")","v":"MPEG4_AVC"},{"$f":"IFERROR(__xludf.DUMMYFUNCTION(\"\"\"COMPUTED_VALUE\"\"\"),\"https://www.iana.org/assignments/media-types/application/mp4\")","v":"https://www.iana.org/assignments/media-types/application/mp4"},{"$f":"IFERROR(__xludf.DUMMYFUNCTION(\"\"\"COMPUTED_VALUE\"\"\"),\"MPEG4_AVC\")","v":"MPEG4_AVC"},null,{"$f":"IFERROR(__xludf.DUMMYFUNCTION(\"\"\"COMPUTED_VALUE\"\"\"),\".mpeg\")","v":".mpeg"},{"$f":"IFERROR(__xludf.DUMMYFUNCTION(\"\"\"COMPUTED_VALUE\"\"\"),\"en\")","v":"en"}]
[null,{"$f":"IFERROR(__xludf.DUMMYFUNCTION(\"\"\"COMPUTED_VALUE\"\"\"),\"MPK\")","v":"MPK"},null,{"$f":"IFERROR(__xludf.DUMMYFUNCTION(\"\"\"COMPUTED_VALUE\"\"\"),\"MPK\")","v":"MPK"},null,null,{"$f":"IFERROR(__xludf.DUMMYFUNCTION(\"\"\"COMPUTED_VALUE\"\"\"),\"en\")","v":"en"}]
[null,{"$f":"IFERROR(__xludf.DUMMYFUNCTION(\"\"\"COMPUTED_VALUE\"\"\"),\"MQTT\")","v":"MQTT"},{"$f":"IFERROR(__xludf.DUMMYFUNCTION(\"\"\"COMPUTED_VALUE\"\"\"),\"https://mqtt.org\")","v":"https://mqtt.org"},{"$f":"IFERROR(__xludf.DUMMYFUNCTION(\"\"\"COMPUTED_VALUE\"\"\"),\"MQTT\")","v":"MQTT"},null,null,{"$f":"IFERROR(__xludf.DUMMYFUNCTION(\"\"\"COMPUTED_VALUE\"\"\"),\"en\")","v":"en"}]
[{"$f":"IFERROR(__xludf.DUMMYFUNCTION(\"\"\"COMPUTED_VALUE\"\"\"),\"http://publications.europa.eu/resource/authority/file-type/MRSID\")","v":"http://publications.europa.eu/resource/authority/file-type/MRSID"},{"$f":"IFERROR(__xludf.DUMMYFUNCTION(\"\"\"COMPUTED_VALUE\"\"\"),\"MRSID\")","v":"MRSID"},null,{"$f":"IFERROR(__xludf.DUMMYFUNCTION(\"\"\"COMPUTED_VALUE\"\"\"),\"MRSID\")","v":"MRSID"},null,{"$f":"IFERROR(__xludf.DUMMYFUNCTION(\"\"\"COMPUTED_VALUE\"\"\"),\".sid\")","v":".sid"},{"$f":"IFERROR(__xludf.DUMMYFUNCTION(\"\"\"COMPUTED_VALUE\"\"\"),\"en\")","v":"en"}]
[{"$f":"IFERROR(__xludf.DUMMYFUNCTION(\"\"\"COMPUTED_VALUE\"\"\"),\"http://publications.europa.eu/resource/authority/file-type/MSG_HTTP\")","v":"http://publications.europa.eu/resource/authority/file-type/MSG_HTTP"},{"$f":"IFERROR(__xludf.DUMMYFUNCTION(\"\"\"COMPUTED_VALUE\"\"\"),\"MSG_HTTP\")","v":"MSG_HTTP"},null,{"$f":"IFERROR(__xludf.DUMMYFUNCTION(\"\"\"COMPUTED_VALUE\"\"\"),\"MSG_HTTP\")","v":"MSG_HTTP"},null,{"$f":"IFERROR(__xludf.DUMMYFUNCTION(\"\"\"COMPUTED_VALUE\"\"\"),\"-\")","v":"-"},{"$f":"IFERROR(__xludf.DUMMYFUNCTION(\"\"\"COMPUTED_VALUE\"\"\"),\"en\")","v":"en"}]
[{"$f":"IFERROR(__xludf.DUMMYFUNCTION(\"\"\"COMPUTED_VALUE\"\"\"),\"http://publications.europa.eu/resource/authority/file-type/MSI\")","v":"http://publications.europa.eu/resource/authority/file-type/MSI"},{"$f":"IFERROR(__xludf.DUMMYFUNCTION(\"\"\"COMPUTED_VALUE\"\"\"),\"MSI\")","v":"MSI"},null,{"$f":"IFERROR(__xludf.DUMMYFUNCTION(\"\"\"COMPUTED_VALUE\"\"\"),\"MSI\")","v":"MSI"},null,{"$f":"IFERROR(__xludf.DUMMYFUNCTION(\"\"\"COMPUTED_VALUE\"\"\"),\".msi\")","v":".msi"},{"$f":"IFERROR(__xludf.DUMMYFUNCTION(\"\"\"COMPUTED_VALUE\"\"\"),\"en\")","v":"en"}]
[{"$f":"IFERROR(__xludf.DUMMYFUNCTION(\"\"\"COMPUTED_VALUE\"\"\"),\"http://publications.europa.eu/resource/authority/file-type/MXD\")","v":"http://publications.europa.eu/resource/authority/file-type/MXD"},{"$f":"IFERROR(__xludf.DUMMYFUNCTION(\"\"\"COMPUTED_VALUE\"\"\"),\"MXD\")","v":"MXD"},null,{"$f":"IFERROR(__xludf.DUMMYFUNCTION(\"\"\"COMPUTED_VALUE\"\"\"),\"MXD\")","v":"MXD"},null,{"$f":"IFERROR(__xludf.DUMMYFUNCTION(\"\"\"COMPUTED_VALUE\"\"\"),\".mxd\")","v":".mxd"},{"$f":"IFERROR(__xludf.DUMMYFUNCTION(\"\"\"COMPUTED_VALUE\"\"\"),\"en\")","v":"en"}]
[{"$f":"IFERROR(__xludf.DUMMYFUNCTION(\"\"\"COMPUTED_VALUE\"\"\"),\"http://publications.europa.eu/resource/authority/file-type/N3\")","v":"http://publications.europa.eu/resource/authority/file-type/N3"},{"$f":"IFERROR(__xludf.DUMMYFUNCTION(\"\"\"COMPUTED_VALUE\"\"\"),\"N3\")","v":"N3"},{"$f":"IFERROR(__xludf.DUMMYFUNCTION(\"\"\"COMPUTED_VALUE\"\"\"),\"https://www.iana.org/assignments/media-types/application/n-triples\")","v":"https://www.iana.org/assignments/media-types/application/n-triples"},{"$f":"IFERROR(__xludf.DUMMYFUNCTION(\"\"\"COMPUTED_VALUE\"\"\"),\"N3\")","v":"N3"},null,{"$f":"IFERROR(__xludf.DUMMYFUNCTION(\"\"\"COMPUTED_VALUE\"\"\"),\".n3\")","v":".n3"},{"$f":"IFERROR(__xludf.DUMMYFUNCTION(\"\"\"COMPUTED_VALUE\"\"\"),\"en\")","v":"en"}]
[null,{"$f":"IFERROR(__xludf.DUMMYFUNCTION(\"\"\"COMPUTED_VALUE\"\"\"),\"NCSS\")","v":"NCSS"},null,{"$f":"IFERROR(__xludf.DUMMYFUNCTION(\"\"\"COMPUTED_VALUE\"\"\"),\"NCSS\")","v":"NCSS"},null,null,{"$f":"IFERROR(__xludf.DUMMYFUNCTION(\"\"\"COMPUTED_VALUE\"\"\"),\"en\")","v":"en"}]
[{"$f":"IFERROR(__xludf.DUMMYFUNCTION(\"\"\"COMPUTED_VALUE\"\"\"),\"http://publications.europa.eu/resource/authority/file-type/NETCDF\")","v":"http://publications.europa.eu/resource/authority/file-type/NETCDF"},{"$f":"IFERROR(__xludf.DUMMYFUNCTION(\"\"\"COMPUTED_VALUE\"\"\"),\"NETCDF\")","v":"NETCDF"},null,{"$f":"IFERROR(__xludf.DUMMYFUNCTION(\"\"\"COMPUTED_VALUE\"\"\"),\"NETCDF\")","v":"NETCDF"},null,{"$f":"IFERROR(__xludf.DUMMYFUNCTION(\"\"\"COMPUTED_VALUE\"\"\"),\".cdf\")","v":".cdf"},{"$f":"IFERROR(__xludf.DUMMYFUNCTION(\"\"\"COMPUTED_VALUE\"\"\"),\"en\")","v":"en"}]
[{"$f":"IFERROR(__xludf.DUMMYFUNCTION(\"\"\"COMPUTED_VALUE\"\"\"),\"http://publications.europa.eu/resource/authority/file-type/OAPK\")","v":"http://publications.europa.eu/resource/authority/file-type/OAPK"},{"$f":"IFERROR(__xludf.DUMMYFUNCTION(\"\"\"COMPUTED_VALUE\"\"\"),\"OAPK\")","v":"OAPK"},null,{"$f":"IFERROR(__xludf.DUMMYFUNCTION(\"\"\"COMPUTED_VALUE\"\"\"),\"OAPK\")","v":"OAPK"},null,{"$f":"IFERROR(__xludf.DUMMYFUNCTION(\"\"\"COMPUTED_VALUE\"\"\"),\".apk\")","v":".apk"},{"$f":"IFERROR(__xludf.DUMMYFUNCTION(\"\"\"COMPUTED_VALUE\"\"\"),\"en\")","v":"en"}]
[{"$f":"IFERROR(__xludf.DUMMYFUNCTION(\"\"\"COMPUTED_VALUE\"\"\"),\"http://publications.europa.eu/resource/authority/file-type/OCTET\")","v":"http://publications.europa.eu/resource/authority/file-type/OCTET"},{"$f":"IFERROR(__xludf.DUMMYFUNCTION(\"\"\"COMPUTED_VALUE\"\"\"),\"OCTET\")","v":"OCTET"},{"$f":"IFERROR(__xludf.DUMMYFUNCTION(\"\"\"COMPUTED_VALUE\"\"\"),\"https://www.iana.org/assignments/media-types/application/octet-stream\")","v":"https://www.iana.org/assignments/media-types/application/octet-stream"},{"$f":"IFERROR(__xludf.DUMMYFUNCTION(\"\"\"COMPUTED_VALUE\"\"\"),\"OCTET\")","v":"OCTET"},null,{"$f":"IFERROR(__xludf.DUMMYFUNCTION(\"\"\"COMPUTED_VALUE\"\"\"),\".zoo\")","v":".zoo"},{"$f":"IFERROR(__xludf.DUMMYFUNCTION(\"\"\"COMPUTED_VALUE\"\"\"),\"en\")","v":"en"}]
[null,{"$f":"IFERROR(__xludf.DUMMYFUNCTION(\"\"\"COMPUTED_VALUE\"\"\"),\"ODATA\")","v":"ODATA"},{"$f":"IFERROR(__xludf.DUMMYFUNCTION(\"\"\"COMPUTED_VALUE\"\"\"),\"http://docs.oasis-open.org/odata/odata/v4.0\")","v":"http://docs.oasis-open.org/odata/odata/v4.0"},{"$f":"IFERROR(__xludf.DUMMYFUNCTION(\"\"\"COMPUTED_VALUE\"\"\"),\"ODATA\")","v":"ODATA"},null,null,{"$f":"IFERROR(__xludf.DUMMYFUNCTION(\"\"\"COMPUTED_VALUE\"\"\"),\"en\")","v":"en"}]
[{"$f":"IFERROR(__xludf.DUMMYFUNCTION(\"\"\"COMPUTED_VALUE\"\"\"),\"http://publications.europa.eu/resource/authority/file-type/ODB\")","v":"http://publications.europa.eu/resource/authority/file-type/ODB"},{"$f":"IFERROR(__xludf.DUMMYFUNCTION(\"\"\"COMPUTED_VALUE\"\"\"),\"ODB\")","v":"ODB"},null,{"$f":"IFERROR(__xludf.DUMMYFUNCTION(\"\"\"COMPUTED_VALUE\"\"\"),\"ODB\")","v":"ODB"},null,{"$f":"IFERROR(__xludf.DUMMYFUNCTION(\"\"\"COMPUTED_VALUE\"\"\"),\".odb\")","v":".odb"},{"$f":"IFERROR(__xludf.DUMMYFUNCTION(\"\"\"COMPUTED_VALUE\"\"\"),\"en\")","v":"en"}]
[{"$f":"IFERROR(__xludf.DUMMYFUNCTION(\"\"\"COMPUTED_VALUE\"\"\"),\"http://publications.europa.eu/resource/authority/file-type/ODC\")","v":"http://publications.europa.eu/resource/authority/file-type/ODC"},{"$f":"IFERROR(__xludf.DUMMYFUNCTION(\"\"\"COMPUTED_VALUE\"\"\"),\"ODC\")","v":"ODC"},null,{"$f":"IFERROR(__xludf.DUMMYFUNCTION(\"\"\"COMPUTED_VALUE\"\"\"),\"ODC\")","v":"ODC"},null,{"$f":"IFERROR(__xludf.DUMMYFUNCTION(\"\"\"COMPUTED_VALUE\"\"\"),\".odc\")","v":".odc"},{"$f":"IFERROR(__xludf.DUMMYFUNCTION(\"\"\"COMPUTED_VALUE\"\"\"),\"en\")","v":"en"}]
[{"$f":"IFERROR(__xludf.DUMMYFUNCTION(\"\"\"COMPUTED_VALUE\"\"\"),\"http://publications.europa.eu/resource/authority/file-type/ODF\")","v":"http://publications.europa.eu/resource/authority/file-type/ODF"},{"$f":"IFERROR(__xludf.DUMMYFUNCTION(\"\"\"COMPUTED_VALUE\"\"\"),\"ODF\")","v":"ODF"},null,{"$f":"IFERROR(__xludf.DUMMYFUNCTION(\"\"\"COMPUTED_VALUE\"\"\"),\"ODF\")","v":"ODF"},null,{"$f":"IFERROR(__xludf.DUMMYFUNCTION(\"\"\"COMPUTED_VALUE\"\"\"),\".odf\")","v":".odf"},{"$f":"IFERROR(__xludf.DUMMYFUNCTION(\"\"\"COMPUTED_VALUE\"\"\"),\"en\")","v":"en"}]
[{"$f":"IFERROR(__xludf.DUMMYFUNCTION(\"\"\"COMPUTED_VALUE\"\"\"),\"http://publications.europa.eu/resource/authority/file-type/ODG\")","v":"http://publications.europa.eu/resource/authority/file-type/ODG"},{"$f":"IFERROR(__xludf.DUMMYFUNCTION(\"\"\"COMPUTED_VALUE\"\"\"),\"ODG\")","v":"ODG"},null,{"$f":"IFERROR(__xludf.DUMMYFUNCTION(\"\"\"COMPUTED_VALUE\"\"\"),\"ODG\")","v":"ODG"},null,{"$f":"IFERROR(__xludf.DUMMYFUNCTION(\"\"\"COMPUTED_VALUE\"\"\"),\".odg\")","v":".odg"},{"$f":"IFERROR(__xludf.DUMMYFUNCTION(\"\"\"COMPUTED_VALUE\"\"\"),\"en\")","v":"en"}]
[{"$f":"IFERROR(__xludf.DUMMYFUNCTION(\"\"\"COMPUTED_VALUE\"\"\"),\"http://publications.europa.eu/resource/authority/file-type/ODP\")","v":"http://publications.europa.eu/resource/authority/file-type/ODP"},{"$f":"IFERROR(__xludf.DUMMYFUNCTION(\"\"\"COMPUTED_VALUE\"\"\"),\"ODP\")","v":"ODP"},null,{"$f":"IFERROR(__xludf.DUMMYFUNCTION(\"\"\"COMPUTED_VALUE\"\"\"),\"ODP\")","v":"ODP"},null,{"$f":"IFERROR(__xludf.DUMMYFUNCTION(\"\"\"COMPUTED_VALUE\"\"\"),\".odp\")","v":".odp"},{"$f":"IFERROR(__xludf.DUMMYFUNCTION(\"\"\"COMPUTED_VALUE\"\"\"),\"en\")","v":"en"}]
[{"$f":"IFERROR(__xludf.DUMMYFUNCTION(\"\"\"COMPUTED_VALUE\"\"\"),\"http://publications.europa.eu/resource/authority/file-type/ODS\")","v":"http://publications.europa.eu/resource/authority/file-type/ODS"},{"$f":"IFERROR(__xludf.DUMMYFUNCTION(\"\"\"COMPUTED_VALUE\"\"\"),\"ODS\")","v":"ODS"},{"$f":"IFERROR(__xludf.DUMMYFUNCTION(\"\"\"COMPUTED_VALUE\"\"\"),\"https://www.iana.org/assignments/media-types/application/vnd.oasis.opendocument.spreadsheet\")","v":"https://www.iana.org/assignments/media-types/application/vnd.oasis.opendocument.spreadsheet"},{"$f":"IFERROR(__xludf.DUMMYFUNCTION(\"\"\"COMPUTED_VALUE\"\"\"),\"ODS\")","v":"ODS"},null,{"$f":"IFERROR(__xludf.DUMMYFUNCTION(\"\"\"COMPUTED_VALUE\"\"\"),\".ods\")","v":".ods"},{"$f":"IFERROR(__xludf.DUMMYFUNCTION(\"\"\"COMPUTED_VALUE\"\"\"),\"en\")","v":"en"}]
[{"$f":"IFERROR(__xludf.DUMMYFUNCTION(\"\"\"COMPUTED_VALUE\"\"\"),\"http://publications.europa.eu/resource/authority/file-type/ODT\")","v":"http://publications.europa.eu/resource/authority/file-type/ODT"},{"$f":"IFERROR(__xludf.DUMMYFUNCTION(\"\"\"COMPUTED_VALUE\"\"\"),\"ODT\")","v":"ODT"},{"$f":"IFERROR(__xludf.DUMMYFUNCTION(\"\"\"COMPUTED_VALUE\"\"\"),\"https://www.iana.org/assignments/media-types/application/vnd.oasis.opendocument.text\")","v":"https://www.iana.org/assignments/media-types/application/vnd.oasis.opendocument.text"},{"$f":"IFERROR(__xludf.DUMMYFUNCTION(\"\"\"COMPUTED_VALUE\"\"\"),\"ODT\")","v":"ODT"},null,{"$f":"IFERROR(__xludf.DUMMYFUNCTION(\"\"\"COMPUTED_VALUE\"\"\"),\".odt\")","v":".odt"},{"$f":"IFERROR(__xludf.DUMMYFUNCTION(\"\"\"COMPUTED_VALUE\"\"\"),\"en\")","v":"en"}]
[null,{"$f":"IFERROR(__xludf.DUMMYFUNCTION(\"\"\"COMPUTED_VALUE\"\"\"),\"OGCCov\")","v":"OGCCov"},{"$f":"IFERROR(__xludf.DUMMYFUNCTION(\"\"\"COMPUTED_VALUE\"\"\"),\"http://www.opengis.net/def/interface/ogcapi-coverages\")","v":"http://www.opengis.net/def/interface/ogcapi-coverages"},{"$f":"IFERROR(__xludf.DUMMYFUNCTION(\"\"\"COMPUTED_VALUE\"\"\"),\"OGCCov\")","v":"OGCCov"},null,null,{"$f":"IFERROR(__xludf.DUMMYFUNCTION(\"\"\"COMPUTED_VALUE\"\"\"),\"en\")","v":"en"}]
[null,{"$f":"IFERROR(__xludf.DUMMYFUNCTION(\"\"\"COMPUTED_VALUE\"\"\"),\"OGCDGGS\")","v":"OGCDGGS"},{"$f":"IFERROR(__xludf.DUMMYFUNCTION(\"\"\"COMPUTED_VALUE\"\"\"),\"http://www.opengis.net/def/interface/ogcapi-dggs\")","v":"http://www.opengis.net/def/interface/ogcapi-dggs"},{"$f":"IFERROR(__xludf.DUMMYFUNCTION(\"\"\"COMPUTED_VALUE\"\"\"),\"OGCDGGS\")","v":"OGCDGGS"},null,null,{"$f":"IFERROR(__xludf.DUMMYFUNCTION(\"\"\"COMPUTED_VALUE\"\"\"),\"en\")","v":"en"}]
[null,{"$f":"IFERROR(__xludf.DUMMYFUNCTION(\"\"\"COMPUTED_VALUE\"\"\"),\"OGCEDR\")","v":"OGCEDR"},{"$f":"IFERROR(__xludf.DUMMYFUNCTION(\"\"\"COMPUTED_VALUE\"\"\"),\"http://www.opengis.net/def/interface/ogcapi-edr\")","v":"http://www.opengis.net/def/interface/ogcapi-edr"},{"$f":"IFERROR(__xludf.DUMMYFUNCTION(\"\"\"COMPUTED_VALUE\"\"\"),\"OGCEDR\")","v":"OGCEDR"},null,null,{"$f":"IFERROR(__xludf.DUMMYFUNCTION(\"\"\"COMPUTED_VALUE\"\"\"),\"en\")","v":"en"}]
[null,{"$f":"IFERROR(__xludf.DUMMYFUNCTION(\"\"\"COMPUTED_VALUE\"\"\"),\"OGCFeat\")","v":"OGCFeat"},{"$f":"IFERROR(__xludf.DUMMYFUNCTION(\"\"\"COMPUTED_VALUE\"\"\"),\"http://www.opengis.net/def/interface/ogcapi-features\")","v":"http://www.opengis.net/def/interface/ogcapi-features"},{"$f":"IFERROR(__xludf.DUMMYFUNCTION(\"\"\"COMPUTED_VALUE\"\"\"),\"OGCFeat\")","v":"OGCFeat"},null,null,{"$f":"IFERROR(__xludf.DUMMYFUNCTION(\"\"\"COMPUTED_VALUE\"\"\"),\"en\")","v":"en"}]
[null,{"$f":"IFERROR(__xludf.DUMMYFUNCTION(\"\"\"COMPUTED_VALUE\"\"\"),\"OGCMaps\")","v":"OGCMaps"},{"$f":"IFERROR(__xludf.DUMMYFUNCTION(\"\"\"COMPUTED_VALUE\"\"\"),\"http://www.opengis.net/def/interface/ogcapi-maps\")","v":"http://www.opengis.net/def/interface/ogcapi-maps"},{"$f":"IFERROR(__xludf.DUMMYFUNCTION(\"\"\"COMPUTED_VALUE\"\"\"),\"OGCMaps\")","v":"OGCMaps"},null,null,{"$f":"IFERROR(__xludf.DUMMYFUNCTION(\"\"\"COMPUTED_VALUE\"\"\"),\"en\")","v":"en"}]
[null,{"$f":"IFERROR(__xludf.DUMMYFUNCTION(\"\"\"COMPUTED_VALUE\"\"\"),\"OGCProc\")","v":"OGCProc"},{"$f":"IFERROR(__xludf.DUMMYFUNCTION(\"\"\"COMPUTED_VALUE\"\"\"),\"http://www.opengis.net/def/interface/ogcapi-processes\")","v":"http://www.opengis.net/def/interface/ogcapi-processes"},{"$f":"IFERROR(__xludf.DUMMYFUNCTION(\"\"\"COMPUTED_VALUE\"\"\"),\"OGCProc\")","v":"OGCProc"},null,null,{"$f":"IFERROR(__xludf.DUMMYFUNCTION(\"\"\"COMPUTED_VALUE\"\"\"),\"en\")","v":"en"}]
[null,{"$f":"IFERROR(__xludf.DUMMYFUNCTION(\"\"\"COMPUTED_VALUE\"\"\"),\"OGCRec\")","v":"OGCRec"},{"$f":"IFERROR(__xludf.DUMMYFUNCTION(\"\"\"COMPUTED_VALUE\"\"\"),\"http://www.opengis.net/def/interface/ogcapi-records\")","v":"http://www.opengis.net/def/interface/ogcapi-records"},{"$f":"IFERROR(__xludf.DUMMYFUNCTION(\"\"\"COMPUTED_VALUE\"\"\"),\"OGCRec\")","v":"OGCRec"},null,null,{"$f":"IFERROR(__xludf.DUMMYFUNCTION(\"\"\"COMPUTED_VALUE\"\"\"),\"en\")","v":"en"}]
[null,{"$f":"IFERROR(__xludf.DUMMYFUNCTION(\"\"\"COMPUTED_VALUE\"\"\"),\"OGCRout\")","v":"OGCRout"},{"$f":"IFERROR(__xludf.DUMMYFUNCTION(\"\"\"COMPUTED_VALUE\"\"\"),\"http://www.opengis.net/def/interface/ogcapi-routes\")","v":"http://www.opengis.net/def/interface/ogcapi-routes"},{"$f":"IFERROR(__xludf.DUMMYFUNCTION(\"\"\"COMPUTED_VALUE\"\"\"),\"OGCRout\")","v":"OGCRout"},null,null,{"$f":"IFERROR(__xludf.DUMMYFUNCTION(\"\"\"COMPUTED_VALUE\"\"\"),\"en\")","v":"en"}]
[null,{"$f":"IFERROR(__xludf.DUMMYFUNCTION(\"\"\"COMPUTED_VALUE\"\"\"),\"OGCStyl\")","v":"OGCStyl"},{"$f":"IFERROR(__xludf.DUMMYFUNCTION(\"\"\"COMPUTED_VALUE\"\"\"),\"http://www.opengis.net/def/interface/ogcapi-styles\")","v":"http://www.opengis.net/def/interface/ogcapi-styles"},{"$f":"IFERROR(__xludf.DUMMYFUNCTION(\"\"\"COMPUTED_VALUE\"\"\"),\"OGCStyl\")","v":"OGCStyl"},null,null,{"$f":"IFERROR(__xludf.DUMMYFUNCTION(\"\"\"COMPUTED_VALUE\"\"\"),\"en\")","v":"en"}]
[null,{"$f":"IFERROR(__xludf.DUMMYFUNCTION(\"\"\"COMPUTED_VALUE\"\"\"),\"OGCTile\")","v":"OGCTile"},{"$f":"IFERROR(__xludf.DUMMYFUNCTION(\"\"\"COMPUTED_VALUE\"\"\"),\"http://www.opengis.net/def/interface/ogcapi-tiles\")","v":"http://www.opengis.net/def/interface/ogcapi-tiles"},{"$f":"IFERROR(__xludf.DUMMYFUNCTION(\"\"\"COMPUTED_VALUE\"\"\"),\"OGCTile\")","v":"OGCTile"},null,null,{"$f":"IFERROR(__xludf.DUMMYFUNCTION(\"\"\"COMPUTED_VALUE\"\"\"),\"en\")","v":"en"}]
[null,{"$f":"IFERROR(__xludf.DUMMYFUNCTION(\"\"\"COMPUTED_VALUE\"\"\"),\"OGS\")","v":"OGS"},{"$f":"IFERROR(__xludf.DUMMYFUNCTION(\"\"\"COMPUTED_VALUE\"\"\"),\"http://www.opengeospatial.org/standards/ols#ogs\")","v":"http://www.opengeospatial.org/standards/ols#ogs"},{"$f":"IFERROR(__xludf.DUMMYFUNCTION(\"\"\"COMPUTED_VALUE\"\"\"),\"OGS\")","v":"OGS"},null,null,{"$f":"IFERROR(__xludf.DUMMYFUNCTION(\"\"\"COMPUTED_VALUE\"\"\"),\"en\")","v":"en"}]
[null,{"$f":"IFERROR(__xludf.DUMMYFUNCTION(\"\"\"COMPUTED_VALUE\"\"\"),\"OPENDAD\")","v":"OPENDAD"},null,{"$f":"IFERROR(__xludf.DUMMYFUNCTION(\"\"\"COMPUTED_VALUE\"\"\"),\"OPENDAD\")","v":"OPENDAD"},null,null,{"$f":"IFERROR(__xludf.DUMMYFUNCTION(\"\"\"COMPUTED_VALUE\"\"\"),\"en\")","v":"en"}]
[null,{"$f":"IFERROR(__xludf.DUMMYFUNCTION(\"\"\"COMPUTED_VALUE\"\"\"),\"OPENSEARCH1.1\")","v":"OPENSEARCH1.1"},{"$f":"IFERROR(__xludf.DUMMYFUNCTION(\"\"\"COMPUTED_VALUE\"\"\"),\"http://www.opensearch.org/Specifications/OpenSearch/1.1#OpenSearch_URL_template_syntax\")","v":"http://www.opensearch.org/Specifications/OpenSearch/1.1#OpenSearch_URL_template_syntax"},{"$f":"IFERROR(__xludf.DUMMYFUNCTION(\"\"\"COMPUTED_VALUE\"\"\"),\"OPENSEARCH1.1\")","v":"OPENSEARCH1.1"},null,null,{"$f":"IFERROR(__xludf.DUMMYFUNCTION(\"\"\"COMPUTED_VALUE\"\"\"),\"en\")","v":"en"}]
[null,{"$f":"IFERROR(__xludf.DUMMYFUNCTION(\"\"\"COMPUTED_VALUE\"\"\"),\"OPENSEARCH1.1:DESCRIPTION\")","v":"OPENSEARCH1.1:DESCRIPTION"},{"$f":"IFERROR(__xludf.DUMMYFUNCTION(\"\"\"COMPUTED_VALUE\"\"\"),\"http://www.opensearch.org/Specifications/OpenSearch/1.1#OpenSearch_description_document\")","v":"http://www.opensearch.org/Specifications/OpenSearch/1.1#OpenSearch_description_document"},{"$f":"IFERROR(__xludf.DUMMYFUNCTION(\"\"\"COMPUTED_VALUE\"\"\"),\"OPENSEARCH1.1:DESCRIPTION\")","v":"OPENSEARCH1.1:DESCRIPTION"},null,null,{"$f":"IFERROR(__xludf.DUMMYFUNCTION(\"\"\"COMPUTED_VALUE\"\"\"),\"en\")","v":"en"}]
[null,{"$f":"IFERROR(__xludf.DUMMYFUNCTION(\"\"\"COMPUTED_VALUE\"\"\"),\"OPS\")","v":"OPS"},{"$f":"IFERROR(__xludf.DUMMYFUNCTION(\"\"\"COMPUTED_VALUE\"\"\"),\"http://www.opengeospatial.org/standards/ols#ops\")","v":"http://www.opengeospatial.org/standards/ols#ops"},{"$f":"IFERROR(__xludf.DUMMYFUNCTION(\"\"\"COMPUTED_VALUE\"\"\"),\"OPS\")","v":"OPS"},null,null,{"$f":"IFERROR(__xludf.DUMMYFUNCTION(\"\"\"COMPUTED_VALUE\"\"\"),\"en\")","v":"en"}]
[null,{"$f":"IFERROR(__xludf.DUMMYFUNCTION(\"\"\"COMPUTED_VALUE\"\"\"),\"ORDER\")","v":"ORDER"},null,{"$f":"IFERROR(__xludf.DUMMYFUNCTION(\"\"\"COMPUTED_VALUE\"\"\"),\"ORDER\")","v":"ORDER"},null,null,{"$f":"IFERROR(__xludf.DUMMYFUNCTION(\"\"\"COMPUTED_VALUE\"\"\"),\"en\")","v":"en"}]
[null,{"$f":"IFERROR(__xludf.DUMMYFUNCTION(\"\"\"COMPUTED_VALUE\"\"\"),\"ORS\")","v":"ORS"},{"$f":"IFERROR(__xludf.DUMMYFUNCTION(\"\"\"COMPUTED_VALUE\"\"\"),\"http://www.opengeospatial.org/standards/ols#ors\")","v":"http://www.opengeospatial.org/standards/ols#ors"},{"$f":"IFERROR(__xludf.DUMMYFUNCTION(\"\"\"COMPUTED_VALUE\"\"\"),\"ORS\")","v":"ORS"},null,null,{"$f":"IFERROR(__xludf.DUMMYFUNCTION(\"\"\"COMPUTED_VALUE\"\"\"),\"en\")","v":"en"}]
[null,{"$f":"IFERROR(__xludf.DUMMYFUNCTION(\"\"\"COMPUTED_VALUE\"\"\"),\"OSM\")","v":"OSM"},{"$f":"IFERROR(__xludf.DUMMYFUNCTION(\"\"\"COMPUTED_VALUE\"\"\"),\"http://wiki.openstreetmap.org/wiki/API\")","v":"http://wiki.openstreetmap.org/wiki/API"},{"$f":"IFERROR(__xludf.DUMMYFUNCTION(\"\"\"COMPUTED_VALUE\"\"\"),\"OSM\")","v":"OSM"},null,null,{"$f":"IFERROR(__xludf.DUMMYFUNCTION(\"\"\"COMPUTED_VALUE\"\"\"),\"en\")","v":"en"}]
[null,{"$f":"IFERROR(__xludf.DUMMYFUNCTION(\"\"\"COMPUTED_VALUE\"\"\"),\"OUS\")","v":"OUS"},{"$f":"IFERROR(__xludf.DUMMYFUNCTION(\"\"\"COMPUTED_VALUE\"\"\"),\"http://www.opengeospatial.org/standards/ols#ous\")","v":"http://www.opengeospatial.org/standards/ols#ous"},{"$f":"IFERROR(__xludf.DUMMYFUNCTION(\"\"\"COMPUTED_VALUE\"\"\"),\"OUS\")","v":"OUS"},null,null,{"$f":"IFERROR(__xludf.DUMMYFUNCTION(\"\"\"COMPUTED_VALUE\"\"\"),\"en\")","v":"en"}]
[{"$f":"IFERROR(__xludf.DUMMYFUNCTION(\"\"\"COMPUTED_VALUE\"\"\"),\"http://publications.europa.eu/resource/authority/file-type/OVF\")","v":"http://publications.europa.eu/resource/authority/file-type/OVF"},{"$f":"IFERROR(__xludf.DUMMYFUNCTION(\"\"\"COMPUTED_VALUE\"\"\"),\"OVF\")","v":"OVF"},null,{"$f":"IFERROR(__xludf.DUMMYFUNCTION(\"\"\"COMPUTED_VALUE\"\"\"),\"OVF\")","v":"OVF"},null,{"$f":"IFERROR(__xludf.DUMMYFUNCTION(\"\"\"COMPUTED_VALUE\"\"\"),\".ovf\")","v":".ovf"},{"$f":"IFERROR(__xludf.DUMMYFUNCTION(\"\"\"COMPUTED_VALUE\"\"\"),\"en\")","v":"en"}]
[null,{"$f":"IFERROR(__xludf.DUMMYFUNCTION(\"\"\"COMPUTED_VALUE\"\"\"),\"OWC\")","v":"OWC"},{"$f":"IFERROR(__xludf.DUMMYFUNCTION(\"\"\"COMPUTED_VALUE\"\"\"),\"http://www.opengeospatial.org/standards/owc\")","v":"http://www.opengeospatial.org/standards/owc"},{"$f":"IFERROR(__xludf.DUMMYFUNCTION(\"\"\"COMPUTED_VALUE\"\"\"),\"OWC\")","v":"OWC"},null,null,{"$f":"IFERROR(__xludf.DUMMYFUNCTION(\"\"\"COMPUTED_VALUE\"\"\"),\"en\")","v":"en"}]
[{"$f":"IFERROR(__xludf.DUMMYFUNCTION(\"\"\"COMPUTED_VALUE\"\"\"),\"http://publications.europa.eu/resource/authority/file-type/OWL\")","v":"http://publications.europa.eu/resource/authority/file-type/OWL"},{"$f":"IFERROR(__xludf.DUMMYFUNCTION(\"\"\"COMPUTED_VALUE\"\"\"),\"OWL\")","v":"OWL"},{"$f":"IFERROR(__xludf.DUMMYFUNCTION(\"\"\"COMPUTED_VALUE\"\"\"),\"https://www.iana.org/assignments/media-types/application/rdf+xml\")","v":"https://www.iana.org/assignments/media-types/application/rdf+xml"},{"$f":"IFERROR(__xludf.DUMMYFUNCTION(\"\"\"COMPUTED_VALUE\"\"\"),\"OWL\")","v":"OWL"},null,{"$f":"IFERROR(__xludf.DUMMYFUNCTION(\"\"\"COMPUTED_VALUE\"\"\"),\".owl\")","v":".owl"},{"$f":"IFERROR(__xludf.DUMMYFUNCTION(\"\"\"COMPUTED_VALUE\"\"\"),\"en\")","v":"en"}]
[{"$f":"IFERROR(__xludf.DUMMYFUNCTION(\"\"\"COMPUTED_VALUE\"\"\"),\"http://publications.europa.eu/resource/authority/file-type/PDF\")","v":"http://publications.europa.eu/resource/authority/file-type/PDF"},{"$f":"IFERROR(__xludf.DUMMYFUNCTION(\"\"\"COMPUTED_VALUE\"\"\"),\"PDF\")","v":"PDF"},{"$f":"IFERROR(__xludf.DUMMYFUNCTION(\"\"\"COMPUTED_VALUE\"\"\"),\"https://www.iana.org/assignments/media-types/application/pdf\")","v":"https://www.iana.org/assignments/media-types/application/pdf"},{"$f":"IFERROR(__xludf.DUMMYFUNCTION(\"\"\"COMPUTED_VALUE\"\"\"),\"PDF\")","v":"PDF"},null,{"$f":"IFERROR(__xludf.DUMMYFUNCTION(\"\"\"COMPUTED_VALUE\"\"\"),\".pdf\")","v":".pdf"},{"$f":"IFERROR(__xludf.DUMMYFUNCTION(\"\"\"COMPUTED_VALUE\"\"\"),\"en\")","v":"en"}]
[{"$f":"IFERROR(__xludf.DUMMYFUNCTION(\"\"\"COMPUTED_VALUE\"\"\"),\"http://publications.europa.eu/resource/authority/file-type/PDF1X\")","v":"http://publications.europa.eu/resource/authority/file-type/PDF1X"},{"$f":"IFERROR(__xludf.DUMMYFUNCTION(\"\"\"COMPUTED_VALUE\"\"\"),\"PDF1X\")","v":"PDF1X"},null,{"$f":"IFERROR(__xludf.DUMMYFUNCTION(\"\"\"COMPUTED_VALUE\"\"\"),\"PDF1X\")","v":"PDF1X"},null,{"$f":"IFERROR(__xludf.DUMMYFUNCTION(\"\"\"COMPUTED_VALUE\"\"\"),\".pdf\")","v":".pdf"},{"$f":"IFERROR(__xludf.DUMMYFUNCTION(\"\"\"COMPUTED_VALUE\"\"\"),\"en\")","v":"en"}]
[{"$f":"IFERROR(__xludf.DUMMYFUNCTION(\"\"\"COMPUTED_VALUE\"\"\"),\"http://publications.europa.eu/resource/authority/file-type/PDFA1A\")","v":"http://publications.europa.eu/resource/authority/file-type/PDFA1A"},{"$f":"IFERROR(__xludf.DUMMYFUNCTION(\"\"\"COMPUTED_VALUE\"\"\"),\"PDFA1A\")","v":"PDFA1A"},null,{"$f":"IFERROR(__xludf.DUMMYFUNCTION(\"\"\"COMPUTED_VALUE\"\"\"),\"PDFA1A\")","v":"PDFA1A"},null,{"$f":"IFERROR(__xludf.DUMMYFUNCTION(\"\"\"COMPUTED_VALUE\"\"\"),\".pdf\")","v":".pdf"},{"$f":"IFERROR(__xludf.DUMMYFUNCTION(\"\"\"COMPUTED_VALUE\"\"\"),\"en\")","v":"en"}]
[{"$f":"IFERROR(__xludf.DUMMYFUNCTION(\"\"\"COMPUTED_VALUE\"\"\"),\"http://publications.europa.eu/resource/authority/file-type/PDFA1B\")","v":"http://publications.europa.eu/resource/authority/file-type/PDFA1B"},{"$f":"IFERROR(__xludf.DUMMYFUNCTION(\"\"\"COMPUTED_VALUE\"\"\"),\"PDFA1B\")","v":"PDFA1B"},null,{"$f":"IFERROR(__xludf.DUMMYFUNCTION(\"\"\"COMPUTED_VALUE\"\"\"),\"PDFA1B\")","v":"PDFA1B"},null,{"$f":"IFERROR(__xludf.DUMMYFUNCTION(\"\"\"COMPUTED_VALUE\"\"\"),\".pdf\")","v":".pdf"},{"$f":"IFERROR(__xludf.DUMMYFUNCTION(\"\"\"COMPUTED_VALUE\"\"\"),\"en\")","v":"en"}]
[{"$f":"IFERROR(__xludf.DUMMYFUNCTION(\"\"\"COMPUTED_VALUE\"\"\"),\"http://publications.europa.eu/resource/authority/file-type/PDFA2A\")","v":"http://publications.europa.eu/resource/authority/file-type/PDFA2A"},{"$f":"IFERROR(__xludf.DUMMYFUNCTION(\"\"\"COMPUTED_VALUE\"\"\"),\"PDFA2A\")","v":"PDFA2A"},null,{"$f":"IFERROR(__xludf.DUMMYFUNCTION(\"\"\"COMPUTED_VALUE\"\"\"),\"PDFA2A\")","v":"PDFA2A"},null,{"$f":"IFERROR(__xludf.DUMMYFUNCTION(\"\"\"COMPUTED_VALUE\"\"\"),\".pdf\")","v":".pdf"},{"$f":"IFERROR(__xludf.DUMMYFUNCTION(\"\"\"COMPUTED_VALUE\"\"\"),\"en\")","v":"en"}]
[{"$f":"IFERROR(__xludf.DUMMYFUNCTION(\"\"\"COMPUTED_VALUE\"\"\"),\"http://publications.europa.eu/resource/authority/file-type/PDFA2B\")","v":"http://publications.europa.eu/resource/authority/file-type/PDFA2B"},{"$f":"IFERROR(__xludf.DUMMYFUNCTION(\"\"\"COMPUTED_VALUE\"\"\"),\"PDFA2B\")","v":"PDFA2B"},null,{"$f":"IFERROR(__xludf.DUMMYFUNCTION(\"\"\"COMPUTED_VALUE\"\"\"),\"PDFA2B\")","v":"PDFA2B"},null,{"$f":"IFERROR(__xludf.DUMMYFUNCTION(\"\"\"COMPUTED_VALUE\"\"\"),\".pdf\")","v":".pdf"},{"$f":"IFERROR(__xludf.DUMMYFUNCTION(\"\"\"COMPUTED_VALUE\"\"\"),\"en\")","v":"en"}]
[{"$f":"IFERROR(__xludf.DUMMYFUNCTION(\"\"\"COMPUTED_VALUE\"\"\"),\"http://publications.europa.eu/resource/authority/file-type/PDFA3\")","v":"http://publications.europa.eu/resource/authority/file-type/PDFA3"},{"$f":"IFERROR(__xludf.DUMMYFUNCTION(\"\"\"COMPUTED_VALUE\"\"\"),\"PDFA3\")","v":"PDFA3"},null,{"$f":"IFERROR(__xludf.DUMMYFUNCTION(\"\"\"COMPUTED_VALUE\"\"\"),\"PDFA3\")","v":"PDFA3"},null,{"$f":"IFERROR(__xludf.DUMMYFUNCTION(\"\"\"COMPUTED_VALUE\"\"\"),\".pdf\")","v":".pdf"},{"$f":"IFERROR(__xludf.DUMMYFUNCTION(\"\"\"COMPUTED_VALUE\"\"\"),\"en\")","v":"en"}]
[{"$f":"IFERROR(__xludf.DUMMYFUNCTION(\"\"\"COMPUTED_VALUE\"\"\"),\"http://publications.europa.eu/resource/authority/file-type/PDFUA\")","v":"http://publications.europa.eu/resource/authority/file-type/PDFUA"},{"$f":"IFERROR(__xludf.DUMMYFUNCTION(\"\"\"COMPUTED_VALUE\"\"\"),\"PDFUA\")","v":"PDFUA"},null,{"$f":"IFERROR(__xludf.DUMMYFUNCTION(\"\"\"COMPUTED_VALUE\"\"\"),\"PDFUA\")","v":"PDFUA"},null,{"$f":"IFERROR(__xludf.DUMMYFUNCTION(\"\"\"COMPUTED_VALUE\"\"\"),\".pdf\")","v":".pdf"},{"$f":"IFERROR(__xludf.DUMMYFUNCTION(\"\"\"COMPUTED_VALUE\"\"\"),\"en\")","v":"en"}]
[{"$f":"IFERROR(__xludf.DUMMYFUNCTION(\"\"\"COMPUTED_VALUE\"\"\"),\"http://publications.europa.eu/resource/authority/file-type/PDFX\")","v":"http://publications.europa.eu/resource/authority/file-type/PDFX"},{"$f":"IFERROR(__xludf.DUMMYFUNCTION(\"\"\"COMPUTED_VALUE\"\"\"),\"PDFX\")","v":"PDFX"},null,{"$f":"IFERROR(__xludf.DUMMYFUNCTION(\"\"\"COMPUTED_VALUE\"\"\"),\"PDFX\")","v":"PDFX"},null,{"$f":"IFERROR(__xludf.DUMMYFUNCTION(\"\"\"COMPUTED_VALUE\"\"\"),\".pdf\")","v":".pdf"},{"$f":"IFERROR(__xludf.DUMMYFUNCTION(\"\"\"COMPUTED_VALUE\"\"\"),\"en\")","v":"en"}]
[{"$f":"IFERROR(__xludf.DUMMYFUNCTION(\"\"\"COMPUTED_VALUE\"\"\"),\"http://publications.europa.eu/resource/authority/file-type/PDFX1A\")","v":"http://publications.europa.eu/resource/authority/file-type/PDFX1A"},{"$f":"IFERROR(__xludf.DUMMYFUNCTION(\"\"\"COMPUTED_VALUE\"\"\"),\"PDFX1A\")","v":"PDFX1A"},null,{"$f":"IFERROR(__xludf.DUMMYFUNCTION(\"\"\"COMPUTED_VALUE\"\"\"),\"PDFX1A\")","v":"PDFX1A"},null,{"$f":"IFERROR(__xludf.DUMMYFUNCTION(\"\"\"COMPUTED_VALUE\"\"\"),\".pdf\")","v":".pdf"},{"$f":"IFERROR(__xludf.DUMMYFUNCTION(\"\"\"COMPUTED_VALUE\"\"\"),\"en\")","v":"en"}]
[{"$f":"IFERROR(__xludf.DUMMYFUNCTION(\"\"\"COMPUTED_VALUE\"\"\"),\"http://publications.europa.eu/resource/authority/file-type/PDFX2A\")","v":"http://publications.europa.eu/resource/authority/file-type/PDFX2A"},{"$f":"IFERROR(__xludf.DUMMYFUNCTION(\"\"\"COMPUTED_VALUE\"\"\"),\"PDFX2A\")","v":"PDFX2A"},null,{"$f":"IFERROR(__xludf.DUMMYFUNCTION(\"\"\"COMPUTED_VALUE\"\"\"),\"PDFX2A\")","v":"PDFX2A"},null,{"$f":"IFERROR(__xludf.DUMMYFUNCTION(\"\"\"COMPUTED_VALUE\"\"\"),\".pdf\")","v":".pdf"},{"$f":"IFERROR(__xludf.DUMMYFUNCTION(\"\"\"COMPUTED_VALUE\"\"\"),\"en\")","v":"en"}]
[{"$f":"IFERROR(__xludf.DUMMYFUNCTION(\"\"\"COMPUTED_VALUE\"\"\"),\"http://publications.europa.eu/resource/authority/file-type/PDFX4\")","v":"http://publications.europa.eu/resource/authority/file-type/PDFX4"},{"$f":"IFERROR(__xludf.DUMMYFUNCTION(\"\"\"COMPUTED_VALUE\"\"\"),\"PDFX4\")","v":"PDFX4"},null,{"$f":"IFERROR(__xludf.DUMMYFUNCTION(\"\"\"COMPUTED_VALUE\"\"\"),\"PDFX4\")","v":"PDFX4"},null,{"$f":"IFERROR(__xludf.DUMMYFUNCTION(\"\"\"COMPUTED_VALUE\"\"\"),\".pdf\")","v":".pdf"},{"$f":"IFERROR(__xludf.DUMMYFUNCTION(\"\"\"COMPUTED_VALUE\"\"\"),\"en\")","v":"en"}]
[{"$f":"IFERROR(__xludf.DUMMYFUNCTION(\"\"\"COMPUTED_VALUE\"\"\"),\"http://publications.europa.eu/resource/authority/file-type/PL\")","v":"http://publications.europa.eu/resource/authority/file-type/PL"},{"$f":"IFERROR(__xludf.DUMMYFUNCTION(\"\"\"COMPUTED_VALUE\"\"\"),\"PL\")","v":"PL"},null,{"$f":"IFERROR(__xludf.DUMMYFUNCTION(\"\"\"COMPUTED_VALUE\"\"\"),\"PL\")","v":"PL"},null,{"$f":"IFERROR(__xludf.DUMMYFUNCTION(\"\"\"COMPUTED_VALUE\"\"\"),\".pl\")","v":".pl"},{"$f":"IFERROR(__xludf.DUMMYFUNCTION(\"\"\"COMPUTED_VALUE\"\"\"),\"en\")","v":"en"}]
[{"$f":"IFERROR(__xludf.DUMMYFUNCTION(\"\"\"COMPUTED_VALUE\"\"\"),\"http://publications.europa.eu/resource/authority/file-type/PNG\")","v":"http://publications.europa.eu/resource/authority/file-type/PNG"},{"$f":"IFERROR(__xludf.DUMMYFUNCTION(\"\"\"COMPUTED_VALUE\"\"\"),\"PNG\")","v":"PNG"},{"$f":"IFERROR(__xludf.DUMMYFUNCTION(\"\"\"COMPUTED_VALUE\"\"\"),\"https://www.iana.org/assignments/media-types/image/png\")","v":"https://www.iana.org/assignments/media-types/image/png"},{"$f":"IFERROR(__xludf.DUMMYFUNCTION(\"\"\"COMPUTED_VALUE\"\"\"),\"PNG\")","v":"PNG"},null,{"$f":"IFERROR(__xludf.DUMMYFUNCTION(\"\"\"COMPUTED_VALUE\"\"\"),\".png\")","v":".png"},{"$f":"IFERROR(__xludf.DUMMYFUNCTION(\"\"\"COMPUTED_VALUE\"\"\"),\"en\")","v":"en"}]
[null,{"$f":"IFERROR(__xludf.DUMMYFUNCTION(\"\"\"COMPUTED_VALUE\"\"\"),\"POSTGIS\")","v":"POSTGIS"},null,{"$f":"IFERROR(__xludf.DUMMYFUNCTION(\"\"\"COMPUTED_VALUE\"\"\"),\"POSTGIS\")","v":"POSTGIS"},null,null,{"$f":"IFERROR(__xludf.DUMMYFUNCTION(\"\"\"COMPUTED_VALUE\"\"\"),\"en\")","v":"en"}]
[{"$f":"IFERROR(__xludf.DUMMYFUNCTION(\"\"\"COMPUTED_VALUE\"\"\"),\"http://publications.europa.eu/resource/authority/file-type/PPS\")","v":"http://publications.europa.eu/resource/authority/file-type/PPS"},{"$f":"IFERROR(__xludf.DUMMYFUNCTION(\"\"\"COMPUTED_VALUE\"\"\"),\"PPS\")","v":"PPS"},null,{"$f":"IFERROR(__xludf.DUMMYFUNCTION(\"\"\"COMPUTED_VALUE\"\"\"),\"PPS\")","v":"PPS"},null,{"$f":"IFERROR(__xludf.DUMMYFUNCTION(\"\"\"COMPUTED_VALUE\"\"\"),\".pps\")","v":".pps"},{"$f":"IFERROR(__xludf.DUMMYFUNCTION(\"\"\"COMPUTED_VALUE\"\"\"),\"en\")","v":"en"}]
[{"$f":"IFERROR(__xludf.DUMMYFUNCTION(\"\"\"COMPUTED_VALUE\"\"\"),\"http://publications.europa.eu/resource/authority/file-type/PPSX\")","v":"http://publications.europa.eu/resource/authority/file-type/PPSX"},{"$f":"IFERROR(__xludf.DUMMYFUNCTION(\"\"\"COMPUTED_VALUE\"\"\"),\"PPSX\")","v":"PPSX"},null,{"$f":"IFERROR(__xludf.DUMMYFUNCTION(\"\"\"COMPUTED_VALUE\"\"\"),\"PPSX\")","v":"PPSX"},null,{"$f":"IFERROR(__xludf.DUMMYFUNCTION(\"\"\"COMPUTED_VALUE\"\"\"),\".ppsx\")","v":".ppsx"},{"$f":"IFERROR(__xludf.DUMMYFUNCTION(\"\"\"COMPUTED_VALUE\"\"\"),\"en\")","v":"en"}]
[{"$f":"IFERROR(__xludf.DUMMYFUNCTION(\"\"\"COMPUTED_VALUE\"\"\"),\"http://publications.europa.eu/resource/authority/file-type/PPT\")","v":"http://publications.europa.eu/resource/authority/file-type/PPT"},{"$f":"IFERROR(__xludf.DUMMYFUNCTION(\"\"\"COMPUTED_VALUE\"\"\"),\"PPT\")","v":"PPT"},{"$f":"IFERROR(__xludf.DUMMYFUNCTION(\"\"\"COMPUTED_VALUE\"\"\"),\"https://www.iana.org/assignments/media-types/application/vnd.ms-powerpoint\")","v":"https://www.iana.org/assignments/media-types/application/vnd.ms-powerpoint"},{"$f":"IFERROR(__xludf.DUMMYFUNCTION(\"\"\"COMPUTED_VALUE\"\"\"),\"PPT\")","v":"PPT"},null,{"$f":"IFERROR(__xludf.DUMMYFUNCTION(\"\"\"COMPUTED_VALUE\"\"\"),\".ppt\")","v":".ppt"},{"$f":"IFERROR(__xludf.DUMMYFUNCTION(\"\"\"COMPUTED_VALUE\"\"\"),\"en\")","v":"en"}]
[{"$f":"IFERROR(__xludf.DUMMYFUNCTION(\"\"\"COMPUTED_VALUE\"\"\"),\"http://publications.europa.eu/resource/authority/file-type/PPTX\")","v":"http://publications.europa.eu/resource/authority/file-type/PPTX"},{"$f":"IFERROR(__xludf.DUMMYFUNCTION(\"\"\"COMPUTED_VALUE\"\"\"),\"PPTX\")","v":"PPTX"},{"$f":"IFERROR(__xludf.DUMMYFUNCTION(\"\"\"COMPUTED_VALUE\"\"\"),\"https://www.iana.org/assignments/media-types/application/vnd.openxmlformats-officedocument.presentationml.presentation\")","v":"https://www.iana.org/assignments/media-types/application/vnd.openxmlformats-officedocument.presentationml.presentation"},{"$f":"IFERROR(__xludf.DUMMYFUNCTION(\"\"\"COMPUTED_VALUE\"\"\"),\"PPTX\")","v":"PPTX"},null,{"$f":"IFERROR(__xludf.DUMMYFUNCTION(\"\"\"COMPUTED_VALUE\"\"\"),\".pptx\")","v":".pptx"},{"$f":"IFERROR(__xludf.DUMMYFUNCTION(\"\"\"COMPUTED_VALUE\"\"\"),\"en\")","v":"en"}]
[null,{"$f":"IFERROR(__xludf.DUMMYFUNCTION(\"\"\"COMPUTED_VALUE\"\"\"),\"PROTOCOL-BUFFERS\")","v":"PROTOCOL-BUFFERS"},{"$f":"IFERROR(__xludf.DUMMYFUNCTION(\"\"\"COMPUTED_VALUE\"\"\"),\"https://developers.google.com/protocol-buffers\")","v":"https://developers.google.com/protocol-buffers"},{"$f":"IFERROR(__xludf.DUMMYFUNCTION(\"\"\"COMPUTED_VALUE\"\"\"),\"PROTOCOL-BUFFERS\")","v":"PROTOCOL-BUFFERS"},null,null,{"$f":"IFERROR(__xludf.DUMMYFUNCTION(\"\"\"COMPUTED_VALUE\"\"\"),\"en\")","v":"en"}]
[{"$f":"IFERROR(__xludf.DUMMYFUNCTION(\"\"\"COMPUTED_VALUE\"\"\"),\"http://publications.europa.eu/resource/authority/file-type/PS\")","v":"http://publications.europa.eu/resource/authority/file-type/PS"},{"$f":"IFERROR(__xludf.DUMMYFUNCTION(\"\"\"COMPUTED_VALUE\"\"\"),\"PS\")","v":"PS"},null,{"$f":"IFERROR(__xludf.DUMMYFUNCTION(\"\"\"COMPUTED_VALUE\"\"\"),\"PS\")","v":"PS"},null,{"$f":"IFERROR(__xludf.DUMMYFUNCTION(\"\"\"COMPUTED_VALUE\"\"\"),\".ps\")","v":".ps"},{"$f":"IFERROR(__xludf.DUMMYFUNCTION(\"\"\"COMPUTED_VALUE\"\"\"),\"en\")","v":"en"}]
[{"$f":"IFERROR(__xludf.DUMMYFUNCTION(\"\"\"COMPUTED_VALUE\"\"\"),\"http://publications.europa.eu/resource/authority/file-type/PSD\")","v":"http://publications.europa.eu/resource/authority/file-type/PSD"},{"$f":"IFERROR(__xludf.DUMMYFUNCTION(\"\"\"COMPUTED_VALUE\"\"\"),\"PSD\")","v":"PSD"},null,{"$f":"IFERROR(__xludf.DUMMYFUNCTION(\"\"\"COMPUTED_VALUE\"\"\"),\"PSD\")","v":"PSD"},null,{"$f":"IFERROR(__xludf.DUMMYFUNCTION(\"\"\"COMPUTED_VALUE\"\"\"),\".psd\")","v":".psd"},{"$f":"IFERROR(__xludf.DUMMYFUNCTION(\"\"\"COMPUTED_VALUE\"\"\"),\"en\")","v":"en"}]
[{"$f":"IFERROR(__xludf.DUMMYFUNCTION(\"\"\"COMPUTED_VALUE\"\"\"),\"http://publications.europa.eu/resource/authority/file-type/PWP\")","v":"http://publications.europa.eu/resource/authority/file-type/PWP"},{"$f":"IFERROR(__xludf.DUMMYFUNCTION(\"\"\"COMPUTED_VALUE\"\"\"),\"PWP\")","v":"PWP"},null,{"$f":"IFERROR(__xludf.DUMMYFUNCTION(\"\"\"COMPUTED_VALUE\"\"\"),\"PWP\")","v":"PWP"},null,{"$f":"IFERROR(__xludf.DUMMYFUNCTION(\"\"\"COMPUTED_VALUE\"\"\"),\"-\")","v":"-"},{"$f":"IFERROR(__xludf.DUMMYFUNCTION(\"\"\"COMPUTED_VALUE\"\"\"),\"en\")","v":"en"}]
[{"$f":"IFERROR(__xludf.DUMMYFUNCTION(\"\"\"COMPUTED_VALUE\"\"\"),\"http://publications.europa.eu/resource/authority/file-type/QGS\")","v":"http://publications.europa.eu/resource/authority/file-type/QGS"},{"$f":"IFERROR(__xludf.DUMMYFUNCTION(\"\"\"COMPUTED_VALUE\"\"\"),\"QGS\")","v":"QGS"},null,{"$f":"IFERROR(__xludf.DUMMYFUNCTION(\"\"\"COMPUTED_VALUE\"\"\"),\"QGS\")","v":"QGS"},null,{"$f":"IFERROR(__xludf.DUMMYFUNCTION(\"\"\"COMPUTED_VALUE\"\"\"),\".qgs\")","v":".qgs"},{"$f":"IFERROR(__xludf.DUMMYFUNCTION(\"\"\"COMPUTED_VALUE\"\"\"),\"en\")","v":"en"}]
[null,{"$f":"IFERROR(__xludf.DUMMYFUNCTION(\"\"\"COMPUTED_VALUE\"\"\"),\"QUAKEML1.2\")","v":"QUAKEML1.2"},{"$f":"IFERROR(__xludf.DUMMYFUNCTION(\"\"\"COMPUTED_VALUE\"\"\"),\"http://quakeml.org /xmlns /quakeml/1.2\")","v":"http://quakeml.org /xmlns /quakeml/1.2"},{"$f":"IFERROR(__xludf.DUMMYFUNCTION(\"\"\"COMPUTED_VALUE\"\"\"),\"QUAKEML1.2\")","v":"QUAKEML1.2"},null,null,{"$f":"IFERROR(__xludf.DUMMYFUNCTION(\"\"\"COMPUTED_VALUE\"\"\"),\"en\")","v":"en"}]
[{"$f":"IFERROR(__xludf.DUMMYFUNCTION(\"\"\"COMPUTED_VALUE\"\"\"),\"http://publications.europa.eu/resource/authority/file-type/RAR\")","v":"http://publications.europa.eu/resource/authority/file-type/RAR"},{"$f":"IFERROR(__xludf.DUMMYFUNCTION(\"\"\"COMPUTED_VALUE\"\"\"),\"RAR\")","v":"RAR"},{"$f":"IFERROR(__xludf.DUMMYFUNCTION(\"\"\"COMPUTED_VALUE\"\"\"),\"https://www.iana.org/assignments/media-types/application/vnd.rar\")","v":"https://www.iana.org/assignments/media-types/application/vnd.rar"},{"$f":"IFERROR(__xludf.DUMMYFUNCTION(\"\"\"COMPUTED_VALUE\"\"\"),\"RAR\")","v":"RAR"},null,{"$f":"IFERROR(__xludf.DUMMYFUNCTION(\"\"\"COMPUTED_VALUE\"\"\"),\".rar\")","v":".rar"},{"$f":"IFERROR(__xludf.DUMMYFUNCTION(\"\"\"COMPUTED_VALUE\"\"\"),\"en\")","v":"en"}]
[null,{"$f":"IFERROR(__xludf.DUMMYFUNCTION(\"\"\"COMPUTED_VALUE\"\"\"),\"RASTER\")","v":"RASTER"},null,{"$f":"IFERROR(__xludf.DUMMYFUNCTION(\"\"\"COMPUTED_VALUE\"\"\"),\"RASTER\")","v":"RASTER"},null,null,{"$f":"IFERROR(__xludf.DUMMYFUNCTION(\"\"\"COMPUTED_VALUE\"\"\"),\"en\")","v":"en"}]
[{"$f":"IFERROR(__xludf.DUMMYFUNCTION(\"\"\"COMPUTED_VALUE\"\"\"),\"http://publications.europa.eu/resource/authority/file-type/RDF\")","v":"http://publications.europa.eu/resource/authority/file-type/RDF"},{"$f":"IFERROR(__xludf.DUMMYFUNCTION(\"\"\"COMPUTED_VALUE\"\"\"),\"RDF\")","v":"RDF"},{"$f":"IFERROR(__xludf.DUMMYFUNCTION(\"\"\"COMPUTED_VALUE\"\"\"),\"https://www.iana.org/assignments/media-types/application/rdf+xml\")","v":"https://www.iana.org/assignments/media-types/application/rdf+xml"},{"$f":"IFERROR(__xludf.DUMMYFUNCTION(\"\"\"COMPUTED_VALUE\"\"\"),\"RDF\")","v":"RDF"},null,{"$f":"IFERROR(__xludf.DUMMYFUNCTION(\"\"\"COMPUTED_VALUE\"\"\"),\".rdf\")","v":".rdf"},{"$f":"IFERROR(__xludf.DUMMYFUNCTION(\"\"\"COMPUTED_VALUE\"\"\"),\"en\")","v":"en"}]
[{"$f":"IFERROR(__xludf.DUMMYFUNCTION(\"\"\"COMPUTED_VALUE\"\"\"),\"http://publications.europa.eu/resource/authority/file-type/RDF_N_QUADS\")","v":"http://publications.europa.eu/resource/authority/file-type/RDF_N_QUADS"},{"$f":"IFERROR(__xludf.DUMMYFUNCTION(\"\"\"COMPUTED_VALUE\"\"\"),\"RDF_N_QUADS\")","v":"RDF_N_QUADS"},null,{"$f":"IFERROR(__xludf.DUMMYFUNCTION(\"\"\"COMPUTED_VALUE\"\"\"),\"RDF_N_QUADS\")","v":"RDF_N_QUADS"},null,{"$f":"IFERROR(__xludf.DUMMYFUNCTION(\"\"\"COMPUTED_VALUE\"\"\"),\".nq\")","v":".nq"},{"$f":"IFERROR(__xludf.DUMMYFUNCTION(\"\"\"COMPUTED_VALUE\"\"\"),\"en\")","v":"en"}]
[{"$f":"IFERROR(__xludf.DUMMYFUNCTION(\"\"\"COMPUTED_VALUE\"\"\"),\"http://publications.europa.eu/resource/authority/file-type/RDF_N_TRIPLES\")","v":"http://publications.europa.eu/resource/authority/file-type/RDF_N_TRIPLES"},{"$f":"IFERROR(__xludf.DUMMYFUNCTION(\"\"\"COMPUTED_VALUE\"\"\"),\"RDF_N_TRIPLES\")","v":"RDF_N_TRIPLES"},{"$f":"IFERROR(__xludf.DUMMYFUNCTION(\"\"\"COMPUTED_VALUE\"\"\"),\"https://www.iana.org/assignments/media-types/application/n-triples\")","v":"https://www.iana.org/assignments/media-types/application/n-triples"},{"$f":"IFERROR(__xludf.DUMMYFUNCTION(\"\"\"COMPUTED_VALUE\"\"\"),\"RDF_N_TRIPLES\")","v":"RDF_N_TRIPLES"},null,{"$f":"IFERROR(__xludf.DUMMYFUNCTION(\"\"\"COMPUTED_VALUE\"\"\"),\".nt\")","v":".nt"},{"$f":"IFERROR(__xludf.DUMMYFUNCTION(\"\"\"COMPUTED_VALUE\"\"\"),\"en\")","v":"en"}]
[{"$f":"IFERROR(__xludf.DUMMYFUNCTION(\"\"\"COMPUTED_VALUE\"\"\"),\"http://publications.europa.eu/resource/authority/file-type/RDF_THRIFT\")","v":"http://publications.europa.eu/resource/authority/file-type/RDF_THRIFT"},{"$f":"IFERROR(__xludf.DUMMYFUNCTION(\"\"\"COMPUTED_VALUE\"\"\"),\"RDF_THRIFT\")","v":"RDF_THRIFT"},null,{"$f":"IFERROR(__xludf.DUMMYFUNCTION(\"\"\"COMPUTED_VALUE\"\"\"),\"RDF_THRIFT\")","v":"RDF_THRIFT"},null,{"$f":"IFERROR(__xludf.DUMMYFUNCTION(\"\"\"COMPUTED_VALUE\"\"\"),\".rt\")","v":".rt"},{"$f":"IFERROR(__xludf.DUMMYFUNCTION(\"\"\"COMPUTED_VALUE\"\"\"),\"en\")","v":"en"}]
[{"$f":"IFERROR(__xludf.DUMMYFUNCTION(\"\"\"COMPUTED_VALUE\"\"\"),\"http://publications.europa.eu/resource/authority/file-type/RDF_TRIG\")","v":"http://publications.europa.eu/resource/authority/file-type/RDF_TRIG"},{"$f":"IFERROR(__xludf.DUMMYFUNCTION(\"\"\"COMPUTED_VALUE\"\"\"),\"RDF_TRIG\")","v":"RDF_TRIG"},null,{"$f":"IFERROR(__xludf.DUMMYFUNCTION(\"\"\"COMPUTED_VALUE\"\"\"),\"RDF_TRIG\")","v":"RDF_TRIG"},null,{"$f":"IFERROR(__xludf.DUMMYFUNCTION(\"\"\"COMPUTED_VALUE\"\"\"),\".trig\")","v":".trig"},{"$f":"IFERROR(__xludf.DUMMYFUNCTION(\"\"\"COMPUTED_VALUE\"\"\"),\"en\")","v":"en"}]
[{"$f":"IFERROR(__xludf.DUMMYFUNCTION(\"\"\"COMPUTED_VALUE\"\"\"),\"http://publications.europa.eu/resource/authority/file-type/RDF_TRIX\")","v":"http://publications.europa.eu/resource/authority/file-type/RDF_TRIX"},{"$f":"IFERROR(__xludf.DUMMYFUNCTION(\"\"\"COMPUTED_VALUE\"\"\"),\"RDF_TRIX\")","v":"RDF_TRIX"},null,{"$f":"IFERROR(__xludf.DUMMYFUNCTION(\"\"\"COMPUTED_VALUE\"\"\"),\"RDF_TRIX\")","v":"RDF_TRIX"},null,{"$f":"IFERROR(__xludf.DUMMYFUNCTION(\"\"\"COMPUTED_VALUE\"\"\"),\".xml\")","v":".xml"},{"$f":"IFERROR(__xludf.DUMMYFUNCTION(\"\"\"COMPUTED_VALUE\"\"\"),\"en\")","v":"en"}]
[{"$f":"IFERROR(__xludf.DUMMYFUNCTION(\"\"\"COMPUTED_VALUE\"\"\"),\"http://publications.europa.eu/resource/authority/file-type/RDF_TURTLE\")","v":"http://publications.europa.eu/resource/authority/file-type/RDF_TURTLE"},{"$f":"IFERROR(__xludf.DUMMYFUNCTION(\"\"\"COMPUTED_VALUE\"\"\"),\"RDF_TURTLE\")","v":"RDF_TURTLE"},{"$f":"IFERROR(__xludf.DUMMYFUNCTION(\"\"\"COMPUTED_VALUE\"\"\"),\"https://www.iana.org/assignments/media-types/text/turtle\")","v":"https://www.iana.org/assignments/media-types/text/turtle"},{"$f":"IFERROR(__xludf.DUMMYFUNCTION(\"\"\"COMPUTED_VALUE\"\"\"),\"RDF_TURTLE\")","v":"RDF_TURTLE"},null,{"$f":"IFERROR(__xludf.DUMMYFUNCTION(\"\"\"COMPUTED_VALUE\"\"\"),\".ttl\")","v":".ttl"},{"$f":"IFERROR(__xludf.DUMMYFUNCTION(\"\"\"COMPUTED_VALUE\"\"\"),\"en\")","v":"en"}]
[{"$f":"IFERROR(__xludf.DUMMYFUNCTION(\"\"\"COMPUTED_VALUE\"\"\"),\"http://publications.europa.eu/resource/authority/file-type/RDF_XML\")","v":"http://publications.europa.eu/resource/authority/file-type/RDF_XML"},{"$f":"IFERROR(__xludf.DUMMYFUNCTION(\"\"\"COMPUTED_VALUE\"\"\"),\"RDF_XML\")","v":"RDF_XML"},{"$f":"IFERROR(__xludf.DUMMYFUNCTION(\"\"\"COMPUTED_VALUE\"\"\"),\"https://www.iana.org/assignments/media-types/application/rdf+xml\")","v":"https://www.iana.org/assignments/media-types/application/rdf+xml"},{"$f":"IFERROR(__xludf.DUMMYFUNCTION(\"\"\"COMPUTED_VALUE\"\"\"),\"RDF_XML\")","v":"RDF_XML"},null,{"$f":"IFERROR(__xludf.DUMMYFUNCTION(\"\"\"COMPUTED_VALUE\"\"\"),\".rdf\")","v":".rdf"},{"$f":"IFERROR(__xludf.DUMMYFUNCTION(\"\"\"COMPUTED_VALUE\"\"\"),\"en\")","v":"en"}]
[{"$f":"IFERROR(__xludf.DUMMYFUNCTION(\"\"\"COMPUTED_VALUE\"\"\"),\"http://publications.europa.eu/resource/authority/file-type/RDFA\")","v":"http://publications.europa.eu/resource/authority/file-type/RDFA"},{"$f":"IFERROR(__xludf.DUMMYFUNCTION(\"\"\"COMPUTED_VALUE\"\"\"),\"RDFA\")","v":"RDFA"},{"$f":"IFERROR(__xludf.DUMMYFUNCTION(\"\"\"COMPUTED_VALUE\"\"\"),\"https://www.iana.org/assignments/media-types/application/xhtml+xml\")","v":"https://www.iana.org/assignments/media-types/application/xhtml+xml"},{"$f":"IFERROR(__xludf.DUMMYFUNCTION(\"\"\"COMPUTED_VALUE\"\"\"),\"RDFA\")","v":"RDFA"},null,{"$f":"IFERROR(__xludf.DUMMYFUNCTION(\"\"\"COMPUTED_VALUE\"\"\"),\".rdfa\")","v":".rdfa"},{"$f":"IFERROR(__xludf.DUMMYFUNCTION(\"\"\"COMPUTED_VALUE\"\"\"),\"en\")","v":"en"}]
[{"$f":"IFERROR(__xludf.DUMMYFUNCTION(\"\"\"COMPUTED_VALUE\"\"\"),\"http://publications.europa.eu/resource/authority/file-type/REST\")","v":"http://publications.europa.eu/resource/authority/file-type/REST"},{"$f":"IFERROR(__xludf.DUMMYFUNCTION(\"\"\"COMPUTED_VALUE\"\"\"),\"REST\")","v":"REST"},null,{"$f":"IFERROR(__xludf.DUMMYFUNCTION(\"\"\"COMPUTED_VALUE\"\"\"),\"REST\")","v":"REST"},null,{"$f":"IFERROR(__xludf.DUMMYFUNCTION(\"\"\"COMPUTED_VALUE\"\"\"),\"-\")","v":"-"},{"$f":"IFERROR(__xludf.DUMMYFUNCTION(\"\"\"COMPUTED_VALUE\"\"\"),\"en\")","v":"en"}]
[{"$f":"IFERROR(__xludf.DUMMYFUNCTION(\"\"\"COMPUTED_VALUE\"\"\"),\"http://publications.europa.eu/resource/authority/file-type/RPM\")","v":"http://publications.europa.eu/resource/authority/file-type/RPM"},{"$f":"IFERROR(__xludf.DUMMYFUNCTION(\"\"\"COMPUTED_VALUE\"\"\"),\"RPM\")","v":"RPM"},null,{"$f":"IFERROR(__xludf.DUMMYFUNCTION(\"\"\"COMPUTED_VALUE\"\"\"),\"RPM\")","v":"RPM"},null,{"$f":"IFERROR(__xludf.DUMMYFUNCTION(\"\"\"COMPUTED_VALUE\"\"\"),\".rpm\")","v":".rpm"},{"$f":"IFERROR(__xludf.DUMMYFUNCTION(\"\"\"COMPUTED_VALUE\"\"\"),\"en\")","v":"en"}]
[{"$f":"IFERROR(__xludf.DUMMYFUNCTION(\"\"\"COMPUTED_VALUE\"\"\"),\"http://publications.europa.eu/resource/authority/file-type/RSS\")","v":"http://publications.europa.eu/resource/authority/file-type/RSS"},{"$f":"IFERROR(__xludf.DUMMYFUNCTION(\"\"\"COMPUTED_VALUE\"\"\"),\"RSS\")","v":"RSS"},null,{"$f":"IFERROR(__xludf.DUMMYFUNCTION(\"\"\"COMPUTED_VALUE\"\"\"),\"RSS\")","v":"RSS"},null,{"$f":"IFERROR(__xludf.DUMMYFUNCTION(\"\"\"COMPUTED_VALUE\"\"\"),\".rss\")","v":".rss"},{"$f":"IFERROR(__xludf.DUMMYFUNCTION(\"\"\"COMPUTED_VALUE\"\"\"),\"en\")","v":"en"}]
[{"$f":"IFERROR(__xludf.DUMMYFUNCTION(\"\"\"COMPUTED_VALUE\"\"\"),\"http://publications.europa.eu/resource/authority/file-type/RTF\")","v":"http://publications.europa.eu/resource/authority/file-type/RTF"},{"$f":"IFERROR(__xludf.DUMMYFUNCTION(\"\"\"COMPUTED_VALUE\"\"\"),\"RTF\")","v":"RTF"},{"$f":"IFERROR(__xludf.DUMMYFUNCTION(\"\"\"COMPUTED_VALUE\"\"\"),\"https://www.iana.org/assignments/media-types/application/rtf\")","v":"https://www.iana.org/assignments/media-types/application/rtf"},{"$f":"IFERROR(__xludf.DUMMYFUNCTION(\"\"\"COMPUTED_VALUE\"\"\"),\"RTF\")","v":"RTF"},null,{"$f":"IFERROR(__xludf.DUMMYFUNCTION(\"\"\"COMPUTED_VALUE\"\"\"),\".rtf\")","v":".rtf"},{"$f":"IFERROR(__xludf.DUMMYFUNCTION(\"\"\"COMPUTED_VALUE\"\"\"),\"en\")","v":"en"}]
[null,{"$f":"IFERROR(__xludf.DUMMYFUNCTION(\"\"\"COMPUTED_VALUE\"\"\"),\"S3\")","v":"S3"},{"$f":"IFERROR(__xludf.DUMMYFUNCTION(\"\"\"COMPUTED_VALUE\"\"\"),\"https://aws.amazon.com/documentation/s3/\")","v":"https://aws.amazon.com/documentation/s3/"},{"$f":"IFERROR(__xludf.DUMMYFUNCTION(\"\"\"COMPUTED_VALUE\"\"\"),\"S3\")","v":"S3"},null,null,{"$f":"IFERROR(__xludf.DUMMYFUNCTION(\"\"\"COMPUTED_VALUE\"\"\"),\"en\")","v":"en"}]
[null,{"$f":"IFERROR(__xludf.DUMMYFUNCTION(\"\"\"COMPUTED_VALUE\"\"\"),\"SAS\")","v":"SAS"},{"$f":"IFERROR(__xludf.DUMMYFUNCTION(\"\"\"COMPUTED_VALUE\"\"\"),\"http://www.ogcnetwork.net/SAS\")","v":"http://www.ogcnetwork.net/SAS"},{"$f":"IFERROR(__xludf.DUMMYFUNCTION(\"\"\"COMPUTED_VALUE\"\"\"),\"SAS\")","v":"SAS"},null,null,{"$f":"IFERROR(__xludf.DUMMYFUNCTION(\"\"\"COMPUTED_VALUE\"\"\"),\"en\")","v":"en"}]
[{"$f":"IFERROR(__xludf.DUMMYFUNCTION(\"\"\"COMPUTED_VALUE\"\"\"),\"http://publications.europa.eu/resource/authority/file-type/SB3\")","v":"http://publications.europa.eu/resource/authority/file-type/SB3"},{"$f":"IFERROR(__xludf.DUMMYFUNCTION(\"\"\"COMPUTED_VALUE\"\"\"),\"SB3\")","v":"SB3"},{"$f":"IFERROR(__xludf.DUMMYFUNCTION(\"\"\"COMPUTED_VALUE\"\"\"),\"https://www.iana.org/assignments/media-types/application/sarif+json\")","v":"https://www.iana.org/assignments/media-types/application/sarif+json"},{"$f":"IFERROR(__xludf.DUMMYFUNCTION(\"\"\"COMPUTED_VALUE\"\"\"),\"SB3\")","v":"SB3"},null,{"$f":"IFERROR(__xludf.DUMMYFUNCTION(\"\"\"COMPUTED_VALUE\"\"\"),\".sb3\")","v":".sb3"},{"$f":"IFERROR(__xludf.DUMMYFUNCTION(\"\"\"COMPUTED_VALUE\"\"\"),\"en\")","v":"en"}]
[{"$f":"IFERROR(__xludf.DUMMYFUNCTION(\"\"\"COMPUTED_VALUE\"\"\"),\"http://publications.europa.eu/resource/authority/file-type/SCHEMA_XML\")","v":"http://publications.europa.eu/resource/authority/file-type/SCHEMA_XML"},{"$f":"IFERROR(__xludf.DUMMYFUNCTION(\"\"\"COMPUTED_VALUE\"\"\"),\"SCHEMA_XML\")","v":"SCHEMA_XML"},null,{"$f":"IFERROR(__xludf.DUMMYFUNCTION(\"\"\"COMPUTED_VALUE\"\"\"),\"SCHEMA_XML\")","v":"SCHEMA_XML"},null,{"$f":"IFERROR(__xludf.DUMMYFUNCTION(\"\"\"COMPUTED_VALUE\"\"\"),\".xsd\")","v":".xsd"},{"$f":"IFERROR(__xludf.DUMMYFUNCTION(\"\"\"COMPUTED_VALUE\"\"\"),\"en\")","v":"en"}]
[{"$f":"IFERROR(__xludf.DUMMYFUNCTION(\"\"\"COMPUTED_VALUE\"\"\"),\"http://publications.europa.eu/resource/authority/file-type/SDMX\")","v":"http://publications.europa.eu/resource/authority/file-type/SDMX"},{"$f":"IFERROR(__xludf.DUMMYFUNCTION(\"\"\"COMPUTED_VALUE\"\"\"),\"SDMX\")","v":"SDMX"},null,{"$f":"IFERROR(__xludf.DUMMYFUNCTION(\"\"\"COMPUTED_VALUE\"\"\"),\"SDMX\")","v":"SDMX"},null,{"$f":"IFERROR(__xludf.DUMMYFUNCTION(\"\"\"COMPUTED_VALUE\"\"\"),\".edi\")","v":".edi"},{"$f":"IFERROR(__xludf.DUMMYFUNCTION(\"\"\"COMPUTED_VALUE\"\"\"),\"en\")","v":"en"}]
[null,{"$f":"IFERROR(__xludf.DUMMYFUNCTION(\"\"\"COMPUTED_VALUE\"\"\"),\"SEARCH\")","v":"SEARCH"},null,{"$f":"IFERROR(__xludf.DUMMYFUNCTION(\"\"\"COMPUTED_VALUE\"\"\"),\"SEARCH\")","v":"SEARCH"},null,null,{"$f":"IFERROR(__xludf.DUMMYFUNCTION(\"\"\"COMPUTED_VALUE\"\"\"),\"en\")","v":"en"}]
[null,{"$f":"IFERROR(__xludf.DUMMYFUNCTION(\"\"\"COMPUTED_VALUE\"\"\"),\"SERVICE\")","v":"SERVICE"},null,{"$f":"IFERROR(__xludf.DUMMYFUNCTION(\"\"\"COMPUTED_VALUE\"\"\"),\"SERVICE\")","v":"SERVICE"},null,null,{"$f":"IFERROR(__xludf.DUMMYFUNCTION(\"\"\"COMPUTED_VALUE\"\"\"),\"en\")","v":"en"}]
[{"$f":"IFERROR(__xludf.DUMMYFUNCTION(\"\"\"COMPUTED_VALUE\"\"\"),\"http://publications.europa.eu/resource/authority/file-type/SGML\")","v":"http://publications.europa.eu/resource/authority/file-type/SGML"},{"$f":"IFERROR(__xludf.DUMMYFUNCTION(\"\"\"COMPUTED_VALUE\"\"\"),\"SGML\")","v":"SGML"},{"$f":"IFERROR(__xludf.DUMMYFUNCTION(\"\"\"COMPUTED_VALUE\"\"\"),\"https://www.iana.org/assignments/media-types/application/SGML\")","v":"https://www.iana.org/assignments/media-types/application/SGML"},{"$f":"IFERROR(__xludf.DUMMYFUNCTION(\"\"\"COMPUTED_VALUE\"\"\"),\"SGML\")","v":"SGML"},null,{"$f":"IFERROR(__xludf.DUMMYFUNCTION(\"\"\"COMPUTED_VALUE\"\"\"),\".sgml\")","v":".sgml"},{"$f":"IFERROR(__xludf.DUMMYFUNCTION(\"\"\"COMPUTED_VALUE\"\"\"),\"en\")","v":"en"}]
[{"$f":"IFERROR(__xludf.DUMMYFUNCTION(\"\"\"COMPUTED_VALUE\"\"\"),\"http://publications.europa.eu/resource/authority/file-type/SHP\")","v":"http://publications.europa.eu/resource/authority/file-type/SHP"},{"$f":"IFERROR(__xludf.DUMMYFUNCTION(\"\"\"COMPUTED_VALUE\"\"\"),\"SHP\")","v":"SHP"},{"$f":"IFERROR(__xludf.DUMMYFUNCTION(\"\"\"COMPUTED_VALUE\"\"\"),\"https://www.iana.org/assignments/media-types/application/vnd.shp\")","v":"https://www.iana.org/assignments/media-types/application/vnd.shp"},{"$f":"IFERROR(__xludf.DUMMYFUNCTION(\"\"\"COMPUTED_VALUE\"\"\"),\"SHP\")","v":"SHP"},null,{"$f":"IFERROR(__xludf.DUMMYFUNCTION(\"\"\"COMPUTED_VALUE\"\"\"),\".shp\")","v":".shp"},{"$f":"IFERROR(__xludf.DUMMYFUNCTION(\"\"\"COMPUTED_VALUE\"\"\"),\"en\")","v":"en"}]
[{"$f":"IFERROR(__xludf.DUMMYFUNCTION(\"\"\"COMPUTED_VALUE\"\"\"),\"http://publications.europa.eu/resource/authority/file-type/SKOS_XML\")","v":"http://publications.europa.eu/resource/authority/file-type/SKOS_XML"},{"$f":"IFERROR(__xludf.DUMMYFUNCTION(\"\"\"COMPUTED_VALUE\"\"\"),\"SKOS_XML\")","v":"SKOS_XML"},null,{"$f":"IFERROR(__xludf.DUMMYFUNCTION(\"\"\"COMPUTED_VALUE\"\"\"),\"SKOS_XML\")","v":"SKOS_XML"},null,{"$f":"IFERROR(__xludf.DUMMYFUNCTION(\"\"\"COMPUTED_VALUE\"\"\"),\".rdf\")","v":".rdf"},{"$f":"IFERROR(__xludf.DUMMYFUNCTION(\"\"\"COMPUTED_VALUE\"\"\"),\"en\")","v":"en"}]
[null,{"$f":"IFERROR(__xludf.DUMMYFUNCTION(\"\"\"COMPUTED_VALUE\"\"\"),\"SOS\")","v":"SOS"},{"$f":"IFERROR(__xludf.DUMMYFUNCTION(\"\"\"COMPUTED_VALUE\"\"\"),\"http://www.opengis.net/def/serviceType/ogc/sos\")","v":"http://www.opengis.net/def/serviceType/ogc/sos"},{"$f":"IFERROR(__xludf.DUMMYFUNCTION(\"\"\"COMPUTED_VALUE\"\"\"),\"SOS\")","v":"SOS"},null,null,{"$f":"IFERROR(__xludf.DUMMYFUNCTION(\"\"\"COMPUTED_VALUE\"\"\"),\"en\")","v":"en"}]
[{"$f":"IFERROR(__xludf.DUMMYFUNCTION(\"\"\"COMPUTED_VALUE\"\"\"),\"http://publications.europa.eu/resource/authority/file-type/SPARQLQ\")","v":"http://publications.europa.eu/resource/authority/file-type/SPARQLQ"},{"$f":"IFERROR(__xludf.DUMMYFUNCTION(\"\"\"COMPUTED_VALUE\"\"\"),\"SPARQLQ\")","v":"SPARQLQ"},{"$f":"IFERROR(__xludf.DUMMYFUNCTION(\"\"\"COMPUTED_VALUE\"\"\"),\"https://www.iana.org/assignments/media-types/application/sparql-query\")","v":"https://www.iana.org/assignments/media-types/application/sparql-query"},{"$f":"IFERROR(__xludf.DUMMYFUNCTION(\"\"\"COMPUTED_VALUE\"\"\"),\"SPARQLQ\")","v":"SPARQLQ"},null,{"$f":"IFERROR(__xludf.DUMMYFUNCTION(\"\"\"COMPUTED_VALUE\"\"\"),\".sparqlq\")","v":".sparqlq"},{"$f":"IFERROR(__xludf.DUMMYFUNCTION(\"\"\"COMPUTED_VALUE\"\"\"),\"en\")","v":"en"}]
[{"$f":"IFERROR(__xludf.DUMMYFUNCTION(\"\"\"COMPUTED_VALUE\"\"\"),\"http://publications.europa.eu/resource/authority/file-type/SPARQLQRES\")","v":"http://publications.europa.eu/resource/authority/file-type/SPARQLQRES"},{"$f":"IFERROR(__xludf.DUMMYFUNCTION(\"\"\"COMPUTED_VALUE\"\"\"),\"SPARQLQRES\")","v":"SPARQLQRES"},{"$f":"IFERROR(__xludf.DUMMYFUNCTION(\"\"\"COMPUTED_VALUE\"\"\"),\"https://www.iana.org/assignments/media-types/application/sparql-results+xml\")","v":"https://www.iana.org/assignments/media-types/application/sparql-results+xml"},{"$f":"IFERROR(__xludf.DUMMYFUNCTION(\"\"\"COMPUTED_VALUE\"\"\"),\"SPARQLQRES\")","v":"SPARQLQRES"},null,{"$f":"IFERROR(__xludf.DUMMYFUNCTION(\"\"\"COMPUTED_VALUE\"\"\"),\".sparqlqr\")","v":".sparqlqr"},{"$f":"IFERROR(__xludf.DUMMYFUNCTION(\"\"\"COMPUTED_VALUE\"\"\"),\"en\")","v":"en"}]
[null,{"$f":"IFERROR(__xludf.DUMMYFUNCTION(\"\"\"COMPUTED_VALUE\"\"\"),\"SPS\")","v":"SPS"},{"$f":"IFERROR(__xludf.DUMMYFUNCTION(\"\"\"COMPUTED_VALUE\"\"\"),\"http://www.opengeospatial.org/standards/sps\")","v":"http://www.opengeospatial.org/standards/sps"},{"$f":"IFERROR(__xludf.DUMMYFUNCTION(\"\"\"COMPUTED_VALUE\"\"\"),\"SPS\")","v":"SPS"},null,null,{"$f":"IFERROR(__xludf.DUMMYFUNCTION(\"\"\"COMPUTED_VALUE\"\"\"),\"en\")","v":"en"}]
[{"$f":"IFERROR(__xludf.DUMMYFUNCTION(\"\"\"COMPUTED_VALUE\"\"\"),\"http://publications.europa.eu/resource/authority/file-type/SQL\")","v":"http://publications.europa.eu/resource/authority/file-type/SQL"},{"$f":"IFERROR(__xludf.DUMMYFUNCTION(\"\"\"COMPUTED_VALUE\"\"\"),\"SQL\")","v":"SQL"},{"$f":"IFERROR(__xludf.DUMMYFUNCTION(\"\"\"COMPUTED_VALUE\"\"\"),\"https://www.iana.org/assignments/media-types/application/sql\")","v":"https://www.iana.org/assignments/media-types/application/sql"},{"$f":"IFERROR(__xludf.DUMMYFUNCTION(\"\"\"COMPUTED_VALUE\"\"\"),\"SQL\")","v":"SQL"},null,{"$f":"IFERROR(__xludf.DUMMYFUNCTION(\"\"\"COMPUTED_VALUE\"\"\"),\".sql\")","v":".sql"},{"$f":"IFERROR(__xludf.DUMMYFUNCTION(\"\"\"COMPUTED_VALUE\"\"\"),\"en\")","v":"en"}]
[null,{"$f":"IFERROR(__xludf.DUMMYFUNCTION(\"\"\"COMPUTED_VALUE\"\"\"),\"STAC\")","v":"STAC"},{"$f":"IFERROR(__xludf.DUMMYFUNCTION(\"\"\"COMPUTED_VALUE\"\"\"),\"https://stacspec.org\")","v":"https://stacspec.org"},{"$f":"IFERROR(__xludf.DUMMYFUNCTION(\"\"\"COMPUTED_VALUE\"\"\"),\"STAC\")","v":"STAC"},null,null,{"$f":"IFERROR(__xludf.DUMMYFUNCTION(\"\"\"COMPUTED_VALUE\"\"\"),\"en\")","v":"en"}]
[{"$f":"IFERROR(__xludf.DUMMYFUNCTION(\"\"\"COMPUTED_VALUE\"\"\"),\"http://publications.europa.eu/resource/authority/file-type/STL\")","v":"http://publications.europa.eu/resource/authority/file-type/STL"},{"$f":"IFERROR(__xludf.DUMMYFUNCTION(\"\"\"COMPUTED_VALUE\"\"\"),\"STL\")","v":"STL"},null,{"$f":"IFERROR(__xludf.DUMMYFUNCTION(\"\"\"COMPUTED_VALUE\"\"\"),\"STL\")","v":"STL"},null,{"$f":"IFERROR(__xludf.DUMMYFUNCTION(\"\"\"COMPUTED_VALUE\"\"\"),\".stl\")","v":".stl"},{"$f":"IFERROR(__xludf.DUMMYFUNCTION(\"\"\"COMPUTED_VALUE\"\"\"),\"en\")","v":"en"}]
[{"$f":"IFERROR(__xludf.DUMMYFUNCTION(\"\"\"COMPUTED_VALUE\"\"\"),\"http://publications.europa.eu/resource/authority/file-type/SVG\")","v":"http://publications.europa.eu/resource/authority/file-type/SVG"},{"$f":"IFERROR(__xludf.DUMMYFUNCTION(\"\"\"COMPUTED_VALUE\"\"\"),\"SVG\")","v":"SVG"},{"$f":"IFERROR(__xludf.DUMMYFUNCTION(\"\"\"COMPUTED_VALUE\"\"\"),\"https://www.iana.org/assignments/media-types/application/stix+json\")","v":"https://www.iana.org/assignments/media-types/application/stix+json"},{"$f":"IFERROR(__xludf.DUMMYFUNCTION(\"\"\"COMPUTED_VALUE\"\"\"),\"SVG\")","v":"SVG"},null,{"$f":"IFERROR(__xludf.DUMMYFUNCTION(\"\"\"COMPUTED_VALUE\"\"\"),\".svg\")","v":".svg"},{"$f":"IFERROR(__xludf.DUMMYFUNCTION(\"\"\"COMPUTED_VALUE\"\"\"),\"en\")","v":"en"}]
[{"$f":"IFERROR(__xludf.DUMMYFUNCTION(\"\"\"COMPUTED_VALUE\"\"\"),\"http://publications.europa.eu/resource/authority/file-type/SWM\")","v":"http://publications.europa.eu/resource/authority/file-type/SWM"},{"$f":"IFERROR(__xludf.DUMMYFUNCTION(\"\"\"COMPUTED_VALUE\"\"\"),\"SWM\")","v":"SWM"},{"$f":"IFERROR(__xludf.DUMMYFUNCTION(\"\"\"COMPUTED_VALUE\"\"\"),\"https://www.iana.org/assignments/media-types/application/swid+xml\")","v":"https://www.iana.org/assignments/media-types/application/swid+xml"},{"$f":"IFERROR(__xludf.DUMMYFUNCTION(\"\"\"COMPUTED_VALUE\"\"\"),\"SWM\")","v":"SWM"},null,{"$f":"IFERROR(__xludf.DUMMYFUNCTION(\"\"\"COMPUTED_VALUE\"\"\"),\".swm\")","v":".swm"},{"$f":"IFERROR(__xludf.DUMMYFUNCTION(\"\"\"COMPUTED_VALUE\"\"\"),\"en\")","v":"en"}]
[{"$f":"IFERROR(__xludf.DUMMYFUNCTION(\"\"\"COMPUTED_VALUE\"\"\"),\"http://publications.europa.eu/resource/authority/file-type/TAB\")","v":"http://publications.europa.eu/resource/authority/file-type/TAB"},{"$f":"IFERROR(__xludf.DUMMYFUNCTION(\"\"\"COMPUTED_VALUE\"\"\"),\"TAB\")","v":"TAB"},null,{"$f":"IFERROR(__xludf.DUMMYFUNCTION(\"\"\"COMPUTED_VALUE\"\"\"),\"TAB\")","v":"TAB"},null,{"$f":"IFERROR(__xludf.DUMMYFUNCTION(\"\"\"COMPUTED_VALUE\"\"\"),\".tab\")","v":".tab"},{"$f":"IFERROR(__xludf.DUMMYFUNCTION(\"\"\"COMPUTED_VALUE\"\"\"),\"en\")","v":"en"}]
[{"$f":"IFERROR(__xludf.DUMMYFUNCTION(\"\"\"COMPUTED_VALUE\"\"\"),\"http://publications.europa.eu/resource/authority/file-type/TAB_RSTR\")","v":"http://publications.europa.eu/resource/authority/file-type/TAB_RSTR"},{"$f":"IFERROR(__xludf.DUMMYFUNCTION(\"\"\"COMPUTED_VALUE\"\"\"),\"TAB_RSTR\")","v":"TAB_RSTR"},null,{"$f":"IFERROR(__xludf.DUMMYFUNCTION(\"\"\"COMPUTED_VALUE\"\"\"),\"TAB_RSTR\")","v":"TAB_RSTR"},null,{"$f":"IFERROR(__xludf.DUMMYFUNCTION(\"\"\"COMPUTED_VALUE\"\"\"),\".tab\")","v":".tab"},{"$f":"IFERROR(__xludf.DUMMYFUNCTION(\"\"\"COMPUTED_VALUE\"\"\"),\"en\")","v":"en"}]
[null,{"$f":"IFERROR(__xludf.DUMMYFUNCTION(\"\"\"COMPUTED_VALUE\"\"\"),\"TABLEDAP\")","v":"TABLEDAP"},{"$f":"IFERROR(__xludf.DUMMYFUNCTION(\"\"\"COMPUTED_VALUE\"\"\"),\"http://coastwatch.pfeg.noaa.gov/erddap/tabledap/documentation.html\")","v":"http://coastwatch.pfeg.noaa.gov/erddap/tabledap/documentation.html"},{"$f":"IFERROR(__xludf.DUMMYFUNCTION(\"\"\"COMPUTED_VALUE\"\"\"),\"TABLEDAP\")","v":"TABLEDAP"},null,null,{"$f":"IFERROR(__xludf.DUMMYFUNCTION(\"\"\"COMPUTED_VALUE\"\"\"),\"en\")","v":"en"}]
[{"$f":"IFERROR(__xludf.DUMMYFUNCTION(\"\"\"COMPUTED_VALUE\"\"\"),\"http://publications.europa.eu/resource/authority/file-type/TAR\")","v":"http://publications.europa.eu/resource/authority/file-type/TAR"},{"$f":"IFERROR(__xludf.DUMMYFUNCTION(\"\"\"COMPUTED_VALUE\"\"\"),\"TAR\")","v":"TAR"},null,{"$f":"IFERROR(__xludf.DUMMYFUNCTION(\"\"\"COMPUTED_VALUE\"\"\"),\"TAR\")","v":"TAR"},null,{"$f":"IFERROR(__xludf.DUMMYFUNCTION(\"\"\"COMPUTED_VALUE\"\"\"),\".tar\")","v":".tar"},{"$f":"IFERROR(__xludf.DUMMYFUNCTION(\"\"\"COMPUTED_VALUE\"\"\"),\"en\")","v":"en"}]
[{"$f":"IFERROR(__xludf.DUMMYFUNCTION(\"\"\"COMPUTED_VALUE\"\"\"),\"http://publications.europa.eu/resource/authority/file-type/TAR_GZ\")","v":"http://publications.europa.eu/resource/authority/file-type/TAR_GZ"},{"$f":"IFERROR(__xludf.DUMMYFUNCTION(\"\"\"COMPUTED_VALUE\"\"\"),\"TAR_GZ\")","v":"TAR_GZ"},{"$f":"IFERROR(__xludf.DUMMYFUNCTION(\"\"\"COMPUTED_VALUE\"\"\"),\"https://www.iana.org/assignments/media-types/application/vnd.cncf.helm.chart.content.v1.tar+gzip\")","v":"https://www.iana.org/assignments/media-types/application/vnd.cncf.helm.chart.content.v1.tar+gzip"},{"$f":"IFERROR(__xludf.DUMMYFUNCTION(\"\"\"COMPUTED_VALUE\"\"\"),\"TAR_GZ\")","v":"TAR_GZ"},null,{"$f":"IFERROR(__xludf.DUMMYFUNCTION(\"\"\"COMPUTED_VALUE\"\"\"),\".tar.gz\")","v":".tar.gz"},{"$f":"IFERROR(__xludf.DUMMYFUNCTION(\"\"\"COMPUTED_VALUE\"\"\"),\"en\")","v":"en"}]
[{"$f":"IFERROR(__xludf.DUMMYFUNCTION(\"\"\"COMPUTED_VALUE\"\"\"),\"http://publications.europa.eu/resource/authority/file-type/TAR_XZ\")","v":"http://publications.europa.eu/resource/authority/file-type/TAR_XZ"},{"$f":"IFERROR(__xludf.DUMMYFUNCTION(\"\"\"COMPUTED_VALUE\"\"\"),\"TAR_XZ\")","v":"TAR_XZ"},null,{"$f":"IFERROR(__xludf.DUMMYFUNCTION(\"\"\"COMPUTED_VALUE\"\"\"),\"TAR_XZ\")","v":"TAR_XZ"},null,{"$f":"IFERROR(__xludf.DUMMYFUNCTION(\"\"\"COMPUTED_VALUE\"\"\"),\".tar.xz\")","v":".tar.xz"},{"$f":"IFERROR(__xludf.DUMMYFUNCTION(\"\"\"COMPUTED_VALUE\"\"\"),\"en\")","v":"en"}]
[null,{"$f":"IFERROR(__xludf.DUMMYFUNCTION(\"\"\"COMPUTED_VALUE\"\"\"),\"TEMPLATE\")","v":"TEMPLATE"},{"$f":"IFERROR(__xludf.DUMMYFUNCTION(\"\"\"COMPUTED_VALUE\"\"\"),\"http://tools.ietf.org/html/rfc6570\")","v":"http://tools.ietf.org/html/rfc6570"},{"$f":"IFERROR(__xludf.DUMMYFUNCTION(\"\"\"COMPUTED_VALUE\"\"\"),\"TEMPLATE\")","v":"TEMPLATE"},null,null,{"$f":"IFERROR(__xludf.DUMMYFUNCTION(\"\"\"COMPUTED_VALUE\"\"\"),\"en\")","v":"en"}]
[null,{"$f":"IFERROR(__xludf.DUMMYFUNCTION(\"\"\"COMPUTED_VALUE\"\"\"),\"THREDDS\")","v":"THREDDS"},{"$f":"IFERROR(__xludf.DUMMYFUNCTION(\"\"\"COMPUTED_VALUE\"\"\"),\"http://www.unidata.ucar.edu/namespaces/thredds/InvCatalog/v1.0\")","v":"http://www.unidata.ucar.edu/namespaces/thredds/InvCatalog/v1.0"},{"$f":"IFERROR(__xludf.DUMMYFUNCTION(\"\"\"COMPUTED_VALUE\"\"\"),\"THREDDS\")","v":"THREDDS"},null,null,{"$f":"IFERROR(__xludf.DUMMYFUNCTION(\"\"\"COMPUTED_VALUE\"\"\"),\"en\")","v":"en"}]
[{"$f":"IFERROR(__xludf.DUMMYFUNCTION(\"\"\"COMPUTED_VALUE\"\"\"),\"http://publications.europa.eu/resource/authority/file-type/TIFF\")","v":"http://publications.europa.eu/resource/authority/file-type/TIFF"},{"$f":"IFERROR(__xludf.DUMMYFUNCTION(\"\"\"COMPUTED_VALUE\"\"\"),\"TIFF\")","v":"TIFF"},{"$f":"IFERROR(__xludf.DUMMYFUNCTION(\"\"\"COMPUTED_VALUE\"\"\"),\"https://www.iana.org/assignments/media-types/image/tiff\")","v":"https://www.iana.org/assignments/media-types/image/tiff"},{"$f":"IFERROR(__xludf.DUMMYFUNCTION(\"\"\"COMPUTED_VALUE\"\"\"),\"TIFF\")","v":"TIFF"},null,{"$f":"IFERROR(__xludf.DUMMYFUNCTION(\"\"\"COMPUTED_VALUE\"\"\"),\".tiff\")","v":".tiff"},{"$f":"IFERROR(__xludf.DUMMYFUNCTION(\"\"\"COMPUTED_VALUE\"\"\"),\"en\")","v":"en"}]
[{"$f":"IFERROR(__xludf.DUMMYFUNCTION(\"\"\"COMPUTED_VALUE\"\"\"),\"http://publications.europa.eu/resource/authority/file-type/TIFF_FX\")","v":"http://publications.europa.eu/resource/authority/file-type/TIFF_FX"},{"$f":"IFERROR(__xludf.DUMMYFUNCTION(\"\"\"COMPUTED_VALUE\"\"\"),\"TIFF_FX\")","v":"TIFF_FX"},null,{"$f":"IFERROR(__xludf.DUMMYFUNCTION(\"\"\"COMPUTED_VALUE\"\"\"),\"TIFF_FX\")","v":"TIFF_FX"},null,{"$f":"IFERROR(__xludf.DUMMYFUNCTION(\"\"\"COMPUTED_VALUE\"\"\"),\".tiff\")","v":".tiff"},{"$f":"IFERROR(__xludf.DUMMYFUNCTION(\"\"\"COMPUTED_VALUE\"\"\"),\"en\")","v":"en"}]
[null,{"$f":"IFERROR(__xludf.DUMMYFUNCTION(\"\"\"COMPUTED_VALUE\"\"\"),\"TILEJSON\")","v":"TILEJSON"},null,{"$f":"IFERROR(__xludf.DUMMYFUNCTION(\"\"\"COMPUTED_VALUE\"\"\"),\"TILEJSON\")","v":"TILEJSON"},null,null,{"$f":"IFERROR(__xludf.DUMMYFUNCTION(\"\"\"COMPUTED_VALUE\"\"\"),\"en\")","v":"en"}]
[null,{"$f":"IFERROR(__xludf.DUMMYFUNCTION(\"\"\"COMPUTED_VALUE\"\"\"),\"TMS\")","v":"TMS"},{"$f":"IFERROR(__xludf.DUMMYFUNCTION(\"\"\"COMPUTED_VALUE\"\"\"),\"https://wiki.osgeo.org/wiki/Tile_Map_Service_Specification\")","v":"https://wiki.osgeo.org/wiki/Tile_Map_Service_Specification"},{"$f":"IFERROR(__xludf.DUMMYFUNCTION(\"\"\"COMPUTED_VALUE\"\"\"),\"TMS\")","v":"TMS"},null,null,{"$f":"IFERROR(__xludf.DUMMYFUNCTION(\"\"\"COMPUTED_VALUE\"\"\"),\"en\")","v":"en"}]
[{"$f":"IFERROR(__xludf.DUMMYFUNCTION(\"\"\"COMPUTED_VALUE\"\"\"),\"http://publications.europa.eu/resource/authority/file-type/TMX\")","v":"http://publications.europa.eu/resource/authority/file-type/TMX"},{"$f":"IFERROR(__xludf.DUMMYFUNCTION(\"\"\"COMPUTED_VALUE\"\"\"),\"TMX\")","v":"TMX"},null,{"$f":"IFERROR(__xludf.DUMMYFUNCTION(\"\"\"COMPUTED_VALUE\"\"\"),\"TMX\")","v":"TMX"},null,{"$f":"IFERROR(__xludf.DUMMYFUNCTION(\"\"\"COMPUTED_VALUE\"\"\"),\".xml\")","v":".xml"},{"$f":"IFERROR(__xludf.DUMMYFUNCTION(\"\"\"COMPUTED_VALUE\"\"\"),\"en\")","v":"en"}]
[{"$f":"IFERROR(__xludf.DUMMYFUNCTION(\"\"\"COMPUTED_VALUE\"\"\"),\"http://publications.europa.eu/resource/authority/file-type/TSV\")","v":"http://publications.europa.eu/resource/authority/file-type/TSV"},{"$f":"IFERROR(__xludf.DUMMYFUNCTION(\"\"\"COMPUTED_VALUE\"\"\"),\"TSV\")","v":"TSV"},{"$f":"IFERROR(__xludf.DUMMYFUNCTION(\"\"\"COMPUTED_VALUE\"\"\"),\"https://www.iana.org/assignments/media-types/text/tab-separated-values\")","v":"https://www.iana.org/assignments/media-types/text/tab-separated-values"},{"$f":"IFERROR(__xludf.DUMMYFUNCTION(\"\"\"COMPUTED_VALUE\"\"\"),\"TSV\")","v":"TSV"},null,{"$f":"IFERROR(__xludf.DUMMYFUNCTION(\"\"\"COMPUTED_VALUE\"\"\"),\".tsv\")","v":".tsv"},{"$f":"IFERROR(__xludf.DUMMYFUNCTION(\"\"\"COMPUTED_VALUE\"\"\"),\"en\")","v":"en"}]
[{"$f":"IFERROR(__xludf.DUMMYFUNCTION(\"\"\"COMPUTED_VALUE\"\"\"),\"http://publications.europa.eu/resource/authority/file-type/RDF_TURTLE\")","v":"http://publications.europa.eu/resource/authority/file-type/RDF_TURTLE"},{"$f":"IFERROR(__xludf.DUMMYFUNCTION(\"\"\"COMPUTED_VALUE\"\"\"),\"TTL\")","v":"TTL"},{"$f":"IFERROR(__xludf.DUMMYFUNCTION(\"\"\"COMPUTED_VALUE\"\"\"),\"https://www.iana.org/assignments/media-types/text/turtle\")","v":"https://www.iana.org/assignments/media-types/text/turtle"},{"$f":"IFERROR(__xludf.DUMMYFUNCTION(\"\"\"COMPUTED_VALUE\"\"\"),\"RDF_TURTLE\")","v":"RDF_TURTLE"},null,{"$f":"IFERROR(__xludf.DUMMYFUNCTION(\"\"\"COMPUTED_VALUE\"\"\"),\".ttl\")","v":".ttl"},{"$f":"IFERROR(__xludf.DUMMYFUNCTION(\"\"\"COMPUTED_VALUE\"\"\"),\"en\")","v":"en"}]
[{"$f":"IFERROR(__xludf.DUMMYFUNCTION(\"\"\"COMPUTED_VALUE\"\"\"),\"http://publications.europa.eu/resource/authority/file-type/TXT\")","v":"http://publications.europa.eu/resource/authority/file-type/TXT"},{"$f":"IFERROR(__xludf.DUMMYFUNCTION(\"\"\"COMPUTED_VALUE\"\"\"),\"TXT\")","v":"TXT"},null,{"$f":"IFERROR(__xludf.DUMMYFUNCTION(\"\"\"COMPUTED_VALUE\"\"\"),\"TXT\")","v":"TXT"},null,{"$f":"IFERROR(__xludf.DUMMYFUNCTION(\"\"\"COMPUTED_VALUE\"\"\"),\".txt\")","v":".txt"},{"$f":"IFERROR(__xludf.DUMMYFUNCTION(\"\"\"COMPUTED_VALUE\"\"\"),\"en\")","v":"en"}]
[{"$f":"IFERROR(__xludf.DUMMYFUNCTION(\"\"\"COMPUTED_VALUE\"\"\"),\"http://publications.europa.eu/resource/authority/file-type/UNGEN\")","v":"http://publications.europa.eu/resource/authority/file-type/UNGEN"},{"$f":"IFERROR(__xludf.DUMMYFUNCTION(\"\"\"COMPUTED_VALUE\"\"\"),\"UNGEN\")","v":"UNGEN"},null,{"$f":"IFERROR(__xludf.DUMMYFUNCTION(\"\"\"COMPUTED_VALUE\"\"\"),\"UNGEN\")","v":"UNGEN"},null,{"$f":"IFERROR(__xludf.DUMMYFUNCTION(\"\"\"COMPUTED_VALUE\"\"\"),\"-\")","v":"-"},{"$f":"IFERROR(__xludf.DUMMYFUNCTION(\"\"\"COMPUTED_VALUE\"\"\"),\"en\")","v":"en"}]
[{"$f":"IFERROR(__xludf.DUMMYFUNCTION(\"\"\"COMPUTED_VALUE\"\"\"),\"http://publications.europa.eu/resource/authority/file-type/WAR\")","v":"http://publications.europa.eu/resource/authority/file-type/WAR"},{"$f":"IFERROR(__xludf.DUMMYFUNCTION(\"\"\"COMPUTED_VALUE\"\"\"),\"WAR\")","v":"WAR"},null,{"$f":"IFERROR(__xludf.DUMMYFUNCTION(\"\"\"COMPUTED_VALUE\"\"\"),\"WAR\")","v":"WAR"},null,{"$f":"IFERROR(__xludf.DUMMYFUNCTION(\"\"\"COMPUTED_VALUE\"\"\"),\".war\")","v":".war"},{"$f":"IFERROR(__xludf.DUMMYFUNCTION(\"\"\"COMPUTED_VALUE\"\"\"),\"en\")","v":"en"}]
[{"$f":"IFERROR(__xludf.DUMMYFUNCTION(\"\"\"COMPUTED_VALUE\"\"\"),\"http://publications.europa.eu/resource/authority/file-type/WARC\")","v":"http://publications.europa.eu/resource/authority/file-type/WARC"},{"$f":"IFERROR(__xludf.DUMMYFUNCTION(\"\"\"COMPUTED_VALUE\"\"\"),\"WARC\")","v":"WARC"},null,{"$f":"IFERROR(__xludf.DUMMYFUNCTION(\"\"\"COMPUTED_VALUE\"\"\"),\"WARC\")","v":"WARC"},null,{"$f":"IFERROR(__xludf.DUMMYFUNCTION(\"\"\"COMPUTED_VALUE\"\"\"),\".warc\")","v":".warc"},{"$f":"IFERROR(__xludf.DUMMYFUNCTION(\"\"\"COMPUTED_VALUE\"\"\"),\"en\")","v":"en"}]
[{"$f":"IFERROR(__xludf.DUMMYFUNCTION(\"\"\"COMPUTED_VALUE\"\"\"),\"http://publications.europa.eu/resource/authority/file-type/WARC_GZ\")","v":"http://publications.europa.eu/resource/authority/file-type/WARC_GZ"},{"$f":"IFERROR(__xludf.DUMMYFUNCTION(\"\"\"COMPUTED_VALUE\"\"\"),\"WARC_GZ\")","v":"WARC_GZ"},null,{"$f":"IFERROR(__xludf.DUMMYFUNCTION(\"\"\"COMPUTED_VALUE\"\"\"),\"WARC_GZ\")","v":"WARC_GZ"},null,{"$f":"IFERROR(__xludf.DUMMYFUNCTION(\"\"\"COMPUTED_VALUE\"\"\"),\".warc.gz\")","v":".warc.gz"},{"$f":"IFERROR(__xludf.DUMMYFUNCTION(\"\"\"COMPUTED_VALUE\"\"\"),\"en\")","v":"en"}]
[{"$f":"IFERROR(__xludf.DUMMYFUNCTION(\"\"\"COMPUTED_VALUE\"\"\"),\"http://publications.europa.eu/resource/authority/file-type/WAV\")","v":"http://publications.europa.eu/resource/authority/file-type/WAV"},{"$f":"IFERROR(__xludf.DUMMYFUNCTION(\"\"\"COMPUTED_VALUE\"\"\"),\"WAV\")","v":"WAV"},null,{"$f":"IFERROR(__xludf.DUMMYFUNCTION(\"\"\"COMPUTED_VALUE\"\"\"),\"WAV\")","v":"WAV"},null,{"$f":"IFERROR(__xludf.DUMMYFUNCTION(\"\"\"COMPUTED_VALUE\"\"\"),\".wav\")","v":".wav"},{"$f":"IFERROR(__xludf.DUMMYFUNCTION(\"\"\"COMPUTED_VALUE\"\"\"),\"en\")","v":"en"}]
[{"$f":"IFERROR(__xludf.DUMMYFUNCTION(\"\"\"COMPUTED_VALUE\"\"\"),\"http://publications.europa.eu/resource/authority/file-type/WCS_SRVC\")","v":"http://publications.europa.eu/resource/authority/file-type/WCS_SRVC"},{"$f":"IFERROR(__xludf.DUMMYFUNCTION(\"\"\"COMPUTED_VALUE\"\"\"),\"WCS\")","v":"WCS"},null,{"$f":"IFERROR(__xludf.DUMMYFUNCTION(\"\"\"COMPUTED_VALUE\"\"\"),\"WCS_SRVC\")","v":"WCS_SRVC"},null,{"$f":"IFERROR(__xludf.DUMMYFUNCTION(\"\"\"COMPUTED_VALUE\"\"\"),\"-\")","v":"-"},{"$f":"IFERROR(__xludf.DUMMYFUNCTION(\"\"\"COMPUTED_VALUE\"\"\"),\"en\")","v":"en"}]
[{"$f":"IFERROR(__xludf.DUMMYFUNCTION(\"\"\"COMPUTED_VALUE\"\"\"),\"http://publications.europa.eu/resource/authority/file-type/WCS_SRVC\")","v":"http://publications.europa.eu/resource/authority/file-type/WCS_SRVC"},{"$f":"IFERROR(__xludf.DUMMYFUNCTION(\"\"\"COMPUTED_VALUE\"\"\"),\"WCS_SRVC\")","v":"WCS_SRVC"},null,{"$f":"IFERROR(__xludf.DUMMYFUNCTION(\"\"\"COMPUTED_VALUE\"\"\"),\"WCS_SRVC\")","v":"WCS_SRVC"},null,{"$f":"IFERROR(__xludf.DUMMYFUNCTION(\"\"\"COMPUTED_VALUE\"\"\"),\"-\")","v":"-"},{"$f":"IFERROR(__xludf.DUMMYFUNCTION(\"\"\"COMPUTED_VALUE\"\"\"),\"en\")","v":"en"}]
[{"$f":"IFERROR(__xludf.DUMMYFUNCTION(\"\"\"COMPUTED_VALUE\"\"\"),\"http://publications.europa.eu/resource/authority/file-type/WEBP\")","v":"http://publications.europa.eu/resource/authority/file-type/WEBP"},{"$f":"IFERROR(__xludf.DUMMYFUNCTION(\"\"\"COMPUTED_VALUE\"\"\"),\"WEBP\")","v":"WEBP"},null,{"$f":"IFERROR(__xludf.DUMMYFUNCTION(\"\"\"COMPUTED_VALUE\"\"\"),\"WEBP\")","v":"WEBP"},null,{"$f":"IFERROR(__xludf.DUMMYFUNCTION(\"\"\"COMPUTED_VALUE\"\"\"),\".webp\")","v":".webp"},{"$f":"IFERROR(__xludf.DUMMYFUNCTION(\"\"\"COMPUTED_VALUE\"\"\"),\"en\")","v":"en"}]
[{"$f":"IFERROR(__xludf.DUMMYFUNCTION(\"\"\"COMPUTED_VALUE\"\"\"),\"http://publications.europa.eu/resource/authority/file-type/WFS_SRVC\")","v":"http://publications.europa.eu/resource/authority/file-type/WFS_SRVC"},{"$f":"IFERROR(__xludf.DUMMYFUNCTION(\"\"\"COMPUTED_VALUE\"\"\"),\"WFS\")","v":"WFS"},{"$f":"IFERROR(__xludf.DUMMYFUNCTION(\"\"\"COMPUTED_VALUE\"\"\"),\"http://www.opengis.net/def/serviceType/ogc/wfs\")","v":"http://www.opengis.net/def/serviceType/ogc/wfs"},{"$f":"IFERROR(__xludf.DUMMYFUNCTION(\"\"\"COMPUTED_VALUE\"\"\"),\"WFS_SRVC\")","v":"WFS_SRVC"},null,{"$f":"IFERROR(__xludf.DUMMYFUNCTION(\"\"\"COMPUTED_VALUE\"\"\"),\"-\")","v":"-"},{"$f":"IFERROR(__xludf.DUMMYFUNCTION(\"\"\"COMPUTED_VALUE\"\"\"),\"en\")","v":"en"}]
[{"$f":"IFERROR(__xludf.DUMMYFUNCTION(\"\"\"COMPUTED_VALUE\"\"\"),\"http://publications.europa.eu/resource/authority/file-type/WFS_SRVC\")","v":"http://publications.europa.eu/resource/authority/file-type/WFS_SRVC"},{"$f":"IFERROR(__xludf.DUMMYFUNCTION(\"\"\"COMPUTED_VALUE\"\"\"),\"WFS_SRVC\")","v":"WFS_SRVC"},{"$f":"IFERROR(__xludf.DUMMYFUNCTION(\"\"\"COMPUTED_VALUE\"\"\"),\"http://www.opengis.net/def/serviceType/ogc/wfs\")","v":"http://www.opengis.net/def/serviceType/ogc/wfs"},{"$f":"IFERROR(__xludf.DUMMYFUNCTION(\"\"\"COMPUTED_VALUE\"\"\"),\"WFS_SRVC\")","v":"WFS_SRVC"},null,{"$f":"IFERROR(__xludf.DUMMYFUNCTION(\"\"\"COMPUTED_VALUE\"\"\"),\"-\")","v":"-"},{"$f":"IFERROR(__xludf.DUMMYFUNCTION(\"\"\"COMPUTED_VALUE\"\"\"),\"en\")","v":"en"}]
[null,{"$f":"IFERROR(__xludf.DUMMYFUNCTION(\"\"\"COMPUTED_VALUE\"\"\"),\"WFS-G\")","v":"WFS-G"},{"$f":"IFERROR(__xludf.DUMMYFUNCTION(\"\"\"COMPUTED_VALUE\"\"\"),\"http://www.opengeospatial.org/standards/wfs-g\")","v":"http://www.opengeospatial.org/standards/wfs-g"},{"$f":"IFERROR(__xludf.DUMMYFUNCTION(\"\"\"COMPUTED_VALUE\"\"\"),\"WFS-G\")","v":"WFS-G"},null,null,{"$f":"IFERROR(__xludf.DUMMYFUNCTION(\"\"\"COMPUTED_VALUE\"\"\"),\"en\")","v":"en"}]
[{"$f":"IFERROR(__xludf.DUMMYFUNCTION(\"\"\"COMPUTED_VALUE\"\"\"),\"http://publications.europa.eu/resource/authority/file-type/WIM\")","v":"http://publications.europa.eu/resource/authority/file-type/WIM"},{"$f":"IFERROR(__xludf.DUMMYFUNCTION(\"\"\"COMPUTED_VALUE\"\"\"),\"WIM\")","v":"WIM"},null,{"$f":"IFERROR(__xludf.DUMMYFUNCTION(\"\"\"COMPUTED_VALUE\"\"\"),\"WIM\")","v":"WIM"},null,{"$f":"IFERROR(__xludf.DUMMYFUNCTION(\"\"\"COMPUTED_VALUE\"\"\"),\".swm\")","v":".swm"},{"$f":"IFERROR(__xludf.DUMMYFUNCTION(\"\"\"COMPUTED_VALUE\"\"\"),\"en\")","v":"en"}]
[{"$f":"IFERROR(__xludf.DUMMYFUNCTION(\"\"\"COMPUTED_VALUE\"\"\"),\"http://publications.europa.eu/resource/authority/file-type/WMS_SRVC\")","v":"http://publications.europa.eu/resource/authority/file-type/WMS_SRVC"},{"$f":"IFERROR(__xludf.DUMMYFUNCTION(\"\"\"COMPUTED_VALUE\"\"\"),\"WMS\")","v":"WMS"},{"$f":"IFERROR(__xludf.DUMMYFUNCTION(\"\"\"COMPUTED_VALUE\"\"\"),\"http://www.opengis.net/def/serviceType/ogc/wms\")","v":"http://www.opengis.net/def/serviceType/ogc/wms"},{"$f":"IFERROR(__xludf.DUMMYFUNCTION(\"\"\"COMPUTED_VALUE\"\"\"),\"WMS_SRVC\")","v":"WMS_SRVC"},null,{"$f":"IFERROR(__xludf.DUMMYFUNCTION(\"\"\"COMPUTED_VALUE\"\"\"),\"-\")","v":"-"},{"$f":"IFERROR(__xludf.DUMMYFUNCTION(\"\"\"COMPUTED_VALUE\"\"\"),\"en\")","v":"en"}]
[{"$f":"IFERROR(__xludf.DUMMYFUNCTION(\"\"\"COMPUTED_VALUE\"\"\"),\"http://publications.europa.eu/resource/authority/file-type/WMS_SRVC\")","v":"http://publications.europa.eu/resource/authority/file-type/WMS_SRVC"},{"$f":"IFERROR(__xludf.DUMMYFUNCTION(\"\"\"COMPUTED_VALUE\"\"\"),\"WMS_SRVC\")","v":"WMS_SRVC"},{"$f":"IFERROR(__xludf.DUMMYFUNCTION(\"\"\"COMPUTED_VALUE\"\"\"),\"http://www.opengis.net/def/serviceType/ogc/wms\")","v":"http://www.opengis.net/def/serviceType/ogc/wms"},{"$f":"IFERROR(__xludf.DUMMYFUNCTION(\"\"\"COMPUTED_VALUE\"\"\"),\"WMS_SRVC\")","v":"WMS_SRVC"},null,{"$f":"IFERROR(__xludf.DUMMYFUNCTION(\"\"\"COMPUTED_VALUE\"\"\"),\"-\")","v":"-"},{"$f":"IFERROR(__xludf.DUMMYFUNCTION(\"\"\"COMPUTED_VALUE\"\"\"),\"en\")","v":"en"}]
[null,{"$f":"IFERROR(__xludf.DUMMYFUNCTION(\"\"\"COMPUTED_VALUE\"\"\"),\"WMS-C\")","v":"WMS-C"},{"$f":"IFERROR(__xludf.DUMMYFUNCTION(\"\"\"COMPUTED_VALUE\"\"\"),\"http://www.opengis.net/def/serviceType/ogc/wms\")","v":"http://www.opengis.net/def/serviceType/ogc/wms"},{"$f":"IFERROR(__xludf.DUMMYFUNCTION(\"\"\"COMPUTED_VALUE\"\"\"),\"WMS-C\")","v":"WMS-C"},null,null,{"$f":"IFERROR(__xludf.DUMMYFUNCTION(\"\"\"COMPUTED_VALUE\"\"\"),\"en\")","v":"en"}]
[{"$f":"IFERROR(__xludf.DUMMYFUNCTION(\"\"\"COMPUTED_VALUE\"\"\"),\"http://publications.europa.eu/resource/authority/file-type/WMTS_SRVC\")","v":"http://publications.europa.eu/resource/authority/file-type/WMTS_SRVC"},{"$f":"IFERROR(__xludf.DUMMYFUNCTION(\"\"\"COMPUTED_VALUE\"\"\"),\"WMTS\")","v":"WMTS"},{"$f":"IFERROR(__xludf.DUMMYFUNCTION(\"\"\"COMPUTED_VALUE\"\"\"),\"http://www.opengeospatial.org/standards/wmts\")","v":"http://www.opengeospatial.org/standards/wmts"},{"$f":"IFERROR(__xludf.DUMMYFUNCTION(\"\"\"COMPUTED_VALUE\"\"\"),\"WMTS_SRVC\")","v":"WMTS_SRVC"},null,{"$f":"IFERROR(__xludf.DUMMYFUNCTION(\"\"\"COMPUTED_VALUE\"\"\"),\"-\")","v":"-"},{"$f":"IFERROR(__xludf.DUMMYFUNCTION(\"\"\"COMPUTED_VALUE\"\"\"),\"en\")","v":"en"}]
[{"$f":"IFERROR(__xludf.DUMMYFUNCTION(\"\"\"COMPUTED_VALUE\"\"\"),\"http://publications.europa.eu/resource/authority/file-type/WMTS_SRVC\")","v":"http://publications.europa.eu/resource/authority/file-type/WMTS_SRVC"},{"$f":"IFERROR(__xludf.DUMMYFUNCTION(\"\"\"COMPUTED_VALUE\"\"\"),\"WMTS_SRVC\")","v":"WMTS_SRVC"},{"$f":"IFERROR(__xludf.DUMMYFUNCTION(\"\"\"COMPUTED_VALUE\"\"\"),\"http://www.opengeospatial.org/standards/wmts\")","v":"http://www.opengeospatial.org/standards/wmts"},{"$f":"IFERROR(__xludf.DUMMYFUNCTION(\"\"\"COMPUTED_VALUE\"\"\"),\"WMTS_SRVC\")","v":"WMTS_SRVC"},null,{"$f":"IFERROR(__xludf.DUMMYFUNCTION(\"\"\"COMPUTED_VALUE\"\"\"),\"-\")","v":"-"},{"$f":"IFERROR(__xludf.DUMMYFUNCTION(\"\"\"COMPUTED_VALUE\"\"\"),\"en\")","v":"en"}]
[null,{"$f":"IFERROR(__xludf.DUMMYFUNCTION(\"\"\"COMPUTED_VALUE\"\"\"),\"WNS\")","v":"WNS"},{"$f":"IFERROR(__xludf.DUMMYFUNCTION(\"\"\"COMPUTED_VALUE\"\"\"),\"http://www.ogcnetwork.net/WNS\")","v":"http://www.ogcnetwork.net/WNS"},{"$f":"IFERROR(__xludf.DUMMYFUNCTION(\"\"\"COMPUTED_VALUE\"\"\"),\"WNS\")","v":"WNS"},null,null,{"$f":"IFERROR(__xludf.DUMMYFUNCTION(\"\"\"COMPUTED_VALUE\"\"\"),\"en\")","v":"en"}]
[{"$f":"IFERROR(__xludf.DUMMYFUNCTION(\"\"\"COMPUTED_VALUE\"\"\"),\"http://publications.europa.eu/resource/authority/file-type/WORLD\")","v":"http://publications.europa.eu/resource/authority/file-type/WORLD"},{"$f":"IFERROR(__xludf.DUMMYFUNCTION(\"\"\"COMPUTED_VALUE\"\"\"),\"WORLD\")","v":"WORLD"},null,{"$f":"IFERROR(__xludf.DUMMYFUNCTION(\"\"\"COMPUTED_VALUE\"\"\"),\"WORLD\")","v":"WORLD"},null,{"$f":"IFERROR(__xludf.DUMMYFUNCTION(\"\"\"COMPUTED_VALUE\"\"\"),\".jgw\")","v":".jgw"},{"$f":"IFERROR(__xludf.DUMMYFUNCTION(\"\"\"COMPUTED_VALUE\"\"\"),\"en\")","v":"en"}]
[null,{"$f":"IFERROR(__xludf.DUMMYFUNCTION(\"\"\"COMPUTED_VALUE\"\"\"),\"WPS\")","v":"WPS"},{"$f":"IFERROR(__xludf.DUMMYFUNCTION(\"\"\"COMPUTED_VALUE\"\"\"),\"http://www.opengis.net/def/serviceType/ogc/wps\")","v":"http://www.opengis.net/def/serviceType/ogc/wps"},{"$f":"IFERROR(__xludf.DUMMYFUNCTION(\"\"\"COMPUTED_VALUE\"\"\"),\"WPS\")","v":"WPS"},null,null,{"$f":"IFERROR(__xludf.DUMMYFUNCTION(\"\"\"COMPUTED_VALUE\"\"\"),\"en\")","v":"en"}]
[null,{"$f":"IFERROR(__xludf.DUMMYFUNCTION(\"\"\"COMPUTED_VALUE\"\"\"),\"WSDL\")","v":"WSDL"},{"$f":"IFERROR(__xludf.DUMMYFUNCTION(\"\"\"COMPUTED_VALUE\"\"\"),\"http://www.w3.org/TR/wsdl\")","v":"http://www.w3.org/TR/wsdl"},{"$f":"IFERROR(__xludf.DUMMYFUNCTION(\"\"\"COMPUTED_VALUE\"\"\"),\"WSDL\")","v":"WSDL"},null,null,{"$f":"IFERROR(__xludf.DUMMYFUNCTION(\"\"\"COMPUTED_VALUE\"\"\"),\"en\")","v":"en"}]
[{"$f":"IFERROR(__xludf.DUMMYFUNCTION(\"\"\"COMPUTED_VALUE\"\"\"),\"http://publications.europa.eu/resource/authority/file-type/XHTML\")","v":"http://publications.europa.eu/resource/authority/file-type/XHTML"},{"$f":"IFERROR(__xludf.DUMMYFUNCTION(\"\"\"COMPUTED_VALUE\"\"\"),\"XHTML\")","v":"XHTML"},null,{"$f":"IFERROR(__xludf.DUMMYFUNCTION(\"\"\"COMPUTED_VALUE\"\"\"),\"XHTML\")","v":"XHTML"},null,{"$f":"IFERROR(__xludf.DUMMYFUNCTION(\"\"\"COMPUTED_VALUE\"\"\"),\".html\")","v":".html"},{"$f":"IFERROR(__xludf.DUMMYFUNCTION(\"\"\"COMPUTED_VALUE\"\"\"),\"en\")","v":"en"}]
[{"$f":"IFERROR(__xludf.DUMMYFUNCTION(\"\"\"COMPUTED_VALUE\"\"\"),\"http://publications.europa.eu/resource/authority/file-type/XHTML_SIMPL\")","v":"http://publications.europa.eu/resource/authority/file-type/XHTML_SIMPL"},{"$f":"IFERROR(__xludf.DUMMYFUNCTION(\"\"\"COMPUTED_VALUE\"\"\"),\"XHTML_SIMPL\")","v":"XHTML_SIMPL"},null,{"$f":"IFERROR(__xludf.DUMMYFUNCTION(\"\"\"COMPUTED_VALUE\"\"\"),\"XHTML_SIMPL\")","v":"XHTML_SIMPL"},null,{"$f":"IFERROR(__xludf.DUMMYFUNCTION(\"\"\"COMPUTED_VALUE\"\"\"),\".html\")","v":".html"},{"$f":"IFERROR(__xludf.DUMMYFUNCTION(\"\"\"COMPUTED_VALUE\"\"\"),\"en\")","v":"en"}]
[{"$f":"IFERROR(__xludf.DUMMYFUNCTION(\"\"\"COMPUTED_VALUE\"\"\"),\"http://publications.europa.eu/resource/authority/file-type/XHTML5\")","v":"http://publications.europa.eu/resource/authority/file-type/XHTML5"},{"$f":"IFERROR(__xludf.DUMMYFUNCTION(\"\"\"COMPUTED_VALUE\"\"\"),\"XHTML5\")","v":"XHTML5"},null,{"$f":"IFERROR(__xludf.DUMMYFUNCTION(\"\"\"COMPUTED_VALUE\"\"\"),\"XHTML5\")","v":"XHTML5"},null,{"$f":"IFERROR(__xludf.DUMMYFUNCTION(\"\"\"COMPUTED_VALUE\"\"\"),\".html\")","v":".html"},{"$f":"IFERROR(__xludf.DUMMYFUNCTION(\"\"\"COMPUTED_VALUE\"\"\"),\"en\")","v":"en"}]
[{"$f":"IFERROR(__xludf.DUMMYFUNCTION(\"\"\"COMPUTED_VALUE\"\"\"),\"http://publications.europa.eu/resource/authority/file-type/XLIFF\")","v":"http://publications.europa.eu/resource/authority/file-type/XLIFF"},{"$f":"IFERROR(__xludf.DUMMYFUNCTION(\"\"\"COMPUTED_VALUE\"\"\"),\"XLIFF\")","v":"XLIFF"},null,{"$f":"IFERROR(__xludf.DUMMYFUNCTION(\"\"\"COMPUTED_VALUE\"\"\"),\"XLIFF\")","v":"XLIFF"},null,{"$f":"IFERROR(__xludf.DUMMYFUNCTION(\"\"\"COMPUTED_VALUE\"\"\"),\".xlf\")","v":".xlf"},{"$f":"IFERROR(__xludf.DUMMYFUNCTION(\"\"\"COMPUTED_VALUE\"\"\"),\"en\")","v":"en"}]
[{"$f":"IFERROR(__xludf.DUMMYFUNCTION(\"\"\"COMPUTED_VALUE\"\"\"),\"http://publications.europa.eu/resource/authority/file-type/XLS\")","v":"http://publications.europa.eu/resource/authority/file-type/XLS"},{"$f":"IFERROR(__xludf.DUMMYFUNCTION(\"\"\"COMPUTED_VALUE\"\"\"),\"XLS\")","v":"XLS"},{"$f":"IFERROR(__xludf.DUMMYFUNCTION(\"\"\"COMPUTED_VALUE\"\"\"),\"https://www.iana.org/assignments/media-types/application/vnd.ms-excel\")","v":"https://www.iana.org/assignments/media-types/application/vnd.ms-excel"},{"$f":"IFERROR(__xludf.DUMMYFUNCTION(\"\"\"COMPUTED_VALUE\"\"\"),\"XLS\")","v":"XLS"},null,{"$f":"IFERROR(__xludf.DUMMYFUNCTION(\"\"\"COMPUTED_VALUE\"\"\"),\".xls\")","v":".xls"},{"$f":"IFERROR(__xludf.DUMMYFUNCTION(\"\"\"COMPUTED_VALUE\"\"\"),\"en\")","v":"en"}]
[{"$f":"IFERROR(__xludf.DUMMYFUNCTION(\"\"\"COMPUTED_VALUE\"\"\"),\"http://publications.europa.eu/resource/authority/file-type/XLSB\")","v":"http://publications.europa.eu/resource/authority/file-type/XLSB"},{"$f":"IFERROR(__xludf.DUMMYFUNCTION(\"\"\"COMPUTED_VALUE\"\"\"),\"XLSB\")","v":"XLSB"},null,{"$f":"IFERROR(__xludf.DUMMYFUNCTION(\"\"\"COMPUTED_VALUE\"\"\"),\"XLSB\")","v":"XLSB"},null,{"$f":"IFERROR(__xludf.DUMMYFUNCTION(\"\"\"COMPUTED_VALUE\"\"\"),\".xlsb\")","v":".xlsb"},{"$f":"IFERROR(__xludf.DUMMYFUNCTION(\"\"\"COMPUTED_VALUE\"\"\"),\"en\")","v":"en"}]
[{"$f":"IFERROR(__xludf.DUMMYFUNCTION(\"\"\"COMPUTED_VALUE\"\"\"),\"http://publications.europa.eu/resource/authority/file-type/XLSM\")","v":"http://publications.europa.eu/resource/authority/file-type/XLSM"},{"$f":"IFERROR(__xludf.DUMMYFUNCTION(\"\"\"COMPUTED_VALUE\"\"\"),\"XLSM\")","v":"XLSM"},null,{"$f":"IFERROR(__xludf.DUMMYFUNCTION(\"\"\"COMPUTED_VALUE\"\"\"),\"XLSM\")","v":"XLSM"},null,{"$f":"IFERROR(__xludf.DUMMYFUNCTION(\"\"\"COMPUTED_VALUE\"\"\"),\".xlsm\")","v":".xlsm"},{"$f":"IFERROR(__xludf.DUMMYFUNCTION(\"\"\"COMPUTED_VALUE\"\"\"),\"en\")","v":"en"}]
[{"$f":"IFERROR(__xludf.DUMMYFUNCTION(\"\"\"COMPUTED_VALUE\"\"\"),\"http://publications.europa.eu/resource/authority/file-type/XLSX\")","v":"http://publications.europa.eu/resource/authority/file-type/XLSX"},{"$f":"IFERROR(__xludf.DUMMYFUNCTION(\"\"\"COMPUTED_VALUE\"\"\"),\"XLSX\")","v":"XLSX"},{"$f":"IFERROR(__xludf.DUMMYFUNCTION(\"\"\"COMPUTED_VALUE\"\"\"),\"https://www.iana.org/assignments/media-types/application/vnd.openxmlformats-officedocument.spreadsheetml.sheet\")","v":"https://www.iana.org/assignments/media-types/application/vnd.openxmlformats-officedocument.spreadsheetml.sheet"},{"$f":"IFERROR(__xludf.DUMMYFUNCTION(\"\"\"COMPUTED_VALUE\"\"\"),\"XLSX\")","v":"XLSX"},null,{"$f":"IFERROR(__xludf.DUMMYFUNCTION(\"\"\"COMPUTED_VALUE\"\"\"),\".xlsx\")","v":".xlsx"},{"$f":"IFERROR(__xludf.DUMMYFUNCTION(\"\"\"COMPUTED_VALUE\"\"\"),\"en\")","v":"en"}]
[{"$f":"IFERROR(__xludf.DUMMYFUNCTION(\"\"\"COMPUTED_VALUE\"\"\"),\"http://publications.europa.eu/resource/authority/file-type/XML\")","v":"http://publications.europa.eu/resource/authority/file-type/XML"},{"$f":"IFERROR(__xludf.DUMMYFUNCTION(\"\"\"COMPUTED_VALUE\"\"\"),\"XML\")","v":"XML"},{"$f":"IFERROR(__xludf.DUMMYFUNCTION(\"\"\"COMPUTED_VALUE\"\"\"),\"https://www.iana.org/assignments/media-types/text/xml\")","v":"https://www.iana.org/assignments/media-types/text/xml"},{"$f":"IFERROR(__xludf.DUMMYFUNCTION(\"\"\"COMPUTED_VALUE\"\"\"),\"XML\")","v":"XML"},null,{"$f":"IFERROR(__xludf.DUMMYFUNCTION(\"\"\"COMPUTED_VALUE\"\"\"),\".xml\")","v":".xml"},{"$f":"IFERROR(__xludf.DUMMYFUNCTION(\"\"\"COMPUTED_VALUE\"\"\"),\"en\")","v":"en"}]
[{"$f":"IFERROR(__xludf.DUMMYFUNCTION(\"\"\"COMPUTED_VALUE\"\"\"),\"http://publications.europa.eu/resource/authority/file-type/XSLFO\")","v":"http://publications.europa.eu/resource/authority/file-type/XSLFO"},{"$f":"IFERROR(__xludf.DUMMYFUNCTION(\"\"\"COMPUTED_VALUE\"\"\"),\"XSLFO\")","v":"XSLFO"},null,{"$f":"IFERROR(__xludf.DUMMYFUNCTION(\"\"\"COMPUTED_VALUE\"\"\"),\"XSLFO\")","v":"XSLFO"},null,{"$f":"IFERROR(__xludf.DUMMYFUNCTION(\"\"\"COMPUTED_VALUE\"\"\"),\".fo\")","v":".fo"},{"$f":"IFERROR(__xludf.DUMMYFUNCTION(\"\"\"COMPUTED_VALUE\"\"\"),\"en\")","v":"en"}]
[{"$f":"IFERROR(__xludf.DUMMYFUNCTION(\"\"\"COMPUTED_VALUE\"\"\"),\"http://publications.europa.eu/resource/authority/file-type/XSLT\")","v":"http://publications.europa.eu/resource/authority/file-type/XSLT"},{"$f":"IFERROR(__xludf.DUMMYFUNCTION(\"\"\"COMPUTED_VALUE\"\"\"),\"XSLT\")","v":"XSLT"},{"$f":"IFERROR(__xludf.DUMMYFUNCTION(\"\"\"COMPUTED_VALUE\"\"\"),\"https://www.iana.org/assignments/media-types/application/xslt+xml\")","v":"https://www.iana.org/assignments/media-types/application/xslt+xml"},{"$f":"IFERROR(__xludf.DUMMYFUNCTION(\"\"\"COMPUTED_VALUE\"\"\"),\"XSLT\")","v":"XSLT"},null,{"$f":"IFERROR(__xludf.DUMMYFUNCTION(\"\"\"COMPUTED_VALUE\"\"\"),\".xslt\")","v":".xslt"},{"$f":"IFERROR(__xludf.DUMMYFUNCTION(\"\"\"COMPUTED_VALUE\"\"\"),\"en\")","v":"en"}]
[{"$f":"IFERROR(__xludf.DUMMYFUNCTION(\"\"\"COMPUTED_VALUE\"\"\"),\"http://publications.europa.eu/resource/authority/file-type/XYZ\")","v":"http://publications.europa.eu/resource/authority/file-type/XYZ"},{"$f":"IFERROR(__xludf.DUMMYFUNCTION(\"\"\"COMPUTED_VALUE\"\"\"),\"XYZ\")","v":"XYZ"},null,{"$f":"IFERROR(__xludf.DUMMYFUNCTION(\"\"\"COMPUTED_VALUE\"\"\"),\"XYZ\")","v":"XYZ"},null,{"$f":"IFERROR(__xludf.DUMMYFUNCTION(\"\"\"COMPUTED_VALUE\"\"\"),\".xyz\")","v":".xyz"},{"$f":"IFERROR(__xludf.DUMMYFUNCTION(\"\"\"COMPUTED_VALUE\"\"\"),\"en\")","v":"en"}]
[{"$f":"IFERROR(__xludf.DUMMYFUNCTION(\"\"\"COMPUTED_VALUE\"\"\"),\"http://publications.europa.eu/resource/authority/file-type/XZ\")","v":"http://publications.europa.eu/resource/authority/file-type/XZ"},{"$f":"IFERROR(__xludf.DUMMYFUNCTION(\"\"\"COMPUTED_VALUE\"\"\"),\"XZ\")","v":"XZ"},null,{"$f":"IFERROR(__xludf.DUMMYFUNCTION(\"\"\"COMPUTED_VALUE\"\"\"),\"XZ\")","v":"XZ"},null,{"$f":"IFERROR(__xludf.DUMMYFUNCTION(\"\"\"COMPUTED_VALUE\"\"\"),\".xz\")","v":".xz"},{"$f":"IFERROR(__xludf.DUMMYFUNCTION(\"\"\"COMPUTED_VALUE\"\"\"),\"en\")","v":"en"}]
[{"$f":"IFERROR(__xludf.DUMMYFUNCTION(\"\"\"COMPUTED_VALUE\"\"\"),\"http://publications.europa.eu/resource/authority/file-type/YAML\")","v":"http://publications.europa.eu/resource/authority/file-type/YAML"},{"$f":"IFERROR(__xludf.DUMMYFUNCTION(\"\"\"COMPUTED_VALUE\"\"\"),\"YAML\")","v":"YAML"},null,{"$f":"IFERROR(__xludf.DUMMYFUNCTION(\"\"\"COMPUTED_VALUE\"\"\"),\"YAML\")","v":"YAML"},null,{"$f":"IFERROR(__xludf.DUMMYFUNCTION(\"\"\"COMPUTED_VALUE\"\"\"),\".yaml\")","v":".yaml"},{"$f":"IFERROR(__xludf.DUMMYFUNCTION(\"\"\"COMPUTED_VALUE\"\"\"),\"en\")","v":"en"}]
[{"$f":"IFERROR(__xludf.DUMMYFUNCTION(\"\"\"COMPUTED_VALUE\"\"\"),\"http://publications.europa.eu/resource/authority/file-type/Z\")","v":"http://publications.europa.eu/resource/authority/file-type/Z"},{"$f":"IFERROR(__xludf.DUMMYFUNCTION(\"\"\"COMPUTED_VALUE\"\"\"),\"Z\")","v":"Z"},null,{"$f":"IFERROR(__xludf.DUMMYFUNCTION(\"\"\"COMPUTED_VALUE\"\"\"),\"Z\")","v":"Z"},null,{"$f":"IFERROR(__xludf.DUMMYFUNCTION(\"\"\"COMPUTED_VALUE\"\"\"),\".Z\")","v":".Z"},{"$f":"IFERROR(__xludf.DUMMYFUNCTION(\"\"\"COMPUTED_VALUE\"\"\"),\"en\")","v":"en"}]
[{"$f":"IFERROR(__xludf.DUMMYFUNCTION(\"\"\"COMPUTED_VALUE\"\"\"),\"http://publications.europa.eu/resource/authority/file-type/ZIP\")","v":"http://publications.europa.eu/resource/authority/file-type/ZIP"},{"$f":"IFERROR(__xludf.DUMMYFUNCTION(\"\"\"COMPUTED_VALUE\"\"\"),\"ZIP\")","v":"ZIP"},{"$f":"IFERROR(__xludf.DUMMYFUNCTION(\"\"\"COMPUTED_VALUE\"\"\"),\"https://www.iana.org/assignments/media-types/application/zip\")","v":"https://www.iana.org/assignments/media-types/application/zip"},{"$f":"IFERROR(__xludf.DUMMYFUNCTION(\"\"\"COMPUTED_VALUE\"\"\"),\"ZIP\")","v":"ZIP"},null,{"$f":"IFERROR(__xludf.DUMMYFUNCTION(\"\"\"COMPUTED_VALUE\"\"\"),\".zip\")","v":".zip"},{"$f":"IFERROR(__xludf.DUMMYFUNCTION(\"\"\"COMPUTED_VALUE\"\"\"),\"en\")","v":"en"}]

{"sheet":"NFO_dcat_type","index":7,"n_rows":51,"n_cols":3,"rows_kept":51,"cut":false,"hidden":true,"merged":[]}
[{"$f":"IFERROR(__xludf.DUMMYFUNCTION(\"IMPORTRANGE(\"\"https://docs.google.com/spreadsheets/d/1p4h5y82-jiH68qGY_WeCV6HuyJKmuyC1XLjVbwjsAdg\"\",\"\"dcat_type!A1:Z1000\"\")\"),\"id\")","v":"id"},{"$f":"IFERROR(__xludf.DUMMYFUNCTION(\"\"\"COMPUTED_VALUE\"\"\"),\"label\")","v":"label"},{"$f":"IFERROR(__xludf.DUMMYFUNCTION(\"\"\"COMPUTED_VALUE\"\"\"),\"language\")","v":"language"}]
[{"$f":"IFERROR(__xludf.DUMMYFUNCTION(\"\"\"COMPUTED_VALUE\"\"\"),\"http://inspire.ec.europa.eu/metadata-codelist/ResourceType/dataset\")","v":"http://inspire.ec.europa.eu/metadata-codelist/ResourceType/dataset"},{"$f":"IFERROR(__xludf.DUMMYFUNCTION(\"\"\"COMPUTED_VALUE\"\"\"),\"Spatial data set\")","v":"Spatial data set"},{"$f":"IFERROR(__xludf.DUMMYFUNCTION(\"\"\"COMPUTED_VALUE\"\"\"),\"en\")","v":"en"}]
[{"$f":"IFERROR(__xludf.DUMMYFUNCTION(\"\"\"COMPUTED_VALUE\"\"\"),\"http://inspire.ec.europa.eu/metadata-codelist/ResourceType/series\")","v":"http://inspire.ec.europa.eu/metadata-codelist/ResourceType/series"},{"$f":"IFERROR(__xludf.DUMMYFUNCTION(\"\"\"COMPUTED_VALUE\"\"\"),\"Spatial data set series\")","v":"Spatial data set series"},{"$f":"IFERROR(__xludf.DUMMYFUNCTION(\"\"\"COMPUTED_VALUE\"\"\"),\"en\")","v":"en"}]
[{"$f":"IFERROR(__xludf.DUMMYFUNCTION(\"\"\"COMPUTED_VALUE\"\"\"),\"http://inspire.ec.europa.eu/metadata-codelist/ResourceType/service\")","v":"http://inspire.ec.europa.eu/metadata-codelist/ResourceType/service"},{"$f":"IFERROR(__xludf.DUMMYFUNCTION(\"\"\"COMPUTED_VALUE\"\"\"),\"Spatial data service\")","v":"Spatial data service"},{"$f":"IFERROR(__xludf.DUMMYFUNCTION(\"\"\"COMPUTED_VALUE\"\"\"),\"en\")","v":"en"}]
[{"$f":"IFERROR(__xludf.DUMMYFUNCTION(\"\"\"COMPUTED_VALUE\"\"\"),\"http://id.loc.gov/vocabulary/marcgt/art\")","v":"http://id.loc.gov/vocabulary/marcgt/art"},{"$f":"IFERROR(__xludf.DUMMYFUNCTION(\"\"\"COMPUTED_VALUE\"\"\"),\"Article\")","v":"Article"},{"$f":"IFERROR(__xludf.DUMMYFUNCTION(\"\"\"COMPUTED_VALUE\"\"\"),\"en\")","v":"en"}]
[{"$f":"IFERROR(__xludf.DUMMYFUNCTION(\"\"\"COMPUTED_VALUE\"\"\"),\"http://id.loc.gov/vocabulary/marcgt/bda\")","v":"http://id.loc.gov/vocabulary/marcgt/bda"},{"$f":"IFERROR(__xludf.DUMMYFUNCTION(\"\"\"COMPUTED_VALUE\"\"\"),\"Bibliographic data\")","v":"Bibliographic data"},{"$f":"IFERROR(__xludf.DUMMYFUNCTION(\"\"\"COMPUTED_VALUE\"\"\"),\"en\")","v":"en"}]
[{"$f":"IFERROR(__xludf.DUMMYFUNCTION(\"\"\"COMPUTED_VALUE\"\"\"),\"http://id.loc.gov/vocabulary/marcgt/bib\")","v":"http://id.loc.gov/vocabulary/marcgt/bib"},{"$f":"IFERROR(__xludf.DUMMYFUNCTION(\"\"\"COMPUTED_VALUE\"\"\"),\"Bibliography\")","v":"Bibliography"},{"$f":"IFERROR(__xludf.DUMMYFUNCTION(\"\"\"COMPUTED_VALUE\"\"\"),\"en\")","v":"en"}]
[{"$f":"IFERROR(__xludf.DUMMYFUNCTION(\"\"\"COMPUTED_VALUE\"\"\"),\"http://id.loc.gov/vocabulary/marcgt/doc\")","v":"http://id.loc.gov/vocabulary/marcgt/doc"},{"$f":"IFERROR(__xludf.DUMMYFUNCTION(\"\"\"COMPUTED_VALUE\"\"\"),\"Document (computer)\")","v":"Document (computer)"},{"$f":"IFERROR(__xludf.DUMMYFUNCTION(\"\"\"COMPUTED_VALUE\"\"\"),\"en\")","v":"en"}]
[{"$f":"IFERROR(__xludf.DUMMYFUNCTION(\"\"\"COMPUTED_VALUE\"\"\"),\"http://id.loc.gov/vocabulary/marcgt/dtb\")","v":"http://id.loc.gov/vocabulary/marcgt/dtb"},{"$f":"IFERROR(__xludf.DUMMYFUNCTION(\"\"\"COMPUTED_VALUE\"\"\"),\"Database\")","v":"Database"},{"$f":"IFERROR(__xludf.DUMMYFUNCTION(\"\"\"COMPUTED_VALUE\"\"\"),\"en\")","v":"en"}]
[{"$f":"IFERROR(__xludf.DUMMYFUNCTION(\"\"\"COMPUTED_VALUE\"\"\"),\"http://id.loc.gov/vocabulary/marcgt/gov\")","v":"http://id.loc.gov/vocabulary/marcgt/gov"},{"$f":"IFERROR(__xludf.DUMMYFUNCTION(\"\"\"COMPUTED_VALUE\"\"\"),\"Government publication\")","v":"Government publication"},{"$f":"IFERROR(__xludf.DUMMYFUNCTION(\"\"\"COMPUTED_VALUE\"\"\"),\"en\")","v":"en"}]
[{"$f":"IFERROR(__xludf.DUMMYFUNCTION(\"\"\"COMPUTED_VALUE\"\"\"),\"http://id.loc.gov/vocabulary/marcgt/jou\")","v":"http://id.loc.gov/vocabulary/marcgt/jou"},{"$f":"IFERROR(__xludf.DUMMYFUNCTION(\"\"\"COMPUTED_VALUE\"\"\"),\"Journal\")","v":"Journal"},{"$f":"IFERROR(__xludf.DUMMYFUNCTION(\"\"\"COMPUTED_VALUE\"\"\"),\"en\")","v":"en"}]
[{"$f":"IFERROR(__xludf.DUMMYFUNCTION(\"\"\"COMPUTED_VALUE\"\"\"),\"http://id.loc.gov/vocabulary/marcgt/leg\")","v":"http://id.loc.gov/vocabulary/marcgt/leg"},{"$f":"IFERROR(__xludf.DUMMYFUNCTION(\"\"\"COMPUTED_VALUE\"\"\"),\"Legislation\")","v":"Legislation"},{"$f":"IFERROR(__xludf.DUMMYFUNCTION(\"\"\"COMPUTED_VALUE\"\"\"),\"en\")","v":"en"}]
[{"$f":"IFERROR(__xludf.DUMMYFUNCTION(\"\"\"COMPUTED_VALUE\"\"\"),\"http://id.loc.gov/vocabulary/marcgt/rpt\")","v":"http://id.loc.gov/vocabulary/marcgt/rpt"},{"$f":"IFERROR(__xludf.DUMMYFUNCTION(\"\"\"COMPUTED_VALUE\"\"\"),\"Reporting\")","v":"Reporting"},{"$f":"IFERROR(__xludf.DUMMYFUNCTION(\"\"\"COMPUTED_VALUE\"\"\"),\"en\")","v":"en"}]
[{"$f":"IFERROR(__xludf.DUMMYFUNCTION(\"\"\"COMPUTED_VALUE\"\"\"),\"http://id.loc.gov/vocabulary/marcgt/stp\")","v":"http://id.loc.gov/vocabulary/marcgt/stp"},{"$f":"IFERROR(__xludf.DUMMYFUNCTION(\"\"\"COMPUTED_VALUE\"\"\"),\"Standard or specification\")","v":"Standard or specification"},{"$f":"IFERROR(__xludf.DUMMYFUNCTION(\"\"\"COMPUTED_VALUE\"\"\"),\"en\")","v":"en"}]
[{"$f":"IFERROR(__xludf.DUMMYFUNCTION(\"\"\"COMPUTED_VALUE\"\"\"),\"http://id.loc.gov/vocabulary/marcgt/ter\")","v":"http://id.loc.gov/vocabulary/marcgt/ter"},{"$f":"IFERROR(__xludf.DUMMYFUNCTION(\"\"\"COMPUTED_VALUE\"\"\"),\"Technical report\")","v":"Technical report"},{"$f":"IFERROR(__xludf.DUMMYFUNCTION(\"\"\"COMPUTED_VALUE\"\"\"),\"en\")","v":"en"}]
[{"$f":"IFERROR(__xludf.DUMMYFUNCTION(\"\"\"COMPUTED_VALUE\"\"\"),\"http://purl.org/dc/dcmitype/Collection\")","v":"http://purl.org/dc/dcmitype/Collection"},{"$f":"IFERROR(__xludf.DUMMYFUNCTION(\"\"\"COMPUTED_VALUE\"\"\"),\"Collection\")","v":"Collection"},{"$f":"IFERROR(__xludf.DUMMYFUNCTION(\"\"\"COMPUTED_VALUE\"\"\"),\"en\")","v":"en"}]
[{"$f":"IFERROR(__xludf.DUMMYFUNCTION(\"\"\"COMPUTED_VALUE\"\"\"),\"http://purl.org/dc/dcmitype/Event\")","v":"http://purl.org/dc/dcmitype/Event"},{"$f":"IFERROR(__xludf.DUMMYFUNCTION(\"\"\"COMPUTED_VALUE\"\"\"),\"Event\")","v":"Event"},{"$f":"IFERROR(__xludf.DUMMYFUNCTION(\"\"\"COMPUTED_VALUE\"\"\"),\"en\")","v":"en"}]
[{"$f":"IFERROR(__xludf.DUMMYFUNCTION(\"\"\"COMPUTED_VALUE\"\"\"),\"http://purl.org/dc/dcmitype/Image\")","v":"http://purl.org/dc/dcmitype/Image"},{"$f":"IFERROR(__xludf.DUMMYFUNCTION(\"\"\"COMPUTED_VALUE\"\"\"),\"Image\")","v":"Image"},{"$f":"IFERROR(__xludf.DUMMYFUNCTION(\"\"\"COMPUTED_VALUE\"\"\"),\"en\")","v":"en"}]
[{"$f":"IFERROR(__xludf.DUMMYFUNCTION(\"\"\"COMPUTED_VALUE\"\"\"),\"http://purl.org/dc/dcmitype/InteractiveResource\")","v":"http://purl.org/dc/dcmitype/InteractiveResource"},{"$f":"IFERROR(__xludf.DUMMYFUNCTION(\"\"\"COMPUTED_VALUE\"\"\"),\"Interactive Resource\")","v":"Interactive Resource"},{"$f":"IFERROR(__xludf.DUMMYFUNCTION(\"\"\"COMPUTED_VALUE\"\"\"),\"en\")","v":"en"}]
[{"$f":"IFERROR(__xludf.DUMMYFUNCTION(\"\"\"COMPUTED_VALUE\"\"\"),\"http://purl.org/dc/dcmitype/MovingImage\")","v":"http://purl.org/dc/dcmitype/MovingImage"},{"$f":"IFERROR(__xludf.DUMMYFUNCTION(\"\"\"COMPUTED_VALUE\"\"\"),\"Moving Image\")","v":"Moving Image"},{"$f":"IFERROR(__xludf.DUMMYFUNCTION(\"\"\"COMPUTED_VALUE\"\"\"),\"en\")","v":"en"}]
[{"$f":"IFERROR(__xludf.DUMMYFUNCTION(\"\"\"COMPUTED_VALUE\"\"\"),\"http://purl.org/dc/dcmitype/PhysicalObject\")","v":"http://purl.org/dc/dcmitype/PhysicalObject"},{"$f":"IFERROR(__xludf.DUMMYFUNCTION(\"\"\"COMPUTED_VALUE\"\"\"),\"Physical Object\")","v":"Physical Object"},{"$f":"IFERROR(__xludf.DUMMYFUNCTION(\"\"\"COMPUTED_VALUE\"\"\"),\"en\")","v":"en"}]
[{"$f":"IFERROR(__xludf.DUMMYFUNCTION(\"\"\"COMPUTED_VALUE\"\"\"),\"http://purl.org/dc/dcmitype/Service\")","v":"http://purl.org/dc/dcmitype/Service"},{"$f":"IFERROR(__xludf.DUMMYFUNCTION(\"\"\"COMPUTED_VALUE\"\"\"),\"Service\")","v":"Service"},{"$f":"IFERROR(__xludf.DUMMYFUNCTION(\"\"\"COMPUTED_VALUE\"\"\"),\"en\")","v":"en"}]
[{"$f":"IFERROR(__xludf.DUMMYFUNCTION(\"\"\"COMPUTED_VALUE\"\"\"),\"http://purl.org/dc/dcmitype/Software\")","v":"http://purl.org/dc/dcmitype/Software"},{"$f":"IFERROR(__xludf.DUMMYFUNCTION(\"\"\"COMPUTED_VALUE\"\"\"),\"Software\")","v":"Software"},{"$f":"IFERROR(__xludf.DUMMYFUNCTION(\"\"\"COMPUTED_VALUE\"\"\"),\"en\")","v":"en"}]
[{"$f":"IFERROR(__xludf.DUMMYFUNCTION(\"\"\"COMPUTED_VALUE\"\"\"),\"http://purl.org/dc/dcmitype/Sound\")","v":"http://purl.org/dc/dcmitype/Sound"},{"$f":"IFERROR(__xludf.DUMMYFUNCTION(\"\"\"COMPUTED_VALUE\"\"\"),\"Sound\")","v":"Sound"},{"$f":"IFERROR(__xludf.DUMMYFUNCTION(\"\"\"COMPUTED_VALUE\"\"\"),\"en\")","v":"en"}]
[{"$f":"IFERROR(__xludf.DUMMYFUNCTION(\"\"\"COMPUTED_VALUE\"\"\"),\"http://purl.org/dc/dcmitype/StillImage\")","v":"http://purl.org/dc/dcmitype/StillImage"},{"$f":"IFERROR(__xludf.DUMMYFUNCTION(\"\"\"COMPUTED_VALUE\"\"\"),\"Still Image\")","v":"Still Image"},{"$f":"IFERROR(__xludf.DUMMYFUNCTION(\"\"\"COMPUTED_VALUE\"\"\"),\"en\")","v":"en"}]
[{"$f":"IFERROR(__xludf.DUMMYFUNCTION(\"\"\"COMPUTED_VALUE\"\"\"),\"http://purl.org/dc/dcmitype/Text\")","v":"http://purl.org/dc/dcmitype/Text"},{"$f":"IFERROR(__xludf.DUMMYFUNCTION(\"\"\"COMPUTED_VALUE\"\"\"),\"Text\")","v":"Text"},{"$f":"IFERROR(__xludf.DUMMYFUNCTION(\"\"\"COMPUTED_VALUE\"\"\"),\"en\")","v":"en"}]
[{"$f":"IFERROR(__xludf.DUMMYFUNCTION(\"\"\"COMPUTED_VALUE\"\"\"),\"http://inspire.ec.europa.eu/metadata-codelist/ResourceType/dataset\")","v":"http://inspire.ec.europa.eu/metadata-codelist/ResourceType/dataset"},{"$f":"IFERROR(__xludf.DUMMYFUNCTION(\"\"\"COMPUTED_VALUE\"\"\"),\"Conjunto de datos espacial\")","v":"Conjunto de datos espacial"},{"$f":"IFERROR(__xludf.DUMMYFUNCTION(\"\"\"COMPUTED_VALUE\"\"\"),\"es\")","v":"es"}]
[{"$f":"IFERROR(__xludf.DUMMYFUNCTION(\"\"\"COMPUTED_VALUE\"\"\"),\"http://inspire.ec.europa.eu/metadata-codelist/ResourceType/series\")","v":"http://inspire.ec.europa.eu/metadata-codelist/ResourceType/series"},{"$f":"IFERROR(__xludf.DUMMYFUNCTION(\"\"\"COMPUTED_VALUE\"\"\"),\"Series de datos espaciales\")","v":"Series de datos espaciales"},{"$f":"IFERROR(__xludf.DUMMYFUNCTION(\"\"\"COMPUTED_VALUE\"\"\"),\"es\")","v":"es"}]
[{"$f":"IFERROR(__xludf.DUMMYFUNCTION(\"\"\"COMPUTED_VALUE\"\"\"),\"http://inspire.ec.europa.eu/metadata-codelist/ResourceType/service\")","v":"http://inspire.ec.europa.eu/metadata-codelist/ResourceType/service"},{"$f":"IFERROR(__xludf.DUMMYFUNCTION(\"\"\"COMPUTED_VALUE\"\"\"),\"Servicio de datos espaciales\")","v":"Servicio de datos espaciales"},{"$f":"IFERROR(__xludf.DUMMYFUNCTION(\"\"\"COMPUTED_VALUE\"\"\"),\"es\")","v":"es"}]
[{"$f":"IFERROR(__xludf.DUMMYFUNCTION(\"\"\"COMPUTED_VALUE\"\"\"),\"http://id.loc.gov/vocabulary/marcgt/art\")","v":"http://id.loc.gov/vocabulary/marcgt/art"},{"$f":"IFERROR(__xludf.DUMMYFUNCTION(\"\"\"COMPUTED_VALUE\"\"\"),\"Artículo\")","v":"Artículo"},{"$f":"IFERROR(__xludf.DUMMYFUNCTION(\"\"\"COMPUTED_VALUE\"\"\"),\"es\")","v":"es"}]
[{"$f":"IFERROR(__xludf.DUMMYFUNCTION(\"\"\"COMPUTED_VALUE\"\"\"),\"http://id.loc.gov/vocabulary/marcgt/bda\")","v":"http://id.loc.gov/vocabulary/marcgt/bda"},{"$f":"IFERROR(__xludf.DUMMYFUNCTION(\"\"\"COMPUTED_VALUE\"\"\"),\"Datos bibliográficos\")","v":"Datos bibliográficos"},{"$f":"IFERROR(__xludf.DUMMYFUNCTION(\"\"\"COMPUTED_VALUE\"\"\"),\"es\")","v":"es"}]
[{"$f":"IFERROR(__xludf.DUMMYFUNCTION(\"\"\"COMPUTED_VALUE\"\"\"),\"http://id.loc.gov/vocabulary/marcgt/bib\")","v":"http://id.loc.gov/vocabulary/marcgt/bib"},{"$f":"IFERROR(__xludf.DUMMYFUNCTION(\"\"\"COMPUTED_VALUE\"\"\"),\"Bibliografía\")","v":"Bibliografía"},{"$f":"IFERROR(__xludf.DUMMYFUNCTION(\"\"\"COMPUTED_VALUE\"\"\"),\"es\")","v":"es"}]
[{"$f":"IFERROR(__xludf.DUMMYFUNCTION(\"\"\"COMPUTED_VALUE\"\"\"),\"http://id.loc.gov/vocabulary/marcgt/doc\")","v":"http://id.loc.gov/vocabulary/marcgt/doc"},{"$f":"IFERROR(__xludf.DUMMYFUNCTION(\"\"\"COMPUTED_VALUE\"\"\"),\"Documento (informático)\")","v":"Documento (informático)"},{"$f":"IFERROR(__xludf.DUMMYFUNCTION(\"\"\"COMPUTED_VALUE\"\"\"),\"es\")","v":"es"}]
[{"$f":"IFERROR(__xludf.DUMMYFUNCTION(\"\"\"COMPUTED_VALUE\"\"\"),\"http://id.loc.gov/vocabulary/marcgt/dtb\")","v":"http://id.loc.gov/vocabulary/marcgt/dtb"},{"$f":"IFERROR(__xludf.DUMMYFUNCTION(\"\"\"COMPUTED_VALUE\"\"\"),\"Base de datos\")","v":"Base de datos"},{"$f":"IFERROR(__xludf.DUMMYFUNCTION(\"\"\"COMPUTED_VALUE\"\"\"),\"es\")","v":"es"}]
[{"$f":"IFERROR(__xludf.DUMMYFUNCTION(\"\"\"COMPUTED_VALUE\"\"\"),\"http://id.loc.gov/vocabulary/marcgt/gov\")","v":"http://id.loc.gov/vocabulary/marcgt/gov"},{"$f":"IFERROR(__xludf.DUMMYFUNCTION(\"\"\"COMPUTED_VALUE\"\"\"),\"Publicación gubernamental\")","v":"Publicación gubernamental"},{"$f":"IFERROR(__xludf.DUMMYFUNCTION(\"\"\"COMPUTED_VALUE\"\"\"),\"es\")","v":"es"}]
[{"$f":"IFERROR(__xludf.DUMMYFUNCTION(\"\"\"COMPUTED_VALUE\"\"\"),\"http://id.loc.gov/vocabulary/marcgt/jou\")","v":"http://id.loc.gov/vocabulary/marcgt/jou"},{"$f":"IFERROR(__xludf.DUMMYFUNCTION(\"\"\"COMPUTED_VALUE\"\"\"),\"Revista\")","v":"Revista"},{"$f":"IFERROR(__xludf.DUMMYFUNCTION(\"\"\"COMPUTED_VALUE\"\"\"),\"es\")","v":"es"}]
[{"$f":"IFERROR(__xludf.DUMMYFUNCTION(\"\"\"COMPUTED_VALUE\"\"\"),\"http://id.loc.gov/vocabulary/marcgt/leg\")","v":"http://id.loc.gov/vocabulary/marcgt/leg"},{"$f":"IFERROR(__xludf.DUMMYFUNCTION(\"\"\"COMPUTED_VALUE\"\"\"),\"Legislación\")","v":"Legislación"},{"$f":"IFERROR(__xludf.DUMMYFUNCTION(\"\"\"COMPUTED_VALUE\"\"\"),\"es\")","v":"es"}]
[{"$f":"IFERROR(__xludf.DUMMYFUNCTION(\"\"\"COMPUTED_VALUE\"\"\"),\"http://id.loc.gov/vocabulary/marcgt/rpt\")","v":"http://id.loc.gov/vocabulary/marcgt/rpt"},{"$f":"IFERROR(__xludf.DUMMYFUNCTION(\"\"\"COMPUTED_VALUE\"\"\"),\"Informe\")","v":"Informe"},{"$f":"IFERROR(__xludf.DUMMYFUNCTION(\"\"\"COMPUTED_VALUE\"\"\"),\"es\")","v":"es"}]
[{"$f":"IFERROR(__xludf.DUMMYFUNCTION(\"\"\"COMPUTED_VALUE\"\"\"),\"http://id.loc.gov/vocabulary/marcgt/stp\")","v":"http://id.loc.gov/vocabulary/marcgt/stp"},{"$f":"IFERROR(__xludf.DUMMYFUNCTION(\"\"\"COMPUTED_VALUE\"\"\"),\"Norma o especificación\")","v":"Norma o especificación"},{"$f":"IFERROR(__xludf.DUMMYFUNCTION(\"\"\"COMPUTED_VALUE\"\"\"),\"es\")","v":"es"}]
[{"$f":"IFERROR(__xludf.DUMMYFUNCTION(\"\"\"COMPUTED_VALUE\"\"\"),\"http://id.loc.gov/vocabulary/marcgt/ter\")","v":"http://id.loc.gov/vocabulary/marcgt/ter"},{"$f":"IFERROR(__xludf.DUMMYFUNCTION(\"\"\"COMPUTED_VALUE\"\"\"),\"Informe técnico\")","v":"Informe técnico"},{"$f":"IFERROR(__xludf.DUMMYFUNCTION(\"\"\"COMPUTED_VALUE\"\"\"),\"es\")","v":"es"}]
[{"$f":"IFERROR(__xludf.DUMMYFUNCTION(\"\"\"COMPUTED_VALUE\"\"\"),\"http://purl.org/dc/dcmitype/Collection\")","v":"http://purl.org/dc/dcmitype/Collection"},{"$f":"IFERROR(__xludf.DUMMYFUNCTION(\"\"\"COMPUTED_VALUE\"\"\"),\"Colección\")","v":"Colección"},{"$f":"IFERROR(__xludf.DUMMYFUNCTION(\"\"\"COMPUTED_VALUE\"\"\"),\"es\")","v":"es"}]
[{"$f":"IFERROR(__xludf.DUMMYFUNCTION(\"\"\"COMPUTED_VALUE\"\"\"),\"http://purl.org/dc/dcmitype/Event\")","v":"http://purl.org/dc/dcmitype/Event"},{"$f":"IFERROR(__xludf.DUMMYFUNCTION(\"\"\"COMPUTED_VALUE\"\"\"),\"Evento\")","v":"Evento"},{"$f":"IFERROR(__xludf.DUMMYFUNCTION(\"\"\"COMPUTED_VALUE\"\"\"),\"es\")","v":"es"}]
[{"$f":"IFERROR(__xludf.DUMMYFUNCTION(\"\"\"COMPUTED_VALUE\"\"\"),\"http://purl.org/dc/dcmitype/Image\")","v":"http://purl.org/dc/dcmitype/Image"},{"$f":"IFERROR(__xludf.DUMMYFUNCTION(\"\"\"COMPUTED_VALUE\"\"\"),\"Imagen\")","v":"Imagen"},{"$f":"IFERROR(__xludf.DUMMYFUNCTION(\"\"\"COMPUTED_VALUE\"\"\"),\"es\")","v":"es"}]
[{"$f":"IFERROR(__xludf.DUMMYFUNCTION(\"\"\"COMPUTED_VALUE\"\"\"),\"http://purl.org/dc/dcmitype/InteractiveResource\")","v":"http://purl.org/dc/dcmitype/InteractiveResource"},{"$f":"IFERROR(__xludf.DUMMYFUNCTION(\"\"\"COMPUTED_VALUE\"\"\"),\"Recurso interactivo\")","v":"Recurso interactivo"},{"$f":"IFERROR(__xludf.DUMMYFUNCTION(\"\"\"COMPUTED_VALUE\"\"\"),\"es\")","v":"es"}]
[{"$f":"IFERROR(__xludf.DUMMYFUNCTION(\"\"\"COMPUTED_VALUE\"\"\"),\"http://purl.org/dc/dcmitype/MovingImage\")","v":"http://purl.org/dc/dcmitype/MovingImage"},{"$f":"IFERROR(__xludf.DUMMYFUNCTION(\"\"\"COMPUTED_VALUE\"\"\"),\"Imagen en movimiento\")","v":"Imagen en movimiento"},{"$f":"IFERROR(__xludf.DUMMYFUNCTION(\"\"\"COMPUTED_VALUE\"\"\"),\"es\")","v":"es"}]
[{"$f":"IFERROR(__xludf.DUMMYFUNCTION(\"\"\"COMPUTED_VALUE\"\"\"),\"http://purl.org/dc/dcmitype/PhysicalObject\")","v":"http://purl.org/dc/dcmitype/PhysicalObject"},{"$f":"IFERROR(__xludf.DUMMYFUNCTION(\"\"\"COMPUTED_VALUE\"\"\"),\"Objeto físico\")","v":"Objeto físico"},{"$f":"IFERROR(__xludf.DUMMYFUNCTION(\"\"\"COMPUTED_VALUE\"\"\"),\"es\")","v":"es"}]
[{"$f":"IFERROR(__xludf.DUMMYFUNCTION(\"\"\"COMPUTED_VALUE\"\"\"),\"http://purl.org/dc/dcmitype/Service\")","v":"http://purl.org/dc/dcmitype/Service"},{"$f":"IFERROR(__xludf.DUMMYFUNCTION(\"\"\"COMPUTED_VALUE\"\"\"),\"Servicio\")","v":"Servicio"},{"$f":"IFERROR(__xludf.DUMMYFUNCTION(\"\"\"COMPUTED_VALUE\"\"\"),\"es\")","v":"es"}]
[{"$f":"IFERROR(__xludf.DUMMYFUNCTION(\"\"\"COMPUTED_VALUE\"\"\"),\"http://purl.org/dc/dcmitype/Software\")","v":"http://purl.org/dc/dcmitype/Software"},{"$f":"IFERROR(__xludf.DUMMYFUNCTION(\"\"\"COMPUTED_VALUE\"\"\"),\"Software\")","v":"Software"},{"$f":"IFERROR(__xludf.DUMMYFUNCTION(\"\"\"COMPUTED_VALUE\"\"\"),\"es\")","v":"es"}]
[{"$f":"IFERROR(__xludf.DUMMYFUNCTION(\"\"\"COMPUTED_VALUE\"\"\"),\"http://purl.org/dc/dcmitype/Sound\")","v":"http://purl.org/dc/dcmitype/Sound"},{"$f":"IFERROR(__xludf.DUMMYFUNCTION(\"\"\"COMPUTED_VALUE\"\"\"),\"Sonido\")","v":"Sonido"},{"$f":"IFERROR(__xludf.DUMMYFUNCTION(\"\"\"COMPUTED_VALUE\"\"\"),\"es\")","v":"es"}]
[{"$f":"IFERROR(__xludf.DUMMYFUNCTION(\"\"\"COMPUTED_VALUE\"\"\"),\"http://purl.org/dc/dcmitype/StillImage\")","v":"http://purl.org/dc/dcmitype/StillImage"},{"$f":"IFERROR(__xludf.DUMMYFUNCTION(\"\"\"COMPUTED_VALUE\"\"\"),\"Imagen fija\")","v":"Imagen fija"},{"$f":"IFERROR(__xludf.DUMMYFUNCTION(\"\"\"COMPUTED_VALUE\"\"\"),\"es\")","v":"es"}]
[{"$f":"IFERROR(__xludf.DUMMYFUNCTION(\"\"\"COMPUTED_VALUE\"\"\"),\"http://purl.org/dc/dcmitype/Text\")","v":"http://purl.org/dc/dcmitype/Text"},{"$f":"IFERROR(__xludf.DUMMYFUNCTION(\"\"\"COMPUTED_VALUE\"\"\"),\"Texto\")","v":"Texto"},{"$f":"IFERROR(__xludf.DUMMYFUNCTION(\"\"\"COMPUTED_VALUE\"\"\"),\"es\")","v":"es"}]

{"sheet":"NFO_frequency","index":8,"n_rows":29,"n_cols":10,"rows_kept":29,"cut":false,"hidden":true,"merged":[]}
[{"$f":"IFERROR(__xludf.DUMMYFUNCTION(\"\"\"COMPUTED_VALUE\"\"\"),\"http://publications.europa.eu/resource/authority/frequency/ANNUAL\")","v":"http://publications.europa.eu/resource/authority/frequency/ANNUAL"},{"$f":"IFERROR(__xludf.DUMMYFUNCTION(\"\"\"COMPUTED_VALUE\"\"\"),\"Anual\")","v":"Anual"},{"$f":"IFERROR(__xludf.DUMMYFUNCTION(\"\"\"COMPUTED_VALUE\"\"\"),\"es\")","v":"es"},{"$f":"IFERROR(__xludf.DUMMYFUNCTION(\"\"\"COMPUTED_VALUE\"\"\"),\"http://inspire.ec.europa.eu/metadata-codelist/MaintenanceFrequency/annually\")","v":"http://inspire.ec.europa.eu/metadata-codelist/MaintenanceFrequency/annually"}]
[{"$f":"IFERROR(__xludf.DUMMYFUNCTION(\"\"\"COMPUTED_VALUE\"\"\"),\"http://publications.europa.eu/resource/authority/frequency/BIENNIAL\")","v":"http://publications.europa.eu/resource/authority/frequency/BIENNIAL"},{"$f":"IFERROR(__xludf.DUMMYFUNCTION(\"\"\"COMPUTED_VALUE\"\"\"),\"Bienal\")","v":"Bienal"},{"$f":"IFERROR(__xludf.DUMMYFUNCTION(\"\"\"COMPUTED_VALUE\"\"\"),\"es\")","v":"es"},{"$f":"IFERROR(__xludf.DUMMYFUNCTION(\"\"\"COMPUTED_VALUE\"\"\"),\"http://inspire.ec.europa.eu/metadata-codelist/MaintenanceFrequency/biannually\")","v":"http://inspire.ec.europa.eu/metadata-codelist/MaintenanceFrequency/biannually"}]
[{"$f":"IFERROR(__xludf.DUMMYFUNCTION(\"\"\"COMPUTED_VALUE\"\"\"),\"http://publications.europa.eu/resource/authority/frequency/MONTHLY_2\")","v":"http://publications.europa.eu/resource/authority/frequency/MONTHLY_2"},{"$f":"IFERROR(__xludf.DUMMYFUNCTION(\"\"\"COMPUTED_VALUE\"\"\"),\"Bimensual\")","v":"Bimensual"},{"$f":"IFERROR(__xludf.DUMMYFUNCTION(\"\"\"COMPUTED_VALUE\"\"\"),\"es\")","v":"es"}]
[{"$f":"IFERROR(__xludf.DUMMYFUNCTION(\"\"\"COMPUTED_VALUE\"\"\"),\"http://publications.europa.eu/resource/authority/frequency/BIMONTHLY\")","v":"http://publications.europa.eu/resource/authority/frequency/BIMONTHLY"},{"$f":"IFERROR(__xludf.DUMMYFUNCTION(\"\"\"COMPUTED_VALUE\"\"\"),\"Bimestral\")","v":"Bimestral"},{"$f":"IFERROR(__xludf.DUMMYFUNCTION(\"\"\"COMPUTED_VALUE\"\"\"),\"es\")","v":"es"}]
[{"$f":"IFERROR(__xludf.DUMMYFUNCTION(\"\"\"COMPUTED_VALUE\"\"\"),\"http://publications.europa.eu/resource/authority/frequency/QUINQUENNIAL\")","v":"http://publications.europa.eu/resource/authority/frequency/QUINQUENNIAL"},{"$f":"IFERROR(__xludf.DUMMYFUNCTION(\"\"\"COMPUTED_VALUE\"\"\"),\"Cada cinco años\")","v":"Cada cinco años"},{"$f":"IFERROR(__xludf.DUMMYFUNCTION(\"\"\"COMPUTED_VALUE\"\"\"),\"es\")","v":"es"}]
[{"$f":"IFERROR(__xludf.DUMMYFUNCTION(\"\"\"COMPUTED_VALUE\"\"\"),\"http://publications.europa.eu/resource/authority/frequency/QUADRENNIAL\")","v":"http://publications.europa.eu/resource/authority/frequency/QUADRENNIAL"},{"$f":"IFERROR(__xludf.DUMMYFUNCTION(\"\"\"COMPUTED_VALUE\"\"\"),\"Cada cuatro años\")","v":"Cada cuatro años"},{"$f":"IFERROR(__xludf.DUMMYFUNCTION(\"\"\"COMPUTED_VALUE\"\"\"),\"es\")","v":"es"}]
[{"$f":"IFERROR(__xludf.DUMMYFUNCTION(\"\"\"COMPUTED_VALUE\"\"\"),\"http://publications.europa.eu/resource/authority/frequency/DECENNIAL\")","v":"http://publications.europa.eu/resource/authority/frequency/DECENNIAL"},{"$f":"IFERROR(__xludf.DUMMYFUNCTION(\"\"\"COMPUTED_VALUE\"\"\"),\"Cada diez años\")","v":"Cada diez años"},{"$f":"IFERROR(__xludf.DUMMYFUNCTION(\"\"\"COMPUTED_VALUE\"\"\"),\"es\")","v":"es"}]
[null,"Cada seis años",{"$f":"IFERROR(__xludf.DUMMYFUNCTION(\"\"\"COMPUTED_VALUE\"\"\"),\"es\")","v":"es"}]
[{"$f":"IFERROR(__xludf.DUMMYFUNCTION(\"\"\"COMPUTED_VALUE\"\"\"),\"http://publications.europa.eu/resource/authority/frequency/BIHOURLY\")","v":"http://publications.europa.eu/resource/authority/frequency/BIHOURLY"},{"$f":"IFERROR(__xludf.DUMMYFUNCTION(\"\"\"COMPUTED_VALUE\"\"\"),\"Cada dos horas\")","v":"Cada dos horas"},{"$f":"IFERROR(__xludf.DUMMYFUNCTION(\"\"\"COMPUTED_VALUE\"\"\"),\"es\")","v":"es"}]
[{"$f":"IFERROR(__xludf.DUMMYFUNCTION(\"\"\"COMPUTED_VALUE\"\"\"),\"http://publications.europa.eu/resource/authority/frequency/HOURLY\")","v":"http://publications.europa.eu/resource/authority/frequency/HOURLY"},{"$f":"IFERROR(__xludf.DUMMYFUNCTION(\"\"\"COMPUTED_VALUE\"\"\"),\"Cada hora\")","v":"Cada hora"},{"$f":"IFERROR(__xludf.DUMMYFUNCTION(\"\"\"COMPUTED_VALUE\"\"\"),\"es\")","v":"es"}]
[{"$f":"IFERROR(__xludf.DUMMYFUNCTION(\"\"\"COMPUTED_VALUE\"\"\"),\"http://publications.europa.eu/resource/authority/frequency/BIDECENNIAL\")","v":"http://publications.europa.eu/resource/authority/frequency/BIDECENNIAL"},{"$f":"IFERROR(__xludf.DUMMYFUNCTION(\"\"\"COMPUTED_VALUE\"\"\"),\"Cada veinte años\")","v":"Cada veinte años"},{"$f":"IFERROR(__xludf.DUMMYFUNCTION(\"\"\"COMPUTED_VALUE\"\"\"),\"es\")","v":"es"}]
[{"$f":"IFERROR(__xludf.DUMMYFUNCTION(\"\"\"COMPUTED_VALUE\"\"\"),\"http://publications.europa.eu/resource/authority/frequency/UPDATE_CONT\")","v":"http://publications.europa.eu/resource/authority/frequency/UPDATE_CONT"},{"$f":"IFERROR(__xludf.DUMMYFUNCTION(\"\"\"COMPUTED_VALUE\"\"\"),\"Continuamente actualizado\")","v":"Continuamente actualizado"},{"$f":"IFERROR(__xludf.DUMMYFUNCTION(\"\"\"COMPUTED_VALUE\"\"\"),\"es\")","v":"es"}]
[{"$f":"IFERROR(__xludf.DUMMYFUNCTION(\"\"\"COMPUTED_VALUE\"\"\"),\"http://publications.europa.eu/resource/authority/frequency/CONT\")","v":"http://publications.europa.eu/resource/authority/frequency/CONT"},{"$f":"IFERROR(__xludf.DUMMYFUNCTION(\"\"\"COMPUTED_VALUE\"\"\"),\"Continuo\")","v":"Continuo"},{"$f":"IFERROR(__xludf.DUMMYFUNCTION(\"\"\"COMPUTED_VALUE\"\"\"),\"es\")","v":"es"},{"$f":"IFERROR(__xludf.DUMMYFUNCTION(\"\"\"COMPUTED_VALUE\"\"\"),\"http://inspire.ec.europa.eu/metadata-codelist/MaintenanceFrequency/continual\")","v":"http://inspire.ec.europa.eu/metadata-codelist/MaintenanceFrequency/continual"}]
[{"$f":"IFERROR(__xludf.DUMMYFUNCTION(\"\"\"COMPUTED_VALUE\"\"\"),\"http://publications.europa.eu/resource/authority/frequency/ANNUAL_3\")","v":"http://publications.europa.eu/resource/authority/frequency/ANNUAL_3"},{"$f":"IFERROR(__xludf.DUMMYFUNCTION(\"\"\"COMPUTED_VALUE\"\"\"),\"Cuatrimestral\")","v":"Cuatrimestral"},{"$f":"IFERROR(__xludf.DUMMYFUNCTION(\"\"\"COMPUTED_VALUE\"\"\"),\"es\")","v":"es"}]
[{"$f":"IFERROR(__xludf.DUMMYFUNCTION(\"\"\"COMPUTED_VALUE\"\"\"),\"http://publications.europa.eu/resource/authority/frequency/OP_DATPRO\")","v":"http://publications.europa.eu/resource/authority/frequency/OP_DATPRO"},{"$f":"IFERROR(__xludf.DUMMYFUNCTION(\"\"\"COMPUTED_VALUE\"\"\"),\"Datos provisionales\")","v":"Datos provisionales"},{"$f":"IFERROR(__xludf.DUMMYFUNCTION(\"\"\"COMPUTED_VALUE\"\"\"),\"es\")","v":"es"}]
[{"$f":"IFERROR(__xludf.DUMMYFUNCTION(\"\"\"COMPUTED_VALUE\"\"\"),\"http://publications.europa.eu/resource/authority/frequency/UNKNOWN\")","v":"http://publications.europa.eu/resource/authority/frequency/UNKNOWN"},{"$f":"IFERROR(__xludf.DUMMYFUNCTION(\"\"\"COMPUTED_VALUE\"\"\"),\"Desconocida\")","v":"Desconocida"},{"$f":"IFERROR(__xludf.DUMMYFUNCTION(\"\"\"COMPUTED_VALUE\"\"\"),\"es\")","v":"es"},{"$f":"IFERROR(__xludf.DUMMYFUNCTION(\"\"\"COMPUTED_VALUE\"\"\"),\"http://inspire.ec.europa.eu/metadata-codelist/MaintenanceFrequency/unknown\")","v":"http://inspire.ec.europa.eu/metadata-codelist/MaintenanceFrequency/unknown"}]
[{"$f":"IFERROR(__xludf.DUMMYFUNCTION(\"\"\"COMPUTED_VALUE\"\"\"),\"http://publications.europa.eu/resource/authority/frequency/DAILY\")","v":"http://publications.europa.eu/resource/authority/frequency/DAILY"},{"$f":"IFERROR(__xludf.DUMMYFUNCTION(\"\"\"COMPUTED_VALUE\"\"\"),\"Diario\")","v":"Diario"},{"$f":"IFERROR(__xludf.DUMMYFUNCTION(\"\"\"COMPUTED_VALUE\"\"\"),\"es\")","v":"es"},{"$f":"IFERROR(__xludf.DUMMYFUNCTION(\"\"\"COMPUTED_VALUE\"\"\"),\"http://inspire.ec.europa.eu/metadata-codelist/MaintenanceFrequency/daily\")","v":"http://inspire.ec.europa.eu/metadata-codelist/MaintenanceFrequency/daily"}]
[{"$f":"IFERROR(__xludf.DUMMYFUNCTION(\"\"\"COMPUTED_VALUE\"\"\"),\"http://publications.europa.eu/resource/authority/frequency/DAILY_2\")","v":"http://publications.europa.eu/resource/authority/frequency/DAILY_2"},{"$f":"IFERROR(__xludf.DUMMYFUNCTION(\"\"\"COMPUTED_VALUE\"\"\"),\"Dos veces al día\")","v":"Dos veces al día"},{"$f":"IFERROR(__xludf.DUMMYFUNCTION(\"\"\"COMPUTED_VALUE\"\"\"),\"es\")","v":"es"}]
[{"$f":"IFERROR(__xludf.DUMMYFUNCTION(\"\"\"COMPUTED_VALUE\"\"\"),\"http://publications.europa.eu/resource/authority/frequency/IRREG\")","v":"http://publications.europa.eu/resource/authority/frequency/IRREG"},{"$f":"IFERROR(__xludf.DUMMYFUNCTION(\"\"\"COMPUTED_VALUE\"\"\"),\"Irregular\")","v":"Irregular"},{"$f":"IFERROR(__xludf.DUMMYFUNCTION(\"\"\"COMPUTED_VALUE\"\"\"),\"es\")","v":"es"},{"$f":"IFERROR(__xludf.DUMMYFUNCTION(\"\"\"COMPUTED_VALUE\"\"\"),\"http://inspire.ec.europa.eu/metadata-codelist/MaintenanceFrequency/irregular\")","v":"http://inspire.ec.europa.eu/metadata-codelist/MaintenanceFrequency/irregular"}]
[{"$f":"IFERROR(__xludf.DUMMYFUNCTION(\"\"\"COMPUTED_VALUE\"\"\"),\"http://publications.europa.eu/resource/authority/frequency/MONTHLY\")","v":"http://publications.europa.eu/resource/authority/frequency/MONTHLY"},{"$f":"IFERROR(__xludf.DUMMYFUNCTION(\"\"\"COMPUTED_VALUE\"\"\"),\"Mensual\")","v":"Mensual"},{"$f":"IFERROR(__xludf.DUMMYFUNCTION(\"\"\"COMPUTED_VALUE\"\"\"),\"es\")","v":"es"},{"$f":"IFERROR(__xludf.DUMMYFUNCTION(\"\"\"COMPUTED_VALUE\"\"\"),\"http://inspire.ec.europa.eu/metadata-codelist/MaintenanceFrequency/monthly\")","v":"http://inspire.ec.europa.eu/metadata-codelist/MaintenanceFrequency/monthly"}]
[{"$f":"IFERROR(__xludf.DUMMYFUNCTION(\"\"\"COMPUTED_VALUE\"\"\"),\"http://publications.europa.eu/resource/authority/frequency/NEVER\")","v":"http://publications.europa.eu/resource/authority/frequency/NEVER"},{"$f":"IFERROR(__xludf.DUMMYFUNCTION(\"\"\"COMPUTED_VALUE\"\"\"),\"Nunca\")","v":"Nunca"},{"$f":"IFERROR(__xludf.DUMMYFUNCTION(\"\"\"COMPUTED_VALUE\"\"\"),\"es\")","v":"es"}]
[{"$f":"IFERROR(__xludf.DUMMYFUNCTION(\"\"\"COMPUTED_VALUE\"\"\"),\"http://publications.europa.eu/resource/authority/frequency/BIWEEKLY\")","v":"http://publications.europa.eu/resource/authority/frequency/BIWEEKLY"},{"$f":"IFERROR(__xludf.DUMMYFUNCTION(\"\"\"COMPUTED_VALUE\"\"\"),\"Quincenal\")","v":"Quincenal"},{"$f":"IFERROR(__xludf.DUMMYFUNCTION(\"\"\"COMPUTED_VALUE\"\"\"),\"es\")","v":"es"}]
[null,"Según necesidad","es",{"$f":"IFERROR(__xludf.DUMMYFUNCTION(\"\"\"COMPUTED_VALUE\"\"\"),\"http://inspire.ec.europa.eu/metadata-codelist/MaintenanceFrequency/asNeeded\")","v":"http://inspire.ec.europa.eu/metadata-codelist/MaintenanceFrequency/asNeeded"}]
[{"$f":"IFERROR(__xludf.DUMMYFUNCTION(\"\"\"COMPUTED_VALUE\"\"\"),\"http://publications.europa.eu/resource/authority/frequency/ANNUAL_2\")","v":"http://publications.europa.eu/resource/authority/frequency/ANNUAL_2"},{"$f":"IFERROR(__xludf.DUMMYFUNCTION(\"\"\"COMPUTED_VALUE\"\"\"),\"Semestral\")","v":"Semestral"},{"$f":"IFERROR(__xludf.DUMMYFUNCTION(\"\"\"COMPUTED_VALUE\"\"\"),\"es\")","v":"es"}]
[{"$f":"IFERROR(__xludf.DUMMYFUNCTION(\"\"\"COMPUTED_VALUE\"\"\"),\"http://publications.europa.eu/resource/authority/frequency/TRIENNIAL\")","v":"http://publications.europa.eu/resource/authority/frequency/TRIENNIAL"},{"$f":"IFERROR(__xludf.DUMMYFUNCTION(\"\"\"COMPUTED_VALUE\"\"\"),\"Trienal\")","v":"Trienal"},{"$f":"IFERROR(__xludf.DUMMYFUNCTION(\"\"\"COMPUTED_VALUE\"\"\"),\"es\")","v":"es"}]
[{"$f":"IFERROR(__xludf.DUMMYFUNCTION(\"\"\"COMPUTED_VALUE\"\"\"),\"http://publications.europa.eu/resource/authority/frequency/QUARTERLY\")","v":"http://publications.europa.eu/resource/authority/frequency/QUARTERLY"},{"$f":"IFERROR(__xludf.DUMMYFUNCTION(\"\"\"COMPUTED_VALUE\"\"\"),\"Trimestral\")","v":"Trimestral"},{"$f":"IFERROR(__xludf.DUMMYFUNCTION(\"\"\"COMPUTED_VALUE\"\"\"),\"es\")","v":"es"},{"$f":"IFERROR(__xludf.DUMMYFUNCTION(\"\"\"COMPUTED_VALUE\"\"\"),\"http://inspire.ec.europa.eu/metadata-codelist/MaintenanceFrequency/quarterly\")","v":"http://inspire.ec.europa.eu/metadata-codelist/MaintenanceFrequency/quarterly"}]
[null,null,null,{"$f":"IFERROR(__xludf.DUMMYFUNCTION(\"\"\"COMPUTED_VALUE\"\"\"),\"http://inspire.ec.europa.eu/metadata-codelist/MaintenanceFrequency/notPlanned\")","v":"http://inspire.ec.europa.eu/metadata-codelist/MaintenanceFrequency/notPlanned"},null,null,null,null,null,{"$f":"IFERROR(__xludf.DUMMYFUNCTION(\"\"\"COMPUTED_VALUE\"\"\"),\"Not planned\")","v":"Not planned"}]
[null,null,null,{"$f":"IFERROR(__xludf.DUMMYFUNCTION(\"\"\"COMPUTED_VALUE\"\"\"),\"http://inspire.ec.europa.eu/metadata-codelist/MaintenanceFrequency/fortnightly\")","v":"http://inspire.ec.europa.eu/metadata-codelist/MaintenanceFrequency/fortnightly"},null,null,null,null,null,{"$f":"IFERROR(__xludf.DUMMYFUNCTION(\"\"\"COMPUTED_VALUE\"\"\"),\"Fortnightly\")","v":"Fortnightly"}]
[null,null,null,{"$f":"IFERROR(__xludf.DUMMYFUNCTION(\"\"\"COMPUTED_VALUE\"\"\"),\"http://inspire.ec.europa.eu/metadata-codelist/MaintenanceFrequency/weekly\")","v":"http://inspire.ec.europa.eu/metadata-codelist/MaintenanceFrequency/weekly"},null,null,null,null,null,{"$f":"IFERROR(__xludf.DUMMYFUNCTION(\"\"\"COMPUTED_VALUE\"\"\"),\"Weekly\")","v":"Weekly"}]

{"sheet":"NFO_language","index":9,"n_rows":7,"n_cols":3,"rows_kept":7,"cut":false,"hidden":true,"merged":[]}
[{"$f":"IFERROR(__xludf.DUMMYFUNCTION(\"IMPORTRANGE(\"\"https://docs.google.com/spreadsheets/d/1p4h5y82-jiH68qGY_WeCV6HuyJKmuyC1XLjVbwjsAdg\"\",\"\"language!A1:Z100\"\")\"),\"id\")","v":"id"},{"$f":"IFERROR(__xludf.DUMMYFUNCTION(\"\"\"COMPUTED_VALUE\"\"\"),\"label\")","v":"label"},{"$f":"IFERROR(__xludf.DUMMYFUNCTION(\"\"\"COMPUTED_VALUE\"\"\"),\"language\")","v":"language"}]
[{"$f":"IFERROR(__xludf.DUMMYFUNCTION(\"\"\"COMPUTED_VALUE\"\"\"),\"https://publications.europa.eu/resource/authority/language/SPA\")","v":"https://publications.europa.eu/resource/authority/language/SPA"},{"$f":"IFERROR(__xludf.DUMMYFUNCTION(\"\"\"COMPUTED_VALUE\"\"\"),\"Español\")","v":"Español"},{"$f":"IFERROR(__xludf.DUMMYFUNCTION(\"\"\"COMPUTED_VALUE\"\"\"),\"es\")","v":"es"}]
[{"$f":"IFERROR(__xludf.DUMMYFUNCTION(\"\"\"COMPUTED_VALUE\"\"\"),\"https://publications.europa.eu/resource/authority/language/ENG\")","v":"https://publications.europa.eu/resource/authority/language/ENG"},{"$f":"IFERROR(__xludf.DUMMYFUNCTION(\"\"\"COMPUTED_VALUE\"\"\"),\"Inglés\")","v":"Inglés"},{"$f":"IFERROR(__xludf.DUMMYFUNCTION(\"\"\"COMPUTED_VALUE\"\"\"),\"es\")","v":"es"}]
["https://publications.europa.eu/resource/authority/language/POR","Portugués",{"$f":"IFERROR(__xludf.DUMMYFUNCTION(\"\"\"COMPUTED_VALUE\"\"\"),\"es\")","v":"es"}]
["https://publications.europa.eu/resource/authority/language/FRA","Francés",{"$f":"IFERROR(__xludf.DUMMYFUNCTION(\"\"\"COMPUTED_VALUE\"\"\"),\"es\")","v":"es"}]
[{"$f":"IFERROR(__xludf.DUMMYFUNCTION(\"\"\"COMPUTED_VALUE\"\"\"),\"https://publications.europa.eu/resource/authority/language/SPA\")","v":"https://publications.europa.eu/resource/authority/language/SPA"},{"$f":"IFERROR(__xludf.DUMMYFUNCTION(\"\"\"COMPUTED_VALUE\"\"\"),\"Spanish\")","v":"Spanish"},{"$f":"IFERROR(__xludf.DUMMYFUNCTION(\"\"\"COMPUTED_VALUE\"\"\"),\"en\")","v":"en"}]
[{"$f":"IFERROR(__xludf.DUMMYFUNCTION(\"\"\"COMPUTED_VALUE\"\"\"),\"https://publications.europa.eu/resource/authority/language/ENG\")","v":"https://publications.europa.eu/resource/authority/language/ENG"},{"$f":"IFERROR(__xludf.DUMMYFUNCTION(\"\"\"COMPUTED_VALUE\"\"\"),\"English\")","v":"English"},{"$f":"IFERROR(__xludf.DUMMYFUNCTION(\"\"\"COMPUTED_VALUE\"\"\"),\"en\")","v":"en"}]

{"sheet":"NFO_mimetype","index":10,"n_rows":1946,"n_cols":5,"rows_kept":1946,"cut":false,"hidden":true,"merged":[]}
[{"$f":"IFERROR(__xludf.DUMMYFUNCTION(\"IMPORTRANGE(\"\"https://docs.google.com/spreadsheets/d/1p4h5y82-jiH68qGY_WeCV6HuyJKmuyC1XLjVbwjsAdg\"\",\"\"mimetype!A1:Z2000\"\")\"),\"id\")","v":"id"},{"$f":"IFERROR(__xludf.DUMMYFUNCTION(\"\"\"COMPUTED_VALUE\"\"\"),\"label\")","v":"label"},{"$f":"IFERROR(__xludf.DUMMYFUNCTION(\"\"\"COMPUTED_VALUE\"\"\"),\"name\")","v":"name"},{"$f":"IFERROR(__xludf.DUMMYFUNCTION(\"\"\"COMPUTED_VALUE\"\"\"),\"template\")","v":"template"},{"$f":"IFERROR(__xludf.DUMMYFUNCTION(\"\"\"COMPUTED_VALUE\"\"\"),\"language\")","v":"language"}]
[{"$f":"IFERROR(__xludf.DUMMYFUNCTION(\"\"\"COMPUTED_VALUE\"\"\"),\"https://www.iana.org/assignments/media-types/application/1d-interleaved-parityfec\")","v":"https://www.iana.org/assignments/media-types/application/1d-interleaved-parityfec"},{"$f":"IFERROR(__xludf.DUMMYFUNCTION(\"\"\"COMPUTED_VALUE\"\"\"),\"1d-interleaved-parityfec\")","v":"1d-interleaved-parityfec"},{"$f":"IFERROR(__xludf.DUMMYFUNCTION(\"\"\"COMPUTED_VALUE\"\"\"),\"1d-interleaved-parityfec\")","v":"1d-interleaved-parityfec"},{"$f":"IFERROR(__xludf.DUMMYFUNCTION(\"\"\"COMPUTED_VALUE\"\"\"),\"application/1d-interleaved-parityfec\")","v":"application/1d-interleaved-parityfec"},{"$f":"IFERROR(__xludf.DUMMYFUNCTION(\"\"\"COMPUTED_VALUE\"\"\"),\"en\")","v":"en"}]
[{"$f":"IFERROR(__xludf.DUMMYFUNCTION(\"\"\"COMPUTED_VALUE\"\"\"),\"https://www.iana.org/assignments/media-types/application/3gpdash-qoe-report+xml\")","v":"https://www.iana.org/assignments/media-types/application/3gpdash-qoe-report+xml"},{"$f":"IFERROR(__xludf.DUMMYFUNCTION(\"\"\"COMPUTED_VALUE\"\"\"),\"3gpdash-qoe-report+xml\")","v":"3gpdash-qoe-report+xml"},{"$f":"IFERROR(__xludf.DUMMYFUNCTION(\"\"\"COMPUTED_VALUE\"\"\"),\"3gpdash-qoe-report+xml\")","v":"3gpdash-qoe-report+xml"},{"$f":"IFERROR(__xludf.DUMMYFUNCTION(\"\"\"COMPUTED_VALUE\"\"\"),\"application/3gpdash-qoe-report+xml\")","v":"application/3gpdash-qoe-report+xml"},{"$f":"IFERROR(__xludf.DUMMYFUNCTION(\"\"\"COMPUTED_VALUE\"\"\"),\"en\")","v":"en"}]
[{"$f":"IFERROR(__xludf.DUMMYFUNCTION(\"\"\"COMPUTED_VALUE\"\"\"),\"https://www.iana.org/assignments/media-types/application/3gppHal+json\")","v":"https://www.iana.org/assignments/media-types/application/3gppHal+json"},{"$f":"IFERROR(__xludf.DUMMYFUNCTION(\"\"\"COMPUTED_VALUE\"\"\"),\"3gppHal+json\")","v":"3gppHal+json"},{"$f":"IFERROR(__xludf.DUMMYFUNCTION(\"\"\"COMPUTED_VALUE\"\"\"),\"3gppHal+json\")","v":"3gppHal+json"},{"$f":"IFERROR(__xludf.DUMMYFUNCTION(\"\"\"COMPUTED_VALUE\"\"\"),\"application/3gppHal+json\")","v":"application/3gppHal+json"},{"$f":"IFERROR(__xludf.DUMMYFUNCTION(\"\"\"COMPUTED_VALUE\"\"\"),\"en\")","v":"en"}]
[{"$f":"IFERROR(__xludf.DUMMYFUNCTION(\"\"\"COMPUTED_VALUE\"\"\"),\"https://www.iana.org/assignments/media-types/application/3gppHalForms+json\")","v":"https://www.iana.org/assignments/media-types/application/3gppHalForms+json"},{"$f":"IFERROR(__xludf.DUMMYFUNCTION(\"\"\"COMPUTED_VALUE\"\"\"),\"3gppHalForms+json\")","v":"3gppHalForms+json"},{"$f":"IFERROR(__xludf.DUMMYFUNCTION(\"\"\"COMPUTED_VALUE\"\"\"),\"3gppHalForms+json\")","v":"3gppHalForms+json"},{"$f":"IFERROR(__xludf.DUMMYFUNCTION(\"\"\"COMPUTED_VALUE\"\"\"),\"application/3gppHalForms+json\")","v":"application/3gppHalForms+json"},{"$f":"IFERROR(__xludf.DUMMYFUNCTION(\"\"\"COMPUTED_VALUE\"\"\"),\"en\")","v":"en"}]
[{"$f":"IFERROR(__xludf.DUMMYFUNCTION(\"\"\"COMPUTED_VALUE\"\"\"),\"https://www.iana.org/assignments/media-types/application/3gpp-ims+xml\")","v":"https://www.iana.org/assignments/media-types/application/3gpp-ims+xml"},{"$f":"IFERROR(__xludf.DUMMYFUNCTION(\"\"\"COMPUTED_VALUE\"\"\"),\"3gpp-ims+xml\")","v":"3gpp-ims+xml"},{"$f":"IFERROR(__xludf.DUMMYFUNCTION(\"\"\"COMPUTED_VALUE\"\"\"),\"3gpp-ims+xml\")","v":"3gpp-ims+xml"},{"$f":"IFERROR(__xludf.DUMMYFUNCTION(\"\"\"COMPUTED_VALUE\"\"\"),\"application/3gpp-ims+xml\")","v":"application/3gpp-ims+xml"},{"$f":"IFERROR(__xludf.DUMMYFUNCTION(\"\"\"COMPUTED_VALUE\"\"\"),\"en\")","v":"en"}]
[{"$f":"IFERROR(__xludf.DUMMYFUNCTION(\"\"\"COMPUTED_VALUE\"\"\"),\"https://www.iana.org/assignments/media-types/application/A2L\")","v":"https://www.iana.org/assignments/media-types/application/A2L"},{"$f":"IFERROR(__xludf.DUMMYFUNCTION(\"\"\"COMPUTED_VALUE\"\"\"),\"A2L\")","v":"A2L"},{"$f":"IFERROR(__xludf.DUMMYFUNCTION(\"\"\"COMPUTED_VALUE\"\"\"),\"A2L\")","v":"A2L"},{"$f":"IFERROR(__xludf.DUMMYFUNCTION(\"\"\"COMPUTED_VALUE\"\"\"),\"application/A2L\")","v":"application/A2L"},{"$f":"IFERROR(__xludf.DUMMYFUNCTION(\"\"\"COMPUTED_VALUE\"\"\"),\"en\")","v":"en"}]
[{"$f":"IFERROR(__xludf.DUMMYFUNCTION(\"\"\"COMPUTED_VALUE\"\"\"),\"https://www.iana.org/assignments/media-types/application/ace+cbor\")","v":"https://www.iana.org/assignments/media-types/application/ace+cbor"},{"$f":"IFERROR(__xludf.DUMMYFUNCTION(\"\"\"COMPUTED_VALUE\"\"\"),\"ace+cbor\")","v":"ace+cbor"},{"$f":"IFERROR(__xludf.DUMMYFUNCTION(\"\"\"COMPUTED_VALUE\"\"\"),\"ace+cbor\")","v":"ace+cbor"},{"$f":"IFERROR(__xludf.DUMMYFUNCTION(\"\"\"COMPUTED_VALUE\"\"\"),\"application/ace+cbor\")","v":"application/ace+cbor"},{"$f":"IFERROR(__xludf.DUMMYFUNCTION(\"\"\"COMPUTED_VALUE\"\"\"),\"en\")","v":"en"}]
[{"$f":"IFERROR(__xludf.DUMMYFUNCTION(\"\"\"COMPUTED_VALUE\"\"\"),\"https://www.iana.org/assignments/media-types/application/ace+json\")","v":"https://www.iana.org/assignments/media-types/application/ace+json"},{"$f":"IFERROR(__xludf.DUMMYFUNCTION(\"\"\"COMPUTED_VALUE\"\"\"),\"ace+json\")","v":"ace+json"},{"$f":"IFERROR(__xludf.DUMMYFUNCTION(\"\"\"COMPUTED_VALUE\"\"\"),\"ace+json\")","v":"ace+json"},{"$f":"IFERROR(__xludf.DUMMYFUNCTION(\"\"\"COMPUTED_VALUE\"\"\"),\"application/ace+json\")","v":"application/ace+json"},{"$f":"IFERROR(__xludf.DUMMYFUNCTION(\"\"\"COMPUTED_VALUE\"\"\"),\"en\")","v":"en"}]
[{"$f":"IFERROR(__xludf.DUMMYFUNCTION(\"\"\"COMPUTED_VALUE\"\"\"),\"https://www.iana.org/assignments/media-types/application/activemessage\")","v":"https://www.iana.org/assignments/media-types/application/activemessage"},{"$f":"IFERROR(__xludf.DUMMYFUNCTION(\"\"\"COMPUTED_VALUE\"\"\"),\"activemessage\")","v":"activemessage"},{"$f":"IFERROR(__xludf.DUMMYFUNCTION(\"\"\"COMPUTED_VALUE\"\"\"),\"activemessage\")","v":"activemessage"},{"$f":"IFERROR(__xludf.DUMMYFUNCTION(\"\"\"COMPUTED_VALUE\"\"\"),\"application/activemessage\")","v":"application/activemessage"},{"$f":"IFERROR(__xludf.DUMMYFUNCTION(\"\"\"COMPUTED_VALUE\"\"\"),\"en\")","v":"en"}]
[{"$f":"IFERROR(__xludf.DUMMYFUNCTION(\"\"\"COMPUTED_VALUE\"\"\"),\"https://www.iana.org/assignments/media-types/application/activity+json\")","v":"https://www.iana.org/assignments/media-types/application/activity+json"},{"$f":"IFERROR(__xludf.DUMMYFUNCTION(\"\"\"COMPUTED_VALUE\"\"\"),\"activity+json\")","v":"activity+json"},{"$f":"IFERROR(__xludf.DUMMYFUNCTION(\"\"\"COMPUTED_VALUE\"\"\"),\"activity+json\")","v":"activity+json"},{"$f":"IFERROR(__xludf.DUMMYFUNCTION(\"\"\"COMPUTED_VALUE\"\"\"),\"application/activity+json\")","v":"application/activity+json"},{"$f":"IFERROR(__xludf.DUMMYFUNCTION(\"\"\"COMPUTED_VALUE\"\"\"),\"en\")","v":"en"}]
[{"$f":"IFERROR(__xludf.DUMMYFUNCTION(\"\"\"COMPUTED_VALUE\"\"\"),\"https://www.iana.org/assignments/media-types/application/aif+cbor\")","v":"https://www.iana.org/assignments/media-types/application/aif+cbor"},{"$f":"IFERROR(__xludf.DUMMYFUNCTION(\"\"\"COMPUTED_VALUE\"\"\"),\"aif+cbor\")","v":"aif+cbor"},{"$f":"IFERROR(__xludf.DUMMYFUNCTION(\"\"\"COMPUTED_VALUE\"\"\"),\"aif+cbor\")","v":"aif+cbor"},{"$f":"IFERROR(__xludf.DUMMYFUNCTION(\"\"\"COMPUTED_VALUE\"\"\"),\"application/aif+cbor\")","v":"application/aif+cbor"},{"$f":"IFERROR(__xludf.DUMMYFUNCTION(\"\"\"COMPUTED_VALUE\"\"\"),\"en\")","v":"en"}]
[{"$f":"IFERROR(__xludf.DUMMYFUNCTION(\"\"\"COMPUTED_VALUE\"\"\"),\"https://www.iana.org/assignments/media-types/application/aif+json\")","v":"https://www.iana.org/assignments/media-types/application/aif+json"},{"$f":"IFERROR(__xludf.DUMMYFUNCTION(\"\"\"COMPUTED_VALUE\"\"\"),\"aif+json\")","v":"aif+json"},{"$f":"IFERROR(__xludf.DUMMYFUNCTION(\"\"\"COMPUTED_VALUE\"\"\"),\"aif+json\")","v":"aif+json"},{"$f":"IFERROR(__xludf.DUMMYFUNCTION(\"\"\"COMPUTED_VALUE\"\"\"),\"application/aif+json\")","v":"application/aif+json"},{"$f":"IFERROR(__xludf.DUMMYFUNCTION(\"\"\"COMPUTED_VALUE\"\"\"),\"en\")","v":"en"}]
[{"$f":"IFERROR(__xludf.DUMMYFUNCTION(\"\"\"COMPUTED_VALUE\"\"\"),\"https://www.iana.org/assignments/media-types/application/alto-cdni+json\")","v":"https://www.iana.org/assignments/media-types/application/alto-cdni+json"},{"$f":"IFERROR(__xludf.DUMMYFUNCTION(\"\"\"COMPUTED_VALUE\"\"\"),\"alto-cdni+json\")","v":"alto-cdni+json"},{"$f":"IFERROR(__xludf.DUMMYFUNCTION(\"\"\"COMPUTED_VALUE\"\"\"),\"alto-cdni+json\")","v":"alto-cdni+json"},{"$f":"IFERROR(__xludf.DUMMYFUNCTION(\"\"\"COMPUTED_VALUE\"\"\"),\"application/alto-cdni+json\")","v":"application/alto-cdni+json"},{"$f":"IFERROR(__xludf.DUMMYFUNCTION(\"\"\"COMPUTED_VALUE\"\"\"),\"en\")","v":"en"}]
[{"$f":"IFERROR(__xludf.DUMMYFUNCTION(\"\"\"COMPUTED_VALUE\"\"\"),\"https://www.iana.org/assignments/media-types/application/alto-cdnifilter+json\")","v":"https://www.iana.org/assignments/media-types/application/alto-cdnifilter+json"},{"$f":"IFERROR(__xludf.DUMMYFUNCTION(\"\"\"COMPUTED_VALUE\"\"\"),\"alto-cdnifilter+json\")","v":"alto-cdnifilter+json"},{"$f":"IFERROR(__xludf.DUMMYFUNCTION(\"\"\"COMPUTED_VALUE\"\"\"),\"alto-cdnifilter+json\")","v":"alto-cdnifilter+json"},{"$f":"IFERROR(__xludf.DUMMYFUNCTION(\"\"\"COMPUTED_VALUE\"\"\"),\"application/alto-cdnifilter+json\")","v":"application/alto-cdnifilter+json"},{"$f":"IFERROR(__xludf.DUMMYFUNCTION(\"\"\"COMPUTED_VALUE\"\"\"),\"en\")","v":"en"}]
[{"$f":"IFERROR(__xludf.DUMMYFUNCTION(\"\"\"COMPUTED_VALUE\"\"\"),\"https://www.iana.org/assignments/media-types/application/alto-costmap+json\")","v":"https://www.iana.org/assignments/media-types/application/alto-costmap+json"},{"$f":"IFERROR(__xludf.DUMMYFUNCTION(\"\"\"COMPUTED_VALUE\"\"\"),\"alto-costmap+json\")","v":"alto-costmap+json"},{"$f":"IFERROR(__xludf.DUMMYFUNCTION(\"\"\"COMPUTED_VALUE\"\"\"),\"alto-costmap+json\")","v":"alto-costmap+json"},{"$f":"IFERROR(__xludf.DUMMYFUNCTION(\"\"\"COMPUTED_VALUE\"\"\"),\"application/alto-costmap+json\")","v":"application/alto-costmap+json"},{"$f":"IFERROR(__xludf.DUMMYFUNCTION(\"\"\"COMPUTED_VALUE\"\"\"),\"en\")","v":"en"}]
[{"$f":"IFERROR(__xludf.DUMMYFUNCTION(\"\"\"COMPUTED_VALUE\"\"\"),\"https://www.iana.org/assignments/media-types/application/alto-costmapfilter+json\")","v":"https://www.iana.org/assignments/media-types/application/alto-costmapfilter+json"},{"$f":"IFERROR(__xludf.DUMMYFUNCTION(\"\"\"COMPUTED_VALUE\"\"\"),\"alto-costmapfilter+json\")","v":"alto-costmapfilter+json"},{"$f":"IFERROR(__xludf.DUMMYFUNCTION(\"\"\"COMPUTED_VALUE\"\"\"),\"alto-costmapfilter+json\")","v":"alto-costmapfilter+json"},{"$f":"IFERROR(__xludf.DUMMYFUNCTION(\"\"\"COMPUTED_VALUE\"\"\"),\"application/alto-costmapfilter+json\")","v":"application/alto-costmapfilter+json"},{"$f":"IFERROR(__xludf.DUMMYFUNCTION(\"\"\"COMPUTED_VALUE\"\"\"),\"en\")","v":"en"}]
[{"$f":"IFERROR(__xludf.DUMMYFUNCTION(\"\"\"COMPUTED_VALUE\"\"\"),\"https://www.iana.org/assignments/media-types/application/alto-directory+json\")","v":"https://www.iana.org/assignments/media-types/application/alto-directory+json"},{"$f":"IFERROR(__xludf.DUMMYFUNCTION(\"\"\"COMPUTED_VALUE\"\"\"),\"alto-directory+json\")","v":"alto-directory+json"},{"$f":"IFERROR(__xludf.DUMMYFUNCTION(\"\"\"COMPUTED_VALUE\"\"\"),\"alto-directory+json\")","v":"alto-directory+json"},{"$f":"IFERROR(__xludf.DUMMYFUNCTION(\"\"\"COMPUTED_VALUE\"\"\"),\"application/alto-directory+json\")","v":"application/alto-directory+json"},{"$f":"IFERROR(__xludf.DUMMYFUNCTION(\"\"\"COMPUTED_VALUE\"\"\"),\"en\")","v":"en"}]
[{"$f":"IFERROR(__xludf.DUMMYFUNCTION(\"\"\"COMPUTED_VALUE\"\"\"),\"https://www.iana.org/assignments/media-types/application/alto-endpointprop+json\")","v":"https://www.iana.org/assignments/media-types/application/alto-endpointprop+json"},{"$f":"IFERROR(__xludf.DUMMYFUNCTION(\"\"\"COMPUTED_VALUE\"\"\"),\"alto-endpointprop+json\")","v":"alto-endpointprop+json"},{"$f":"IFERROR(__xludf.DUMMYFUNCTION(\"\"\"COMPUTED_VALUE\"\"\"),\"alto-endpointprop+json\")","v":"alto-endpointprop+json"},{"$f":"IFERROR(__xludf.DUMMYFUNCTION(\"\"\"COMPUTED_VALUE\"\"\"),\"application/alto-endpointprop+json\")","v":"application/alto-endpointprop+json"},{"$f":"IFERROR(__xludf.DUMMYFUNCTION(\"\"\"COMPUTED_VALUE\"\"\"),\"en\")","v":"en"}]
[{"$f":"IFERROR(__xludf.DUMMYFUNCTION(\"\"\"COMPUTED_VALUE\"\"\"),\"https://www.iana.org/assignments/media-types/application/alto-endpointpropparams+json\")","v":"https://www.iana.org/assignments/media-types/application/alto-endpointpropparams+json"},{"$f":"IFERROR(__xludf.DUMMYFUNCTION(\"\"\"COMPUTED_VALUE\"\"\"),\"alto-endpointpropparams+json\")","v":"alto-endpointpropparams+json"},{"$f":"IFERROR(__xludf.DUMMYFUNCTION(\"\"\"COMPUTED_VALUE\"\"\"),\"alto-endpointpropparams+json\")","v":"alto-endpointpropparams+json"},{"$f":"IFERROR(__xludf.DUMMYFUNCTION(\"\"\"COMPUTED_VALUE\"\"\"),\"application/alto-endpointpropparams+json\")","v":"application/alto-endpointpropparams+json"},{"$f":"IFERROR(__xludf.DUMMYFUNCTION(\"\"\"COMPUTED_VALUE\"\"\"),\"en\")","v":"en"}]
[{"$f":"IFERROR(__xludf.DUMMYFUNCTION(\"\"\"COMPUTED_VALUE\"\"\"),\"https://www.iana.org/assignments/media-types/application/alto-endpointcost+json\")","v":"https://www.iana.org/assignments/media-types/application/alto-endpointcost+json"},{"$f":"IFERROR(__xludf.DUMMYFUNCTION(\"\"\"COMPUTED_VALUE\"\"\"),\"alto-endpointcost+json\")","v":"alto-endpointcost+json"},{"$f":"IFERROR(__xludf.DUMMYFUNCTION(\"\"\"COMPUTED_VALUE\"\"\"),\"alto-endpointcost+json\")","v":"alto-endpointcost+json"},{"$f":"IFERROR(__xludf.DUMMYFUNCTION(\"\"\"COMPUTED_VALUE\"\"\"),\"application/alto-endpointcost+json\")","v":"application/alto-endpointcost+json"},{"$f":"IFERROR(__xludf.DUMMYFUNCTION(\"\"\"COMPUTED_VALUE\"\"\"),\"en\")","v":"en"}]
[{"$f":"IFERROR(__xludf.DUMMYFUNCTION(\"\"\"COMPUTED_VALUE\"\"\"),\"https://www.iana.org/assignments/media-types/application/alto-endpointcostparams+json\")","v":"https://www.iana.org/assignments/media-types/application/alto-endpointcostparams+json"},{"$f":"IFERROR(__xludf.DUMMYFUNCTION(\"\"\"COMPUTED_VALUE\"\"\"),\"alto-endpointcostparams+json\")","v":"alto-endpointcostparams+json"},{"$f":"IFERROR(__xludf.DUMMYFUNCTION(\"\"\"COMPUTED_VALUE\"\"\"),\"alto-endpointcostparams+json\")","v":"alto-endpointcostparams+json"},{"$f":"IFERROR(__xludf.DUMMYFUNCTION(\"\"\"COMPUTED_VALUE\"\"\"),\"application/alto-endpointcostparams+json\")","v":"application/alto-endpointcostparams+json"},{"$f":"IFERROR(__xludf.DUMMYFUNCTION(\"\"\"COMPUTED_VALUE\"\"\"),\"en\")","v":"en"}]
[{"$f":"IFERROR(__xludf.DUMMYFUNCTION(\"\"\"COMPUTED_VALUE\"\"\"),\"https://www.iana.org/assignments/media-types/application/alto-error+json\")","v":"https://www.iana.org/assignments/media-types/application/alto-error+json"},{"$f":"IFERROR(__xludf.DUMMYFUNCTION(\"\"\"COMPUTED_VALUE\"\"\"),\"alto-error+json\")","v":"alto-error+json"},{"$f":"IFERROR(__xludf.DUMMYFUNCTION(\"\"\"COMPUTED_VALUE\"\"\"),\"alto-error+json\")","v":"alto-error+json"},{"$f":"IFERROR(__xludf.DUMMYFUNCTION(\"\"\"COMPUTED_VALUE\"\"\"),\"application/alto-error+json\")","v":"application/alto-error+json"},{"$f":"IFERROR(__xludf.DUMMYFUNCTION(\"\"\"COMPUTED_VALUE\"\"\"),\"en\")","v":"en"}]
[{"$f":"IFERROR(__xludf.DUMMYFUNCTION(\"\"\"COMPUTED_VALUE\"\"\"),\"https://www.iana.org/assignments/media-types/application/alto-networkmapfilter+json\")","v":"https://www.iana.org/assignments/media-types/application/alto-networkmapfilter+json"},{"$f":"IFERROR(__xludf.DUMMYFUNCTION(\"\"\"COMPUTED_VALUE\"\"\"),\"alto-networkmapfilter+json\")","v":"alto-networkmapfilter+json"},{"$f":"IFERROR(__xludf.DUMMYFUNCTION(\"\"\"COMPUTED_VALUE\"\"\"),\"alto-networkmapfilter+json\")","v":"alto-networkmapfilter+json"},{"$f":"IFERROR(__xludf.DUMMYFUNCTION(\"\"\"COMPUTED_VALUE\"\"\"),\"application/alto-networkmapfilter+json\")","v":"application/alto-networkmapfilter+json"},{"$f":"IFERROR(__xludf.DUMMYFUNCTION(\"\"\"COMPUTED_VALUE\"\"\"),\"en\")","v":"en"}]
[{"$f":"IFERROR(__xludf.DUMMYFUNCTION(\"\"\"COMPUTED_VALUE\"\"\"),\"https://www.iana.org/assignments/media-types/application/alto-networkmap+json\")","v":"https://www.iana.org/assignments/media-types/application/alto-networkmap+json"},{"$f":"IFERROR(__xludf.DUMMYFUNCTION(\"\"\"COMPUTED_VALUE\"\"\"),\"alto-networkmap+json\")","v":"alto-networkmap+json"},{"$f":"IFERROR(__xludf.DUMMYFUNCTION(\"\"\"COMPUTED_VALUE\"\"\"),\"alto-networkmap+json\")","v":"alto-networkmap+json"},{"$f":"IFERROR(__xludf.DUMMYFUNCTION(\"\"\"COMPUTED_VALUE\"\"\"),\"application/alto-networkmap+json\")","v":"application/alto-networkmap+json"},{"$f":"IFERROR(__xludf.DUMMYFUNCTION(\"\"\"COMPUTED_VALUE\"\"\"),\"en\")","v":"en"}]
[{"$f":"IFERROR(__xludf.DUMMYFUNCTION(\"\"\"COMPUTED_VALUE\"\"\"),\"https://www.iana.org/assignments/media-types/application/alto-propmap+json\")","v":"https://www.iana.org/assignments/media-types/application/alto-propmap+json"},{"$f":"IFERROR(__xludf.DUMMYFUNCTION(\"\"\"COMPUTED_VALUE\"\"\"),\"alto-propmap+json\")","v":"alto-propmap+json"},{"$f":"IFERROR(__xludf.DUMMYFUNCTION(\"\"\"COMPUTED_VALUE\"\"\"),\"alto-propmap+json\")","v":"alto-propmap+json"},{"$f":"IFERROR(__xludf.DUMMYFUNCTION(\"\"\"COMPUTED_VALUE\"\"\"),\"application/alto-propmap+json\")","v":"application/alto-propmap+json"},{"$f":"IFERROR(__xludf.DUMMYFUNCTION(\"\"\"COMPUTED_VALUE\"\"\"),\"en\")","v":"en"}]
[{"$f":"IFERROR(__xludf.DUMMYFUNCTION(\"\"\"COMPUTED_VALUE\"\"\"),\"https://www.iana.org/assignments/media-types/application/alto-propmapparams+json\")","v":"https://www.iana.org/assignments/media-types/application/alto-propmapparams+json"},{"$f":"IFERROR(__xludf.DUMMYFUNCTION(\"\"\"COMPUTED_VALUE\"\"\"),\"alto-propmapparams+json\")","v":"alto-propmapparams+json"},{"$f":"IFERROR(__xludf.DUMMYFUNCTION(\"\"\"COMPUTED_VALUE\"\"\"),\"alto-propmapparams+json\")","v":"alto-propmapparams+json"},{"$f":"IFERROR(__xludf.DUMMYFUNCTION(\"\"\"COMPUTED_VALUE\"\"\"),\"application/alto-propmapparams+json\")","v":"application/alto-propmapparams+json"},{"$f":"IFERROR(__xludf.DUMMYFUNCTION(\"\"\"COMPUTED_VALUE\"\"\"),\"en\")","v":"en"}]
[{"$f":"IFERROR(__xludf.DUMMYFUNCTION(\"\"\"COMPUTED_VALUE\"\"\"),\"https://www.iana.org/assignments/media-types/application/alto-updatestreamcontrol+json\")","v":"https://www.iana.org/assignments/media-types/application/alto-updatestreamcontrol+json"},{"$f":"IFERROR(__xludf.DUMMYFUNCTION(\"\"\"COMPUTED_VALUE\"\"\"),\"alto-updatestreamcontrol+json\")","v":"alto-updatestreamcontrol+json"},{"$f":"IFERROR(__xludf.DUMMYFUNCTION(\"\"\"COMPUTED_VALUE\"\"\"),\"alto-updatestreamcontrol+json\")","v":"alto-updatestreamcontrol+json"},{"$f":"IFERROR(__xludf.DUMMYFUNCTION(\"\"\"COMPUTED_VALUE\"\"\"),\"application/alto-updatestreamcontrol+json\")","v":"application/alto-updatestreamcontrol+json"},{"$f":"IFERROR(__xludf.DUMMYFUNCTION(\"\"\"COMPUTED_VALUE\"\"\"),\"en\")","v":"en"}]
[{"$f":"IFERROR(__xludf.DUMMYFUNCTION(\"\"\"COMPUTED_VALUE\"\"\"),\"https://www.iana.org/assignments/media-types/application/alto-updatestreamparams+json\")","v":"https://www.iana.org/assignments/media-types/application/alto-updatestreamparams+json"},{"$f":"IFERROR(__xludf.DUMMYFUNCTION(\"\"\"COMPUTED_VALUE\"\"\"),\"alto-updatestreamparams+json\")","v":"alto-updatestreamparams+json"},{"$f":"IFERROR(__xludf.DUMMYFUNCTION(\"\"\"COMPUTED_VALUE\"\"\"),\"alto-updatestreamparams+json\")","v":"alto-updatestreamparams+json"},{"$f":"IFERROR(__xludf.DUMMYFUNCTION(\"\"\"COMPUTED_VALUE\"\"\"),\"application/alto-updatestreamparams+json\")","v":"application/alto-updatestreamparams+json"},{"$f":"IFERROR(__xludf.DUMMYFUNCTION(\"\"\"COMPUTED_VALUE\"\"\"),\"en\")","v":"en"}]
[{"$f":"IFERROR(__xludf.DUMMYFUNCTION(\"\"\"COMPUTED_VALUE\"\"\"),\"https://www.iana.org/assignments/media-types/application/AML\")","v":"https://www.iana.org/assignments/media-types/application/AML"},{"$f":"IFERROR(__xludf.DUMMYFUNCTION(\"\"\"COMPUTED_VALUE\"\"\"),\"AML\")","v":"AML"},{"$f":"IFERROR(__xludf.DUMMYFUNCTION(\"\"\"COMPUTED_VALUE\"\"\"),\"AML\")","v":"AML"},{"$f":"IFERROR(__xludf.DUMMYFUNCTION(\"\"\"COMPUTED_VALUE\"\"\"),\"application/AML\")","v":"application/AML"},{"$f":"IFERROR(__xludf.DUMMYFUNCTION(\"\"\"COMPUTED_VALUE\"\"\"),\"en\")","v":"en"}]
[{"$f":"IFERROR(__xludf.DUMMYFUNCTION(\"\"\"COMPUTED_VALUE\"\"\"),\"https://www.iana.org/assignments/media-types/application/andrew-inset\")","v":"https://www.iana.org/assignments/media-types/application/andrew-inset"},{"$f":"IFERROR(__xludf.DUMMYFUNCTION(\"\"\"COMPUTED_VALUE\"\"\"),\"andrew-inset\")","v":"andrew-inset"},{"$f":"IFERROR(__xludf.DUMMYFUNCTION(\"\"\"COMPUTED_VALUE\"\"\"),\"andrew-inset\")","v":"andrew-inset"},{"$f":"IFERROR(__xludf.DUMMYFUNCTION(\"\"\"COMPUTED_VALUE\"\"\"),\"application/andrew-inset\")","v":"application/andrew-inset"},{"$f":"IFERROR(__xludf.DUMMYFUNCTION(\"\"\"COMPUTED_VALUE\"\"\"),\"en\")","v":"en"}]
[{"$f":"IFERROR(__xludf.DUMMYFUNCTION(\"\"\"COMPUTED_VALUE\"\"\"),\"https://www.iana.org/assignments/media-types/application/applefile\")","v":"https://www.iana.org/assignments/media-types/application/applefile"},{"$f":"IFERROR(__xludf.DUMMYFUNCTION(\"\"\"COMPUTED_VALUE\"\"\"),\"applefile\")","v":"applefile"},{"$f":"IFERROR(__xludf.DUMMYFUNCTION(\"\"\"COMPUTED_VALUE\"\"\"),\"applefile\")","v":"applefile"},{"$f":"IFERROR(__xludf.DUMMYFUNCTION(\"\"\"COMPUTED_VALUE\"\"\"),\"application/applefile\")","v":"application/applefile"},{"$f":"IFERROR(__xludf.DUMMYFUNCTION(\"\"\"COMPUTED_VALUE\"\"\"),\"en\")","v":"en"}]
[{"$f":"IFERROR(__xludf.DUMMYFUNCTION(\"\"\"COMPUTED_VALUE\"\"\"),\"https://www.iana.org/assignments/media-types/application/at+jwt\")","v":"https://www.iana.org/assignments/media-types/application/at+jwt"},{"$f":"IFERROR(__xludf.DUMMYFUNCTION(\"\"\"COMPUTED_VALUE\"\"\"),\"at+jwt\")","v":"at+jwt"},{"$f":"IFERROR(__xludf.DUMMYFUNCTION(\"\"\"COMPUTED_VALUE\"\"\"),\"at+jwt\")","v":"at+jwt"},{"$f":"IFERROR(__xludf.DUMMYFUNCTION(\"\"\"COMPUTED_VALUE\"\"\"),\"application/at+jwt\")","v":"application/at+jwt"},{"$f":"IFERROR(__xludf.DUMMYFUNCTION(\"\"\"COMPUTED_VALUE\"\"\"),\"en\")","v":"en"}]
[{"$f":"IFERROR(__xludf.DUMMYFUNCTION(\"\"\"COMPUTED_VALUE\"\"\"),\"https://www.iana.org/assignments/media-types/application/ATF\")","v":"https://www.iana.org/assignments/media-types/application/ATF"},{"$f":"IFERROR(__xludf.DUMMYFUNCTION(\"\"\"COMPUTED_VALUE\"\"\"),\"ATF\")","v":"ATF"},{"$f":"IFERROR(__xludf.DUMMYFUNCTION(\"\"\"COMPUTED_VALUE\"\"\"),\"ATF\")","v":"ATF"},{"$f":"IFERROR(__xludf.DUMMYFUNCTION(\"\"\"COMPUTED_VALUE\"\"\"),\"application/ATF\")","v":"application/ATF"},{"$f":"IFERROR(__xludf.DUMMYFUNCTION(\"\"\"COMPUTED_VALUE\"\"\"),\"en\")","v":"en"}]
[{"$f":"IFERROR(__xludf.DUMMYFUNCTION(\"\"\"COMPUTED_VALUE\"\"\"),\"https://www.iana.org/assignments/media-types/application/ATFX\")","v":"https://www.iana.org/assignments/media-types/application/ATFX"},{"$f":"IFERROR(__xludf.DUMMYFUNCTION(\"\"\"COMPUTED_VALUE\"\"\"),\"ATFX\")","v":"ATFX"},{"$f":"IFERROR(__xludf.DUMMYFUNCTION(\"\"\"COMPUTED_VALUE\"\"\"),\"ATFX\")","v":"ATFX"},{"$f":"IFERROR(__xludf.DUMMYFUNCTION(\"\"\"COMPUTED_VALUE\"\"\"),\"application/ATFX\")","v":"application/ATFX"},{"$f":"IFERROR(__xludf.DUMMYFUNCTION(\"\"\"COMPUTED_VALUE\"\"\"),\"en\")","v":"en"}]
[{"$f":"IFERROR(__xludf.DUMMYFUNCTION(\"\"\"COMPUTED_VALUE\"\"\"),\"https://www.iana.org/assignments/media-types/application/atom+xml\")","v":"https://www.iana.org/assignments/media-types/application/atom+xml"},{"$f":"IFERROR(__xludf.DUMMYFUNCTION(\"\"\"COMPUTED_VALUE\"\"\"),\"atom+xml\")","v":"atom+xml"},{"$f":"IFERROR(__xludf.DUMMYFUNCTION(\"\"\"COMPUTED_VALUE\"\"\"),\"atom+xml\")","v":"atom+xml"},{"$f":"IFERROR(__xludf.DUMMYFUNCTION(\"\"\"COMPUTED_VALUE\"\"\"),\"application/atom+xml\")","v":"application/atom+xml"},{"$f":"IFERROR(__xludf.DUMMYFUNCTION(\"\"\"COMPUTED_VALUE\"\"\"),\"en\")","v":"en"}]
[{"$f":"IFERROR(__xludf.DUMMYFUNCTION(\"\"\"COMPUTED_VALUE\"\"\"),\"https://www.iana.org/assignments/media-types/application/atomcat+xml\")","v":"https://www.iana.org/assignments/media-types/application/atomcat+xml"},{"$f":"IFERROR(__xludf.DUMMYFUNCTION(\"\"\"COMPUTED_VALUE\"\"\"),\"atomcat+xml\")","v":"atomcat+xml"},{"$f":"IFERROR(__xludf.DUMMYFUNCTION(\"\"\"COMPUTED_VALUE\"\"\"),\"atomcat+xml\")","v":"atomcat+xml"},{"$f":"IFERROR(__xludf.DUMMYFUNCTION(\"\"\"COMPUTED_VALUE\"\"\"),\"application/atomcat+xml\")","v":"application/atomcat+xml"},{"$f":"IFERROR(__xludf.DUMMYFUNCTION(\"\"\"COMPUTED_VALUE\"\"\"),\"en\")","v":"en"}]
[{"$f":"IFERROR(__xludf.DUMMYFUNCTION(\"\"\"COMPUTED_VALUE\"\"\"),\"https://www.iana.org/assignments/media-types/application/atomdeleted+xml\")","v":"https://www.iana.org/assignments/media-types/application/atomdeleted+xml"},{"$f":"IFERROR(__xludf.DUMMYFUNCTION(\"\"\"COMPUTED_VALUE\"\"\"),\"atomdeleted+xml\")","v":"atomdeleted+xml"},{"$f":"IFERROR(__xludf.DUMMYFUNCTION(\"\"\"COMPUTED_VALUE\"\"\"),\"atomdeleted+xml\")","v":"atomdeleted+xml"},{"$f":"IFERROR(__xludf.DUMMYFUNCTION(\"\"\"COMPUTED_VALUE\"\"\"),\"application/atomdeleted+xml\")","v":"application/atomdeleted+xml"},{"$f":"IFERROR(__xludf.DUMMYFUNCTION(\"\"\"COMPUTED_VALUE\"\"\"),\"en\")","v":"en"}]
[{"$f":"IFERROR(__xludf.DUMMYFUNCTION(\"\"\"COMPUTED_VALUE\"\"\"),\"https://www.iana.org/assignments/media-types/application/atomicmail\")","v":"https://www.iana.org/assignments/media-types/application/atomicmail"},{"$f":"IFERROR(__xludf.DUMMYFUNCTION(\"\"\"COMPUTED_VALUE\"\"\"),\"atomicmail\")","v":"atomicmail"},{"$f":"IFERROR(__xludf.DUMMYFUNCTION(\"\"\"COMPUTED_VALUE\"\"\"),\"atomicmail\")","v":"atomicmail"},{"$f":"IFERROR(__xludf.DUMMYFUNCTION(\"\"\"COMPUTED_VALUE\"\"\"),\"application/atomicmail\")","v":"application/atomicmail"},{"$f":"IFERROR(__xludf.DUMMYFUNCTION(\"\"\"COMPUTED_VALUE\"\"\"),\"en\")","v":"en"}]
[{"$f":"IFERROR(__xludf.DUMMYFUNCTION(\"\"\"COMPUTED_VALUE\"\"\"),\"https://www.iana.org/assignments/media-types/application/atomsvc+xml\")","v":"https://www.iana.org/assignments/media-types/application/atomsvc+xml"},{"$f":"IFERROR(__xludf.DUMMYFUNCTION(\"\"\"COMPUTED_VALUE\"\"\"),\"atomsvc+xml\")","v":"atomsvc+xml"},{"$f":"IFERROR(__xludf.DUMMYFUNCTION(\"\"\"COMPUTED_VALUE\"\"\"),\"atomsvc+xml\")","v":"atomsvc+xml"},{"$f":"IFERROR(__xludf.DUMMYFUNCTION(\"\"\"COMPUTED_VALUE\"\"\"),\"application/atomsvc+xml\")","v":"application/atomsvc+xml"},{"$f":"IFERROR(__xludf.DUMMYFUNCTION(\"\"\"COMPUTED_VALUE\"\"\"),\"en\")","v":"en"}]
[{"$f":"IFERROR(__xludf.DUMMYFUNCTION(\"\"\"COMPUTED_VALUE\"\"\"),\"https://www.iana.org/assignments/media-types/application/atsc-dwd+xml\")","v":"https://www.iana.org/assignments/media-types/application/atsc-dwd+xml"},{"$f":"IFERROR(__xludf.DUMMYFUNCTION(\"\"\"COMPUTED_VALUE\"\"\"),\"atsc-dwd+xml\")","v":"atsc-dwd+xml"},{"$f":"IFERROR(__xludf.DUMMYFUNCTION(\"\"\"COMPUTED_VALUE\"\"\"),\"atsc-dwd+xml\")","v":"atsc-dwd+xml"},{"$f":"IFERROR(__xludf.DUMMYFUNCTION(\"\"\"COMPUTED_VALUE\"\"\"),\"application/atsc-dwd+xml\")","v":"application/atsc-dwd+xml"},{"$f":"IFERROR(__xludf.DUMMYFUNCTION(\"\"\"COMPUTED_VALUE\"\"\"),\"en\")","v":"en"}]
[{"$f":"IFERROR(__xludf.DUMMYFUNCTION(\"\"\"COMPUTED_VALUE\"\"\"),\"https://www.iana.org/assignments/media-types/application/atsc-dynamic-event-message\")","v":"https://www.iana.org/assignments/media-types/application/atsc-dynamic-event-message"},{"$f":"IFERROR(__xludf.DUMMYFUNCTION(\"\"\"COMPUTED_VALUE\"\"\"),\"atsc-dynamic-event-message\")","v":"atsc-dynamic-event-message"},{"$f":"IFERROR(__xludf.DUMMYFUNCTION(\"\"\"COMPUTED_VALUE\"\"\"),\"atsc-dynamic-event-message\")","v":"atsc-dynamic-event-message"},{"$f":"IFERROR(__xludf.DUMMYFUNCTION(\"\"\"COMPUTED_VALUE\"\"\"),\"application/atsc-dynamic-event-message\")","v":"application/atsc-dynamic-event-message"},{"$f":"IFERROR(__xludf.DUMMYFUNCTION(\"\"\"COMPUTED_VALUE\"\"\"),\"en\")","v":"en"}]
[{"$f":"IFERROR(__xludf.DUMMYFUNCTION(\"\"\"COMPUTED_VALUE\"\"\"),\"https://www.iana.org/assignments/media-types/application/atsc-held+xml\")","v":"https://www.iana.org/assignments/media-types/application/atsc-held+xml"},{"$f":"IFERROR(__xludf.DUMMYFUNCTION(\"\"\"COMPUTED_VALUE\"\"\"),\"atsc-held+xml\")","v":"atsc-held+xml"},{"$f":"IFERROR(__xludf.DUMMYFUNCTION(\"\"\"COMPUTED_VALUE\"\"\"),\"atsc-held+xml\")","v":"atsc-held+xml"},{"$f":"IFERROR(__xludf.DUMMYFUNCTION(\"\"\"COMPUTED_VALUE\"\"\"),\"application/atsc-held+xml\")","v":"application/atsc-held+xml"},{"$f":"IFERROR(__xludf.DUMMYFUNCTION(\"\"\"COMPUTED_VALUE\"\"\"),\"en\")","v":"en"}]
[{"$f":"IFERROR(__xludf.DUMMYFUNCTION(\"\"\"COMPUTED_VALUE\"\"\"),\"https://www.iana.org/assignments/media-types/application/atsc-rdt+json\")","v":"https://www.iana.org/assignments/media-types/application/atsc-rdt+json"},{"$f":"IFERROR(__xludf.DUMMYFUNCTION(\"\"\"COMPUTED_VALUE\"\"\"),\"atsc-rdt+json\")","v":"atsc-rdt+json"},{"$f":"IFERROR(__xludf.DUMMYFUNCTION(\"\"\"COMPUTED_VALUE\"\"\"),\"atsc-rdt+json\")","v":"atsc-rdt+json"},{"$f":"IFERROR(__xludf.DUMMYFUNCTION(\"\"\"COMPUTED_VALUE\"\"\"),\"application/atsc-rdt+json\")","v":"application/atsc-rdt+json"},{"$f":"IFERROR(__xludf.DUMMYFUNCTION(\"\"\"COMPUTED_VALUE\"\"\"),\"en\")","v":"en"}]
[{"$f":"IFERROR(__xludf.DUMMYFUNCTION(\"\"\"COMPUTED_VALUE\"\"\"),\"https://www.iana.org/assignments/media-types/application/atsc-rsat+xml\")","v":"https://www.iana.org/assignments/media-types/application/atsc-rsat+xml"},{"$f":"IFERROR(__xludf.DUMMYFUNCTION(\"\"\"COMPUTED_VALUE\"\"\"),\"atsc-rsat+xml\")","v":"atsc-rsat+xml"},{"$f":"IFERROR(__xludf.DUMMYFUNCTION(\"\"\"COMPUTED_VALUE\"\"\"),\"atsc-rsat+xml\")","v":"atsc-rsat+xml"},{"$f":"IFERROR(__xludf.DUMMYFUNCTION(\"\"\"COMPUTED_VALUE\"\"\"),\"application/atsc-rsat+xml\")","v":"application/atsc-rsat+xml"},{"$f":"IFERROR(__xludf.DUMMYFUNCTION(\"\"\"COMPUTED_VALUE\"\"\"),\"en\")","v":"en"}]
[{"$f":"IFERROR(__xludf.DUMMYFUNCTION(\"\"\"COMPUTED_VALUE\"\"\"),\"https://www.iana.org/assignments/media-types/application/ATXML\")","v":"https://www.iana.org/assignments/media-types/application/ATXML"},{"$f":"IFERROR(__xludf.DUMMYFUNCTION(\"\"\"COMPUTED_VALUE\"\"\"),\"ATXML\")","v":"ATXML"},{"$f":"IFERROR(__xludf.DUMMYFUNCTION(\"\"\"COMPUTED_VALUE\"\"\"),\"ATXML\")","v":"ATXML"},{"$f":"IFERROR(__xludf.DUMMYFUNCTION(\"\"\"COMPUTED_VALUE\"\"\"),\"application/ATXML\")","v":"application/ATXML"},{"$f":"IFERROR(__xludf.DUMMYFUNCTION(\"\"\"COMPUTED_VALUE\"\"\"),\"en\")","v":"en"}]
[{"$f":"IFERROR(__xludf.DUMMYFUNCTION(\"\"\"COMPUTED_VALUE\"\"\"),\"https://www.iana.org/assignments/media-types/application/auth-policy+xml\")","v":"https://www.iana.org/assignments/media-types/application/auth-policy+xml"},{"$f":"IFERROR(__xludf.DUMMYFUNCTION(\"\"\"COMPUTED_VALUE\"\"\"),\"auth-policy+xml\")","v":"auth-policy+xml"},{"$f":"IFERROR(__xludf.DUMMYFUNCTION(\"\"\"COMPUTED_VALUE\"\"\"),\"auth-policy+xml\")","v":"auth-policy+xml"},{"$f":"IFERROR(__xludf.DUMMYFUNCTION(\"\"\"COMPUTED_VALUE\"\"\"),\"application/auth-policy+xml\")","v":"application/auth-policy+xml"},{"$f":"IFERROR(__xludf.DUMMYFUNCTION(\"\"\"COMPUTED_VALUE\"\"\"),\"en\")","v":"en"}]
[{"$f":"IFERROR(__xludf.DUMMYFUNCTION(\"\"\"COMPUTED_VALUE\"\"\"),\"https://www.iana.org/assignments/media-types/application/automationml-aml+xml\")","v":"https://www.iana.org/assignments/media-types/application/automationml-aml+xml"},{"$f":"IFERROR(__xludf.DUMMYFUNCTION(\"\"\"COMPUTED_VALUE\"\"\"),\"automationml-aml+xml\")","v":"automationml-aml+xml"},{"$f":"IFERROR(__xludf.DUMMYFUNCTION(\"\"\"COMPUTED_VALUE\"\"\"),\"automationml-aml+xml\")","v":"automationml-aml+xml"},{"$f":"IFERROR(__xludf.DUMMYFUNCTION(\"\"\"COMPUTED_VALUE\"\"\"),\"application/automationml-aml+xml\")","v":"application/automationml-aml+xml"},{"$f":"IFERROR(__xludf.DUMMYFUNCTION(\"\"\"COMPUTED_VALUE\"\"\"),\"en\")","v":"en"}]
[{"$f":"IFERROR(__xludf.DUMMYFUNCTION(\"\"\"COMPUTED_VALUE\"\"\"),\"https://www.iana.org/assignments/media-types/application/automationml-amlx+zip\")","v":"https://www.iana.org/assignments/media-types/application/automationml-amlx+zip"},{"$f":"IFERROR(__xludf.DUMMYFUNCTION(\"\"\"COMPUTED_VALUE\"\"\"),\"automationml-amlx+zip\")","v":"automationml-amlx+zip"},{"$f":"IFERROR(__xludf.DUMMYFUNCTION(\"\"\"COMPUTED_VALUE\"\"\"),\"automationml-amlx+zip\")","v":"automationml-amlx+zip"},{"$f":"IFERROR(__xludf.DUMMYFUNCTION(\"\"\"COMPUTED_VALUE\"\"\"),\"application/automationml-amlx+zip\")","v":"application/automationml-amlx+zip"},{"$f":"IFERROR(__xludf.DUMMYFUNCTION(\"\"\"COMPUTED_VALUE\"\"\"),\"en\")","v":"en"}]
[{"$f":"IFERROR(__xludf.DUMMYFUNCTION(\"\"\"COMPUTED_VALUE\"\"\"),\"https://www.iana.org/assignments/media-types/application/bacnet-xdd+zip\")","v":"https://www.iana.org/assignments/media-types/application/bacnet-xdd+zip"},{"$f":"IFERROR(__xludf.DUMMYFUNCTION(\"\"\"COMPUTED_VALUE\"\"\"),\"bacnet-xdd+zip\")","v":"bacnet-xdd+zip"},{"$f":"IFERROR(__xludf.DUMMYFUNCTION(\"\"\"COMPUTED_VALUE\"\"\"),\"bacnet-xdd+zip\")","v":"bacnet-xdd+zip"},{"$f":"IFERROR(__xludf.DUMMYFUNCTION(\"\"\"COMPUTED_VALUE\"\"\"),\"application/bacnet-xdd+zip\")","v":"application/bacnet-xdd+zip"},{"$f":"IFERROR(__xludf.DUMMYFUNCTION(\"\"\"COMPUTED_VALUE\"\"\"),\"en\")","v":"en"}]
[{"$f":"IFERROR(__xludf.DUMMYFUNCTION(\"\"\"COMPUTED_VALUE\"\"\"),\"https://www.iana.org/assignments/media-types/application/batch-SMTP\")","v":"https://www.iana.org/assignments/media-types/application/batch-SMTP"},{"$f":"IFERROR(__xludf.DUMMYFUNCTION(\"\"\"COMPUTED_VALUE\"\"\"),\"batch-SMTP\")","v":"batch-SMTP"},{"$f":"IFERROR(__xludf.DUMMYFUNCTION(\"\"\"COMPUTED_VALUE\"\"\"),\"batch-SMTP\")","v":"batch-SMTP"},{"$f":"IFERROR(__xludf.DUMMYFUNCTION(\"\"\"COMPUTED_VALUE\"\"\"),\"application/batch-SMTP\")","v":"application/batch-SMTP"},{"$f":"IFERROR(__xludf.DUMMYFUNCTION(\"\"\"COMPUTED_VALUE\"\"\"),\"en\")","v":"en"}]
[{"$f":"IFERROR(__xludf.DUMMYFUNCTION(\"\"\"COMPUTED_VALUE\"\"\"),\"https://www.iana.org/assignments/media-types/application/beep+xml\")","v":"https://www.iana.org/assignments/media-types/application/beep+xml"},{"$f":"IFERROR(__xludf.DUMMYFUNCTION(\"\"\"COMPUTED_VALUE\"\"\"),\"beep+xml\")","v":"beep+xml"},{"$f":"IFERROR(__xludf.DUMMYFUNCTION(\"\"\"COMPUTED_VALUE\"\"\"),\"beep+xml\")","v":"beep+xml"},{"$f":"IFERROR(__xludf.DUMMYFUNCTION(\"\"\"COMPUTED_VALUE\"\"\"),\"application/beep+xml\")","v":"application/beep+xml"},{"$f":"IFERROR(__xludf.DUMMYFUNCTION(\"\"\"COMPUTED_VALUE\"\"\"),\"en\")","v":"en"}]
[{"$f":"IFERROR(__xludf.DUMMYFUNCTION(\"\"\"COMPUTED_VALUE\"\"\"),\"https://www.iana.org/assignments/media-types/application/calendar+json\")","v":"https://www.iana.org/assignments/media-types/application/calendar+json"},{"$f":"IFERROR(__xludf.DUMMYFUNCTION(\"\"\"COMPUTED_VALUE\"\"\"),\"calendar+json\")","v":"calendar+json"},{"$f":"IFERROR(__xludf.DUMMYFUNCTION(\"\"\"COMPUTED_VALUE\"\"\"),\"calendar+json\")","v":"calendar+json"},{"$f":"IFERROR(__xludf.DUMMYFUNCTION(\"\"\"COMPUTED_VALUE\"\"\"),\"application/calendar+json\")","v":"application/calendar+json"},{"$f":"IFERROR(__xludf.DUMMYFUNCTION(\"\"\"COMPUTED_VALUE\"\"\"),\"en\")","v":"en"}]
[{"$f":"IFERROR(__xludf.DUMMYFUNCTION(\"\"\"COMPUTED_VALUE\"\"\"),\"https://www.iana.org/assignments/media-types/application/calendar+xml\")","v":"https://www.iana.org/assignments/media-types/application/calendar+xml"},{"$f":"IFERROR(__xludf.DUMMYFUNCTION(\"\"\"COMPUTED_VALUE\"\"\"),\"calendar+xml\")","v":"calendar+xml"},{"$f":"IFERROR(__xludf.DUMMYFUNCTION(\"\"\"COMPUTED_VALUE\"\"\"),\"calendar+xml\")","v":"calendar+xml"},{"$f":"IFERROR(__xludf.DUMMYFUNCTION(\"\"\"COMPUTED_VALUE\"\"\"),\"application/calendar+xml\")","v":"application/calendar+xml"},{"$f":"IFERROR(__xludf.DUMMYFUNCTION(\"\"\"COMPUTED_VALUE\"\"\"),\"en\")","v":"en"}]
[{"$f":"IFERROR(__xludf.DUMMYFUNCTION(\"\"\"COMPUTED_VALUE\"\"\"),\"https://www.iana.org/assignments/media-types/application/call-completion\")","v":"https://www.iana.org/assignments/media-types/application/call-completion"},{"$f":"IFERROR(__xludf.DUMMYFUNCTION(\"\"\"COMPUTED_VALUE\"\"\"),\"call-completion\")","v":"call-completion"},{"$f":"IFERROR(__xludf.DUMMYFUNCTION(\"\"\"COMPUTED_VALUE\"\"\"),\"call-completion\")","v":"call-completion"},{"$f":"IFERROR(__xludf.DUMMYFUNCTION(\"\"\"COMPUTED_VALUE\"\"\"),\"application/call-completion\")","v":"application/call-completion"},{"$f":"IFERROR(__xludf.DUMMYFUNCTION(\"\"\"COMPUTED_VALUE\"\"\"),\"en\")","v":"en"}]
[{"$f":"IFERROR(__xludf.DUMMYFUNCTION(\"\"\"COMPUTED_VALUE\"\"\"),\"https://www.iana.org/assignments/media-types/application/CALS-1840\")","v":"https://www.iana.org/assignments/media-types/application/CALS-1840"},{"$f":"IFERROR(__xludf.DUMMYFUNCTION(\"\"\"COMPUTED_VALUE\"\"\"),\"CALS-1840\")","v":"CALS-1840"},{"$f":"IFERROR(__xludf.DUMMYFUNCTION(\"\"\"COMPUTED_VALUE\"\"\"),\"CALS-1840\")","v":"CALS-1840"},{"$f":"IFERROR(__xludf.DUMMYFUNCTION(\"\"\"COMPUTED_VALUE\"\"\"),\"application/CALS-1840\")","v":"application/CALS-1840"},{"$f":"IFERROR(__xludf.DUMMYFUNCTION(\"\"\"COMPUTED_VALUE\"\"\"),\"en\")","v":"en"}]
[{"$f":"IFERROR(__xludf.DUMMYFUNCTION(\"\"\"COMPUTED_VALUE\"\"\"),\"https://www.iana.org/assignments/media-types/application/captive+json\")","v":"https://www.iana.org/assignments/media-types/application/captive+json"},{"$f":"IFERROR(__xludf.DUMMYFUNCTION(\"\"\"COMPUTED_VALUE\"\"\"),\"captive+json\")","v":"captive+json"},{"$f":"IFERROR(__xludf.DUMMYFUNCTION(\"\"\"COMPUTED_VALUE\"\"\"),\"captive+json\")","v":"captive+json"},{"$f":"IFERROR(__xludf.DUMMYFUNCTION(\"\"\"COMPUTED_VALUE\"\"\"),\"application/captive+json\")","v":"application/captive+json"},{"$f":"IFERROR(__xludf.DUMMYFUNCTION(\"\"\"COMPUTED_VALUE\"\"\"),\"en\")","v":"en"}]
[{"$f":"IFERROR(__xludf.DUMMYFUNCTION(\"\"\"COMPUTED_VALUE\"\"\"),\"https://www.iana.org/assignments/media-types/application/cbor\")","v":"https://www.iana.org/assignments/media-types/application/cbor"},{"$f":"IFERROR(__xludf.DUMMYFUNCTION(\"\"\"COMPUTED_VALUE\"\"\"),\"cbor\")","v":"cbor"},{"$f":"IFERROR(__xludf.DUMMYFUNCTION(\"\"\"COMPUTED_VALUE\"\"\"),\"cbor\")","v":"cbor"},{"$f":"IFERROR(__xludf.DUMMYFUNCTION(\"\"\"COMPUTED_VALUE\"\"\"),\"application/cbor\")","v":"application/cbor"},{"$f":"IFERROR(__xludf.DUMMYFUNCTION(\"\"\"COMPUTED_VALUE\"\"\"),\"en\")","v":"en"}]
[{"$f":"IFERROR(__xludf.DUMMYFUNCTION(\"\"\"COMPUTED_VALUE\"\"\"),\"https://www.iana.org/assignments/media-types/application/cbor-seq\")","v":"https://www.iana.org/assignments/media-types/application/cbor-seq"},{"$f":"IFERROR(__xludf.DUMMYFUNCTION(\"\"\"COMPUTED_VALUE\"\"\"),\"cbor-seq\")","v":"cbor-seq"},{"$f":"IFERROR(__xludf.DUMMYFUNCTION(\"\"\"COMPUTED_VALUE\"\"\"),\"cbor-seq\")","v":"cbor-seq"},{"$f":"IFERROR(__xludf.DUMMYFUNCTION(\"\"\"COMPUTED_VALUE\"\"\"),\"application/cbor-seq\")","v":"application/cbor-seq"},{"$f":"IFERROR(__xludf.DUMMYFUNCTION(\"\"\"COMPUTED_VALUE\"\"\"),\"en\")","v":"en"}]
[{"$f":"IFERROR(__xludf.DUMMYFUNCTION(\"\"\"COMPUTED_VALUE\"\"\"),\"https://www.iana.org/assignments/media-types/application/cccex\")","v":"https://www.iana.org/assignments/media-types/application/cccex"},{"$f":"IFERROR(__xludf.DUMMYFUNCTION(\"\"\"COMPUTED_VALUE\"\"\"),\"cccex\")","v":"cccex"},{"$f":"IFERROR(__xludf.DUMMYFUNCTION(\"\"\"COMPUTED_VALUE\"\"\"),\"cccex\")","v":"cccex"},{"$f":"IFERROR(__xludf.DUMMYFUNCTION(\"\"\"COMPUTED_VALUE\"\"\"),\"application/cccex\")","v":"application/cccex"},{"$f":"IFERROR(__xludf.DUMMYFUNCTION(\"\"\"COMPUTED_VALUE\"\"\"),\"en\")","v":"en"}]
[{"$f":"IFERROR(__xludf.DUMMYFUNCTION(\"\"\"COMPUTED_VALUE\"\"\"),\"https://www.iana.org/assignments/media-types/application/ccmp+xml\")","v":"https://www.iana.org/assignments/media-types/application/ccmp+xml"},{"$f":"IFERROR(__xludf.DUMMYFUNCTION(\"\"\"COMPUTED_VALUE\"\"\"),\"ccmp+xml\")","v":"ccmp+xml"},{"$f":"IFERROR(__xludf.DUMMYFUNCTION(\"\"\"COMPUTED_VALUE\"\"\"),\"ccmp+xml\")","v":"ccmp+xml"},{"$f":"IFERROR(__xludf.DUMMYFUNCTION(\"\"\"COMPUTED_VALUE\"\"\"),\"application/ccmp+xml\")","v":"application/ccmp+xml"},{"$f":"IFERROR(__xludf.DUMMYFUNCTION(\"\"\"COMPUTED_VALUE\"\"\"),\"en\")","v":"en"}]
[{"$f":"IFERROR(__xludf.DUMMYFUNCTION(\"\"\"COMPUTED_VALUE\"\"\"),\"https://www.iana.org/assignments/media-types/application/ccxml+xml\")","v":"https://www.iana.org/assignments/media-types/application/ccxml+xml"},{"$f":"IFERROR(__xludf.DUMMYFUNCTION(\"\"\"COMPUTED_VALUE\"\"\"),\"ccxml+xml\")","v":"ccxml+xml"},{"$f":"IFERROR(__xludf.DUMMYFUNCTION(\"\"\"COMPUTED_VALUE\"\"\"),\"ccxml+xml\")","v":"ccxml+xml"},{"$f":"IFERROR(__xludf.DUMMYFUNCTION(\"\"\"COMPUTED_VALUE\"\"\"),\"application/ccxml+xml\")","v":"application/ccxml+xml"},{"$f":"IFERROR(__xludf.DUMMYFUNCTION(\"\"\"COMPUTED_VALUE\"\"\"),\"en\")","v":"en"}]
[{"$f":"IFERROR(__xludf.DUMMYFUNCTION(\"\"\"COMPUTED_VALUE\"\"\"),\"https://www.iana.org/assignments/media-types/application/cda+xml\")","v":"https://www.iana.org/assignments/media-types/application/cda+xml"},{"$f":"IFERROR(__xludf.DUMMYFUNCTION(\"\"\"COMPUTED_VALUE\"\"\"),\"cda+xml\")","v":"cda+xml"},{"$f":"IFERROR(__xludf.DUMMYFUNCTION(\"\"\"COMPUTED_VALUE\"\"\"),\"cda+xml\")","v":"cda+xml"},{"$f":"IFERROR(__xludf.DUMMYFUNCTION(\"\"\"COMPUTED_VALUE\"\"\"),\"application/cda+xml\")","v":"application/cda+xml"},{"$f":"IFERROR(__xludf.DUMMYFUNCTION(\"\"\"COMPUTED_VALUE\"\"\"),\"en\")","v":"en"}]
[{"$f":"IFERROR(__xludf.DUMMYFUNCTION(\"\"\"COMPUTED_VALUE\"\"\"),\"https://www.iana.org/assignments/media-types/application/CDFX+XML\")","v":"https://www.iana.org/assignments/media-types/application/CDFX+XML"},{"$f":"IFERROR(__xludf.DUMMYFUNCTION(\"\"\"COMPUTED_VALUE\"\"\"),\"CDFX+XML\")","v":"CDFX+XML"},{"$f":"IFERROR(__xludf.DUMMYFUNCTION(\"\"\"COMPUTED_VALUE\"\"\"),\"CDFX+XML\")","v":"CDFX+XML"},{"$f":"IFERROR(__xludf.DUMMYFUNCTION(\"\"\"COMPUTED_VALUE\"\"\"),\"application/CDFX+XML\")","v":"application/CDFX+XML"},{"$f":"IFERROR(__xludf.DUMMYFUNCTION(\"\"\"COMPUTED_VALUE\"\"\"),\"en\")","v":"en"}]
[{"$f":"IFERROR(__xludf.DUMMYFUNCTION(\"\"\"COMPUTED_VALUE\"\"\"),\"https://www.iana.org/assignments/media-types/application/cdmi-capability\")","v":"https://www.iana.org/assignments/media-types/application/cdmi-capability"},{"$f":"IFERROR(__xludf.DUMMYFUNCTION(\"\"\"COMPUTED_VALUE\"\"\"),\"cdmi-capability\")","v":"cdmi-capability"},{"$f":"IFERROR(__xludf.DUMMYFUNCTION(\"\"\"COMPUTED_VALUE\"\"\"),\"cdmi-capability\")","v":"cdmi-capability"},{"$f":"IFERROR(__xludf.DUMMYFUNCTION(\"\"\"COMPUTED_VALUE\"\"\"),\"application/cdmi-capability\")","v":"application/cdmi-capability"},{"$f":"IFERROR(__xludf.DUMMYFUNCTION(\"\"\"COMPUTED_VALUE\"\"\"),\"en\")","v":"en"}]
[{"$f":"IFERROR(__xludf.DUMMYFUNCTION(\"\"\"COMPUTED_VALUE\"\"\"),\"https://www.iana.org/assignments/media-types/application/cdmi-container\")","v":"https://www.iana.org/assignments/media-types/application/cdmi-container"},{"$f":"IFERROR(__xludf.DUMMYFUNCTION(\"\"\"COMPUTED_VALUE\"\"\"),\"cdmi-container\")","v":"cdmi-container"},{"$f":"IFERROR(__xludf.DUMMYFUNCTION(\"\"\"COMPUTED_VALUE\"\"\"),\"cdmi-container\")","v":"cdmi-container"},{"$f":"IFERROR(__xludf.DUMMYFUNCTION(\"\"\"COMPUTED_VALUE\"\"\"),\"application/cdmi-container\")","v":"application/cdmi-container"},{"$f":"IFERROR(__xludf.DUMMYFUNCTION(\"\"\"COMPUTED_VALUE\"\"\"),\"en\")","v":"en"}]
[{"$f":"IFERROR(__xludf.DUMMYFUNCTION(\"\"\"COMPUTED_VALUE\"\"\"),\"https://www.iana.org/assignments/media-types/application/cdmi-domain\")","v":"https://www.iana.org/assignments/media-types/application/cdmi-domain"},{"$f":"IFERROR(__xludf.DUMMYFUNCTION(\"\"\"COMPUTED_VALUE\"\"\"),\"cdmi-domain\")","v":"cdmi-domain"},{"$f":"IFERROR(__xludf.DUMMYFUNCTION(\"\"\"COMPUTED_VALUE\"\"\"),\"cdmi-domain\")","v":"cdmi-domain"},{"$f":"IFERROR(__xludf.DUMMYFUNCTION(\"\"\"COMPUTED_VALUE\"\"\"),\"application/cdmi-domain\")","v":"application/cdmi-domain"},{"$f":"IFERROR(__xludf.DUMMYFUNCTION(\"\"\"COMPUTED_VALUE\"\"\"),\"en\")","v":"en"}]
[{"$f":"IFERROR(__xludf.DUMMYFUNCTION(\"\"\"COMPUTED_VALUE\"\"\"),\"https://www.iana.org/assignments/media-types/application/cdmi-object\")","v":"https://www.iana.org/assignments/media-types/application/cdmi-object"},{"$f":"IFERROR(__xludf.DUMMYFUNCTION(\"\"\"COMPUTED_VALUE\"\"\"),\"cdmi-object\")","v":"cdmi-object"},{"$f":"IFERROR(__xludf.DUMMYFUNCTION(\"\"\"COMPUTED_VALUE\"\"\"),\"cdmi-object\")","v":"cdmi-object"},{"$f":"IFERROR(__xludf.DUMMYFUNCTION(\"\"\"COMPUTED_VALUE\"\"\"),\"application/cdmi-object\")","v":"application/cdmi-object"},{"$f":"IFERROR(__xludf.DUMMYFUNCTION(\"\"\"COMPUTED_VALUE\"\"\"),\"en\")","v":"en"}]
[{"$f":"IFERROR(__xludf.DUMMYFUNCTION(\"\"\"COMPUTED_VALUE\"\"\"),\"https://www.iana.org/assignments/media-types/application/cdmi-queue\")","v":"https://www.iana.org/assignments/media-types/application/cdmi-queue"},{"$f":"IFERROR(__xludf.DUMMYFUNCTION(\"\"\"COMPUTED_VALUE\"\"\"),\"cdmi-queue\")","v":"cdmi-queue"},{"$f":"IFERROR(__xludf.DUMMYFUNCTION(\"\"\"COMPUTED_VALUE\"\"\"),\"cdmi-queue\")","v":"cdmi-queue"},{"$f":"IFERROR(__xludf.DUMMYFUNCTION(\"\"\"COMPUTED_VALUE\"\"\"),\"application/cdmi-queue\")","v":"application/cdmi-queue"},{"$f":"IFERROR(__xludf.DUMMYFUNCTION(\"\"\"COMPUTED_VALUE\"\"\"),\"en\")","v":"en"}]
[{"$f":"IFERROR(__xludf.DUMMYFUNCTION(\"\"\"COMPUTED_VALUE\"\"\"),\"https://www.iana.org/assignments/media-types/application/cdni\")","v":"https://www.iana.org/assignments/media-types/application/cdni"},{"$f":"IFERROR(__xludf.DUMMYFUNCTION(\"\"\"COMPUTED_VALUE\"\"\"),\"cdni\")","v":"cdni"},{"$f":"IFERROR(__xludf.DUMMYFUNCTION(\"\"\"COMPUTED_VALUE\"\"\"),\"cdni\")","v":"cdni"},{"$f":"IFERROR(__xludf.DUMMYFUNCTION(\"\"\"COMPUTED_VALUE\"\"\"),\"application/cdni\")","v":"application/cdni"},{"$f":"IFERROR(__xludf.DUMMYFUNCTION(\"\"\"COMPUTED_VALUE\"\"\"),\"en\")","v":"en"}]
[{"$f":"IFERROR(__xludf.DUMMYFUNCTION(\"\"\"COMPUTED_VALUE\"\"\"),\"https://www.iana.org/assignments/media-types/application/CEA\")","v":"https://www.iana.org/assignments/media-types/application/CEA"},{"$f":"IFERROR(__xludf.DUMMYFUNCTION(\"\"\"COMPUTED_VALUE\"\"\"),\"CEA\")","v":"CEA"},{"$f":"IFERROR(__xludf.DUMMYFUNCTION(\"\"\"COMPUTED_VALUE\"\"\"),\"CEA\")","v":"CEA"},{"$f":"IFERROR(__xludf.DUMMYFUNCTION(\"\"\"COMPUTED_VALUE\"\"\"),\"application/CEA\")","v":"application/CEA"},{"$f":"IFERROR(__xludf.DUMMYFUNCTION(\"\"\"COMPUTED_VALUE\"\"\"),\"en\")","v":"en"}]
[{"$f":"IFERROR(__xludf.DUMMYFUNCTION(\"\"\"COMPUTED_VALUE\"\"\"),\"https://www.iana.org/assignments/media-types/application/cea-2018+xml\")","v":"https://www.iana.org/assignments/media-types/application/cea-2018+xml"},{"$f":"IFERROR(__xludf.DUMMYFUNCTION(\"\"\"COMPUTED_VALUE\"\"\"),\"cea-2018+xml\")","v":"cea-2018+xml"},{"$f":"IFERROR(__xludf.DUMMYFUNCTION(\"\"\"COMPUTED_VALUE\"\"\"),\"cea-2018+xml\")","v":"cea-2018+xml"},{"$f":"IFERROR(__xludf.DUMMYFUNCTION(\"\"\"COMPUTED_VALUE\"\"\"),\"application/cea-2018+xml\")","v":"application/cea-2018+xml"},{"$f":"IFERROR(__xludf.DUMMYFUNCTION(\"\"\"COMPUTED_VALUE\"\"\"),\"en\")","v":"en"}]
[{"$f":"IFERROR(__xludf.DUMMYFUNCTION(\"\"\"COMPUTED_VALUE\"\"\"),\"https://www.iana.org/assignments/media-types/application/cellml+xml\")","v":"https://www.iana.org/assignments/media-types/application/cellml+xml"},{"$f":"IFERROR(__xludf.DUMMYFUNCTION(\"\"\"COMPUTED_VALUE\"\"\"),\"cellml+xml\")","v":"cellml+xml"},{"$f":"IFERROR(__xludf.DUMMYFUNCTION(\"\"\"COMPUTED_VALUE\"\"\"),\"cellml+xml\")","v":"cellml+xml"},{"$f":"IFERROR(__xludf.DUMMYFUNCTION(\"\"\"COMPUTED_VALUE\"\"\"),\"application/cellml+xml\")","v":"application/cellml+xml"},{"$f":"IFERROR(__xludf.DUMMYFUNCTION(\"\"\"COMPUTED_VALUE\"\"\"),\"en\")","v":"en"}]
[{"$f":"IFERROR(__xludf.DUMMYFUNCTION(\"\"\"COMPUTED_VALUE\"\"\"),\"https://www.iana.org/assignments/media-types/application/cfw\")","v":"https://www.iana.org/assignments/media-types/application/cfw"},{"$f":"IFERROR(__xludf.DUMMYFUNCTION(\"\"\"COMPUTED_VALUE\"\"\"),\"cfw\")","v":"cfw"},{"$f":"IFERROR(__xludf.DUMMYFUNCTION(\"\"\"COMPUTED_VALUE\"\"\"),\"cfw\")","v":"cfw"},{"$f":"IFERROR(__xludf.DUMMYFUNCTION(\"\"\"COMPUTED_VALUE\"\"\"),\"application/cfw\")","v":"application/cfw"},{"$f":"IFERROR(__xludf.DUMMYFUNCTION(\"\"\"COMPUTED_VALUE\"\"\"),\"en\")","v":"en"}]
[{"$f":"IFERROR(__xludf.DUMMYFUNCTION(\"\"\"COMPUTED_VALUE\"\"\"),\"https://www.iana.org/assignments/media-types/application/city+json\")","v":"https://www.iana.org/assignments/media-types/application/city+json"},{"$f":"IFERROR(__xludf.DUMMYFUNCTION(\"\"\"COMPUTED_VALUE\"\"\"),\"city+json\")","v":"city+json"},{"$f":"IFERROR(__xludf.DUMMYFUNCTION(\"\"\"COMPUTED_VALUE\"\"\"),\"city+json\")","v":"city+json"},{"$f":"IFERROR(__xludf.DUMMYFUNCTION(\"\"\"COMPUTED_VALUE\"\"\"),\"application/city+json\")","v":"application/city+json"},{"$f":"IFERROR(__xludf.DUMMYFUNCTION(\"\"\"COMPUTED_VALUE\"\"\"),\"en\")","v":"en"}]
[{"$f":"IFERROR(__xludf.DUMMYFUNCTION(\"\"\"COMPUTED_VALUE\"\"\"),\"https://www.iana.org/assignments/media-types/application/clr\")","v":"https://www.iana.org/assignments/media-types/application/clr"},{"$f":"IFERROR(__xludf.DUMMYFUNCTION(\"\"\"COMPUTED_VALUE\"\"\"),\"clr\")","v":"clr"},{"$f":"IFERROR(__xludf.DUMMYFUNCTION(\"\"\"COMPUTED_VALUE\"\"\"),\"clr\")","v":"clr"},{"$f":"IFERROR(__xludf.DUMMYFUNCTION(\"\"\"COMPUTED_VALUE\"\"\"),\"application/clr\")","v":"application/clr"},{"$f":"IFERROR(__xludf.DUMMYFUNCTION(\"\"\"COMPUTED_VALUE\"\"\"),\"en\")","v":"en"}]
[{"$f":"IFERROR(__xludf.DUMMYFUNCTION(\"\"\"COMPUTED_VALUE\"\"\"),\"https://www.iana.org/assignments/media-types/application/clue_info+xml\")","v":"https://www.iana.org/assignments/media-types/application/clue_info+xml"},{"$f":"IFERROR(__xludf.DUMMYFUNCTION(\"\"\"COMPUTED_VALUE\"\"\"),\"clue_info+xml\")","v":"clue_info+xml"},{"$f":"IFERROR(__xludf.DUMMYFUNCTION(\"\"\"COMPUTED_VALUE\"\"\"),\"clue_info+xml\")","v":"clue_info+xml"},{"$f":"IFERROR(__xludf.DUMMYFUNCTION(\"\"\"COMPUTED_VALUE\"\"\"),\"application/clue_info+xml\")","v":"application/clue_info+xml"},{"$f":"IFERROR(__xludf.DUMMYFUNCTION(\"\"\"COMPUTED_VALUE\"\"\"),\"en\")","v":"en"}]
[{"$f":"IFERROR(__xludf.DUMMYFUNCTION(\"\"\"COMPUTED_VALUE\"\"\"),\"https://www.iana.org/assignments/media-types/application/clue+xml\")","v":"https://www.iana.org/assignments/media-types/application/clue+xml"},{"$f":"IFERROR(__xludf.DUMMYFUNCTION(\"\"\"COMPUTED_VALUE\"\"\"),\"clue+xml\")","v":"clue+xml"},{"$f":"IFERROR(__xludf.DUMMYFUNCTION(\"\"\"COMPUTED_VALUE\"\"\"),\"clue+xml\")","v":"clue+xml"},{"$f":"IFERROR(__xludf.DUMMYFUNCTION(\"\"\"COMPUTED_VALUE\"\"\"),\"application/clue+xml\")","v":"application/clue+xml"},{"$f":"IFERROR(__xludf.DUMMYFUNCTION(\"\"\"COMPUTED_VALUE\"\"\"),\"en\")","v":"en"}]
[{"$f":"IFERROR(__xludf.DUMMYFUNCTION(\"\"\"COMPUTED_VALUE\"\"\"),\"https://www.iana.org/assignments/media-types/application/cms\")","v":"https://www.iana.org/assignments/media-types/application/cms"},{"$f":"IFERROR(__xludf.DUMMYFUNCTION(\"\"\"COMPUTED_VALUE\"\"\"),\"cms\")","v":"cms"},{"$f":"IFERROR(__xludf.DUMMYFUNCTION(\"\"\"COMPUTED_VALUE\"\"\"),\"cms\")","v":"cms"},{"$f":"IFERROR(__xludf.DUMMYFUNCTION(\"\"\"COMPUTED_VALUE\"\"\"),\"application/cms\")","v":"application/cms"},{"$f":"IFERROR(__xludf.DUMMYFUNCTION(\"\"\"COMPUTED_VALUE\"\"\"),\"en\")","v":"en"}]
[{"$f":"IFERROR(__xludf.DUMMYFUNCTION(\"\"\"COMPUTED_VALUE\"\"\"),\"https://www.iana.org/assignments/media-types/application/cnrp+xml\")","v":"https://www.iana.org/assignments/media-types/application/cnrp+xml"},{"$f":"IFERROR(__xludf.DUMMYFUNCTION(\"\"\"COMPUTED_VALUE\"\"\"),\"cnrp+xml\")","v":"cnrp+xml"},{"$f":"IFERROR(__xludf.DUMMYFUNCTION(\"\"\"COMPUTED_VALUE\"\"\"),\"cnrp+xml\")","v":"cnrp+xml"},{"$f":"IFERROR(__xludf.DUMMYFUNCTION(\"\"\"COMPUTED_VALUE\"\"\"),\"application/cnrp+xml\")","v":"application/cnrp+xml"},{"$f":"IFERROR(__xludf.DUMMYFUNCTION(\"\"\"COMPUTED_VALUE\"\"\"),\"en\")","v":"en"}]
[{"$f":"IFERROR(__xludf.DUMMYFUNCTION(\"\"\"COMPUTED_VALUE\"\"\"),\"https://www.iana.org/assignments/media-types/application/coap-group+json\")","v":"https://www.iana.org/assignments/media-types/application/coap-group+json"},{"$f":"IFERROR(__xludf.DUMMYFUNCTION(\"\"\"COMPUTED_VALUE\"\"\"),\"coap-group+json\")","v":"coap-group+json"},{"$f":"IFERROR(__xludf.DUMMYFUNCTION(\"\"\"COMPUTED_VALUE\"\"\"),\"coap-group+json\")","v":"coap-group+json"},{"$f":"IFERROR(__xludf.DUMMYFUNCTION(\"\"\"COMPUTED_VALUE\"\"\"),\"application/coap-group+json\")","v":"application/coap-group+json"},{"$f":"IFERROR(__xludf.DUMMYFUNCTION(\"\"\"COMPUTED_VALUE\"\"\"),\"en\")","v":"en"}]
[{"$f":"IFERROR(__xludf.DUMMYFUNCTION(\"\"\"COMPUTED_VALUE\"\"\"),\"https://www.iana.org/assignments/media-types/application/coap-payload\")","v":"https://www.iana.org/assignments/media-types/application/coap-payload"},{"$f":"IFERROR(__xludf.DUMMYFUNCTION(\"\"\"COMPUTED_VALUE\"\"\"),\"coap-payload\")","v":"coap-payload"},{"$f":"IFERROR(__xludf.DUMMYFUNCTION(\"\"\"COMPUTED_VALUE\"\"\"),\"coap-payload\")","v":"coap-payload"},{"$f":"IFERROR(__xludf.DUMMYFUNCTION(\"\"\"COMPUTED_VALUE\"\"\"),\"application/coap-payload\")","v":"application/coap-payload"},{"$f":"IFERROR(__xludf.DUMMYFUNCTION(\"\"\"COMPUTED_VALUE\"\"\"),\"en\")","v":"en"}]
[{"$f":"IFERROR(__xludf.DUMMYFUNCTION(\"\"\"COMPUTED_VALUE\"\"\"),\"https://www.iana.org/assignments/media-types/application/commonground\")","v":"https://www.iana.org/assignments/media-types/application/commonground"},{"$f":"IFERROR(__xludf.DUMMYFUNCTION(\"\"\"COMPUTED_VALUE\"\"\"),\"commonground\")","v":"commonground"},{"$f":"IFERROR(__xludf.DUMMYFUNCTION(\"\"\"COMPUTED_VALUE\"\"\"),\"commonground\")","v":"commonground"},{"$f":"IFERROR(__xludf.DUMMYFUNCTION(\"\"\"COMPUTED_VALUE\"\"\"),\"application/commonground\")","v":"application/commonground"},{"$f":"IFERROR(__xludf.DUMMYFUNCTION(\"\"\"COMPUTED_VALUE\"\"\"),\"en\")","v":"en"}]
[{"$f":"IFERROR(__xludf.DUMMYFUNCTION(\"\"\"COMPUTED_VALUE\"\"\"),\"https://www.iana.org/assignments/media-types/application/concise-problem-details+cbor\")","v":"https://www.iana.org/assignments/media-types/application/concise-problem-details+cbor"},{"$f":"IFERROR(__xludf.DUMMYFUNCTION(\"\"\"COMPUTED_VALUE\"\"\"),\"concise-problem-details+cbor\")","v":"concise-problem-details+cbor"},{"$f":"IFERROR(__xludf.DUMMYFUNCTION(\"\"\"COMPUTED_VALUE\"\"\"),\"concise-problem-details+cbor\")","v":"concise-problem-details+cbor"},{"$f":"IFERROR(__xludf.DUMMYFUNCTION(\"\"\"COMPUTED_VALUE\"\"\"),\"application/concise-problem-details+cbor\")","v":"application/concise-problem-details+cbor"},{"$f":"IFERROR(__xludf.DUMMYFUNCTION(\"\"\"COMPUTED_VALUE\"\"\"),\"en\")","v":"en"}]
[{"$f":"IFERROR(__xludf.DUMMYFUNCTION(\"\"\"COMPUTED_VALUE\"\"\"),\"https://www.iana.org/assignments/media-types/application/conference-info+xml\")","v":"https://www.iana.org/assignments/media-types/application/conference-info+xml"},{"$f":"IFERROR(__xludf.DUMMYFUNCTION(\"\"\"COMPUTED_VALUE\"\"\"),\"conference-info+xml\")","v":"conference-info+xml"},{"$f":"IFERROR(__xludf.DUMMYFUNCTION(\"\"\"COMPUTED_VALUE\"\"\"),\"conference-info+xml\")","v":"conference-info+xml"},{"$f":"IFERROR(__xludf.DUMMYFUNCTION(\"\"\"COMPUTED_VALUE\"\"\"),\"application/conference-info+xml\")","v":"application/conference-info+xml"},{"$f":"IFERROR(__xludf.DUMMYFUNCTION(\"\"\"COMPUTED_VALUE\"\"\"),\"en\")","v":"en"}]
[{"$f":"IFERROR(__xludf.DUMMYFUNCTION(\"\"\"COMPUTED_VALUE\"\"\"),\"https://www.iana.org/assignments/media-types/application/cpl+xml\")","v":"https://www.iana.org/assignments/media-types/application/cpl+xml"},{"$f":"IFERROR(__xludf.DUMMYFUNCTION(\"\"\"COMPUTED_VALUE\"\"\"),\"cpl+xml\")","v":"cpl+xml"},{"$f":"IFERROR(__xludf.DUMMYFUNCTION(\"\"\"COMPUTED_VALUE\"\"\"),\"cpl+xml\")","v":"cpl+xml"},{"$f":"IFERROR(__xludf.DUMMYFUNCTION(\"\"\"COMPUTED_VALUE\"\"\"),\"application/cpl+xml\")","v":"application/cpl+xml"},{"$f":"IFERROR(__xludf.DUMMYFUNCTION(\"\"\"COMPUTED_VALUE\"\"\"),\"en\")","v":"en"}]
[{"$f":"IFERROR(__xludf.DUMMYFUNCTION(\"\"\"COMPUTED_VALUE\"\"\"),\"https://www.iana.org/assignments/media-types/application/cose\")","v":"https://www.iana.org/assignments/media-types/application/cose"},{"$f":"IFERROR(__xludf.DUMMYFUNCTION(\"\"\"COMPUTED_VALUE\"\"\"),\"cose\")","v":"cose"},{"$f":"IFERROR(__xludf.DUMMYFUNCTION(\"\"\"COMPUTED_VALUE\"\"\"),\"cose\")","v":"cose"},{"$f":"IFERROR(__xludf.DUMMYFUNCTION(\"\"\"COMPUTED_VALUE\"\"\"),\"application/cose\")","v":"application/cose"},{"$f":"IFERROR(__xludf.DUMMYFUNCTION(\"\"\"COMPUTED_VALUE\"\"\"),\"en\")","v":"en"}]
[{"$f":"IFERROR(__xludf.DUMMYFUNCTION(\"\"\"COMPUTED_VALUE\"\"\"),\"https://www.iana.org/assignments/media-types/application/cose-key\")","v":"https://www.iana.org/assignments/media-types/application/cose-key"},{"$f":"IFERROR(__xludf.DUMMYFUNCTION(\"\"\"COMPUTED_VALUE\"\"\"),\"cose-key\")","v":"cose-key"},{"$f":"IFERROR(__xludf.DUMMYFUNCTION(\"\"\"COMPUTED_VALUE\"\"\"),\"cose-key\")","v":"cose-key"},{"$f":"IFERROR(__xludf.DUMMYFUNCTION(\"\"\"COMPUTED_VALUE\"\"\"),\"application/cose-key\")","v":"application/cose-key"},{"$f":"IFERROR(__xludf.DUMMYFUNCTION(\"\"\"COMPUTED_VALUE\"\"\"),\"en\")","v":"en"}]
[{"$f":"IFERROR(__xludf.DUMMYFUNCTION(\"\"\"COMPUTED_VALUE\"\"\"),\"https://www.iana.org/assignments/media-types/application/cose-key-set\")","v":"https://www.iana.org/assignments/media-types/application/cose-key-set"},{"$f":"IFERROR(__xludf.DUMMYFUNCTION(\"\"\"COMPUTED_VALUE\"\"\"),\"cose-key-set\")","v":"cose-key-set"},{"$f":"IFERROR(__xludf.DUMMYFUNCTION(\"\"\"COMPUTED_VALUE\"\"\"),\"cose-key-set\")","v":"cose-key-set"},{"$f":"IFERROR(__xludf.DUMMYFUNCTION(\"\"\"COMPUTED_VALUE\"\"\"),\"application/cose-key-set\")","v":"application/cose-key-set"},{"$f":"IFERROR(__xludf.DUMMYFUNCTION(\"\"\"COMPUTED_VALUE\"\"\"),\"en\")","v":"en"}]
[{"$f":"IFERROR(__xludf.DUMMYFUNCTION(\"\"\"COMPUTED_VALUE\"\"\"),\"https://www.iana.org/assignments/media-types/application/cose-x509\")","v":"https://www.iana.org/assignments/media-types/application/cose-x509"},{"$f":"IFERROR(__xludf.DUMMYFUNCTION(\"\"\"COMPUTED_VALUE\"\"\"),\"cose-x509\")","v":"cose-x509"},{"$f":"IFERROR(__xludf.DUMMYFUNCTION(\"\"\"COMPUTED_VALUE\"\"\"),\"cose-x509\")","v":"cose-x509"},{"$f":"IFERROR(__xludf.DUMMYFUNCTION(\"\"\"COMPUTED_VALUE\"\"\"),\"application/cose-x509\")","v":"application/cose-x509"},{"$f":"IFERROR(__xludf.DUMMYFUNCTION(\"\"\"COMPUTED_VALUE\"\"\"),\"en\")","v":"en"}]
[{"$f":"IFERROR(__xludf.DUMMYFUNCTION(\"\"\"COMPUTED_VALUE\"\"\"),\"https://www.iana.org/assignments/media-types/application/csrattrs\")","v":"https://www.iana.org/assignments/media-types/application/csrattrs"},{"$f":"IFERROR(__xludf.DUMMYFUNCTION(\"\"\"COMPUTED_VALUE\"\"\"),\"csrattrs\")","v":"csrattrs"},{"$f":"IFERROR(__xludf.DUMMYFUNCTION(\"\"\"COMPUTED_VALUE\"\"\"),\"csrattrs\")","v":"csrattrs"},{"$f":"IFERROR(__xludf.DUMMYFUNCTION(\"\"\"COMPUTED_VALUE\"\"\"),\"application/csrattrs\")","v":"application/csrattrs"},{"$f":"IFERROR(__xludf.DUMMYFUNCTION(\"\"\"COMPUTED_VALUE\"\"\"),\"en\")","v":"en"}]
[{"$f":"IFERROR(__xludf.DUMMYFUNCTION(\"\"\"COMPUTED_VALUE\"\"\"),\"https://www.iana.org/assignments/media-types/application/csta+xml\")","v":"https://www.iana.org/assignments/media-types/application/csta+xml"},{"$f":"IFERROR(__xludf.DUMMYFUNCTION(\"\"\"COMPUTED_VALUE\"\"\"),\"csta+xml\")","v":"csta+xml"},{"$f":"IFERROR(__xludf.DUMMYFUNCTION(\"\"\"COMPUTED_VALUE\"\"\"),\"csta+xml\")","v":"csta+xml"},{"$f":"IFERROR(__xludf.DUMMYFUNCTION(\"\"\"COMPUTED_VALUE\"\"\"),\"application/csta+xml\")","v":"application/csta+xml"},{"$f":"IFERROR(__xludf.DUMMYFUNCTION(\"\"\"COMPUTED_VALUE\"\"\"),\"en\")","v":"en"}]
[{"$f":"IFERROR(__xludf.DUMMYFUNCTION(\"\"\"COMPUTED_VALUE\"\"\"),\"https://www.iana.org/assignments/media-types/application/CSTAdata+xml\")","v":"https://www.iana.org/assignments/media-types/application/CSTAdata+xml"},{"$f":"IFERROR(__xludf.DUMMYFUNCTION(\"\"\"COMPUTED_VALUE\"\"\"),\"CSTAdata+xml\")","v":"CSTAdata+xml"},{"$f":"IFERROR(__xludf.DUMMYFUNCTION(\"\"\"COMPUTED_VALUE\"\"\"),\"CSTAdata+xml\")","v":"CSTAdata+xml"},{"$f":"IFERROR(__xludf.DUMMYFUNCTION(\"\"\"COMPUTED_VALUE\"\"\"),\"application/CSTAdata+xml\")","v":"application/CSTAdata+xml"},{"$f":"IFERROR(__xludf.DUMMYFUNCTION(\"\"\"COMPUTED_VALUE\"\"\"),\"en\")","v":"en"}]
[{"$f":"IFERROR(__xludf.DUMMYFUNCTION(\"\"\"COMPUTED_VALUE\"\"\"),\"https://www.iana.org/assignments/media-types/application/csvm+json\")","v":"https://www.iana.org/assignments/media-types/application/csvm+json"},{"$f":"IFERROR(__xludf.DUMMYFUNCTION(\"\"\"COMPUTED_VALUE\"\"\"),\"csvm+json\")","v":"csvm+json"},{"$f":"IFERROR(__xludf.DUMMYFUNCTION(\"\"\"COMPUTED_VALUE\"\"\"),\"csvm+json\")","v":"csvm+json"},{"$f":"IFERROR(__xludf.DUMMYFUNCTION(\"\"\"COMPUTED_VALUE\"\"\"),\"application/csvm+json\")","v":"application/csvm+json"},{"$f":"IFERROR(__xludf.DUMMYFUNCTION(\"\"\"COMPUTED_VALUE\"\"\"),\"en\")","v":"en"}]
[{"$f":"IFERROR(__xludf.DUMMYFUNCTION(\"\"\"COMPUTED_VALUE\"\"\"),\"https://www.iana.org/assignments/media-types/application/cwl\")","v":"https://www.iana.org/assignments/media-types/application/cwl"},{"$f":"IFERROR(__xludf.DUMMYFUNCTION(\"\"\"COMPUTED_VALUE\"\"\"),\"cwl\")","v":"cwl"},{"$f":"IFERROR(__xludf.DUMMYFUNCTION(\"\"\"COMPUTED_VALUE\"\"\"),\"cwl\")","v":"cwl"},{"$f":"IFERROR(__xludf.DUMMYFUNCTION(\"\"\"COMPUTED_VALUE\"\"\"),\"application/cwl\")","v":"application/cwl"},{"$f":"IFERROR(__xludf.DUMMYFUNCTION(\"\"\"COMPUTED_VALUE\"\"\"),\"en\")","v":"en"}]
[{"$f":"IFERROR(__xludf.DUMMYFUNCTION(\"\"\"COMPUTED_VALUE\"\"\"),\"https://www.iana.org/assignments/media-types/application/cwl+json\")","v":"https://www.iana.org/assignments/media-types/application/cwl+json"},{"$f":"IFERROR(__xludf.DUMMYFUNCTION(\"\"\"COMPUTED_VALUE\"\"\"),\"cwl+json\")","v":"cwl+json"},{"$f":"IFERROR(__xludf.DUMMYFUNCTION(\"\"\"COMPUTED_VALUE\"\"\"),\"cwl+json\")","v":"cwl+json"},{"$f":"IFERROR(__xludf.DUMMYFUNCTION(\"\"\"COMPUTED_VALUE\"\"\"),\"application/cwl+json\")","v":"application/cwl+json"},{"$f":"IFERROR(__xludf.DUMMYFUNCTION(\"\"\"COMPUTED_VALUE\"\"\"),\"en\")","v":"en"}]
[{"$f":"IFERROR(__xludf.DUMMYFUNCTION(\"\"\"COMPUTED_VALUE\"\"\"),\"https://www.iana.org/assignments/media-types/application/cwt\")","v":"https://www.iana.org/assignments/media-types/application/cwt"},{"$f":"IFERROR(__xludf.DUMMYFUNCTION(\"\"\"COMPUTED_VALUE\"\"\"),\"cwt\")","v":"cwt"},{"$f":"IFERROR(__xludf.DUMMYFUNCTION(\"\"\"COMPUTED_VALUE\"\"\"),\"cwt\")","v":"cwt"},{"$f":"IFERROR(__xludf.DUMMYFUNCTION(\"\"\"COMPUTED_VALUE\"\"\"),\"application/cwt\")","v":"application/cwt"},{"$f":"IFERROR(__xludf.DUMMYFUNCTION(\"\"\"COMPUTED_VALUE\"\"\"),\"en\")","v":"en"}]
[{"$f":"IFERROR(__xludf.DUMMYFUNCTION(\"\"\"COMPUTED_VALUE\"\"\"),\"https://www.iana.org/assignments/media-types/application/cybercash\")","v":"https://www.iana.org/assignments/media-types/application/cybercash"},{"$f":"IFERROR(__xludf.DUMMYFUNCTION(\"\"\"COMPUTED_VALUE\"\"\"),\"cybercash\")","v":"cybercash"},{"$f":"IFERROR(__xludf.DUMMYFUNCTION(\"\"\"COMPUTED_VALUE\"\"\"),\"cybercash\")","v":"cybercash"},{"$f":"IFERROR(__xludf.DUMMYFUNCTION(\"\"\"COMPUTED_VALUE\"\"\"),\"application/cybercash\")","v":"application/cybercash"},{"$f":"IFERROR(__xludf.DUMMYFUNCTION(\"\"\"COMPUTED_VALUE\"\"\"),\"en\")","v":"en"}]
[{"$f":"IFERROR(__xludf.DUMMYFUNCTION(\"\"\"COMPUTED_VALUE\"\"\"),\"https://www.iana.org/assignments/media-types/application/dash+xml\")","v":"https://www.iana.org/assignments/media-types/application/dash+xml"},{"$f":"IFERROR(__xludf.DUMMYFUNCTION(\"\"\"COMPUTED_VALUE\"\"\"),\"dash+xml\")","v":"dash+xml"},{"$f":"IFERROR(__xludf.DUMMYFUNCTION(\"\"\"COMPUTED_VALUE\"\"\"),\"dash+xml\")","v":"dash+xml"},{"$f":"IFERROR(__xludf.DUMMYFUNCTION(\"\"\"COMPUTED_VALUE\"\"\"),\"application/dash+xml\")","v":"application/dash+xml"},{"$f":"IFERROR(__xludf.DUMMYFUNCTION(\"\"\"COMPUTED_VALUE\"\"\"),\"en\")","v":"en"}]
[{"$f":"IFERROR(__xludf.DUMMYFUNCTION(\"\"\"COMPUTED_VALUE\"\"\"),\"https://www.iana.org/assignments/media-types/application/dash-patch+xml\")","v":"https://www.iana.org/assignments/media-types/application/dash-patch+xml"},{"$f":"IFERROR(__xludf.DUMMYFUNCTION(\"\"\"COMPUTED_VALUE\"\"\"),\"dash-patch+xml\")","v":"dash-patch+xml"},{"$f":"IFERROR(__xludf.DUMMYFUNCTION(\"\"\"COMPUTED_VALUE\"\"\"),\"dash-patch+xml\")","v":"dash-patch+xml"},{"$f":"IFERROR(__xludf.DUMMYFUNCTION(\"\"\"COMPUTED_VALUE\"\"\"),\"application/dash-patch+xml\")","v":"application/dash-patch+xml"},{"$f":"IFERROR(__xludf.DUMMYFUNCTION(\"\"\"COMPUTED_VALUE\"\"\"),\"en\")","v":"en"}]
[{"$f":"IFERROR(__xludf.DUMMYFUNCTION(\"\"\"COMPUTED_VALUE\"\"\"),\"https://www.iana.org/assignments/media-types/application/dashdelta\")","v":"https://www.iana.org/assignments/media-types/application/dashdelta"},{"$f":"IFERROR(__xludf.DUMMYFUNCTION(\"\"\"COMPUTED_VALUE\"\"\"),\"dashdelta\")","v":"dashdelta"},{"$f":"IFERROR(__xludf.DUMMYFUNCTION(\"\"\"COMPUTED_VALUE\"\"\"),\"dashdelta\")","v":"dashdelta"},{"$f":"IFERROR(__xludf.DUMMYFUNCTION(\"\"\"COMPUTED_VALUE\"\"\"),\"application/dashdelta\")","v":"application/dashdelta"},{"$f":"IFERROR(__xludf.DUMMYFUNCTION(\"\"\"COMPUTED_VALUE\"\"\"),\"en\")","v":"en"}]
[{"$f":"IFERROR(__xludf.DUMMYFUNCTION(\"\"\"COMPUTED_VALUE\"\"\"),\"https://www.iana.org/assignments/media-types/application/davmount+xml\")","v":"https://www.iana.org/assignments/media-types/application/davmount+xml"},{"$f":"IFERROR(__xludf.DUMMYFUNCTION(\"\"\"COMPUTED_VALUE\"\"\"),\"davmount+xml\")","v":"davmount+xml"},{"$f":"IFERROR(__xludf.DUMMYFUNCTION(\"\"\"COMPUTED_VALUE\"\"\"),\"davmount+xml\")","v":"davmount+xml"},{"$f":"IFERROR(__xludf.DUMMYFUNCTION(\"\"\"COMPUTED_VALUE\"\"\"),\"application/davmount+xml\")","v":"application/davmount+xml"},{"$f":"IFERROR(__xludf.DUMMYFUNCTION(\"\"\"COMPUTED_VALUE\"\"\"),\"en\")","v":"en"}]
[{"$f":"IFERROR(__xludf.DUMMYFUNCTION(\"\"\"COMPUTED_VALUE\"\"\"),\"https://www.iana.org/assignments/media-types/application/dca-rft\")","v":"https://www.iana.org/assignments/media-types/application/dca-rft"},{"$f":"IFERROR(__xludf.DUMMYFUNCTION(\"\"\"COMPUTED_VALUE\"\"\"),\"dca-rft\")","v":"dca-rft"},{"$f":"IFERROR(__xludf.DUMMYFUNCTION(\"\"\"COMPUTED_VALUE\"\"\"),\"dca-rft\")","v":"dca-rft"},{"$f":"IFERROR(__xludf.DUMMYFUNCTION(\"\"\"COMPUTED_VALUE\"\"\"),\"application/dca-rft\")","v":"application/dca-rft"},{"$f":"IFERROR(__xludf.DUMMYFUNCTION(\"\"\"COMPUTED_VALUE\"\"\"),\"en\")","v":"en"}]
[{"$f":"IFERROR(__xludf.DUMMYFUNCTION(\"\"\"COMPUTED_VALUE\"\"\"),\"https://www.iana.org/assignments/media-types/application/DCD\")","v":"https://www.iana.org/assignments/media-types/application/DCD"},{"$f":"IFERROR(__xludf.DUMMYFUNCTION(\"\"\"COMPUTED_VALUE\"\"\"),\"DCD\")","v":"DCD"},{"$f":"IFERROR(__xludf.DUMMYFUNCTION(\"\"\"COMPUTED_VALUE\"\"\"),\"DCD\")","v":"DCD"},{"$f":"IFERROR(__xludf.DUMMYFUNCTION(\"\"\"COMPUTED_VALUE\"\"\"),\"application/DCD\")","v":"application/DCD"},{"$f":"IFERROR(__xludf.DUMMYFUNCTION(\"\"\"COMPUTED_VALUE\"\"\"),\"en\")","v":"en"}]
[{"$f":"IFERROR(__xludf.DUMMYFUNCTION(\"\"\"COMPUTED_VALUE\"\"\"),\"https://www.iana.org/assignments/media-types/application/dec-dx\")","v":"https://www.iana.org/assignments/media-types/application/dec-dx"},{"$f":"IFERROR(__xludf.DUMMYFUNCTION(\"\"\"COMPUTED_VALUE\"\"\"),\"dec-dx\")","v":"dec-dx"},{"$f":"IFERROR(__xludf.DUMMYFUNCTION(\"\"\"COMPUTED_VALUE\"\"\"),\"dec-dx\")","v":"dec-dx"},{"$f":"IFERROR(__xludf.DUMMYFUNCTION(\"\"\"COMPUTED_VALUE\"\"\"),\"application/dec-dx\")","v":"application/dec-dx"},{"$f":"IFERROR(__xludf.DUMMYFUNCTION(\"\"\"COMPUTED_VALUE\"\"\"),\"en\")","v":"en"}]
[{"$f":"IFERROR(__xludf.DUMMYFUNCTION(\"\"\"COMPUTED_VALUE\"\"\"),\"https://www.iana.org/assignments/media-types/application/dialog-info+xml\")","v":"https://www.iana.org/assignments/media-types/application/dialog-info+xml"},{"$f":"IFERROR(__xludf.DUMMYFUNCTION(\"\"\"COMPUTED_VALUE\"\"\"),\"dialog-info+xml\")","v":"dialog-info+xml"},{"$f":"IFERROR(__xludf.DUMMYFUNCTION(\"\"\"COMPUTED_VALUE\"\"\"),\"dialog-info+xml\")","v":"dialog-info+xml"},{"$f":"IFERROR(__xludf.DUMMYFUNCTION(\"\"\"COMPUTED_VALUE\"\"\"),\"application/dialog-info+xml\")","v":"application/dialog-info+xml"},{"$f":"IFERROR(__xludf.DUMMYFUNCTION(\"\"\"COMPUTED_VALUE\"\"\"),\"en\")","v":"en"}]
[{"$f":"IFERROR(__xludf.DUMMYFUNCTION(\"\"\"COMPUTED_VALUE\"\"\"),\"https://www.iana.org/assignments/media-types/application/dicom\")","v":"https://www.iana.org/assignments/media-types/application/dicom"},{"$f":"IFERROR(__xludf.DUMMYFUNCTION(\"\"\"COMPUTED_VALUE\"\"\"),\"dicom\")","v":"dicom"},{"$f":"IFERROR(__xludf.DUMMYFUNCTION(\"\"\"COMPUTED_VALUE\"\"\"),\"dicom\")","v":"dicom"},{"$f":"IFERROR(__xludf.DUMMYFUNCTION(\"\"\"COMPUTED_VALUE\"\"\"),\"application/dicom\")","v":"application/dicom"},{"$f":"IFERROR(__xludf.DUMMYFUNCTION(\"\"\"COMPUTED_VALUE\"\"\"),\"en\")","v":"en"}]
[{"$f":"IFERROR(__xludf.DUMMYFUNCTION(\"\"\"COMPUTED_VALUE\"\"\"),\"https://www.iana.org/assignments/media-types/application/dicom+json\")","v":"https://www.iana.org/assignments/media-types/application/dicom+json"},{"$f":"IFERROR(__xludf.DUMMYFUNCTION(\"\"\"COMPUTED_VALUE\"\"\"),\"dicom+json\")","v":"dicom+json"},{"$f":"IFERROR(__xludf.DUMMYFUNCTION(\"\"\"COMPUTED_VALUE\"\"\"),\"dicom+json\")","v":"dicom+json"},{"$f":"IFERROR(__xludf.DUMMYFUNCTION(\"\"\"COMPUTED_VALUE\"\"\"),\"application/dicom+json\")","v":"application/dicom+json"},{"$f":"IFERROR(__xludf.DUMMYFUNCTION(\"\"\"COMPUTED_VALUE\"\"\"),\"en\")","v":"en"}]
[{"$f":"IFERROR(__xludf.DUMMYFUNCTION(\"\"\"COMPUTED_VALUE\"\"\"),\"https://www.iana.org/assignments/media-types/application/dicom+xml\")","v":"https://www.iana.org/assignments/media-types/application/dicom+xml"},{"$f":"IFERROR(__xludf.DUMMYFUNCTION(\"\"\"COMPUTED_VALUE\"\"\"),\"dicom+xml\")","v":"dicom+xml"},{"$f":"IFERROR(__xludf.DUMMYFUNCTION(\"\"\"COMPUTED_VALUE\"\"\"),\"dicom+xml\")","v":"dicom+xml"},{"$f":"IFERROR(__xludf.DUMMYFUNCTION(\"\"\"COMPUTED_VALUE\"\"\"),\"application/dicom+xml\")","v":"application/dicom+xml"},{"$f":"IFERROR(__xludf.DUMMYFUNCTION(\"\"\"COMPUTED_VALUE\"\"\"),\"en\")","v":"en"}]
[{"$f":"IFERROR(__xludf.DUMMYFUNCTION(\"\"\"COMPUTED_VALUE\"\"\"),\"https://www.iana.org/assignments/media-types/application/DII\")","v":"https://www.iana.org/assignments/media-types/application/DII"},{"$f":"IFERROR(__xludf.DUMMYFUNCTION(\"\"\"COMPUTED_VALUE\"\"\"),\"DII\")","v":"DII"},{"$f":"IFERROR(__xludf.DUMMYFUNCTION(\"\"\"COMPUTED_VALUE\"\"\"),\"DII\")","v":"DII"},{"$f":"IFERROR(__xludf.DUMMYFUNCTION(\"\"\"COMPUTED_VALUE\"\"\"),\"application/DII\")","v":"application/DII"},{"$f":"IFERROR(__xludf.DUMMYFUNCTION(\"\"\"COMPUTED_VALUE\"\"\"),\"en\")","v":"en"}]
[{"$f":"IFERROR(__xludf.DUMMYFUNCTION(\"\"\"COMPUTED_VALUE\"\"\"),\"https://www.iana.org/assignments/media-types/application/DIT\")","v":"https://www.iana.org/assignments/media-types/application/DIT"},{"$f":"IFERROR(__xludf.DUMMYFUNCTION(\"\"\"COMPUTED_VALUE\"\"\"),\"DIT\")","v":"DIT"},{"$f":"IFERROR(__xludf.DUMMYFUNCTION(\"\"\"COMPUTED_VALUE\"\"\"),\"DIT\")","v":"DIT"},{"$f":"IFERROR(__xludf.DUMMYFUNCTION(\"\"\"COMPUTED_VALUE\"\"\"),\"application/DIT\")","v":"application/DIT"},{"$f":"IFERROR(__xludf.DUMMYFUNCTION(\"\"\"COMPUTED_VALUE\"\"\"),\"en\")","v":"en"}]
[{"$f":"IFERROR(__xludf.DUMMYFUNCTION(\"\"\"COMPUTED_VALUE\"\"\"),\"https://www.iana.org/assignments/media-types/application/dns\")","v":"https://www.iana.org/assignments/media-types/application/dns"},{"$f":"IFERROR(__xludf.DUMMYFUNCTION(\"\"\"COMPUTED_VALUE\"\"\"),\"dns\")","v":"dns"},{"$f":"IFERROR(__xludf.DUMMYFUNCTION(\"\"\"COMPUTED_VALUE\"\"\"),\"dns\")","v":"dns"},{"$f":"IFERROR(__xludf.DUMMYFUNCTION(\"\"\"COMPUTED_VALUE\"\"\"),\"application/dns\")","v":"application/dns"},{"$f":"IFERROR(__xludf.DUMMYFUNCTION(\"\"\"COMPUTED_VALUE\"\"\"),\"en\")","v":"en"}]
[{"$f":"IFERROR(__xludf.DUMMYFUNCTION(\"\"\"COMPUTED_VALUE\"\"\"),\"https://www.iana.org/assignments/media-types/application/dns+json\")","v":"https://www.iana.org/assignments/media-types/application/dns+json"},{"$f":"IFERROR(__xludf.DUMMYFUNCTION(\"\"\"COMPUTED_VALUE\"\"\"),\"dns+json\")","v":"dns+json"},{"$f":"IFERROR(__xludf.DUMMYFUNCTION(\"\"\"COMPUTED_VALUE\"\"\"),\"dns+json\")","v":"dns+json"},{"$f":"IFERROR(__xludf.DUMMYFUNCTION(\"\"\"COMPUTED_VALUE\"\"\"),\"application/dns+json\")","v":"application/dns+json"},{"$f":"IFERROR(__xludf.DUMMYFUNCTION(\"\"\"COMPUTED_VALUE\"\"\"),\"en\")","v":"en"}]
[{"$f":"IFERROR(__xludf.DUMMYFUNCTION(\"\"\"COMPUTED_VALUE\"\"\"),\"https://www.iana.org/assignments/media-types/application/dns-message\")","v":"https://www.iana.org/assignments/media-types/application/dns-message"},{"$f":"IFERROR(__xludf.DUMMYFUNCTION(\"\"\"COMPUTED_VALUE\"\"\"),\"dns-message\")","v":"dns-message"},{"$f":"IFERROR(__xludf.DUMMYFUNCTION(\"\"\"COMPUTED_VALUE\"\"\"),\"dns-message\")","v":"dns-message"},{"$f":"IFERROR(__xludf.DUMMYFUNCTION(\"\"\"COMPUTED_VALUE\"\"\"),\"application/dns-message\")","v":"application/dns-message"},{"$f":"IFERROR(__xludf.DUMMYFUNCTION(\"\"\"COMPUTED_VALUE\"\"\"),\"en\")","v":"en"}]
[{"$f":"IFERROR(__xludf.DUMMYFUNCTION(\"\"\"COMPUTED_VALUE\"\"\"),\"https://www.iana.org/assignments/media-types/application/dots+cbor\")","v":"https://www.iana.org/assignments/media-types/application/dots+cbor"},{"$f":"IFERROR(__xludf.DUMMYFUNCTION(\"\"\"COMPUTED_VALUE\"\"\"),\"dots+cbor\")","v":"dots+cbor"},{"$f":"IFERROR(__xludf.DUMMYFUNCTION(\"\"\"COMPUTED_VALUE\"\"\"),\"dots+cbor\")","v":"dots+cbor"},{"$f":"IFERROR(__xludf.DUMMYFUNCTION(\"\"\"COMPUTED_VALUE\"\"\"),\"application/dots+cbor\")","v":"application/dots+cbor"},{"$f":"IFERROR(__xludf.DUMMYFUNCTION(\"\"\"COMPUTED_VALUE\"\"\"),\"en\")","v":"en"}]
[{"$f":"IFERROR(__xludf.DUMMYFUNCTION(\"\"\"COMPUTED_VALUE\"\"\"),\"https://www.iana.org/assignments/media-types/application/dskpp+xml\")","v":"https://www.iana.org/assignments/media-types/application/dskpp+xml"},{"$f":"IFERROR(__xludf.DUMMYFUNCTION(\"\"\"COMPUTED_VALUE\"\"\"),\"dskpp+xml\")","v":"dskpp+xml"},{"$f":"IFERROR(__xludf.DUMMYFUNCTION(\"\"\"COMPUTED_VALUE\"\"\"),\"dskpp+xml\")","v":"dskpp+xml"},{"$f":"IFERROR(__xludf.DUMMYFUNCTION(\"\"\"COMPUTED_VALUE\"\"\"),\"application/dskpp+xml\")","v":"application/dskpp+xml"},{"$f":"IFERROR(__xludf.DUMMYFUNCTION(\"\"\"COMPUTED_VALUE\"\"\"),\"en\")","v":"en"}]
[{"$f":"IFERROR(__xludf.DUMMYFUNCTION(\"\"\"COMPUTED_VALUE\"\"\"),\"https://www.iana.org/assignments/media-types/application/dssc+der\")","v":"https://www.iana.org/assignments/media-types/application/dssc+der"},{"$f":"IFERROR(__xludf.DUMMYFUNCTION(\"\"\"COMPUTED_VALUE\"\"\"),\"dssc+der\")","v":"dssc+der"},{"$f":"IFERROR(__xludf.DUMMYFUNCTION(\"\"\"COMPUTED_VALUE\"\"\"),\"dssc+der\")","v":"dssc+der"},{"$f":"IFERROR(__xludf.DUMMYFUNCTION(\"\"\"COMPUTED_VALUE\"\"\"),\"application/dssc+der\")","v":"application/dssc+der"},{"$f":"IFERROR(__xludf.DUMMYFUNCTION(\"\"\"COMPUTED_VALUE\"\"\"),\"en\")","v":"en"}]
[{"$f":"IFERROR(__xludf.DUMMYFUNCTION(\"\"\"COMPUTED_VALUE\"\"\"),\"https://www.iana.org/assignments/media-types/application/dssc+xml\")","v":"https://www.iana.org/assignments/media-types/application/dssc+xml"},{"$f":"IFERROR(__xludf.DUMMYFUNCTION(\"\"\"COMPUTED_VALUE\"\"\"),\"dssc+xml\")","v":"dssc+xml"},{"$f":"IFERROR(__xludf.DUMMYFUNCTION(\"\"\"COMPUTED_VALUE\"\"\"),\"dssc+xml\")","v":"dssc+xml"},{"$f":"IFERROR(__xludf.DUMMYFUNCTION(\"\"\"COMPUTED_VALUE\"\"\"),\"application/dssc+xml\")","v":"application/dssc+xml"},{"$f":"IFERROR(__xludf.DUMMYFUNCTION(\"\"\"COMPUTED_VALUE\"\"\"),\"en\")","v":"en"}]
[{"$f":"IFERROR(__xludf.DUMMYFUNCTION(\"\"\"COMPUTED_VALUE\"\"\"),\"https://www.iana.org/assignments/media-types/application/dvcs\")","v":"https://www.iana.org/assignments/media-types/application/dvcs"},{"$f":"IFERROR(__xludf.DUMMYFUNCTION(\"\"\"COMPUTED_VALUE\"\"\"),\"dvcs\")","v":"dvcs"},{"$f":"IFERROR(__xludf.DUMMYFUNCTION(\"\"\"COMPUTED_VALUE\"\"\"),\"dvcs\")","v":"dvcs"},{"$f":"IFERROR(__xludf.DUMMYFUNCTION(\"\"\"COMPUTED_VALUE\"\"\"),\"application/dvcs\")","v":"application/dvcs"},{"$f":"IFERROR(__xludf.DUMMYFUNCTION(\"\"\"COMPUTED_VALUE\"\"\"),\"en\")","v":"en"}]
[{"$f":"IFERROR(__xludf.DUMMYFUNCTION(\"\"\"COMPUTED_VALUE\"\"\"),\"https://www.iana.org/assignments/media-types/application/ecmascript\")","v":"https://www.iana.org/assignments/media-types/application/ecmascript"},{"$f":"IFERROR(__xludf.DUMMYFUNCTION(\"\"\"COMPUTED_VALUE\"\"\"),\"ecmascript (OBSOLETED in favor of text/javascript)\")","v":"ecmascript (OBSOLETED in favor of text/javascript)"},{"$f":"IFERROR(__xludf.DUMMYFUNCTION(\"\"\"COMPUTED_VALUE\"\"\"),\"ecmascript (OBSOLETED in favor of text/javascript)\")","v":"ecmascript (OBSOLETED in favor of text/javascript)"},{"$f":"IFERROR(__xludf.DUMMYFUNCTION(\"\"\"COMPUTED_VALUE\"\"\"),\"application/ecmascript\")","v":"application/ecmascript"},{"$f":"IFERROR(__xludf.DUMMYFUNCTION(\"\"\"COMPUTED_VALUE\"\"\"),\"en\")","v":"en"}]
[{"$f":"IFERROR(__xludf.DUMMYFUNCTION(\"\"\"COMPUTED_VALUE\"\"\"),\"https://www.iana.org/assignments/media-types/application/EDI-consent\")","v":"https://www.iana.org/assignments/media-types/application/EDI-consent"},{"$f":"IFERROR(__xludf.DUMMYFUNCTION(\"\"\"COMPUTED_VALUE\"\"\"),\"EDI-consent\")","v":"EDI-consent"},{"$f":"IFERROR(__xludf.DUMMYFUNCTION(\"\"\"COMPUTED_VALUE\"\"\"),\"EDI-consent\")","v":"EDI-consent"},{"$f":"IFERROR(__xludf.DUMMYFUNCTION(\"\"\"COMPUTED_VALUE\"\"\"),\"application/EDI-consent\")","v":"application/EDI-consent"},{"$f":"IFERROR(__xludf.DUMMYFUNCTION(\"\"\"COMPUTED_VALUE\"\"\"),\"en\")","v":"en"}]
[{"$f":"IFERROR(__xludf.DUMMYFUNCTION(\"\"\"COMPUTED_VALUE\"\"\"),\"https://www.iana.org/assignments/media-types/application/EDIFACT\")","v":"https://www.iana.org/assignments/media-types/application/EDIFACT"},{"$f":"IFERROR(__xludf.DUMMYFUNCTION(\"\"\"COMPUTED_VALUE\"\"\"),\"EDIFACT\")","v":"EDIFACT"},{"$f":"IFERROR(__xludf.DUMMYFUNCTION(\"\"\"COMPUTED_VALUE\"\"\"),\"EDIFACT\")","v":"EDIFACT"},{"$f":"IFERROR(__xludf.DUMMYFUNCTION(\"\"\"COMPUTED_VALUE\"\"\"),\"application/EDIFACT\")","v":"application/EDIFACT"},{"$f":"IFERROR(__xludf.DUMMYFUNCTION(\"\"\"COMPUTED_VALUE\"\"\"),\"en\")","v":"en"}]
[{"$f":"IFERROR(__xludf.DUMMYFUNCTION(\"\"\"COMPUTED_VALUE\"\"\"),\"https://www.iana.org/assignments/media-types/application/EDI-X12\")","v":"https://www.iana.org/assignments/media-types/application/EDI-X12"},{"$f":"IFERROR(__xludf.DUMMYFUNCTION(\"\"\"COMPUTED_VALUE\"\"\"),\"EDI-X12\")","v":"EDI-X12"},{"$f":"IFERROR(__xludf.DUMMYFUNCTION(\"\"\"COMPUTED_VALUE\"\"\"),\"EDI-X12\")","v":"EDI-X12"},{"$f":"IFERROR(__xludf.DUMMYFUNCTION(\"\"\"COMPUTED_VALUE\"\"\"),\"application/EDI-X12\")","v":"application/EDI-X12"},{"$f":"IFERROR(__xludf.DUMMYFUNCTION(\"\"\"COMPUTED_VALUE\"\"\"),\"en\")","v":"en"}]
[{"$f":"IFERROR(__xludf.DUMMYFUNCTION(\"\"\"COMPUTED_VALUE\"\"\"),\"https://www.iana.org/assignments/media-types/application/efi\")","v":"https://www.iana.org/assignments/media-types/application/efi"},{"$f":"IFERROR(__xludf.DUMMYFUNCTION(\"\"\"COMPUTED_VALUE\"\"\"),\"efi\")","v":"efi"},{"$f":"IFERROR(__xludf.DUMMYFUNCTION(\"\"\"COMPUTED_VALUE\"\"\"),\"efi\")","v":"efi"},{"$f":"IFERROR(__xludf.DUMMYFUNCTION(\"\"\"COMPUTED_VALUE\"\"\"),\"application/efi\")","v":"application/efi"},{"$f":"IFERROR(__xludf.DUMMYFUNCTION(\"\"\"COMPUTED_VALUE\"\"\"),\"en\")","v":"en"}]
[{"$f":"IFERROR(__xludf.DUMMYFUNCTION(\"\"\"COMPUTED_VALUE\"\"\"),\"https://www.iana.org/assignments/media-types/application/elm+json\")","v":"https://www.iana.org/assignments/media-types/application/elm+json"},{"$f":"IFERROR(__xludf.DUMMYFUNCTION(\"\"\"COMPUTED_VALUE\"\"\"),\"elm+json\")","v":"elm+json"},{"$f":"IFERROR(__xludf.DUMMYFUNCTION(\"\"\"COMPUTED_VALUE\"\"\"),\"elm+json\")","v":"elm+json"},{"$f":"IFERROR(__xludf.DUMMYFUNCTION(\"\"\"COMPUTED_VALUE\"\"\"),\"application/elm+json\")","v":"application/elm+json"},{"$f":"IFERROR(__xludf.DUMMYFUNCTION(\"\"\"COMPUTED_VALUE\"\"\"),\"en\")","v":"en"}]
[{"$f":"IFERROR(__xludf.DUMMYFUNCTION(\"\"\"COMPUTED_VALUE\"\"\"),\"https://www.iana.org/assignments/media-types/application/elm+xml\")","v":"https://www.iana.org/assignments/media-types/application/elm+xml"},{"$f":"IFERROR(__xludf.DUMMYFUNCTION(\"\"\"COMPUTED_VALUE\"\"\"),\"elm+xml\")","v":"elm+xml"},{"$f":"IFERROR(__xludf.DUMMYFUNCTION(\"\"\"COMPUTED_VALUE\"\"\"),\"elm+xml\")","v":"elm+xml"},{"$f":"IFERROR(__xludf.DUMMYFUNCTION(\"\"\"COMPUTED_VALUE\"\"\"),\"application/elm+xml\")","v":"application/elm+xml"},{"$f":"IFERROR(__xludf.DUMMYFUNCTION(\"\"\"COMPUTED_VALUE\"\"\"),\"en\")","v":"en"}]
[{"$f":"IFERROR(__xludf.DUMMYFUNCTION(\"\"\"COMPUTED_VALUE\"\"\"),\"https://www.iana.org/assignments/media-types/application/EmergencyCallData.cap+xml\")","v":"https://www.iana.org/assignments/media-types/application/EmergencyCallData.cap+xml"},{"$f":"IFERROR(__xludf.DUMMYFUNCTION(\"\"\"COMPUTED_VALUE\"\"\"),\"EmergencyCallData.cap+xml\")","v":"EmergencyCallData.cap+xml"},{"$f":"IFERROR(__xludf.DUMMYFUNCTION(\"\"\"COMPUTED_VALUE\"\"\"),\"EmergencyCallData.cap+xml\")","v":"EmergencyCallData.cap+xml"},{"$f":"IFERROR(__xludf.DUMMYFUNCTION(\"\"\"COMPUTED_VALUE\"\"\"),\"application/EmergencyCallData.cap+xml\")","v":"application/EmergencyCallData.cap+xml"},{"$f":"IFERROR(__xludf.DUMMYFUNCTION(\"\"\"COMPUTED_VALUE\"\"\"),\"en\")","v":"en"}]
[{"$f":"IFERROR(__xludf.DUMMYFUNCTION(\"\"\"COMPUTED_VALUE\"\"\"),\"https://www.iana.org/assignments/media-types/application/EmergencyCallData.Comment+xml\")","v":"https://www.iana.org/assignments/media-types/application/EmergencyCallData.Comment+xml"},{"$f":"IFERROR(__xludf.DUMMYFUNCTION(\"\"\"COMPUTED_VALUE\"\"\"),\"EmergencyCallData.Comment+xml\")","v":"EmergencyCallData.Comment+xml"},{"$f":"IFERROR(__xludf.DUMMYFUNCTION(\"\"\"COMPUTED_VALUE\"\"\"),\"EmergencyCallData.Comment+xml\")","v":"EmergencyCallData.Comment+xml"},{"$f":"IFERROR(__xludf.DUMMYFUNCTION(\"\"\"COMPUTED_VALUE\"\"\"),\"application/EmergencyCallData.Comment+xml\")","v":"application/EmergencyCallData.Comment+xml"},{"$f":"IFERROR(__xludf.DUMMYFUNCTION(\"\"\"COMPUTED_VALUE\"\"\"),\"en\")","v":"en"}]
[{"$f":"IFERROR(__xludf.DUMMYFUNCTION(\"\"\"COMPUTED_VALUE\"\"\"),\"https://www.iana.org/assignments/media-types/application/EmergencyCallData.Control+xml\")","v":"https://www.iana.org/assignments/media-types/application/EmergencyCallData.Control+xml"},{"$f":"IFERROR(__xludf.DUMMYFUNCTION(\"\"\"COMPUTED_VALUE\"\"\"),\"EmergencyCallData.Control+xml\")","v":"EmergencyCallData.Control+xml"},{"$f":"IFERROR(__xludf.DUMMYFUNCTION(\"\"\"COMPUTED_VALUE\"\"\"),\"EmergencyCallData.Control+xml\")","v":"EmergencyCallData.Control+xml"},{"$f":"IFERROR(__xludf.DUMMYFUNCTION(\"\"\"COMPUTED_VALUE\"\"\"),\"application/EmergencyCallData.Control+xml\")","v":"application/EmergencyCallData.Control+xml"},{"$f":"IFERROR(__xludf.DUMMYFUNCTION(\"\"\"COMPUTED_VALUE\"\"\"),\"en\")","v":"en"}]
[{"$f":"IFERROR(__xludf.DUMMYFUNCTION(\"\"\"COMPUTED_VALUE\"\"\"),\"https://www.iana.org/assignments/media-types/application/EmergencyCallData.DeviceInfo+xml\")","v":"https://www.iana.org/assignments/media-types/application/EmergencyCallData.DeviceInfo+xml"},{"$f":"IFERROR(__xludf.DUMMYFUNCTION(\"\"\"COMPUTED_VALUE\"\"\"),\"EmergencyCallData.DeviceInfo+xml\")","v":"EmergencyCallData.DeviceInfo+xml"},{"$f":"IFERROR(__xludf.DUMMYFUNCTION(\"\"\"COMPUTED_VALUE\"\"\"),\"EmergencyCallData.DeviceInfo+xml\")","v":"EmergencyCallData.DeviceInfo+xml"},{"$f":"IFERROR(__xludf.DUMMYFUNCTION(\"\"\"COMPUTED_VALUE\"\"\"),\"application/EmergencyCallData.DeviceInfo+xml\")","v":"application/EmergencyCallData.DeviceInfo+xml"},{"$f":"IFERROR(__xludf.DUMMYFUNCTION(\"\"\"COMPUTED_VALUE\"\"\"),\"en\")","v":"en"}]
[{"$f":"IFERROR(__xludf.DUMMYFUNCTION(\"\"\"COMPUTED_VALUE\"\"\"),\"https://www.iana.org/assignments/media-types/application/EmergencyCallData.eCall.MSD\")","v":"https://www.iana.org/assignments/media-types/application/EmergencyCallData.eCall.MSD"},{"$f":"IFERROR(__xludf.DUMMYFUNCTION(\"\"\"COMPUTED_VALUE\"\"\"),\"EmergencyCallData.eCall.MSD\")","v":"EmergencyCallData.eCall.MSD"},{"$f":"IFERROR(__xludf.DUMMYFUNCTION(\"\"\"COMPUTED_VALUE\"\"\"),\"EmergencyCallData.eCall.MSD\")","v":"EmergencyCallData.eCall.MSD"},{"$f":"IFERROR(__xludf.DUMMYFUNCTION(\"\"\"COMPUTED_VALUE\"\"\"),\"application/EmergencyCallData.eCall.MSD\")","v":"application/EmergencyCallData.eCall.MSD"},{"$f":"IFERROR(__xludf.DUMMYFUNCTION(\"\"\"COMPUTED_VALUE\"\"\"),\"en\")","v":"en"}]
[{"$f":"IFERROR(__xludf.DUMMYFUNCTION(\"\"\"COMPUTED_VALUE\"\"\"),\"https://www.iana.org/assignments/media-types/application/EmergencyCallData.LegacyESN+json\")","v":"https://www.iana.org/assignments/media-types/application/EmergencyCallData.LegacyESN+json"},{"$f":"IFERROR(__xludf.DUMMYFUNCTION(\"\"\"COMPUTED_VALUE\"\"\"),\"EmergencyCallData.LegacyESN+json\")","v":"EmergencyCallData.LegacyESN+json"},{"$f":"IFERROR(__xludf.DUMMYFUNCTION(\"\"\"COMPUTED_VALUE\"\"\"),\"EmergencyCallData.LegacyESN+json\")","v":"EmergencyCallData.LegacyESN+json"},{"$f":"IFERROR(__xludf.DUMMYFUNCTION(\"\"\"COMPUTED_VALUE\"\"\"),\"application/EmergencyCallData.LegacyESN+json\")","v":"application/EmergencyCallData.LegacyESN+json"},{"$f":"IFERROR(__xludf.DUMMYFUNCTION(\"\"\"COMPUTED_VALUE\"\"\"),\"en\")","v":"en"}]
[{"$f":"IFERROR(__xludf.DUMMYFUNCTION(\"\"\"COMPUTED_VALUE\"\"\"),\"https://www.iana.org/assignments/media-types/application/EmergencyCallData.ProviderInfo+xml\")","v":"https://www.iana.org/assignments/media-types/application/EmergencyCallData.ProviderInfo+xml"},{"$f":"IFERROR(__xludf.DUMMYFUNCTION(\"\"\"COMPUTED_VALUE\"\"\"),\"EmergencyCallData.ProviderInfo+xml\")","v":"EmergencyCallData.ProviderInfo+xml"},{"$f":"IFERROR(__xludf.DUMMYFUNCTION(\"\"\"COMPUTED_VALUE\"\"\"),\"EmergencyCallData.ProviderInfo+xml\")","v":"EmergencyCallData.ProviderInfo+xml"},{"$f":"IFERROR(__xludf.DUMMYFUNCTION(\"\"\"COMPUTED_VALUE\"\"\"),\"application/EmergencyCallData.ProviderInfo+xml\")","v":"application/EmergencyCallData.ProviderInfo+xml"},{"$f":"IFERROR(__xludf.DUMMYFUNCTION(\"\"\"COMPUTED_VALUE\"\"\"),\"en\")","v":"en"}]
[{"$f":"IFERROR(__xludf.DUMMYFUNCTION(\"\"\"COMPUTED_VALUE\"\"\"),\"https://www.iana.org/assignments/media-types/application/EmergencyCallData.ServiceInfo+xml\")","v":"https://www.iana.org/assignments/media-types/application/EmergencyCallData.ServiceInfo+xml"},{"$f":"IFERROR(__xludf.DUMMYFUNCTION(\"\"\"COMPUTED_VALUE\"\"\"),\"EmergencyCallData.ServiceInfo+xml\")","v":"EmergencyCallData.ServiceInfo+xml"},{"$f":"IFERROR(__xludf.DUMMYFUNCTION(\"\"\"COMPUTED_VALUE\"\"\"),\"EmergencyCallData.ServiceInfo+xml\")","v":"EmergencyCallData.ServiceInfo+xml"},{"$f":"IFERROR(__xludf.DUMMYFUNCTION(\"\"\"COMPUTED_VALUE\"\"\"),\"application/EmergencyCallData.ServiceInfo+xml\")","v":"application/EmergencyCallData.ServiceInfo+xml"},{"$f":"IFERROR(__xludf.DUMMYFUNCTION(\"\"\"COMPUTED_VALUE\"\"\"),\"en\")","v":"en"}]
[{"$f":"IFERROR(__xludf.DUMMYFUNCTION(\"\"\"COMPUTED_VALUE\"\"\"),\"https://www.iana.org/assignments/media-types/application/EmergencyCallData.SubscriberInfo+xml\")","v":"https://www.iana.org/assignments/media-types/application/EmergencyCallData.SubscriberInfo+xml"},{"$f":"IFERROR(__xludf.DUMMYFUNCTION(\"\"\"COMPUTED_VALUE\"\"\"),\"EmergencyCallData.SubscriberInfo+xml\")","v":"EmergencyCallData.SubscriberInfo+xml"},{"$f":"IFERROR(__xludf.DUMMYFUNCTION(\"\"\"COMPUTED_VALUE\"\"\"),\"EmergencyCallData.SubscriberInfo+xml\")","v":"EmergencyCallData.SubscriberInfo+xml"},{"$f":"IFERROR(__xludf.DUMMYFUNCTION(\"\"\"COMPUTED_VALUE\"\"\"),\"application/EmergencyCallData.SubscriberInfo+xml\")","v":"application/EmergencyCallData.SubscriberInfo+xml"},{"$f":"IFERROR(__xludf.DUMMYFUNCTION(\"\"\"COMPUTED_VALUE\"\"\"),\"en\")","v":"en"}]
[{"$f":"IFERROR(__xludf.DUMMYFUNCTION(\"\"\"COMPUTED_VALUE\"\"\"),\"https://www.iana.org/assignments/media-types/application/EmergencyCallData.VEDS+xml\")","v":"https://www.iana.org/assignments/media-types/application/EmergencyCallData.VEDS+xml"},{"$f":"IFERROR(__xludf.DUMMYFUNCTION(\"\"\"COMPUTED_VALUE\"\"\"),\"EmergencyCallData.VEDS+xml\")","v":"EmergencyCallData.VEDS+xml"},{"$f":"IFERROR(__xludf.DUMMYFUNCTION(\"\"\"COMPUTED_VALUE\"\"\"),\"EmergencyCallData.VEDS+xml\")","v":"EmergencyCallData.VEDS+xml"},{"$f":"IFERROR(__xludf.DUMMYFUNCTION(\"\"\"COMPUTED_VALUE\"\"\"),\"application/EmergencyCallData.VEDS+xml\")","v":"application/EmergencyCallData.VEDS+xml"},{"$f":"IFERROR(__xludf.DUMMYFUNCTION(\"\"\"COMPUTED_VALUE\"\"\"),\"en\")","v":"en"}]
[{"$f":"IFERROR(__xludf.DUMMYFUNCTION(\"\"\"COMPUTED_VALUE\"\"\"),\"https://www.iana.org/assignments/media-types/application/emma+xml\")","v":"https://www.iana.org/assignments/media-types/application/emma+xml"},{"$f":"IFERROR(__xludf.DUMMYFUNCTION(\"\"\"COMPUTED_VALUE\"\"\"),\"emma+xml\")","v":"emma+xml"},{"$f":"IFERROR(__xludf.DUMMYFUNCTION(\"\"\"COMPUTED_VALUE\"\"\"),\"emma+xml\")","v":"emma+xml"},{"$f":"IFERROR(__xludf.DUMMYFUNCTION(\"\"\"COMPUTED_VALUE\"\"\"),\"application/emma+xml\")","v":"application/emma+xml"},{"$f":"IFERROR(__xludf.DUMMYFUNCTION(\"\"\"COMPUTED_VALUE\"\"\"),\"en\")","v":"en"}]
[{"$f":"IFERROR(__xludf.DUMMYFUNCTION(\"\"\"COMPUTED_VALUE\"\"\"),\"https://www.iana.org/assignments/media-types/application/emotionml+xml\")","v":"https://www.iana.org/assignments/media-types/application/emotionml+xml"},{"$f":"IFERROR(__xludf.DUMMYFUNCTION(\"\"\"COMPUTED_VALUE\"\"\"),\"emotionml+xml\")","v":"emotionml+xml"},{"$f":"IFERROR(__xludf.DUMMYFUNCTION(\"\"\"COMPUTED_VALUE\"\"\"),\"emotionml+xml\")","v":"emotionml+xml"},{"$f":"IFERROR(__xludf.DUMMYFUNCTION(\"\"\"COMPUTED_VALUE\"\"\"),\"application/emotionml+xml\")","v":"application/emotionml+xml"},{"$f":"IFERROR(__xludf.DUMMYFUNCTION(\"\"\"COMPUTED_VALUE\"\"\"),\"en\")","v":"en"}]
[{"$f":"IFERROR(__xludf.DUMMYFUNCTION(\"\"\"COMPUTED_VALUE\"\"\"),\"https://www.iana.org/assignments/media-types/application/encaprtp\")","v":"https://www.iana.org/assignments/media-types/application/encaprtp"},{"$f":"IFERROR(__xludf.DUMMYFUNCTION(\"\"\"COMPUTED_VALUE\"\"\"),\"encaprtp\")","v":"encaprtp"},{"$f":"IFERROR(__xludf.DUMMYFUNCTION(\"\"\"COMPUTED_VALUE\"\"\"),\"encaprtp\")","v":"encaprtp"},{"$f":"IFERROR(__xludf.DUMMYFUNCTION(\"\"\"COMPUTED_VALUE\"\"\"),\"application/encaprtp\")","v":"application/encaprtp"},{"$f":"IFERROR(__xludf.DUMMYFUNCTION(\"\"\"COMPUTED_VALUE\"\"\"),\"en\")","v":"en"}]
[{"$f":"IFERROR(__xludf.DUMMYFUNCTION(\"\"\"COMPUTED_VALUE\"\"\"),\"https://www.iana.org/assignments/media-types/application/epp+xml\")","v":"https://www.iana.org/assignments/media-types/application/epp+xml"},{"$f":"IFERROR(__xludf.DUMMYFUNCTION(\"\"\"COMPUTED_VALUE\"\"\"),\"epp+xml\")","v":"epp+xml"},{"$f":"IFERROR(__xludf.DUMMYFUNCTION(\"\"\"COMPUTED_VALUE\"\"\"),\"epp+xml\")","v":"epp+xml"},{"$f":"IFERROR(__xludf.DUMMYFUNCTION(\"\"\"COMPUTED_VALUE\"\"\"),\"application/epp+xml\")","v":"application/epp+xml"},{"$f":"IFERROR(__xludf.DUMMYFUNCTION(\"\"\"COMPUTED_VALUE\"\"\"),\"en\")","v":"en"}]
[{"$f":"IFERROR(__xludf.DUMMYFUNCTION(\"\"\"COMPUTED_VALUE\"\"\"),\"https://www.iana.org/assignments/media-types/application/epub+zip\")","v":"https://www.iana.org/assignments/media-types/application/epub+zip"},{"$f":"IFERROR(__xludf.DUMMYFUNCTION(\"\"\"COMPUTED_VALUE\"\"\"),\"epub+zip\")","v":"epub+zip"},{"$f":"IFERROR(__xludf.DUMMYFUNCTION(\"\"\"COMPUTED_VALUE\"\"\"),\"epub+zip\")","v":"epub+zip"},{"$f":"IFERROR(__xludf.DUMMYFUNCTION(\"\"\"COMPUTED_VALUE\"\"\"),\"application/epub+zip\")","v":"application/epub+zip"},{"$f":"IFERROR(__xludf.DUMMYFUNCTION(\"\"\"COMPUTED_VALUE\"\"\"),\"en\")","v":"en"}]
[{"$f":"IFERROR(__xludf.DUMMYFUNCTION(\"\"\"COMPUTED_VALUE\"\"\"),\"https://www.iana.org/assignments/media-types/application/eshop\")","v":"https://www.iana.org/assignments/media-types/application/eshop"},{"$f":"IFERROR(__xludf.DUMMYFUNCTION(\"\"\"COMPUTED_VALUE\"\"\"),\"eshop\")","v":"eshop"},{"$f":"IFERROR(__xludf.DUMMYFUNCTION(\"\"\"COMPUTED_VALUE\"\"\"),\"eshop\")","v":"eshop"},{"$f":"IFERROR(__xludf.DUMMYFUNCTION(\"\"\"COMPUTED_VALUE\"\"\"),\"application/eshop\")","v":"application/eshop"},{"$f":"IFERROR(__xludf.DUMMYFUNCTION(\"\"\"COMPUTED_VALUE\"\"\"),\"en\")","v":"en"}]
[{"$f":"IFERROR(__xludf.DUMMYFUNCTION(\"\"\"COMPUTED_VALUE\"\"\"),\"https://www.iana.org/assignments/media-types/application/example\")","v":"https://www.iana.org/assignments/media-types/application/example"},{"$f":"IFERROR(__xludf.DUMMYFUNCTION(\"\"\"COMPUTED_VALUE\"\"\"),\"example\")","v":"example"},{"$f":"IFERROR(__xludf.DUMMYFUNCTION(\"\"\"COMPUTED_VALUE\"\"\"),\"example\")","v":"example"},{"$f":"IFERROR(__xludf.DUMMYFUNCTION(\"\"\"COMPUTED_VALUE\"\"\"),\"application/example\")","v":"application/example"},{"$f":"IFERROR(__xludf.DUMMYFUNCTION(\"\"\"COMPUTED_VALUE\"\"\"),\"en\")","v":"en"}]
[{"$f":"IFERROR(__xludf.DUMMYFUNCTION(\"\"\"COMPUTED_VALUE\"\"\"),\"https://www.iana.org/assignments/media-types/application/exi\")","v":"https://www.iana.org/assignments/media-types/application/exi"},{"$f":"IFERROR(__xludf.DUMMYFUNCTION(\"\"\"COMPUTED_VALUE\"\"\"),\"exi\")","v":"exi"},{"$f":"IFERROR(__xludf.DUMMYFUNCTION(\"\"\"COMPUTED_VALUE\"\"\"),\"exi\")","v":"exi"},{"$f":"IFERROR(__xludf.DUMMYFUNCTION(\"\"\"COMPUTED_VALUE\"\"\"),\"application/exi\")","v":"application/exi"},{"$f":"IFERROR(__xludf.DUMMYFUNCTION(\"\"\"COMPUTED_VALUE\"\"\"),\"en\")","v":"en"}]
[{"$f":"IFERROR(__xludf.DUMMYFUNCTION(\"\"\"COMPUTED_VALUE\"\"\"),\"https://www.iana.org/assignments/media-types/application/expect-ct-report+json\")","v":"https://www.iana.org/assignments/media-types/application/expect-ct-report+json"},{"$f":"IFERROR(__xludf.DUMMYFUNCTION(\"\"\"COMPUTED_VALUE\"\"\"),\"expect-ct-report+json\")","v":"expect-ct-report+json"},{"$f":"IFERROR(__xludf.DUMMYFUNCTION(\"\"\"COMPUTED_VALUE\"\"\"),\"expect-ct-report+json\")","v":"expect-ct-report+json"},{"$f":"IFERROR(__xludf.DUMMYFUNCTION(\"\"\"COMPUTED_VALUE\"\"\"),\"application/expect-ct-report+json\")","v":"application/expect-ct-report+json"},{"$f":"IFERROR(__xludf.DUMMYFUNCTION(\"\"\"COMPUTED_VALUE\"\"\"),\"en\")","v":"en"}]
[{"$f":"IFERROR(__xludf.DUMMYFUNCTION(\"\"\"COMPUTED_VALUE\"\"\"),\"https://www.iana.org/assignments/media-types/application/express\")","v":"https://www.iana.org/assignments/media-types/application/express"},{"$f":"IFERROR(__xludf.DUMMYFUNCTION(\"\"\"COMPUTED_VALUE\"\"\"),\"express\")","v":"express"},{"$f":"IFERROR(__xludf.DUMMYFUNCTION(\"\"\"COMPUTED_VALUE\"\"\"),\"express\")","v":"express"},{"$f":"IFERROR(__xludf.DUMMYFUNCTION(\"\"\"COMPUTED_VALUE\"\"\"),\"application/express\")","v":"application/express"},{"$f":"IFERROR(__xludf.DUMMYFUNCTION(\"\"\"COMPUTED_VALUE\"\"\"),\"en\")","v":"en"}]
[{"$f":"IFERROR(__xludf.DUMMYFUNCTION(\"\"\"COMPUTED_VALUE\"\"\"),\"https://www.iana.org/assignments/media-types/application/fastinfoset\")","v":"https://www.iana.org/assignments/media-types/application/fastinfoset"},{"$f":"IFERROR(__xludf.DUMMYFUNCTION(\"\"\"COMPUTED_VALUE\"\"\"),\"fastinfoset\")","v":"fastinfoset"},{"$f":"IFERROR(__xludf.DUMMYFUNCTION(\"\"\"COMPUTED_VALUE\"\"\"),\"fastinfoset\")","v":"fastinfoset"},{"$f":"IFERROR(__xludf.DUMMYFUNCTION(\"\"\"COMPUTED_VALUE\"\"\"),\"application/fastinfoset\")","v":"application/fastinfoset"},{"$f":"IFERROR(__xludf.DUMMYFUNCTION(\"\"\"COMPUTED_VALUE\"\"\"),\"en\")","v":"en"}]
[{"$f":"IFERROR(__xludf.DUMMYFUNCTION(\"\"\"COMPUTED_VALUE\"\"\"),\"https://www.iana.org/assignments/media-types/application/fastsoap\")","v":"https://www.iana.org/assignments/media-types/application/fastsoap"},{"$f":"IFERROR(__xludf.DUMMYFUNCTION(\"\"\"COMPUTED_VALUE\"\"\"),\"fastsoap\")","v":"fastsoap"},{"$f":"IFERROR(__xludf.DUMMYFUNCTION(\"\"\"COMPUTED_VALUE\"\"\"),\"fastsoap\")","v":"fastsoap"},{"$f":"IFERROR(__xludf.DUMMYFUNCTION(\"\"\"COMPUTED_VALUE\"\"\"),\"application/fastsoap\")","v":"application/fastsoap"},{"$f":"IFERROR(__xludf.DUMMYFUNCTION(\"\"\"COMPUTED_VALUE\"\"\"),\"en\")","v":"en"}]
[{"$f":"IFERROR(__xludf.DUMMYFUNCTION(\"\"\"COMPUTED_VALUE\"\"\"),\"https://www.iana.org/assignments/media-types/application/fdf\")","v":"https://www.iana.org/assignments/media-types/application/fdf"},{"$f":"IFERROR(__xludf.DUMMYFUNCTION(\"\"\"COMPUTED_VALUE\"\"\"),\"fdf\")","v":"fdf"},{"$f":"IFERROR(__xludf.DUMMYFUNCTION(\"\"\"COMPUTED_VALUE\"\"\"),\"fdf\")","v":"fdf"},{"$f":"IFERROR(__xludf.DUMMYFUNCTION(\"\"\"COMPUTED_VALUE\"\"\"),\"application/fdf\")","v":"application/fdf"},{"$f":"IFERROR(__xludf.DUMMYFUNCTION(\"\"\"COMPUTED_VALUE\"\"\"),\"en\")","v":"en"}]
[{"$f":"IFERROR(__xludf.DUMMYFUNCTION(\"\"\"COMPUTED_VALUE\"\"\"),\"https://www.iana.org/assignments/media-types/application/fdt+xml\")","v":"https://www.iana.org/assignments/media-types/application/fdt+xml"},{"$f":"IFERROR(__xludf.DUMMYFUNCTION(\"\"\"COMPUTED_VALUE\"\"\"),\"fdt+xml\")","v":"fdt+xml"},{"$f":"IFERROR(__xludf.DUMMYFUNCTION(\"\"\"COMPUTED_VALUE\"\"\"),\"fdt+xml\")","v":"fdt+xml"},{"$f":"IFERROR(__xludf.DUMMYFUNCTION(\"\"\"COMPUTED_VALUE\"\"\"),\"application/fdt+xml\")","v":"application/fdt+xml"},{"$f":"IFERROR(__xludf.DUMMYFUNCTION(\"\"\"COMPUTED_VALUE\"\"\"),\"en\")","v":"en"}]
[{"$f":"IFERROR(__xludf.DUMMYFUNCTION(\"\"\"COMPUTED_VALUE\"\"\"),\"https://www.iana.org/assignments/media-types/application/fhir+json\")","v":"https://www.iana.org/assignments/media-types/application/fhir+json"},{"$f":"IFERROR(__xludf.DUMMYFUNCTION(\"\"\"COMPUTED_VALUE\"\"\"),\"fhir+json\")","v":"fhir+json"},{"$f":"IFERROR(__xludf.DUMMYFUNCTION(\"\"\"COMPUTED_VALUE\"\"\"),\"fhir+json\")","v":"fhir+json"},{"$f":"IFERROR(__xludf.DUMMYFUNCTION(\"\"\"COMPUTED_VALUE\"\"\"),\"application/fhir+json\")","v":"application/fhir+json"},{"$f":"IFERROR(__xludf.DUMMYFUNCTION(\"\"\"COMPUTED_VALUE\"\"\"),\"en\")","v":"en"}]
[{"$f":"IFERROR(__xludf.DUMMYFUNCTION(\"\"\"COMPUTED_VALUE\"\"\"),\"https://www.iana.org/assignments/media-types/application/fhir+xml\")","v":"https://www.iana.org/assignments/media-types/application/fhir+xml"},{"$f":"IFERROR(__xludf.DUMMYFUNCTION(\"\"\"COMPUTED_VALUE\"\"\"),\"fhir+xml\")","v":"fhir+xml"},{"$f":"IFERROR(__xludf.DUMMYFUNCTION(\"\"\"COMPUTED_VALUE\"\"\"),\"fhir+xml\")","v":"fhir+xml"},{"$f":"IFERROR(__xludf.DUMMYFUNCTION(\"\"\"COMPUTED_VALUE\"\"\"),\"application/fhir+xml\")","v":"application/fhir+xml"},{"$f":"IFERROR(__xludf.DUMMYFUNCTION(\"\"\"COMPUTED_VALUE\"\"\"),\"en\")","v":"en"}]
[{"$f":"IFERROR(__xludf.DUMMYFUNCTION(\"\"\"COMPUTED_VALUE\"\"\"),\"https://www.iana.org/assignments/media-types/application/fits\")","v":"https://www.iana.org/assignments/media-types/application/fits"},{"$f":"IFERROR(__xludf.DUMMYFUNCTION(\"\"\"COMPUTED_VALUE\"\"\"),\"fits\")","v":"fits"},{"$f":"IFERROR(__xludf.DUMMYFUNCTION(\"\"\"COMPUTED_VALUE\"\"\"),\"fits\")","v":"fits"},{"$f":"IFERROR(__xludf.DUMMYFUNCTION(\"\"\"COMPUTED_VALUE\"\"\"),\"application/fits\")","v":"application/fits"},{"$f":"IFERROR(__xludf.DUMMYFUNCTION(\"\"\"COMPUTED_VALUE\"\"\"),\"en\")","v":"en"}]
[{"$f":"IFERROR(__xludf.DUMMYFUNCTION(\"\"\"COMPUTED_VALUE\"\"\"),\"https://www.iana.org/assignments/media-types/application/flexfec\")","v":"https://www.iana.org/assignments/media-types/application/flexfec"},{"$f":"IFERROR(__xludf.DUMMYFUNCTION(\"\"\"COMPUTED_VALUE\"\"\"),\"flexfec\")","v":"flexfec"},{"$f":"IFERROR(__xludf.DUMMYFUNCTION(\"\"\"COMPUTED_VALUE\"\"\"),\"flexfec\")","v":"flexfec"},{"$f":"IFERROR(__xludf.DUMMYFUNCTION(\"\"\"COMPUTED_VALUE\"\"\"),\"application/flexfec\")","v":"application/flexfec"},{"$f":"IFERROR(__xludf.DUMMYFUNCTION(\"\"\"COMPUTED_VALUE\"\"\"),\"en\")","v":"en"}]
[{"$f":"IFERROR(__xludf.DUMMYFUNCTION(\"\"\"COMPUTED_VALUE\"\"\"),\"https://www.iana.org/assignments/media-types/application/font-sfnt\")","v":"https://www.iana.org/assignments/media-types/application/font-sfnt"},{"$f":"IFERROR(__xludf.DUMMYFUNCTION(\"\"\"COMPUTED_VALUE\"\"\"),\"font-sfnt - DEPRECATED in favor of font/sfnt\")","v":"font-sfnt - DEPRECATED in favor of font/sfnt"},{"$f":"IFERROR(__xludf.DUMMYFUNCTION(\"\"\"COMPUTED_VALUE\"\"\"),\"font-sfnt - DEPRECATED in favor of font/sfnt\")","v":"font-sfnt - DEPRECATED in favor of font/sfnt"},{"$f":"IFERROR(__xludf.DUMMYFUNCTION(\"\"\"COMPUTED_VALUE\"\"\"),\"application/font-sfnt\")","v":"application/font-sfnt"},{"$f":"IFERROR(__xludf.DUMMYFUNCTION(\"\"\"COMPUTED_VALUE\"\"\"),\"en\")","v":"en"}]
[{"$f":"IFERROR(__xludf.DUMMYFUNCTION(\"\"\"COMPUTED_VALUE\"\"\"),\"https://www.iana.org/assignments/media-types/application/font-tdpfr\")","v":"https://www.iana.org/assignments/media-types/application/font-tdpfr"},{"$f":"IFERROR(__xludf.DUMMYFUNCTION(\"\"\"COMPUTED_VALUE\"\"\"),\"font-tdpfr\")","v":"font-tdpfr"},{"$f":"IFERROR(__xludf.DUMMYFUNCTION(\"\"\"COMPUTED_VALUE\"\"\"),\"font-tdpfr\")","v":"font-tdpfr"},{"$f":"IFERROR(__xludf.DUMMYFUNCTION(\"\"\"COMPUTED_VALUE\"\"\"),\"application/font-tdpfr\")","v":"application/font-tdpfr"},{"$f":"IFERROR(__xludf.DUMMYFUNCTION(\"\"\"COMPUTED_VALUE\"\"\"),\"en\")","v":"en"}]
[{"$f":"IFERROR(__xludf.DUMMYFUNCTION(\"\"\"COMPUTED_VALUE\"\"\"),\"https://www.iana.org/assignments/media-types/application/font-woff\")","v":"https://www.iana.org/assignments/media-types/application/font-woff"},{"$f":"IFERROR(__xludf.DUMMYFUNCTION(\"\"\"COMPUTED_VALUE\"\"\"),\"font-woff - DEPRECATED in favor of font/woff\")","v":"font-woff - DEPRECATED in favor of font/woff"},{"$f":"IFERROR(__xludf.DUMMYFUNCTION(\"\"\"COMPUTED_VALUE\"\"\"),\"font-woff - DEPRECATED in favor of font/woff\")","v":"font-woff - DEPRECATED in favor of font/woff"},{"$f":"IFERROR(__xludf.DUMMYFUNCTION(\"\"\"COMPUTED_VALUE\"\"\"),\"application/font-woff\")","v":"application/font-woff"},{"$f":"IFERROR(__xludf.DUMMYFUNCTION(\"\"\"COMPUTED_VALUE\"\"\"),\"en\")","v":"en"}]
[{"$f":"IFERROR(__xludf.DUMMYFUNCTION(\"\"\"COMPUTED_VALUE\"\"\"),\"https://www.iana.org/assignments/media-types/application/framework-attributes+xml\")","v":"https://www.iana.org/assignments/media-types/application/framework-attributes+xml"},{"$f":"IFERROR(__xludf.DUMMYFUNCTION(\"\"\"COMPUTED_VALUE\"\"\"),\"framework-attributes+xml\")","v":"framework-attributes+xml"},{"$f":"IFERROR(__xludf.DUMMYFUNCTION(\"\"\"COMPUTED_VALUE\"\"\"),\"framework-attributes+xml\")","v":"framework-attributes+xml"},{"$f":"IFERROR(__xludf.DUMMYFUNCTION(\"\"\"COMPUTED_VALUE\"\"\"),\"application/framework-attributes+xml\")","v":"application/framework-attributes+xml"},{"$f":"IFERROR(__xludf.DUMMYFUNCTION(\"\"\"COMPUTED_VALUE\"\"\"),\"en\")","v":"en"}]
[{"$f":"IFERROR(__xludf.DUMMYFUNCTION(\"\"\"COMPUTED_VALUE\"\"\"),\"https://www.iana.org/assignments/media-types/application/geo+json\")","v":"https://www.iana.org/assignments/media-types/application/geo+json"},{"$f":"IFERROR(__xludf.DUMMYFUNCTION(\"\"\"COMPUTED_VALUE\"\"\"),\"geo+json\")","v":"geo+json"},{"$f":"IFERROR(__xludf.DUMMYFUNCTION(\"\"\"COMPUTED_VALUE\"\"\"),\"geo+json\")","v":"geo+json"},{"$f":"IFERROR(__xludf.DUMMYFUNCTION(\"\"\"COMPUTED_VALUE\"\"\"),\"application/geo+json\")","v":"application/geo+json"},{"$f":"IFERROR(__xludf.DUMMYFUNCTION(\"\"\"COMPUTED_VALUE\"\"\"),\"en\")","v":"en"}]
[{"$f":"IFERROR(__xludf.DUMMYFUNCTION(\"\"\"COMPUTED_VALUE\"\"\"),\"https://www.iana.org/assignments/media-types/application/geo+json-seq\")","v":"https://www.iana.org/assignments/media-types/application/geo+json-seq"},{"$f":"IFERROR(__xludf.DUMMYFUNCTION(\"\"\"COMPUTED_VALUE\"\"\"),\"geo+json-seq\")","v":"geo+json-seq"},{"$f":"IFERROR(__xludf.DUMMYFUNCTION(\"\"\"COMPUTED_VALUE\"\"\"),\"geo+json-seq\")","v":"geo+json-seq"},{"$f":"IFERROR(__xludf.DUMMYFUNCTION(\"\"\"COMPUTED_VALUE\"\"\"),\"application/geo+json-seq\")","v":"application/geo+json-seq"},{"$f":"IFERROR(__xludf.DUMMYFUNCTION(\"\"\"COMPUTED_VALUE\"\"\"),\"en\")","v":"en"}]
[{"$f":"IFERROR(__xludf.DUMMYFUNCTION(\"\"\"COMPUTED_VALUE\"\"\"),\"https://www.iana.org/assignments/media-types/application/geopackage+sqlite3\")","v":"https://www.iana.org/assignments/media-types/application/geopackage+sqlite3"},{"$f":"IFERROR(__xludf.DUMMYFUNCTION(\"\"\"COMPUTED_VALUE\"\"\"),\"geopackage+sqlite3\")","v":"geopackage+sqlite3"},{"$f":"IFERROR(__xludf.DUMMYFUNCTION(\"\"\"COMPUTED_VALUE\"\"\"),\"geopackage+sqlite3\")","v":"geopackage+sqlite3"},{"$f":"IFERROR(__xludf.DUMMYFUNCTION(\"\"\"COMPUTED_VALUE\"\"\"),\"application/geopackage+sqlite3\")","v":"application/geopackage+sqlite3"},{"$f":"IFERROR(__xludf.DUMMYFUNCTION(\"\"\"COMPUTED_VALUE\"\"\"),\"en\")","v":"en"}]
[{"$f":"IFERROR(__xludf.DUMMYFUNCTION(\"\"\"COMPUTED_VALUE\"\"\"),\"https://www.iana.org/assignments/media-types/application/geoxacml+xml\")","v":"https://www.iana.org/assignments/media-types/application/geoxacml+xml"},{"$f":"IFERROR(__xludf.DUMMYFUNCTION(\"\"\"COMPUTED_VALUE\"\"\"),\"geoxacml+xml\")","v":"geoxacml+xml"},{"$f":"IFERROR(__xludf.DUMMYFUNCTION(\"\"\"COMPUTED_VALUE\"\"\"),\"geoxacml+xml\")","v":"geoxacml+xml"},{"$f":"IFERROR(__xludf.DUMMYFUNCTION(\"\"\"COMPUTED_VALUE\"\"\"),\"application/geoxacml+xml\")","v":"application/geoxacml+xml"},{"$f":"IFERROR(__xludf.DUMMYFUNCTION(\"\"\"COMPUTED_VALUE\"\"\"),\"en\")","v":"en"}]
[{"$f":"IFERROR(__xludf.DUMMYFUNCTION(\"\"\"COMPUTED_VALUE\"\"\"),\"https://www.iana.org/assignments/media-types/application/gltf-buffer\")","v":"https://www.iana.org/assignments/media-types/application/gltf-buffer"},{"$f":"IFERROR(__xludf.DUMMYFUNCTION(\"\"\"COMPUTED_VALUE\"\"\"),\"gltf-buffer\")","v":"gltf-buffer"},{"$f":"IFERROR(__xludf.DUMMYFUNCTION(\"\"\"COMPUTED_VALUE\"\"\"),\"gltf-buffer\")","v":"gltf-buffer"},{"$f":"IFERROR(__xludf.DUMMYFUNCTION(\"\"\"COMPUTED_VALUE\"\"\"),\"application/gltf-buffer\")","v":"application/gltf-buffer"},{"$f":"IFERROR(__xludf.DUMMYFUNCTION(\"\"\"COMPUTED_VALUE\"\"\"),\"en\")","v":"en"}]
[{"$f":"IFERROR(__xludf.DUMMYFUNCTION(\"\"\"COMPUTED_VALUE\"\"\"),\"https://www.iana.org/assignments/media-types/application/gml+xml\")","v":"https://www.iana.org/assignments/media-types/application/gml+xml"},{"$f":"IFERROR(__xludf.DUMMYFUNCTION(\"\"\"COMPUTED_VALUE\"\"\"),\"gml+xml\")","v":"gml+xml"},{"$f":"IFERROR(__xludf.DUMMYFUNCTION(\"\"\"COMPUTED_VALUE\"\"\"),\"gml+xml\")","v":"gml+xml"},{"$f":"IFERROR(__xludf.DUMMYFUNCTION(\"\"\"COMPUTED_VALUE\"\"\"),\"application/gml+xml\")","v":"application/gml+xml"},{"$f":"IFERROR(__xludf.DUMMYFUNCTION(\"\"\"COMPUTED_VALUE\"\"\"),\"en\")","v":"en"}]
[{"$f":"IFERROR(__xludf.DUMMYFUNCTION(\"\"\"COMPUTED_VALUE\"\"\"),\"https://www.iana.org/assignments/media-types/application/gzip\")","v":"https://www.iana.org/assignments/media-types/application/gzip"},{"$f":"IFERROR(__xludf.DUMMYFUNCTION(\"\"\"COMPUTED_VALUE\"\"\"),\"gzip\")","v":"gzip"},{"$f":"IFERROR(__xludf.DUMMYFUNCTION(\"\"\"COMPUTED_VALUE\"\"\"),\"gzip\")","v":"gzip"},{"$f":"IFERROR(__xludf.DUMMYFUNCTION(\"\"\"COMPUTED_VALUE\"\"\"),\"application/gzip\")","v":"application/gzip"},{"$f":"IFERROR(__xludf.DUMMYFUNCTION(\"\"\"COMPUTED_VALUE\"\"\"),\"en\")","v":"en"}]
[{"$f":"IFERROR(__xludf.DUMMYFUNCTION(\"\"\"COMPUTED_VALUE\"\"\"),\"https://www.iana.org/assignments/media-types/application/H224\")","v":"https://www.iana.org/assignments/media-types/application/H224"},{"$f":"IFERROR(__xludf.DUMMYFUNCTION(\"\"\"COMPUTED_VALUE\"\"\"),\"H224\")","v":"H224"},{"$f":"IFERROR(__xludf.DUMMYFUNCTION(\"\"\"COMPUTED_VALUE\"\"\"),\"H224\")","v":"H224"},{"$f":"IFERROR(__xludf.DUMMYFUNCTION(\"\"\"COMPUTED_VALUE\"\"\"),\"application/H224\")","v":"application/H224"},{"$f":"IFERROR(__xludf.DUMMYFUNCTION(\"\"\"COMPUTED_VALUE\"\"\"),\"en\")","v":"en"}]
[{"$f":"IFERROR(__xludf.DUMMYFUNCTION(\"\"\"COMPUTED_VALUE\"\"\"),\"https://www.iana.org/assignments/media-types/application/held+xml\")","v":"https://www.iana.org/assignments/media-types/application/held+xml"},{"$f":"IFERROR(__xludf.DUMMYFUNCTION(\"\"\"COMPUTED_VALUE\"\"\"),\"held+xml\")","v":"held+xml"},{"$f":"IFERROR(__xludf.DUMMYFUNCTION(\"\"\"COMPUTED_VALUE\"\"\"),\"held+xml\")","v":"held+xml"},{"$f":"IFERROR(__xludf.DUMMYFUNCTION(\"\"\"COMPUTED_VALUE\"\"\"),\"application/held+xml\")","v":"application/held+xml"},{"$f":"IFERROR(__xludf.DUMMYFUNCTION(\"\"\"COMPUTED_VALUE\"\"\"),\"en\")","v":"en"}]
[{"$f":"IFERROR(__xludf.DUMMYFUNCTION(\"\"\"COMPUTED_VALUE\"\"\"),\"https://www.iana.org/assignments/media-types/application/hl7v2+xml\")","v":"https://www.iana.org/assignments/media-types/application/hl7v2+xml"},{"$f":"IFERROR(__xludf.DUMMYFUNCTION(\"\"\"COMPUTED_VALUE\"\"\"),\"hl7v2+xml\")","v":"hl7v2+xml"},{"$f":"IFERROR(__xludf.DUMMYFUNCTION(\"\"\"COMPUTED_VALUE\"\"\"),\"hl7v2+xml\")","v":"hl7v2+xml"},{"$f":"IFERROR(__xludf.DUMMYFUNCTION(\"\"\"COMPUTED_VALUE\"\"\"),\"application/hl7v2+xml\")","v":"application/hl7v2+xml"},{"$f":"IFERROR(__xludf.DUMMYFUNCTION(\"\"\"COMPUTED_VALUE\"\"\"),\"en\")","v":"en"}]
[{"$f":"IFERROR(__xludf.DUMMYFUNCTION(\"\"\"COMPUTED_VALUE\"\"\"),\"https://www.iana.org/assignments/media-types/application/http\")","v":"https://www.iana.org/assignments/media-types/application/http"},{"$f":"IFERROR(__xludf.DUMMYFUNCTION(\"\"\"COMPUTED_VALUE\"\"\"),\"http\")","v":"http"},{"$f":"IFERROR(__xludf.DUMMYFUNCTION(\"\"\"COMPUTED_VALUE\"\"\"),\"http\")","v":"http"},{"$f":"IFERROR(__xludf.DUMMYFUNCTION(\"\"\"COMPUTED_VALUE\"\"\"),\"application/http\")","v":"application/http"},{"$f":"IFERROR(__xludf.DUMMYFUNCTION(\"\"\"COMPUTED_VALUE\"\"\"),\"en\")","v":"en"}]
[{"$f":"IFERROR(__xludf.DUMMYFUNCTION(\"\"\"COMPUTED_VALUE\"\"\"),\"https://www.iana.org/assignments/media-types/application/hyperstudio\")","v":"https://www.iana.org/assignments/media-types/application/hyperstudio"},{"$f":"IFERROR(__xludf.DUMMYFUNCTION(\"\"\"COMPUTED_VALUE\"\"\"),\"hyperstudio\")","v":"hyperstudio"},{"$f":"IFERROR(__xludf.DUMMYFUNCTION(\"\"\"COMPUTED_VALUE\"\"\"),\"hyperstudio\")","v":"hyperstudio"},{"$f":"IFERROR(__xludf.DUMMYFUNCTION(\"\"\"COMPUTED_VALUE\"\"\"),\"application/hyperstudio\")","v":"application/hyperstudio"},{"$f":"IFERROR(__xludf.DUMMYFUNCTION(\"\"\"COMPUTED_VALUE\"\"\"),\"en\")","v":"en"}]
[{"$f":"IFERROR(__xludf.DUMMYFUNCTION(\"\"\"COMPUTED_VALUE\"\"\"),\"https://www.iana.org/assignments/media-types/application/ibe-key-request+xml\")","v":"https://www.iana.org/assignments/media-types/application/ibe-key-request+xml"},{"$f":"IFERROR(__xludf.DUMMYFUNCTION(\"\"\"COMPUTED_VALUE\"\"\"),\"ibe-key-request+xml\")","v":"ibe-key-request+xml"},{"$f":"IFERROR(__xludf.DUMMYFUNCTION(\"\"\"COMPUTED_VALUE\"\"\"),\"ibe-key-request+xml\")","v":"ibe-key-request+xml"},{"$f":"IFERROR(__xludf.DUMMYFUNCTION(\"\"\"COMPUTED_VALUE\"\"\"),\"application/ibe-key-request+xml\")","v":"application/ibe-key-request+xml"},{"$f":"IFERROR(__xludf.DUMMYFUNCTION(\"\"\"COMPUTED_VALUE\"\"\"),\"en\")","v":"en"}]
[{"$f":"IFERROR(__xludf.DUMMYFUNCTION(\"\"\"COMPUTED_VALUE\"\"\"),\"https://www.iana.org/assignments/media-types/application/ibe-pkg-reply+xml\")","v":"https://www.iana.org/assignments/media-types/application/ibe-pkg-reply+xml"},{"$f":"IFERROR(__xludf.DUMMYFUNCTION(\"\"\"COMPUTED_VALUE\"\"\"),\"ibe-pkg-reply+xml\")","v":"ibe-pkg-reply+xml"},{"$f":"IFERROR(__xludf.DUMMYFUNCTION(\"\"\"COMPUTED_VALUE\"\"\"),\"ibe-pkg-reply+xml\")","v":"ibe-pkg-reply+xml"},{"$f":"IFERROR(__xludf.DUMMYFUNCTION(\"\"\"COMPUTED_VALUE\"\"\"),\"application/ibe-pkg-reply+xml\")","v":"application/ibe-pkg-reply+xml"},{"$f":"IFERROR(__xludf.DUMMYFUNCTION(\"\"\"COMPUTED_VALUE\"\"\"),\"en\")","v":"en"}]
[{"$f":"IFERROR(__xludf.DUMMYFUNCTION(\"\"\"COMPUTED_VALUE\"\"\"),\"https://www.iana.org/assignments/media-types/application/ibe-pp-data\")","v":"https://www.iana.org/assignments/media-types/application/ibe-pp-data"},{"$f":"IFERROR(__xludf.DUMMYFUNCTION(\"\"\"COMPUTED_VALUE\"\"\"),\"ibe-pp-data\")","v":"ibe-pp-data"},{"$f":"IFERROR(__xludf.DUMMYFUNCTION(\"\"\"COMPUTED_VALUE\"\"\"),\"ibe-pp-data\")","v":"ibe-pp-data"},{"$f":"IFERROR(__xludf.DUMMYFUNCTION(\"\"\"COMPUTED_VALUE\"\"\"),\"application/ibe-pp-data\")","v":"application/ibe-pp-data"},{"$f":"IFERROR(__xludf.DUMMYFUNCTION(\"\"\"COMPUTED_VALUE\"\"\"),\"en\")","v":"en"}]
[{"$f":"IFERROR(__xludf.DUMMYFUNCTION(\"\"\"COMPUTED_VALUE\"\"\"),\"https://www.iana.org/assignments/media-types/application/iges\")","v":"https://www.iana.org/assignments/media-types/application/iges"},{"$f":"IFERROR(__xludf.DUMMYFUNCTION(\"\"\"COMPUTED_VALUE\"\"\"),\"iges\")","v":"iges"},{"$f":"IFERROR(__xludf.DUMMYFUNCTION(\"\"\"COMPUTED_VALUE\"\"\"),\"iges\")","v":"iges"},{"$f":"IFERROR(__xludf.DUMMYFUNCTION(\"\"\"COMPUTED_VALUE\"\"\"),\"application/iges\")","v":"application/iges"},{"$f":"IFERROR(__xludf.DUMMYFUNCTION(\"\"\"COMPUTED_VALUE\"\"\"),\"en\")","v":"en"}]
[{"$f":"IFERROR(__xludf.DUMMYFUNCTION(\"\"\"COMPUTED_VALUE\"\"\"),\"https://www.iana.org/assignments/media-types/application/im-iscomposing+xml\")","v":"https://www.iana.org/assignments/media-types/application/im-iscomposing+xml"},{"$f":"IFERROR(__xludf.DUMMYFUNCTION(\"\"\"COMPUTED_VALUE\"\"\"),\"im-iscomposing+xml\")","v":"im-iscomposing+xml"},{"$f":"IFERROR(__xludf.DUMMYFUNCTION(\"\"\"COMPUTED_VALUE\"\"\"),\"im-iscomposing+xml\")","v":"im-iscomposing+xml"},{"$f":"IFERROR(__xludf.DUMMYFUNCTION(\"\"\"COMPUTED_VALUE\"\"\"),\"application/im-iscomposing+xml\")","v":"application/im-iscomposing+xml"},{"$f":"IFERROR(__xludf.DUMMYFUNCTION(\"\"\"COMPUTED_VALUE\"\"\"),\"en\")","v":"en"}]
[{"$f":"IFERROR(__xludf.DUMMYFUNCTION(\"\"\"COMPUTED_VALUE\"\"\"),\"https://www.iana.org/assignments/media-types/application/index\")","v":"https://www.iana.org/assignments/media-types/application/index"},{"$f":"IFERROR(__xludf.DUMMYFUNCTION(\"\"\"COMPUTED_VALUE\"\"\"),\"index\")","v":"index"},{"$f":"IFERROR(__xludf.DUMMYFUNCTION(\"\"\"COMPUTED_VALUE\"\"\"),\"index\")","v":"index"},{"$f":"IFERROR(__xludf.DUMMYFUNCTION(\"\"\"COMPUTED_VALUE\"\"\"),\"application/index\")","v":"application/index"},{"$f":"IFERROR(__xludf.DUMMYFUNCTION(\"\"\"COMPUTED_VALUE\"\"\"),\"en\")","v":"en"}]
[{"$f":"IFERROR(__xludf.DUMMYFUNCTION(\"\"\"COMPUTED_VALUE\"\"\"),\"https://www.iana.org/assignments/media-types/application/index.cmd\")","v":"https://www.iana.org/assignments/media-types/application/index.cmd"},{"$f":"IFERROR(__xludf.DUMMYFUNCTION(\"\"\"COMPUTED_VALUE\"\"\"),\"index.cmd\")","v":"index.cmd"},{"$f":"IFERROR(__xludf.DUMMYFUNCTION(\"\"\"COMPUTED_VALUE\"\"\"),\"index.cmd\")","v":"index.cmd"},{"$f":"IFERROR(__xludf.DUMMYFUNCTION(\"\"\"COMPUTED_VALUE\"\"\"),\"application/index.cmd\")","v":"application/index.cmd"},{"$f":"IFERROR(__xludf.DUMMYFUNCTION(\"\"\"COMPUTED_VALUE\"\"\"),\"en\")","v":"en"}]
[{"$f":"IFERROR(__xludf.DUMMYFUNCTION(\"\"\"COMPUTED_VALUE\"\"\"),\"https://www.iana.org/assignments/media-types/application/index.obj\")","v":"https://www.iana.org/assignments/media-types/application/index.obj"},{"$f":"IFERROR(__xludf.DUMMYFUNCTION(\"\"\"COMPUTED_VALUE\"\"\"),\"index.obj\")","v":"index.obj"},{"$f":"IFERROR(__xludf.DUMMYFUNCTION(\"\"\"COMPUTED_VALUE\"\"\"),\"index.obj\")","v":"index.obj"},{"$f":"IFERROR(__xludf.DUMMYFUNCTION(\"\"\"COMPUTED_VALUE\"\"\"),\"application/index.obj\")","v":"application/index.obj"},{"$f":"IFERROR(__xludf.DUMMYFUNCTION(\"\"\"COMPUTED_VALUE\"\"\"),\"en\")","v":"en"}]
[{"$f":"IFERROR(__xludf.DUMMYFUNCTION(\"\"\"COMPUTED_VALUE\"\"\"),\"https://www.iana.org/assignments/media-types/application/index.response\")","v":"https://www.iana.org/assignments/media-types/application/index.response"},{"$f":"IFERROR(__xludf.DUMMYFUNCTION(\"\"\"COMPUTED_VALUE\"\"\"),\"index.response\")","v":"index.response"},{"$f":"IFERROR(__xludf.DUMMYFUNCTION(\"\"\"COMPUTED_VALUE\"\"\"),\"index.response\")","v":"index.response"},{"$f":"IFERROR(__xludf.DUMMYFUNCTION(\"\"\"COMPUTED_VALUE\"\"\"),\"application/index.response\")","v":"application/index.response"},{"$f":"IFERROR(__xludf.DUMMYFUNCTION(\"\"\"COMPUTED_VALUE\"\"\"),\"en\")","v":"en"}]
[{"$f":"IFERROR(__xludf.DUMMYFUNCTION(\"\"\"COMPUTED_VALUE\"\"\"),\"https://www.iana.org/assignments/media-types/application/index.vnd\")","v":"https://www.iana.org/assignments/media-types/application/index.vnd"},{"$f":"IFERROR(__xludf.DUMMYFUNCTION(\"\"\"COMPUTED_VALUE\"\"\"),\"index.vnd\")","v":"index.vnd"},{"$f":"IFERROR(__xludf.DUMMYFUNCTION(\"\"\"COMPUTED_VALUE\"\"\"),\"index.vnd\")","v":"index.vnd"},{"$f":"IFERROR(__xludf.DUMMYFUNCTION(\"\"\"COMPUTED_VALUE\"\"\"),\"application/index.vnd\")","v":"application/index.vnd"},{"$f":"IFERROR(__xludf.DUMMYFUNCTION(\"\"\"COMPUTED_VALUE\"\"\"),\"en\")","v":"en"}]
[{"$f":"IFERROR(__xludf.DUMMYFUNCTION(\"\"\"COMPUTED_VALUE\"\"\"),\"https://www.iana.org/assignments/media-types/application/inkml+xml\")","v":"https://www.iana.org/assignments/media-types/application/inkml+xml"},{"$f":"IFERROR(__xludf.DUMMYFUNCTION(\"\"\"COMPUTED_VALUE\"\"\"),\"inkml+xml\")","v":"inkml+xml"},{"$f":"IFERROR(__xludf.DUMMYFUNCTION(\"\"\"COMPUTED_VALUE\"\"\"),\"inkml+xml\")","v":"inkml+xml"},{"$f":"IFERROR(__xludf.DUMMYFUNCTION(\"\"\"COMPUTED_VALUE\"\"\"),\"application/inkml+xml\")","v":"application/inkml+xml"},{"$f":"IFERROR(__xludf.DUMMYFUNCTION(\"\"\"COMPUTED_VALUE\"\"\"),\"en\")","v":"en"}]
[{"$f":"IFERROR(__xludf.DUMMYFUNCTION(\"\"\"COMPUTED_VALUE\"\"\"),\"https://www.iana.org/assignments/media-types/application/IOTP\")","v":"https://www.iana.org/assignments/media-types/application/IOTP"},{"$f":"IFERROR(__xludf.DUMMYFUNCTION(\"\"\"COMPUTED_VALUE\"\"\"),\"IOTP\")","v":"IOTP"},{"$f":"IFERROR(__xludf.DUMMYFUNCTION(\"\"\"COMPUTED_VALUE\"\"\"),\"IOTP\")","v":"IOTP"},{"$f":"IFERROR(__xludf.DUMMYFUNCTION(\"\"\"COMPUTED_VALUE\"\"\"),\"application/IOTP\")","v":"application/IOTP"},{"$f":"IFERROR(__xludf.DUMMYFUNCTION(\"\"\"COMPUTED_VALUE\"\"\"),\"en\")","v":"en"}]
[{"$f":"IFERROR(__xludf.DUMMYFUNCTION(\"\"\"COMPUTED_VALUE\"\"\"),\"https://www.iana.org/assignments/media-types/application/ipfix\")","v":"https://www.iana.org/assignments/media-types/application/ipfix"},{"$f":"IFERROR(__xludf.DUMMYFUNCTION(\"\"\"COMPUTED_VALUE\"\"\"),\"ipfix\")","v":"ipfix"},{"$f":"IFERROR(__xludf.DUMMYFUNCTION(\"\"\"COMPUTED_VALUE\"\"\"),\"ipfix\")","v":"ipfix"},{"$f":"IFERROR(__xludf.DUMMYFUNCTION(\"\"\"COMPUTED_VALUE\"\"\"),\"application/ipfix\")","v":"application/ipfix"},{"$f":"IFERROR(__xludf.DUMMYFUNCTION(\"\"\"COMPUTED_VALUE\"\"\"),\"en\")","v":"en"}]
[{"$f":"IFERROR(__xludf.DUMMYFUNCTION(\"\"\"COMPUTED_VALUE\"\"\"),\"https://www.iana.org/assignments/media-types/application/ipp\")","v":"https://www.iana.org/assignments/media-types/application/ipp"},{"$f":"IFERROR(__xludf.DUMMYFUNCTION(\"\"\"COMPUTED_VALUE\"\"\"),\"ipp\")","v":"ipp"},{"$f":"IFERROR(__xludf.DUMMYFUNCTION(\"\"\"COMPUTED_VALUE\"\"\"),\"ipp\")","v":"ipp"},{"$f":"IFERROR(__xludf.DUMMYFUNCTION(\"\"\"COMPUTED_VALUE\"\"\"),\"application/ipp\")","v":"application/ipp"},{"$f":"IFERROR(__xludf.DUMMYFUNCTION(\"\"\"COMPUTED_VALUE\"\"\"),\"en\")","v":"en"}]
[{"$f":"IFERROR(__xludf.DUMMYFUNCTION(\"\"\"COMPUTED_VALUE\"\"\"),\"https://www.iana.org/assignments/media-types/application/ISUP\")","v":"https://www.iana.org/assignments/media-types/application/ISUP"},{"$f":"IFERROR(__xludf.DUMMYFUNCTION(\"\"\"COMPUTED_VALUE\"\"\"),\"ISUP\")","v":"ISUP"},{"$f":"IFERROR(__xludf.DUMMYFUNCTION(\"\"\"COMPUTED_VALUE\"\"\"),\"ISUP\")","v":"ISUP"},{"$f":"IFERROR(__xludf.DUMMYFUNCTION(\"\"\"COMPUTED_VALUE\"\"\"),\"application/ISUP\")","v":"application/ISUP"},{"$f":"IFERROR(__xludf.DUMMYFUNCTION(\"\"\"COMPUTED_VALUE\"\"\"),\"en\")","v":"en"}]
[{"$f":"IFERROR(__xludf.DUMMYFUNCTION(\"\"\"COMPUTED_VALUE\"\"\"),\"https://www.iana.org/assignments/media-types/application/its+xml\")","v":"https://www.iana.org/assignments/media-types/application/its+xml"},{"$f":"IFERROR(__xludf.DUMMYFUNCTION(\"\"\"COMPUTED_VALUE\"\"\"),\"its+xml\")","v":"its+xml"},{"$f":"IFERROR(__xludf.DUMMYFUNCTION(\"\"\"COMPUTED_VALUE\"\"\"),\"its+xml\")","v":"its+xml"},{"$f":"IFERROR(__xludf.DUMMYFUNCTION(\"\"\"COMPUTED_VALUE\"\"\"),\"application/its+xml\")","v":"application/its+xml"},{"$f":"IFERROR(__xludf.DUMMYFUNCTION(\"\"\"COMPUTED_VALUE\"\"\"),\"en\")","v":"en"}]
[{"$f":"IFERROR(__xludf.DUMMYFUNCTION(\"\"\"COMPUTED_VALUE\"\"\"),\"https://www.iana.org/assignments/media-types/application/javascript\")","v":"https://www.iana.org/assignments/media-types/application/javascript"},{"$f":"IFERROR(__xludf.DUMMYFUNCTION(\"\"\"COMPUTED_VALUE\"\"\"),\"javascript (OBSOLETED in favor of text/javascript)\")","v":"javascript (OBSOLETED in favor of text/javascript)"},{"$f":"IFERROR(__xludf.DUMMYFUNCTION(\"\"\"COMPUTED_VALUE\"\"\"),\"javascript (OBSOLETED in favor of text/javascript)\")","v":"javascript (OBSOLETED in favor of text/javascript)"},{"$f":"IFERROR(__xludf.DUMMYFUNCTION(\"\"\"COMPUTED_VALUE\"\"\"),\"application/javascript\")","v":"application/javascript"},{"$f":"IFERROR(__xludf.DUMMYFUNCTION(\"\"\"COMPUTED_VALUE\"\"\"),\"en\")","v":"en"}]
[{"$f":"IFERROR(__xludf.DUMMYFUNCTION(\"\"\"COMPUTED_VALUE\"\"\"),\"https://www.iana.org/assignments/media-types/application/jf2feed+json\")","v":"https://www.iana.org/assignments/media-types/application/jf2feed+json"},{"$f":"IFERROR(__xludf.DUMMYFUNCTION(\"\"\"COMPUTED_VALUE\"\"\"),\"jf2feed+json\")","v":"jf2feed+json"},{"$f":"IFERROR(__xludf.DUMMYFUNCTION(\"\"\"COMPUTED_VALUE\"\"\"),\"jf2feed+json\")","v":"jf2feed+json"},{"$f":"IFERROR(__xludf.DUMMYFUNCTION(\"\"\"COMPUTED_VALUE\"\"\"),\"application/jf2feed+json\")","v":"application/jf2feed+json"},{"$f":"IFERROR(__xludf.DUMMYFUNCTION(\"\"\"COMPUTED_VALUE\"\"\"),\"en\")","v":"en"}]
[{"$f":"IFERROR(__xludf.DUMMYFUNCTION(\"\"\"COMPUTED_VALUE\"\"\"),\"https://www.iana.org/assignments/media-types/application/jose\")","v":"https://www.iana.org/assignments/media-types/application/jose"},{"$f":"IFERROR(__xludf.DUMMYFUNCTION(\"\"\"COMPUTED_VALUE\"\"\"),\"jose\")","v":"jose"},{"$f":"IFERROR(__xludf.DUMMYFUNCTION(\"\"\"COMPUTED_VALUE\"\"\"),\"jose\")","v":"jose"},{"$f":"IFERROR(__xludf.DUMMYFUNCTION(\"\"\"COMPUTED_VALUE\"\"\"),\"application/jose\")","v":"application/jose"},{"$f":"IFERROR(__xludf.DUMMYFUNCTION(\"\"\"COMPUTED_VALUE\"\"\"),\"en\")","v":"en"}]
[{"$f":"IFERROR(__xludf.DUMMYFUNCTION(\"\"\"COMPUTED_VALUE\"\"\"),\"https://www.iana.org/assignments/media-types/application/jose+json\")","v":"https://www.iana.org/assignments/media-types/application/jose+json"},{"$f":"IFERROR(__xludf.DUMMYFUNCTION(\"\"\"COMPUTED_VALUE\"\"\"),\"jose+json\")","v":"jose+json"},{"$f":"IFERROR(__xludf.DUMMYFUNCTION(\"\"\"COMPUTED_VALUE\"\"\"),\"jose+json\")","v":"jose+json"},{"$f":"IFERROR(__xludf.DUMMYFUNCTION(\"\"\"COMPUTED_VALUE\"\"\"),\"application/jose+json\")","v":"application/jose+json"},{"$f":"IFERROR(__xludf.DUMMYFUNCTION(\"\"\"COMPUTED_VALUE\"\"\"),\"en\")","v":"en"}]
[{"$f":"IFERROR(__xludf.DUMMYFUNCTION(\"\"\"COMPUTED_VALUE\"\"\"),\"https://www.iana.org/assignments/media-types/application/jrd+json\")","v":"https://www.iana.org/assignments/media-types/application/jrd+json"},{"$f":"IFERROR(__xludf.DUMMYFUNCTION(\"\"\"COMPUTED_VALUE\"\"\"),\"jrd+json\")","v":"jrd+json"},{"$f":"IFERROR(__xludf.DUMMYFUNCTION(\"\"\"COMPUTED_VALUE\"\"\"),\"jrd+json\")","v":"jrd+json"},{"$f":"IFERROR(__xludf.DUMMYFUNCTION(\"\"\"COMPUTED_VALUE\"\"\"),\"application/jrd+json\")","v":"application/jrd+json"},{"$f":"IFERROR(__xludf.DUMMYFUNCTION(\"\"\"COMPUTED_VALUE\"\"\"),\"en\")","v":"en"}]
[{"$f":"IFERROR(__xludf.DUMMYFUNCTION(\"\"\"COMPUTED_VALUE\"\"\"),\"https://www.iana.org/assignments/media-types/application/jscalendar+json\")","v":"https://www.iana.org/assignments/media-types/application/jscalendar+json"},{"$f":"IFERROR(__xludf.DUMMYFUNCTION(\"\"\"COMPUTED_VALUE\"\"\"),\"jscalendar+json\")","v":"jscalendar+json"},{"$f":"IFERROR(__xludf.DUMMYFUNCTION(\"\"\"COMPUTED_VALUE\"\"\"),\"jscalendar+json\")","v":"jscalendar+json"},{"$f":"IFERROR(__xludf.DUMMYFUNCTION(\"\"\"COMPUTED_VALUE\"\"\"),\"application/jscalendar+json\")","v":"application/jscalendar+json"},{"$f":"IFERROR(__xludf.DUMMYFUNCTION(\"\"\"COMPUTED_VALUE\"\"\"),\"en\")","v":"en"}]
[{"$f":"IFERROR(__xludf.DUMMYFUNCTION(\"\"\"COMPUTED_VALUE\"\"\"),\"https://www.iana.org/assignments/media-types/application/json\")","v":"https://www.iana.org/assignments/media-types/application/json"},{"$f":"IFERROR(__xludf.DUMMYFUNCTION(\"\"\"COMPUTED_VALUE\"\"\"),\"json\")","v":"json"},{"$f":"IFERROR(__xludf.DUMMYFUNCTION(\"\"\"COMPUTED_VALUE\"\"\"),\"json\")","v":"json"},{"$f":"IFERROR(__xludf.DUMMYFUNCTION(\"\"\"COMPUTED_VALUE\"\"\"),\"application/json\")","v":"application/json"},{"$f":"IFERROR(__xludf.DUMMYFUNCTION(\"\"\"COMPUTED_VALUE\"\"\"),\"en\")","v":"en"}]
[{"$f":"IFERROR(__xludf.DUMMYFUNCTION(\"\"\"COMPUTED_VALUE\"\"\"),\"https://www.iana.org/assignments/media-types/application/json-patch+json\")","v":"https://www.iana.org/assignments/media-types/application/json-patch+json"},{"$f":"IFERROR(__xludf.DUMMYFUNCTION(\"\"\"COMPUTED_VALUE\"\"\"),\"json-patch+json\")","v":"json-patch+json"},{"$f":"IFERROR(__xludf.DUMMYFUNCTION(\"\"\"COMPUTED_VALUE\"\"\"),\"json-patch+json\")","v":"json-patch+json"},{"$f":"IFERROR(__xludf.DUMMYFUNCTION(\"\"\"COMPUTED_VALUE\"\"\"),\"application/json-patch+json\")","v":"application/json-patch+json"},{"$f":"IFERROR(__xludf.DUMMYFUNCTION(\"\"\"COMPUTED_VALUE\"\"\"),\"en\")","v":"en"}]
[{"$f":"IFERROR(__xludf.DUMMYFUNCTION(\"\"\"COMPUTED_VALUE\"\"\"),\"https://www.iana.org/assignments/media-types/application/json-seq\")","v":"https://www.iana.org/assignments/media-types/application/json-seq"},{"$f":"IFERROR(__xludf.DUMMYFUNCTION(\"\"\"COMPUTED_VALUE\"\"\"),\"json-seq\")","v":"json-seq"},{"$f":"IFERROR(__xludf.DUMMYFUNCTION(\"\"\"COMPUTED_VALUE\"\"\"),\"json-seq\")","v":"json-seq"},{"$f":"IFERROR(__xludf.DUMMYFUNCTION(\"\"\"COMPUTED_VALUE\"\"\"),\"application/json-seq\")","v":"application/json-seq"},{"$f":"IFERROR(__xludf.DUMMYFUNCTION(\"\"\"COMPUTED_VALUE\"\"\"),\"en\")","v":"en"}]
[{"$f":"IFERROR(__xludf.DUMMYFUNCTION(\"\"\"COMPUTED_VALUE\"\"\"),\"https://www.iana.org/assignments/media-types/application/jwk+json\")","v":"https://www.iana.org/assignments/media-types/application/jwk+json"},{"$f":"IFERROR(__xludf.DUMMYFUNCTION(\"\"\"COMPUTED_VALUE\"\"\"),\"jwk+json\")","v":"jwk+json"},{"$f":"IFERROR(__xludf.DUMMYFUNCTION(\"\"\"COMPUTED_VALUE\"\"\"),\"jwk+json\")","v":"jwk+json"},{"$f":"IFERROR(__xludf.DUMMYFUNCTION(\"\"\"COMPUTED_VALUE\"\"\"),\"application/jwk+json\")","v":"application/jwk+json"},{"$f":"IFERROR(__xludf.DUMMYFUNCTION(\"\"\"COMPUTED_VALUE\"\"\"),\"en\")","v":"en"}]
[{"$f":"IFERROR(__xludf.DUMMYFUNCTION(\"\"\"COMPUTED_VALUE\"\"\"),\"https://www.iana.org/assignments/media-types/application/jwk-set+json\")","v":"https://www.iana.org/assignments/media-types/application/jwk-set+json"},{"$f":"IFERROR(__xludf.DUMMYFUNCTION(\"\"\"COMPUTED_VALUE\"\"\"),\"jwk-set+json\")","v":"jwk-set+json"},{"$f":"IFERROR(__xludf.DUMMYFUNCTION(\"\"\"COMPUTED_VALUE\"\"\"),\"jwk-set+json\")","v":"jwk-set+json"},{"$f":"IFERROR(__xludf.DUMMYFUNCTION(\"\"\"COMPUTED_VALUE\"\"\"),\"application/jwk-set+json\")","v":"application/jwk-set+json"},{"$f":"IFERROR(__xludf.DUMMYFUNCTION(\"\"\"COMPUTED_VALUE\"\"\"),\"en\")","v":"en"}]
[{"$f":"IFERROR(__xludf.DUMMYFUNCTION(\"\"\"COMPUTED_VALUE\"\"\"),\"https://www.iana.org/assignments/media-types/application/jwt\")","v":"https://www.iana.org/assignments/media-types/application/jwt"},{"$f":"IFERROR(__xludf.DUMMYFUNCTION(\"\"\"COMPUTED_VALUE\"\"\"),\"jwt\")","v":"jwt"},{"$f":"IFERROR(__xludf.DUMMYFUNCTION(\"\"\"COMPUTED_VALUE\"\"\"),\"jwt\")","v":"jwt"},{"$f":"IFERROR(__xludf.DUMMYFUNCTION(\"\"\"COMPUTED_VALUE\"\"\"),\"application/jwt\")","v":"application/jwt"},{"$f":"IFERROR(__xludf.DUMMYFUNCTION(\"\"\"COMPUTED_VALUE\"\"\"),\"en\")","v":"en"}]
[{"$f":"IFERROR(__xludf.DUMMYFUNCTION(\"\"\"COMPUTED_VALUE\"\"\"),\"https://www.iana.org/assignments/media-types/application/kpml-request+xml\")","v":"https://www.iana.org/assignments/media-types/application/kpml-request+xml"},{"$f":"IFERROR(__xludf.DUMMYFUNCTION(\"\"\"COMPUTED_VALUE\"\"\"),\"kpml-request+xml\")","v":"kpml-request+xml"},{"$f":"IFERROR(__xludf.DUMMYFUNCTION(\"\"\"COMPUTED_VALUE\"\"\"),\"kpml-request+xml\")","v":"kpml-request+xml"},{"$f":"IFERROR(__xludf.DUMMYFUNCTION(\"\"\"COMPUTED_VALUE\"\"\"),\"application/kpml-request+xml\")","v":"application/kpml-request+xml"},{"$f":"IFERROR(__xludf.DUMMYFUNCTION(\"\"\"COMPUTED_VALUE\"\"\"),\"en\")","v":"en"}]
[{"$f":"IFERROR(__xludf.DUMMYFUNCTION(\"\"\"COMPUTED_VALUE\"\"\"),\"https://www.iana.org/assignments/media-types/application/kpml-response+xml\")","v":"https://www.iana.org/assignments/media-types/application/kpml-response+xml"},{"$f":"IFERROR(__xludf.DUMMYFUNCTION(\"\"\"COMPUTED_VALUE\"\"\"),\"kpml-response+xml\")","v":"kpml-response+xml"},{"$f":"IFERROR(__xludf.DUMMYFUNCTION(\"\"\"COMPUTED_VALUE\"\"\"),\"kpml-response+xml\")","v":"kpml-response+xml"},{"$f":"IFERROR(__xludf.DUMMYFUNCTION(\"\"\"COMPUTED_VALUE\"\"\"),\"application/kpml-response+xml\")","v":"application/kpml-response+xml"},{"$f":"IFERROR(__xludf.DUMMYFUNCTION(\"\"\"COMPUTED_VALUE\"\"\"),\"en\")","v":"en"}]
[{"$f":"IFERROR(__xludf.DUMMYFUNCTION(\"\"\"COMPUTED_VALUE\"\"\"),\"https://www.iana.org/assignments/media-types/application/ld+json\")","v":"https://www.iana.org/assignments/media-types/application/ld+json"},{"$f":"IFERROR(__xludf.DUMMYFUNCTION(\"\"\"COMPUTED_VALUE\"\"\"),\"ld+json\")","v":"ld+json"},{"$f":"IFERROR(__xludf.DUMMYFUNCTION(\"\"\"COMPUTED_VALUE\"\"\"),\"ld+json\")","v":"ld+json"},{"$f":"IFERROR(__xludf.DUMMYFUNCTION(\"\"\"COMPUTED_VALUE\"\"\"),\"application/ld+json\")","v":"application/ld+json"},{"$f":"IFERROR(__xludf.DUMMYFUNCTION(\"\"\"COMPUTED_VALUE\"\"\"),\"en\")","v":"en"}]
[{"$f":"IFERROR(__xludf.DUMMYFUNCTION(\"\"\"COMPUTED_VALUE\"\"\"),\"https://www.iana.org/assignments/media-types/application/lgr+xml\")","v":"https://www.iana.org/assignments/media-types/application/lgr+xml"},{"$f":"IFERROR(__xludf.DUMMYFUNCTION(\"\"\"COMPUTED_VALUE\"\"\"),\"lgr+xml\")","v":"lgr+xml"},{"$f":"IFERROR(__xludf.DUMMYFUNCTION(\"\"\"COMPUTED_VALUE\"\"\"),\"lgr+xml\")","v":"lgr+xml"},{"$f":"IFERROR(__xludf.DUMMYFUNCTION(\"\"\"COMPUTED_VALUE\"\"\"),\"application/lgr+xml\")","v":"application/lgr+xml"},{"$f":"IFERROR(__xludf.DUMMYFUNCTION(\"\"\"COMPUTED_VALUE\"\"\"),\"en\")","v":"en"}]
[{"$f":"IFERROR(__xludf.DUMMYFUNCTION(\"\"\"COMPUTED_VALUE\"\"\"),\"https://www.iana.org/assignments/media-types/application/link-format\")","v":"https://www.iana.org/assignments/media-types/application/link-format"},{"$f":"IFERROR(__xludf.DUMMYFUNCTION(\"\"\"COMPUTED_VALUE\"\"\"),\"link-format\")","v":"link-format"},{"$f":"IFERROR(__xludf.DUMMYFUNCTION(\"\"\"COMPUTED_VALUE\"\"\"),\"link-format\")","v":"link-format"},{"$f":"IFERROR(__xludf.DUMMYFUNCTION(\"\"\"COMPUTED_VALUE\"\"\"),\"application/link-format\")","v":"application/link-format"},{"$f":"IFERROR(__xludf.DUMMYFUNCTION(\"\"\"COMPUTED_VALUE\"\"\"),\"en\")","v":"en"}]
[{"$f":"IFERROR(__xludf.DUMMYFUNCTION(\"\"\"COMPUTED_VALUE\"\"\"),\"https://www.iana.org/assignments/media-types/application/linkset\")","v":"https://www.iana.org/assignments/media-types/application/linkset"},{"$f":"IFERROR(__xludf.DUMMYFUNCTION(\"\"\"COMPUTED_VALUE\"\"\"),\"linkset\")","v":"linkset"},{"$f":"IFERROR(__xludf.DUMMYFUNCTION(\"\"\"COMPUTED_VALUE\"\"\"),\"linkset\")","v":"linkset"},{"$f":"IFERROR(__xludf.DUMMYFUNCTION(\"\"\"COMPUTED_VALUE\"\"\"),\"application/linkset\")","v":"application/linkset"},{"$f":"IFERROR(__xludf.DUMMYFUNCTION(\"\"\"COMPUTED_VALUE\"\"\"),\"en\")","v":"en"}]
[{"$f":"IFERROR(__xludf.DUMMYFUNCTION(\"\"\"COMPUTED_VALUE\"\"\"),\"https://www.iana.org/assignments/media-types/application/linkset+json\")","v":"https://www.iana.org/assignments/media-types/application/linkset+json"},{"$f":"IFERROR(__xludf.DUMMYFUNCTION(\"\"\"COMPUTED_VALUE\"\"\"),\"linkset+json\")","v":"linkset+json"},{"$f":"IFERROR(__xludf.DUMMYFUNCTION(\"\"\"COMPUTED_VALUE\"\"\"),\"linkset+json\")","v":"linkset+json"},{"$f":"IFERROR(__xludf.DUMMYFUNCTION(\"\"\"COMPUTED_VALUE\"\"\"),\"application/linkset+json\")","v":"application/linkset+json"},{"$f":"IFERROR(__xludf.DUMMYFUNCTION(\"\"\"COMPUTED_VALUE\"\"\"),\"en\")","v":"en"}]
[{"$f":"IFERROR(__xludf.DUMMYFUNCTION(\"\"\"COMPUTED_VALUE\"\"\"),\"https://www.iana.org/assignments/media-types/application/load-control+xml\")","v":"https://www.iana.org/assignments/media-types/application/load-control+xml"},{"$f":"IFERROR(__xludf.DUMMYFUNCTION(\"\"\"COMPUTED_VALUE\"\"\"),\"load-control+xml\")","v":"load-control+xml"},{"$f":"IFERROR(__xludf.DUMMYFUNCTION(\"\"\"COMPUTED_VALUE\"\"\"),\"load-control+xml\")","v":"load-control+xml"},{"$f":"IFERROR(__xludf.DUMMYFUNCTION(\"\"\"COMPUTED_VALUE\"\"\"),\"application/load-control+xml\")","v":"application/load-control+xml"},{"$f":"IFERROR(__xludf.DUMMYFUNCTION(\"\"\"COMPUTED_VALUE\"\"\"),\"en\")","v":"en"}]
[{"$f":"IFERROR(__xludf.DUMMYFUNCTION(\"\"\"COMPUTED_VALUE\"\"\"),\"https://www.iana.org/assignments/media-types/application/logout+jwt\")","v":"https://www.iana.org/assignments/media-types/application/logout+jwt"},{"$f":"IFERROR(__xludf.DUMMYFUNCTION(\"\"\"COMPUTED_VALUE\"\"\"),\"logout+jwt\")","v":"logout+jwt"},{"$f":"IFERROR(__xludf.DUMMYFUNCTION(\"\"\"COMPUTED_VALUE\"\"\"),\"logout+jwt\")","v":"logout+jwt"},{"$f":"IFERROR(__xludf.DUMMYFUNCTION(\"\"\"COMPUTED_VALUE\"\"\"),\"application/logout+jwt\")","v":"application/logout+jwt"},{"$f":"IFERROR(__xludf.DUMMYFUNCTION(\"\"\"COMPUTED_VALUE\"\"\"),\"en\")","v":"en"}]
[{"$f":"IFERROR(__xludf.DUMMYFUNCTION(\"\"\"COMPUTED_VALUE\"\"\"),\"https://www.iana.org/assignments/media-types/application/lost+xml\")","v":"https://www.iana.org/assignments/media-types/application/lost+xml"},{"$f":"IFERROR(__xludf.DUMMYFUNCTION(\"\"\"COMPUTED_VALUE\"\"\"),\"lost+xml\")","v":"lost+xml"},{"$f":"IFERROR(__xludf.DUMMYFUNCTION(\"\"\"COMPUTED_VALUE\"\"\"),\"lost+xml\")","v":"lost+xml"},{"$f":"IFERROR(__xludf.DUMMYFUNCTION(\"\"\"COMPUTED_VALUE\"\"\"),\"application/lost+xml\")","v":"application/lost+xml"},{"$f":"IFERROR(__xludf.DUMMYFUNCTION(\"\"\"COMPUTED_VALUE\"\"\"),\"en\")","v":"en"}]
[{"$f":"IFERROR(__xludf.DUMMYFUNCTION(\"\"\"COMPUTED_VALUE\"\"\"),\"https://www.iana.org/assignments/media-types/application/lostsync+xml\")","v":"https://www.iana.org/assignments/media-types/application/lostsync+xml"},{"$f":"IFERROR(__xludf.DUMMYFUNCTION(\"\"\"COMPUTED_VALUE\"\"\"),\"lostsync+xml\")","v":"lostsync+xml"},{"$f":"IFERROR(__xludf.DUMMYFUNCTION(\"\"\"COMPUTED_VALUE\"\"\"),\"lostsync+xml\")","v":"lostsync+xml"},{"$f":"IFERROR(__xludf.DUMMYFUNCTION(\"\"\"COMPUTED_VALUE\"\"\"),\"application/lostsync+xml\")","v":"application/lostsync+xml"},{"$f":"IFERROR(__xludf.DUMMYFUNCTION(\"\"\"COMPUTED_VALUE\"\"\"),\"en\")","v":"en"}]
[{"$f":"IFERROR(__xludf.DUMMYFUNCTION(\"\"\"COMPUTED_VALUE\"\"\"),\"https://www.iana.org/assignments/media-types/application/lpf+zip\")","v":"https://www.iana.org/assignments/media-types/application/lpf+zip"},{"$f":"IFERROR(__xludf.DUMMYFUNCTION(\"\"\"COMPUTED_VALUE\"\"\"),\"lpf+zip\")","v":"lpf+zip"},{"$f":"IFERROR(__xludf.DUMMYFUNCTION(\"\"\"COMPUTED_VALUE\"\"\"),\"lpf+zip\")","v":"lpf+zip"},{"$f":"IFERROR(__xludf.DUMMYFUNCTION(\"\"\"COMPUTED_VALUE\"\"\"),\"application/lpf+zip\")","v":"application/lpf+zip"},{"$f":"IFERROR(__xludf.DUMMYFUNCTION(\"\"\"COMPUTED_VALUE\"\"\"),\"en\")","v":"en"}]
[{"$f":"IFERROR(__xludf.DUMMYFUNCTION(\"\"\"COMPUTED_VALUE\"\"\"),\"https://www.iana.org/assignments/media-types/application/LXF\")","v":"https://www.iana.org/assignments/media-types/application/LXF"},{"$f":"IFERROR(__xludf.DUMMYFUNCTION(\"\"\"COMPUTED_VALUE\"\"\"),\"LXF\")","v":"LXF"},{"$f":"IFERROR(__xludf.DUMMYFUNCTION(\"\"\"COMPUTED_VALUE\"\"\"),\"LXF\")","v":"LXF"},{"$f":"IFERROR(__xludf.DUMMYFUNCTION(\"\"\"COMPUTED_VALUE\"\"\"),\"application/LXF\")","v":"application/LXF"},{"$f":"IFERROR(__xludf.DUMMYFUNCTION(\"\"\"COMPUTED_VALUE\"\"\"),\"en\")","v":"en"}]
[{"$f":"IFERROR(__xludf.DUMMYFUNCTION(\"\"\"COMPUTED_VALUE\"\"\"),\"https://www.iana.org/assignments/media-types/application/mac-binhex40\")","v":"https://www.iana.org/assignments/media-types/application/mac-binhex40"},{"$f":"IFERROR(__xludf.DUMMYFUNCTION(\"\"\"COMPUTED_VALUE\"\"\"),\"mac-binhex40\")","v":"mac-binhex40"},{"$f":"IFERROR(__xludf.DUMMYFUNCTION(\"\"\"COMPUTED_VALUE\"\"\"),\"mac-binhex40\")","v":"mac-binhex40"},{"$f":"IFERROR(__xludf.DUMMYFUNCTION(\"\"\"COMPUTED_VALUE\"\"\"),\"application/mac-binhex40\")","v":"application/mac-binhex40"},{"$f":"IFERROR(__xludf.DUMMYFUNCTION(\"\"\"COMPUTED_VALUE\"\"\"),\"en\")","v":"en"}]
[{"$f":"IFERROR(__xludf.DUMMYFUNCTION(\"\"\"COMPUTED_VALUE\"\"\"),\"https://www.iana.org/assignments/media-types/application/macwriteii\")","v":"https://www.iana.org/assignments/media-types/application/macwriteii"},{"$f":"IFERROR(__xludf.DUMMYFUNCTION(\"\"\"COMPUTED_VALUE\"\"\"),\"macwriteii\")","v":"macwriteii"},{"$f":"IFERROR(__xludf.DUMMYFUNCTION(\"\"\"COMPUTED_VALUE\"\"\"),\"macwriteii\")","v":"macwriteii"},{"$f":"IFERROR(__xludf.DUMMYFUNCTION(\"\"\"COMPUTED_VALUE\"\"\"),\"application/macwriteii\")","v":"application/macwriteii"},{"$f":"IFERROR(__xludf.DUMMYFUNCTION(\"\"\"COMPUTED_VALUE\"\"\"),\"en\")","v":"en"}]
[{"$f":"IFERROR(__xludf.DUMMYFUNCTION(\"\"\"COMPUTED_VALUE\"\"\"),\"https://www.iana.org/assignments/media-types/application/mads+xml\")","v":"https://www.iana.org/assignments/media-types/application/mads+xml"},{"$f":"IFERROR(__xludf.DUMMYFUNCTION(\"\"\"COMPUTED_VALUE\"\"\"),\"mads+xml\")","v":"mads+xml"},{"$f":"IFERROR(__xludf.DUMMYFUNCTION(\"\"\"COMPUTED_VALUE\"\"\"),\"mads+xml\")","v":"mads+xml"},{"$f":"IFERROR(__xludf.DUMMYFUNCTION(\"\"\"COMPUTED_VALUE\"\"\"),\"application/mads+xml\")","v":"application/mads+xml"},{"$f":"IFERROR(__xludf.DUMMYFUNCTION(\"\"\"COMPUTED_VALUE\"\"\"),\"en\")","v":"en"}]
[{"$f":"IFERROR(__xludf.DUMMYFUNCTION(\"\"\"COMPUTED_VALUE\"\"\"),\"https://www.iana.org/assignments/media-types/application/manifest+json\")","v":"https://www.iana.org/assignments/media-types/application/manifest+json"},{"$f":"IFERROR(__xludf.DUMMYFUNCTION(\"\"\"COMPUTED_VALUE\"\"\"),\"manifest+json\")","v":"manifest+json"},{"$f":"IFERROR(__xludf.DUMMYFUNCTION(\"\"\"COMPUTED_VALUE\"\"\"),\"manifest+json\")","v":"manifest+json"},{"$f":"IFERROR(__xludf.DUMMYFUNCTION(\"\"\"COMPUTED_VALUE\"\"\"),\"application/manifest+json\")","v":"application/manifest+json"},{"$f":"IFERROR(__xludf.DUMMYFUNCTION(\"\"\"COMPUTED_VALUE\"\"\"),\"en\")","v":"en"}]
[{"$f":"IFERROR(__xludf.DUMMYFUNCTION(\"\"\"COMPUTED_VALUE\"\"\"),\"https://www.iana.org/assignments/media-types/application/marc\")","v":"https://www.iana.org/assignments/media-types/application/marc"},{"$f":"IFERROR(__xludf.DUMMYFUNCTION(\"\"\"COMPUTED_VALUE\"\"\"),\"marc\")","v":"marc"},{"$f":"IFERROR(__xludf.DUMMYFUNCTION(\"\"\"COMPUTED_VALUE\"\"\"),\"marc\")","v":"marc"},{"$f":"IFERROR(__xludf.DUMMYFUNCTION(\"\"\"COMPUTED_VALUE\"\"\"),\"application/marc\")","v":"application/marc"},{"$f":"IFERROR(__xludf.DUMMYFUNCTION(\"\"\"COMPUTED_VALUE\"\"\"),\"en\")","v":"en"}]
[{"$f":"IFERROR(__xludf.DUMMYFUNCTION(\"\"\"COMPUTED_VALUE\"\"\"),\"https://www.iana.org/assignments/media-types/application/marcxml+xml\")","v":"https://www.iana.org/assignments/media-types/application/marcxml+xml"},{"$f":"IFERROR(__xludf.DUMMYFUNCTION(\"\"\"COMPUTED_VALUE\"\"\"),\"marcxml+xml\")","v":"marcxml+xml"},{"$f":"IFERROR(__xludf.DUMMYFUNCTION(\"\"\"COMPUTED_VALUE\"\"\"),\"marcxml+xml\")","v":"marcxml+xml"},{"$f":"IFERROR(__xludf.DUMMYFUNCTION(\"\"\"COMPUTED_VALUE\"\"\"),\"application/marcxml+xml\")","v":"application/marcxml+xml"},{"$f":"IFERROR(__xludf.DUMMYFUNCTION(\"\"\"COMPUTED_VALUE\"\"\"),\"en\")","v":"en"}]
[{"$f":"IFERROR(__xludf.DUMMYFUNCTION(\"\"\"COMPUTED_VALUE\"\"\"),\"https://www.iana.org/assignments/media-types/application/mathematica\")","v":"https://www.iana.org/assignments/media-types/application/mathematica"},{"$f":"IFERROR(__xludf.DUMMYFUNCTION(\"\"\"COMPUTED_VALUE\"\"\"),\"mathematica\")","v":"mathematica"},{"$f":"IFERROR(__xludf.DUMMYFUNCTION(\"\"\"COMPUTED_VALUE\"\"\"),\"mathematica\")","v":"mathematica"},{"$f":"IFERROR(__xludf.DUMMYFUNCTION(\"\"\"COMPUTED_VALUE\"\"\"),\"application/mathematica\")","v":"application/mathematica"},{"$f":"IFERROR(__xludf.DUMMYFUNCTION(\"\"\"COMPUTED_VALUE\"\"\"),\"en\")","v":"en"}]
[{"$f":"IFERROR(__xludf.DUMMYFUNCTION(\"\"\"COMPUTED_VALUE\"\"\"),\"https://www.iana.org/assignments/media-types/application/mathml+xml\")","v":"https://www.iana.org/assignments/media-types/application/mathml+xml"},{"$f":"IFERROR(__xludf.DUMMYFUNCTION(\"\"\"COMPUTED_VALUE\"\"\"),\"mathml+xml\")","v":"mathml+xml"},{"$f":"IFERROR(__xludf.DUMMYFUNCTION(\"\"\"COMPUTED_VALUE\"\"\"),\"mathml+xml\")","v":"mathml+xml"},{"$f":"IFERROR(__xludf.DUMMYFUNCTION(\"\"\"COMPUTED_VALUE\"\"\"),\"application/mathml+xml\")","v":"application/mathml+xml"},{"$f":"IFERROR(__xludf.DUMMYFUNCTION(\"\"\"COMPUTED_VALUE\"\"\"),\"en\")","v":"en"}]
[{"$f":"IFERROR(__xludf.DUMMYFUNCTION(\"\"\"COMPUTED_VALUE\"\"\"),\"https://www.iana.org/assignments/media-types/application/mathml-content+xml\")","v":"https://www.iana.org/assignments/media-types/application/mathml-content+xml"},{"$f":"IFERROR(__xludf.DUMMYFUNCTION(\"\"\"COMPUTED_VALUE\"\"\"),\"mathml-content+xml\")","v":"mathml-content+xml"},{"$f":"IFERROR(__xludf.DUMMYFUNCTION(\"\"\"COMPUTED_VALUE\"\"\"),\"mathml-content+xml\")","v":"mathml-content+xml"},{"$f":"IFERROR(__xludf.DUMMYFUNCTION(\"\"\"COMPUTED_VALUE\"\"\"),\"application/mathml-content+xml\")","v":"application/mathml-content+xml"},{"$f":"IFERROR(__xludf.DUMMYFUNCTION(\"\"\"COMPUTED_VALUE\"\"\"),\"en\")","v":"en"}]
[{"$f":"IFERROR(__xludf.DUMMYFUNCTION(\"\"\"COMPUTED_VALUE\"\"\"),\"https://www.iana.org/assignments/media-types/application/mathml-presentation+xml\")","v":"https://www.iana.org/assignments/media-types/application/mathml-presentation+xml"},{"$f":"IFERROR(__xludf.DUMMYFUNCTION(\"\"\"COMPUTED_VALUE\"\"\"),\"mathml-presentation+xml\")","v":"mathml-presentation+xml"},{"$f":"IFERROR(__xludf.DUMMYFUNCTION(\"\"\"COMPUTED_VALUE\"\"\"),\"mathml-presentation+xml\")","v":"mathml-presentation+xml"},{"$f":"IFERROR(__xludf.DUMMYFUNCTION(\"\"\"COMPUTED_VALUE\"\"\"),\"application/mathml-presentation+xml\")","v":"application/mathml-presentation+xml"},{"$f":"IFERROR(__xludf.DUMMYFUNCTION(\"\"\"COMPUTED_VALUE\"\"\"),\"en\")","v":"en"}]
[{"$f":"IFERROR(__xludf.DUMMYFUNCTION(\"\"\"COMPUTED_VALUE\"\"\"),\"https://www.iana.org/assignments/media-types/application/mbms-associated-procedure-description+xml\")","v":"https://www.iana.org/assignments/media-types/application/mbms-associated-procedure-description+xml"},{"$f":"IFERROR(__xludf.DUMMYFUNCTION(\"\"\"COMPUTED_VALUE\"\"\"),\"mbms-associated-procedure-description+xml\")","v":"mbms-associated-procedure-description+xml"},{"$f":"IFERROR(__xludf.DUMMYFUNCTION(\"\"\"COMPUTED_VALUE\"\"\"),\"mbms-associated-procedure-description+xml\")","v":"mbms-associated-procedure-description+xml"},{"$f":"IFERROR(__xludf.DUMMYFUNCTION(\"\"\"COMPUTED_VALUE\"\"\"),\"application/mbms-associated-procedure-description+xml\")","v":"application/mbms-associated-procedure-description+xml"},{"$f":"IFERROR(__xludf.DUMMYFUNCTION(\"\"\"COMPUTED_VALUE\"\"\"),\"en\")","v":"en"}]
[{"$f":"IFERROR(__xludf.DUMMYFUNCTION(\"\"\"COMPUTED_VALUE\"\"\"),\"https://www.iana.org/assignments/media-types/application/mbms-deregister+xml\")","v":"https://www.iana.org/assignments/media-types/application/mbms-deregister+xml"},{"$f":"IFERROR(__xludf.DUMMYFUNCTION(\"\"\"COMPUTED_VALUE\"\"\"),\"mbms-deregister+xml\")","v":"mbms-deregister+xml"},{"$f":"IFERROR(__xludf.DUMMYFUNCTION(\"\"\"COMPUTED_VALUE\"\"\"),\"mbms-deregister+xml\")","v":"mbms-deregister+xml"},{"$f":"IFERROR(__xludf.DUMMYFUNCTION(\"\"\"COMPUTED_VALUE\"\"\"),\"application/mbms-deregister+xml\")","v":"application/mbms-deregister+xml"},{"$f":"IFERROR(__xludf.DUMMYFUNCTION(\"\"\"COMPUTED_VALUE\"\"\"),\"en\")","v":"en"}]
[{"$f":"IFERROR(__xludf.DUMMYFUNCTION(\"\"\"COMPUTED_VALUE\"\"\"),\"https://www.iana.org/assignments/media-types/application/mbms-envelope+xml\")","v":"https://www.iana.org/assignments/media-types/application/mbms-envelope+xml"},{"$f":"IFERROR(__xludf.DUMMYFUNCTION(\"\"\"COMPUTED_VALUE\"\"\"),\"mbms-envelope+xml\")","v":"mbms-envelope+xml"},{"$f":"IFERROR(__xludf.DUMMYFUNCTION(\"\"\"COMPUTED_VALUE\"\"\"),\"mbms-envelope+xml\")","v":"mbms-envelope+xml"},{"$f":"IFERROR(__xludf.DUMMYFUNCTION(\"\"\"COMPUTED_VALUE\"\"\"),\"application/mbms-envelope+xml\")","v":"application/mbms-envelope+xml"},{"$f":"IFERROR(__xludf.DUMMYFUNCTION(\"\"\"COMPUTED_VALUE\"\"\"),\"en\")","v":"en"}]
[{"$f":"IFERROR(__xludf.DUMMYFUNCTION(\"\"\"COMPUTED_VALUE\"\"\"),\"https://www.iana.org/assignments/media-types/application/mbms-msk-response+xml\")","v":"https://www.iana.org/assignments/media-types/application/mbms-msk-response+xml"},{"$f":"IFERROR(__xludf.DUMMYFUNCTION(\"\"\"COMPUTED_VALUE\"\"\"),\"mbms-msk-response+xml\")","v":"mbms-msk-response+xml"},{"$f":"IFERROR(__xludf.DUMMYFUNCTION(\"\"\"COMPUTED_VALUE\"\"\"),\"mbms-msk-response+xml\")","v":"mbms-msk-response+xml"},{"$f":"IFERROR(__xludf.DUMMYFUNCTION(\"\"\"COMPUTED_VALUE\"\"\"),\"application/mbms-msk-response+xml\")","v":"application/mbms-msk-response+xml"},{"$f":"IFERROR(__xludf.DUMMYFUNCTION(\"\"\"COMPUTED_VALUE\"\"\"),\"en\")","v":"en"}]
[{"$f":"IFERROR(__xludf.DUMMYFUNCTION(\"\"\"COMPUTED_VALUE\"\"\"),\"https://www.iana.org/assignments/media-types/application/mbms-msk+xml\")","v":"https://www.iana.org/assignments/media-types/application/mbms-msk+xml"},{"$f":"IFERROR(__xludf.DUMMYFUNCTION(\"\"\"COMPUTED_VALUE\"\"\"),\"mbms-msk+xml\")","v":"mbms-msk+xml"},{"$f":"IFERROR(__xludf.DUMMYFUNCTION(\"\"\"COMPUTED_VALUE\"\"\"),\"mbms-msk+xml\")","v":"mbms-msk+xml"},{"$f":"IFERROR(__xludf.DUMMYFUNCTION(\"\"\"COMPUTED_VALUE\"\"\"),\"application/mbms-msk+xml\")","v":"application/mbms-msk+xml"},{"$f":"IFERROR(__xludf.DUMMYFUNCTION(\"\"\"COMPUTED_VALUE\"\"\"),\"en\")","v":"en"}]
[{"$f":"IFERROR(__xludf.DUMMYFUNCTION(\"\"\"COMPUTED_VALUE\"\"\"),\"https://www.iana.org/assignments/media-types/application/mbms-protection-description+xml\")","v":"https://www.iana.org/assignments/media-types/application/mbms-protection-description+xml"},{"$f":"IFERROR(__xludf.DUMMYFUNCTION(\"\"\"COMPUTED_VALUE\"\"\"),\"mbms-protection-description+xml\")","v":"mbms-protection-description+xml"},{"$f":"IFERROR(__xludf.DUMMYFUNCTION(\"\"\"COMPUTED_VALUE\"\"\"),\"mbms-protection-description+xml\")","v":"mbms-protection-description+xml"},{"$f":"IFERROR(__xludf.DUMMYFUNCTION(\"\"\"COMPUTED_VALUE\"\"\"),\"application/mbms-protection-description+xml\")","v":"application/mbms-protection-description+xml"},{"$f":"IFERROR(__xludf.DUMMYFUNCTION(\"\"\"COMPUTED_VALUE\"\"\"),\"en\")","v":"en"}]
[{"$f":"IFERROR(__xludf.DUMMYFUNCTION(\"\"\"COMPUTED_VALUE\"\"\"),\"https://www.iana.org/assignments/media-types/application/mbms-reception-report+xml\")","v":"https://www.iana.org/assignments/media-types/application/mbms-reception-report+xml"},{"$f":"IFERROR(__xludf.DUMMYFUNCTION(\"\"\"COMPUTED_VALUE\"\"\"),\"mbms-reception-report+xml\")","v":"mbms-reception-report+xml"},{"$f":"IFERROR(__xludf.DUMMYFUNCTION(\"\"\"COMPUTED_VALUE\"\"\"),\"mbms-reception-report+xml\")","v":"mbms-reception-report+xml"},{"$f":"IFERROR(__xludf.DUMMYFUNCTION(\"\"\"COMPUTED_VALUE\"\"\"),\"application/mbms-reception-report+xml\")","v":"application/mbms-reception-report+xml"},{"$f":"IFERROR(__xludf.DUMMYFUNCTION(\"\"\"COMPUTED_VALUE\"\"\"),\"en\")","v":"en"}]
[{"$f":"IFERROR(__xludf.DUMMYFUNCTION(\"\"\"COMPUTED_VALUE\"\"\"),\"https://www.iana.org/assignments/media-types/application/mbms-register-response+xml\")","v":"https://www.iana.org/assignments/media-types/application/mbms-register-response+xml"},{"$f":"IFERROR(__xludf.DUMMYFUNCTION(\"\"\"COMPUTED_VALUE\"\"\"),\"mbms-register-response+xml\")","v":"mbms-register-response+xml"},{"$f":"IFERROR(__xludf.DUMMYFUNCTION(\"\"\"COMPUTED_VALUE\"\"\"),\"mbms-register-response+xml\")","v":"mbms-register-response+xml"},{"$f":"IFERROR(__xludf.DUMMYFUNCTION(\"\"\"COMPUTED_VALUE\"\"\"),\"application/mbms-register-response+xml\")","v":"application/mbms-register-response+xml"},{"$f":"IFERROR(__xludf.DUMMYFUNCTION(\"\"\"COMPUTED_VALUE\"\"\"),\"en\")","v":"en"}]
[{"$f":"IFERROR(__xludf.DUMMYFUNCTION(\"\"\"COMPUTED_VALUE\"\"\"),\"https://www.iana.org/assignments/media-types/application/mbms-register+xml\")","v":"https://www.iana.org/assignments/media-types/application/mbms-register+xml"},{"$f":"IFERROR(__xludf.DUMMYFUNCTION(\"\"\"COMPUTED_VALUE\"\"\"),\"mbms-register+xml\")","v":"mbms-register+xml"},{"$f":"IFERROR(__xludf.DUMMYFUNCTION(\"\"\"COMPUTED_VALUE\"\"\"),\"mbms-register+xml\")","v":"mbms-register+xml"},{"$f":"IFERROR(__xludf.DUMMYFUNCTION(\"\"\"COMPUTED_VALUE\"\"\"),\"application/mbms-register+xml\")","v":"application/mbms-register+xml"},{"$f":"IFERROR(__xludf.DUMMYFUNCTION(\"\"\"COMPUTED_VALUE\"\"\"),\"en\")","v":"en"}]
[{"$f":"IFERROR(__xludf.DUMMYFUNCTION(\"\"\"COMPUTED_VALUE\"\"\"),\"https://www.iana.org/assignments/media-types/application/mbms-schedule+xml\")","v":"https://www.iana.org/assignments/media-types/application/mbms-schedule+xml"},{"$f":"IFERROR(__xludf.DUMMYFUNCTION(\"\"\"COMPUTED_VALUE\"\"\"),\"mbms-schedule+xml\")","v":"mbms-schedule+xml"},{"$f":"IFERROR(__xludf.DUMMYFUNCTION(\"\"\"COMPUTED_VALUE\"\"\"),\"mbms-schedule+xml\")","v":"mbms-schedule+xml"},{"$f":"IFERROR(__xludf.DUMMYFUNCTION(\"\"\"COMPUTED_VALUE\"\"\"),\"application/mbms-schedule+xml\")","v":"application/mbms-schedule+xml"},{"$f":"IFERROR(__xludf.DUMMYFUNCTION(\"\"\"COMPUTED_VALUE\"\"\"),\"en\")","v":"en"}]
[{"$f":"IFERROR(__xludf.DUMMYFUNCTION(\"\"\"COMPUTED_VALUE\"\"\"),\"https://www.iana.org/assignments/media-types/application/mbms-user-service-description+xml\")","v":"https://www.iana.org/assignments/media-types/application/mbms-user-service-description+xml"},{"$f":"IFERROR(__xludf.DUMMYFUNCTION(\"\"\"COMPUTED_VALUE\"\"\"),\"mbms-user-service-description+xml\")","v":"mbms-user-service-description+xml"},{"$f":"IFERROR(__xludf.DUMMYFUNCTION(\"\"\"COMPUTED_VALUE\"\"\"),\"mbms-user-service-description+xml\")","v":"mbms-user-service-description+xml"},{"$f":"IFERROR(__xludf.DUMMYFUNCTION(\"\"\"COMPUTED_VALUE\"\"\"),\"application/mbms-user-service-description+xml\")","v":"application/mbms-user-service-description+xml"},{"$f":"IFERROR(__xludf.DUMMYFUNCTION(\"\"\"COMPUTED_VALUE\"\"\"),\"en\")","v":"en"}]
[{"$f":"IFERROR(__xludf.DUMMYFUNCTION(\"\"\"COMPUTED_VALUE\"\"\"),\"https://www.iana.org/assignments/media-types/application/mbox\")","v":"https://www.iana.org/assignments/media-types/application/mbox"},{"$f":"IFERROR(__xludf.DUMMYFUNCTION(\"\"\"COMPUTED_VALUE\"\"\"),\"mbox\")","v":"mbox"},{"$f":"IFERROR(__xludf.DUMMYFUNCTION(\"\"\"COMPUTED_VALUE\"\"\"),\"mbox\")","v":"mbox"},{"$f":"IFERROR(__xludf.DUMMYFUNCTION(\"\"\"COMPUTED_VALUE\"\"\"),\"application/mbox\")","v":"application/mbox"},{"$f":"IFERROR(__xludf.DUMMYFUNCTION(\"\"\"COMPUTED_VALUE\"\"\"),\"en\")","v":"en"}]
[{"$f":"IFERROR(__xludf.DUMMYFUNCTION(\"\"\"COMPUTED_VALUE\"\"\"),\"https://www.iana.org/assignments/media-types/application/media_control+xml\")","v":"https://www.iana.org/assignments/media-types/application/media_control+xml"},{"$f":"IFERROR(__xludf.DUMMYFUNCTION(\"\"\"COMPUTED_VALUE\"\"\"),\"media_control+xml\")","v":"media_control+xml"},{"$f":"IFERROR(__xludf.DUMMYFUNCTION(\"\"\"COMPUTED_VALUE\"\"\"),\"media_control+xml\")","v":"media_control+xml"},{"$f":"IFERROR(__xludf.DUMMYFUNCTION(\"\"\"COMPUTED_VALUE\"\"\"),\"application/media_control+xml\")","v":"application/media_control+xml"},{"$f":"IFERROR(__xludf.DUMMYFUNCTION(\"\"\"COMPUTED_VALUE\"\"\"),\"en\")","v":"en"}]
[{"$f":"IFERROR(__xludf.DUMMYFUNCTION(\"\"\"COMPUTED_VALUE\"\"\"),\"https://www.iana.org/assignments/media-types/application/media-policy-dataset+xml\")","v":"https://www.iana.org/assignments/media-types/application/media-policy-dataset+xml"},{"$f":"IFERROR(__xludf.DUMMYFUNCTION(\"\"\"COMPUTED_VALUE\"\"\"),\"media-policy-dataset+xml\")","v":"media-policy-dataset+xml"},{"$f":"IFERROR(__xludf.DUMMYFUNCTION(\"\"\"COMPUTED_VALUE\"\"\"),\"media-policy-dataset+xml\")","v":"media-policy-dataset+xml"},{"$f":"IFERROR(__xludf.DUMMYFUNCTION(\"\"\"COMPUTED_VALUE\"\"\"),\"application/media-policy-dataset+xml\")","v":"application/media-policy-dataset+xml"},{"$f":"IFERROR(__xludf.DUMMYFUNCTION(\"\"\"COMPUTED_VALUE\"\"\"),\"en\")","v":"en"}]
[{"$f":"IFERROR(__xludf.DUMMYFUNCTION(\"\"\"COMPUTED_VALUE\"\"\"),\"https://www.iana.org/assignments/media-types/application/mediaservercontrol+xml\")","v":"https://www.iana.org/assignments/media-types/application/mediaservercontrol+xml"},{"$f":"IFERROR(__xludf.DUMMYFUNCTION(\"\"\"COMPUTED_VALUE\"\"\"),\"mediaservercontrol+xml\")","v":"mediaservercontrol+xml"},{"$f":"IFERROR(__xludf.DUMMYFUNCTION(\"\"\"COMPUTED_VALUE\"\"\"),\"mediaservercontrol+xml\")","v":"mediaservercontrol+xml"},{"$f":"IFERROR(__xludf.DUMMYFUNCTION(\"\"\"COMPUTED_VALUE\"\"\"),\"application/mediaservercontrol+xml\")","v":"application/mediaservercontrol+xml"},{"$f":"IFERROR(__xludf.DUMMYFUNCTION(\"\"\"COMPUTED_VALUE\"\"\"),\"en\")","v":"en"}]
[{"$f":"IFERROR(__xludf.DUMMYFUNCTION(\"\"\"COMPUTED_VALUE\"\"\"),\"https://www.iana.org/assignments/media-types/application/merge-patch+json\")","v":"https://www.iana.org/assignments/media-types/application/merge-patch+json"},{"$f":"IFERROR(__xludf.DUMMYFUNCTION(\"\"\"COMPUTED_VALUE\"\"\"),\"merge-patch+json\")","v":"merge-patch+json"},{"$f":"IFERROR(__xludf.DUMMYFUNCTION(\"\"\"COMPUTED_VALUE\"\"\"),\"merge-patch+json\")","v":"merge-patch+json"},{"$f":"IFERROR(__xludf.DUMMYFUNCTION(\"\"\"COMPUTED_VALUE\"\"\"),\"application/merge-patch+json\")","v":"application/merge-patch+json"},{"$f":"IFERROR(__xludf.DUMMYFUNCTION(\"\"\"COMPUTED_VALUE\"\"\"),\"en\")","v":"en"}]
[{"$f":"IFERROR(__xludf.DUMMYFUNCTION(\"\"\"COMPUTED_VALUE\"\"\"),\"https://www.iana.org/assignments/media-types/application/metalink4+xml\")","v":"https://www.iana.org/assignments/media-types/application/metalink4+xml"},{"$f":"IFERROR(__xludf.DUMMYFUNCTION(\"\"\"COMPUTED_VALUE\"\"\"),\"metalink4+xml\")","v":"metalink4+xml"},{"$f":"IFERROR(__xludf.DUMMYFUNCTION(\"\"\"COMPUTED_VALUE\"\"\"),\"metalink4+xml\")","v":"metalink4+xml"},{"$f":"IFERROR(__xludf.DUMMYFUNCTION(\"\"\"COMPUTED_VALUE\"\"\"),\"application/metalink4+xml\")","v":"application/metalink4+xml"},{"$f":"IFERROR(__xludf.DUMMYFUNCTION(\"\"\"COMPUTED_VALUE\"\"\"),\"en\")","v":"en"}]
[{"$f":"IFERROR(__xludf.DUMMYFUNCTION(\"\"\"COMPUTED_VALUE\"\"\"),\"https://www.iana.org/assignments/media-types/application/mets+xml\")","v":"https://www.iana.org/assignments/media-types/application/mets+xml"},{"$f":"IFERROR(__xludf.DUMMYFUNCTION(\"\"\"COMPUTED_VALUE\"\"\"),\"mets+xml\")","v":"mets+xml"},{"$f":"IFERROR(__xludf.DUMMYFUNCTION(\"\"\"COMPUTED_VALUE\"\"\"),\"mets+xml\")","v":"mets+xml"},{"$f":"IFERROR(__xludf.DUMMYFUNCTION(\"\"\"COMPUTED_VALUE\"\"\"),\"application/mets+xml\")","v":"application/mets+xml"},{"$f":"IFERROR(__xludf.DUMMYFUNCTION(\"\"\"COMPUTED_VALUE\"\"\"),\"en\")","v":"en"}]
[{"$f":"IFERROR(__xludf.DUMMYFUNCTION(\"\"\"COMPUTED_VALUE\"\"\"),\"https://www.iana.org/assignments/media-types/application/MF4\")","v":"https://www.iana.org/assignments/media-types/application/MF4"},{"$f":"IFERROR(__xludf.DUMMYFUNCTION(\"\"\"COMPUTED_VALUE\"\"\"),\"MF4\")","v":"MF4"},{"$f":"IFERROR(__xludf.DUMMYFUNCTION(\"\"\"COMPUTED_VALUE\"\"\"),\"MF4\")","v":"MF4"},{"$f":"IFERROR(__xludf.DUMMYFUNCTION(\"\"\"COMPUTED_VALUE\"\"\"),\"application/MF4\")","v":"application/MF4"},{"$f":"IFERROR(__xludf.DUMMYFUNCTION(\"\"\"COMPUTED_VALUE\"\"\"),\"en\")","v":"en"}]
[{"$f":"IFERROR(__xludf.DUMMYFUNCTION(\"\"\"COMPUTED_VALUE\"\"\"),\"https://www.iana.org/assignments/media-types/application/mikey\")","v":"https://www.iana.org/assignments/media-types/application/mikey"},{"$f":"IFERROR(__xludf.DUMMYFUNCTION(\"\"\"COMPUTED_VALUE\"\"\"),\"mikey\")","v":"mikey"},{"$f":"IFERROR(__xludf.DUMMYFUNCTION(\"\"\"COMPUTED_VALUE\"\"\"),\"mikey\")","v":"mikey"},{"$f":"IFERROR(__xludf.DUMMYFUNCTION(\"\"\"COMPUTED_VALUE\"\"\"),\"application/mikey\")","v":"application/mikey"},{"$f":"IFERROR(__xludf.DUMMYFUNCTION(\"\"\"COMPUTED_VALUE\"\"\"),\"en\")","v":"en"}]
[{"$f":"IFERROR(__xludf.DUMMYFUNCTION(\"\"\"COMPUTED_VALUE\"\"\"),\"https://www.iana.org/assignments/media-types/application/mipc\")","v":"https://www.iana.org/assignments/media-types/application/mipc"},{"$f":"IFERROR(__xludf.DUMMYFUNCTION(\"\"\"COMPUTED_VALUE\"\"\"),\"mipc\")","v":"mipc"},{"$f":"IFERROR(__xludf.DUMMYFUNCTION(\"\"\"COMPUTED_VALUE\"\"\"),\"mipc\")","v":"mipc"},{"$f":"IFERROR(__xludf.DUMMYFUNCTION(\"\"\"COMPUTED_VALUE\"\"\"),\"application/mipc\")","v":"application/mipc"},{"$f":"IFERROR(__xludf.DUMMYFUNCTION(\"\"\"COMPUTED_VALUE\"\"\"),\"en\")","v":"en"}]
[{"$f":"IFERROR(__xludf.DUMMYFUNCTION(\"\"\"COMPUTED_VALUE\"\"\"),\"https://www.iana.org/assignments/media-types/application/missing-blocks+cbor-seq\")","v":"https://www.iana.org/assignments/media-types/application/missing-blocks+cbor-seq"},{"$f":"IFERROR(__xludf.DUMMYFUNCTION(\"\"\"COMPUTED_VALUE\"\"\"),\"missing-blocks+cbor-seq\")","v":"missing-blocks+cbor-seq"},{"$f":"IFERROR(__xludf.DUMMYFUNCTION(\"\"\"COMPUTED_VALUE\"\"\"),\"missing-blocks+cbor-seq\")","v":"missing-blocks+cbor-seq"},{"$f":"IFERROR(__xludf.DUMMYFUNCTION(\"\"\"COMPUTED_VALUE\"\"\"),\"application/missing-blocks+cbor-seq\")","v":"application/missing-blocks+cbor-seq"},{"$f":"IFERROR(__xludf.DUMMYFUNCTION(\"\"\"COMPUTED_VALUE\"\"\"),\"en\")","v":"en"}]
[{"$f":"IFERROR(__xludf.DUMMYFUNCTION(\"\"\"COMPUTED_VALUE\"\"\"),\"https://www.iana.org/assignments/media-types/application/mmt-aei+xml\")","v":"https://www.iana.org/assignments/media-types/application/mmt-aei+xml"},{"$f":"IFERROR(__xludf.DUMMYFUNCTION(\"\"\"COMPUTED_VALUE\"\"\"),\"mmt-aei+xml\")","v":"mmt-aei+xml"},{"$f":"IFERROR(__xludf.DUMMYFUNCTION(\"\"\"COMPUTED_VALUE\"\"\"),\"mmt-aei+xml\")","v":"mmt-aei+xml"},{"$f":"IFERROR(__xludf.DUMMYFUNCTION(\"\"\"COMPUTED_VALUE\"\"\"),\"application/mmt-aei+xml\")","v":"application/mmt-aei+xml"},{"$f":"IFERROR(__xludf.DUMMYFUNCTION(\"\"\"COMPUTED_VALUE\"\"\"),\"en\")","v":"en"}]
[{"$f":"IFERROR(__xludf.DUMMYFUNCTION(\"\"\"COMPUTED_VALUE\"\"\"),\"https://www.iana.org/assignments/media-types/application/mmt-usd+xml\")","v":"https://www.iana.org/assignments/media-types/application/mmt-usd+xml"},{"$f":"IFERROR(__xludf.DUMMYFUNCTION(\"\"\"COMPUTED_VALUE\"\"\"),\"mmt-usd+xml\")","v":"mmt-usd+xml"},{"$f":"IFERROR(__xludf.DUMMYFUNCTION(\"\"\"COMPUTED_VALUE\"\"\"),\"mmt-usd+xml\")","v":"mmt-usd+xml"},{"$f":"IFERROR(__xludf.DUMMYFUNCTION(\"\"\"COMPUTED_VALUE\"\"\"),\"application/mmt-usd+xml\")","v":"application/mmt-usd+xml"},{"$f":"IFERROR(__xludf.DUMMYFUNCTION(\"\"\"COMPUTED_VALUE\"\"\"),\"en\")","v":"en"}]
[{"$f":"IFERROR(__xludf.DUMMYFUNCTION(\"\"\"COMPUTED_VALUE\"\"\"),\"https://www.iana.org/assignments/media-types/application/mods+xml\")","v":"https://www.iana.org/assignments/media-types/application/mods+xml"},{"$f":"IFERROR(__xludf.DUMMYFUNCTION(\"\"\"COMPUTED_VALUE\"\"\"),\"mods+xml\")","v":"mods+xml"},{"$f":"IFERROR(__xludf.DUMMYFUNCTION(\"\"\"COMPUTED_VALUE\"\"\"),\"mods+xml\")","v":"mods+xml"},{"$f":"IFERROR(__xludf.DUMMYFUNCTION(\"\"\"COMPUTED_VALUE\"\"\"),\"application/mods+xml\")","v":"application/mods+xml"},{"$f":"IFERROR(__xludf.DUMMYFUNCTION(\"\"\"COMPUTED_VALUE\"\"\"),\"en\")","v":"en"}]
[{"$f":"IFERROR(__xludf.DUMMYFUNCTION(\"\"\"COMPUTED_VALUE\"\"\"),\"https://www.iana.org/assignments/media-types/application/moss-keys\")","v":"https://www.iana.org/assignments/media-types/application/moss-keys"},{"$f":"IFERROR(__xludf.DUMMYFUNCTION(\"\"\"COMPUTED_VALUE\"\"\"),\"moss-keys\")","v":"moss-keys"},{"$f":"IFERROR(__xludf.DUMMYFUNCTION(\"\"\"COMPUTED_VALUE\"\"\"),\"moss-keys\")","v":"moss-keys"},{"$f":"IFERROR(__xludf.DUMMYFUNCTION(\"\"\"COMPUTED_VALUE\"\"\"),\"application/moss-keys\")","v":"application/moss-keys"},{"$f":"IFERROR(__xludf.DUMMYFUNCTION(\"\"\"COMPUTED_VALUE\"\"\"),\"en\")","v":"en"}]
[{"$f":"IFERROR(__xludf.DUMMYFUNCTION(\"\"\"COMPUTED_VALUE\"\"\"),\"https://www.iana.org/assignments/media-types/application/moss-signature\")","v":"https://www.iana.org/assignments/media-types/application/moss-signature"},{"$f":"IFERROR(__xludf.DUMMYFUNCTION(\"\"\"COMPUTED_VALUE\"\"\"),\"moss-signature\")","v":"moss-signature"},{"$f":"IFERROR(__xludf.DUMMYFUNCTION(\"\"\"COMPUTED_VALUE\"\"\"),\"moss-signature\")","v":"moss-signature"},{"$f":"IFERROR(__xludf.DUMMYFUNCTION(\"\"\"COMPUTED_VALUE\"\"\"),\"application/moss-signature\")","v":"application/moss-signature"},{"$f":"IFERROR(__xludf.DUMMYFUNCTION(\"\"\"COMPUTED_VALUE\"\"\"),\"en\")","v":"en"}]
[{"$f":"IFERROR(__xludf.DUMMYFUNCTION(\"\"\"COMPUTED_VALUE\"\"\"),\"https://www.iana.org/assignments/media-types/application/mosskey-data\")","v":"https://www.iana.org/assignments/media-types/application/mosskey-data"},{"$f":"IFERROR(__xludf.DUMMYFUNCTION(\"\"\"COMPUTED_VALUE\"\"\"),\"mosskey-data\")","v":"mosskey-data"},{"$f":"IFERROR(__xludf.DUMMYFUNCTION(\"\"\"COMPUTED_VALUE\"\"\"),\"mosskey-data\")","v":"mosskey-data"},{"$f":"IFERROR(__xludf.DUMMYFUNCTION(\"\"\"COMPUTED_VALUE\"\"\"),\"application/mosskey-data\")","v":"application/mosskey-data"},{"$f":"IFERROR(__xludf.DUMMYFUNCTION(\"\"\"COMPUTED_VALUE\"\"\"),\"en\")","v":"en"}]
[{"$f":"IFERROR(__xludf.DUMMYFUNCTION(\"\"\"COMPUTED_VALUE\"\"\"),\"https://www.iana.org/assignments/media-types/application/mosskey-request\")","v":"https://www.iana.org/assignments/media-types/application/mosskey-request"},{"$f":"IFERROR(__xludf.DUMMYFUNCTION(\"\"\"COMPUTED_VALUE\"\"\"),\"mosskey-request\")","v":"mosskey-request"},{"$f":"IFERROR(__xludf.DUMMYFUNCTION(\"\"\"COMPUTED_VALUE\"\"\"),\"mosskey-request\")","v":"mosskey-request"},{"$f":"IFERROR(__xludf.DUMMYFUNCTION(\"\"\"COMPUTED_VALUE\"\"\"),\"application/mosskey-request\")","v":"application/mosskey-request"},{"$f":"IFERROR(__xludf.DUMMYFUNCTION(\"\"\"COMPUTED_VALUE\"\"\"),\"en\")","v":"en"}]
[{"$f":"IFERROR(__xludf.DUMMYFUNCTION(\"\"\"COMPUTED_VALUE\"\"\"),\"https://www.iana.org/assignments/media-types/application/mp21\")","v":"https://www.iana.org/assignments/media-types/application/mp21"},{"$f":"IFERROR(__xludf.DUMMYFUNCTION(\"\"\"COMPUTED_VALUE\"\"\"),\"mp21\")","v":"mp21"},{"$f":"IFERROR(__xludf.DUMMYFUNCTION(\"\"\"COMPUTED_VALUE\"\"\"),\"mp21\")","v":"mp21"},{"$f":"IFERROR(__xludf.DUMMYFUNCTION(\"\"\"COMPUTED_VALUE\"\"\"),\"application/mp21\")","v":"application/mp21"},{"$f":"IFERROR(__xludf.DUMMYFUNCTION(\"\"\"COMPUTED_VALUE\"\"\"),\"en\")","v":"en"}]
[{"$f":"IFERROR(__xludf.DUMMYFUNCTION(\"\"\"COMPUTED_VALUE\"\"\"),\"https://www.iana.org/assignments/media-types/application/mp4\")","v":"https://www.iana.org/assignments/media-types/application/mp4"},{"$f":"IFERROR(__xludf.DUMMYFUNCTION(\"\"\"COMPUTED_VALUE\"\"\"),\"mp4\")","v":"mp4"},{"$f":"IFERROR(__xludf.DUMMYFUNCTION(\"\"\"COMPUTED_VALUE\"\"\"),\"mp4\")","v":"mp4"},{"$f":"IFERROR(__xludf.DUMMYFUNCTION(\"\"\"COMPUTED_VALUE\"\"\"),\"application/mp4\")","v":"application/mp4"},{"$f":"IFERROR(__xludf.DUMMYFUNCTION(\"\"\"COMPUTED_VALUE\"\"\"),\"en\")","v":"en"}]
[{"$f":"IFERROR(__xludf.DUMMYFUNCTION(\"\"\"COMPUTED_VALUE\"\"\"),\"https://www.iana.org/assignments/media-types/application/mpeg4-generic\")","v":"https://www.iana.org/assignments/media-types/application/mpeg4-generic"},{"$f":"IFERROR(__xludf.DUMMYFUNCTION(\"\"\"COMPUTED_VALUE\"\"\"),\"mpeg4-generic\")","v":"mpeg4-generic"},{"$f":"IFERROR(__xludf.DUMMYFUNCTION(\"\"\"COMPUTED_VALUE\"\"\"),\"mpeg4-generic\")","v":"mpeg4-generic"},{"$f":"IFERROR(__xludf.DUMMYFUNCTION(\"\"\"COMPUTED_VALUE\"\"\"),\"application/mpeg4-generic\")","v":"application/mpeg4-generic"},{"$f":"IFERROR(__xludf.DUMMYFUNCTION(\"\"\"COMPUTED_VALUE\"\"\"),\"en\")","v":"en"}]
[{"$f":"IFERROR(__xludf.DUMMYFUNCTION(\"\"\"COMPUTED_VALUE\"\"\"),\"https://www.iana.org/assignments/media-types/application/mpeg4-iod\")","v":"https://www.iana.org/assignments/media-types/application/mpeg4-iod"},{"$f":"IFERROR(__xludf.DUMMYFUNCTION(\"\"\"COMPUTED_VALUE\"\"\"),\"mpeg4-iod\")","v":"mpeg4-iod"},{"$f":"IFERROR(__xludf.DUMMYFUNCTION(\"\"\"COMPUTED_VALUE\"\"\"),\"mpeg4-iod\")","v":"mpeg4-iod"},{"$f":"IFERROR(__xludf.DUMMYFUNCTION(\"\"\"COMPUTED_VALUE\"\"\"),\"application/mpeg4-iod\")","v":"application/mpeg4-iod"},{"$f":"IFERROR(__xludf.DUMMYFUNCTION(\"\"\"COMPUTED_VALUE\"\"\"),\"en\")","v":"en"}]
[{"$f":"IFERROR(__xludf.DUMMYFUNCTION(\"\"\"COMPUTED_VALUE\"\"\"),\"https://www.iana.org/assignments/media-types/application/mpeg4-iod-xmt\")","v":"https://www.iana.org/assignments/media-types/application/mpeg4-iod-xmt"},{"$f":"IFERROR(__xludf.DUMMYFUNCTION(\"\"\"COMPUTED_VALUE\"\"\"),\"mpeg4-iod-xmt\")","v":"mpeg4-iod-xmt"},{"$f":"IFERROR(__xludf.DUMMYFUNCTION(\"\"\"COMPUTED_VALUE\"\"\"),\"mpeg4-iod-xmt\")","v":"mpeg4-iod-xmt"},{"$f":"IFERROR(__xludf.DUMMYFUNCTION(\"\"\"COMPUTED_VALUE\"\"\"),\"application/mpeg4-iod-xmt\")","v":"application/mpeg4-iod-xmt"},{"$f":"IFERROR(__xludf.DUMMYFUNCTION(\"\"\"COMPUTED_VALUE\"\"\"),\"en\")","v":"en"}]
[{"$f":"IFERROR(__xludf.DUMMYFUNCTION(\"\"\"COMPUTED_VALUE\"\"\"),\"https://www.iana.org/assignments/media-types/application/mrb-consumer+xml\")","v":"https://www.iana.org/assignments/media-types/application/mrb-consumer+xml"},{"$f":"IFERROR(__xludf.DUMMYFUNCTION(\"\"\"COMPUTED_VALUE\"\"\"),\"mrb-consumer+xml\")","v":"mrb-consumer+xml"},{"$f":"IFERROR(__xludf.DUMMYFUNCTION(\"\"\"COMPUTED_VALUE\"\"\"),\"mrb-consumer+xml\")","v":"mrb-consumer+xml"},{"$f":"IFERROR(__xludf.DUMMYFUNCTION(\"\"\"COMPUTED_VALUE\"\"\"),\"application/mrb-consumer+xml\")","v":"application/mrb-consumer+xml"},{"$f":"IFERROR(__xludf.DUMMYFUNCTION(\"\"\"COMPUTED_VALUE\"\"\"),\"en\")","v":"en"}]
[{"$f":"IFERROR(__xludf.DUMMYFUNCTION(\"\"\"COMPUTED_VALUE\"\"\"),\"https://www.iana.org/assignments/media-types/application/mrb-publish+xml\")","v":"https://www.iana.org/assignments/media-types/application/mrb-publish+xml"},{"$f":"IFERROR(__xludf.DUMMYFUNCTION(\"\"\"COMPUTED_VALUE\"\"\"),\"mrb-publish+xml\")","v":"mrb-publish+xml"},{"$f":"IFERROR(__xludf.DUMMYFUNCTION(\"\"\"COMPUTED_VALUE\"\"\"),\"mrb-publish+xml\")","v":"mrb-publish+xml"},{"$f":"IFERROR(__xludf.DUMMYFUNCTION(\"\"\"COMPUTED_VALUE\"\"\"),\"application/mrb-publish+xml\")","v":"application/mrb-publish+xml"},{"$f":"IFERROR(__xludf.DUMMYFUNCTION(\"\"\"COMPUTED_VALUE\"\"\"),\"en\")","v":"en"}]
[{"$f":"IFERROR(__xludf.DUMMYFUNCTION(\"\"\"COMPUTED_VALUE\"\"\"),\"https://www.iana.org/assignments/media-types/application/msc-ivr+xml\")","v":"https://www.iana.org/assignments/media-types/application/msc-ivr+xml"},{"$f":"IFERROR(__xludf.DUMMYFUNCTION(\"\"\"COMPUTED_VALUE\"\"\"),\"msc-ivr+xml\")","v":"msc-ivr+xml"},{"$f":"IFERROR(__xludf.DUMMYFUNCTION(\"\"\"COMPUTED_VALUE\"\"\"),\"msc-ivr+xml\")","v":"msc-ivr+xml"},{"$f":"IFERROR(__xludf.DUMMYFUNCTION(\"\"\"COMPUTED_VALUE\"\"\"),\"application/msc-ivr+xml\")","v":"application/msc-ivr+xml"},{"$f":"IFERROR(__xludf.DUMMYFUNCTION(\"\"\"COMPUTED_VALUE\"\"\"),\"en\")","v":"en"}]
[{"$f":"IFERROR(__xludf.DUMMYFUNCTION(\"\"\"COMPUTED_VALUE\"\"\"),\"https://www.iana.org/assignments/media-types/application/msc-mixer+xml\")","v":"https://www.iana.org/assignments/media-types/application/msc-mixer+xml"},{"$f":"IFERROR(__xludf.DUMMYFUNCTION(\"\"\"COMPUTED_VALUE\"\"\"),\"msc-mixer+xml\")","v":"msc-mixer+xml"},{"$f":"IFERROR(__xludf.DUMMYFUNCTION(\"\"\"COMPUTED_VALUE\"\"\"),\"msc-mixer+xml\")","v":"msc-mixer+xml"},{"$f":"IFERROR(__xludf.DUMMYFUNCTION(\"\"\"COMPUTED_VALUE\"\"\"),\"application/msc-mixer+xml\")","v":"application/msc-mixer+xml"},{"$f":"IFERROR(__xludf.DUMMYFUNCTION(\"\"\"COMPUTED_VALUE\"\"\"),\"en\")","v":"en"}]
[{"$f":"IFERROR(__xludf.DUMMYFUNCTION(\"\"\"COMPUTED_VALUE\"\"\"),\"https://www.iana.org/assignments/media-types/application/msword\")","v":"https://www.iana.org/assignments/media-types/application/msword"},{"$f":"IFERROR(__xludf.DUMMYFUNCTION(\"\"\"COMPUTED_VALUE\"\"\"),\"msword\")","v":"msword"},{"$f":"IFERROR(__xludf.DUMMYFUNCTION(\"\"\"COMPUTED_VALUE\"\"\"),\"msword\")","v":"msword"},{"$f":"IFERROR(__xludf.DUMMYFUNCTION(\"\"\"COMPUTED_VALUE\"\"\"),\"application/msword\")","v":"application/msword"},{"$f":"IFERROR(__xludf.DUMMYFUNCTION(\"\"\"COMPUTED_VALUE\"\"\"),\"en\")","v":"en"}]
[{"$f":"IFERROR(__xludf.DUMMYFUNCTION(\"\"\"COMPUTED_VALUE\"\"\"),\"https://www.iana.org/assignments/media-types/application/mud+json\")","v":"https://www.iana.org/assignments/media-types/application/mud+json"},{"$f":"IFERROR(__xludf.DUMMYFUNCTION(\"\"\"COMPUTED_VALUE\"\"\"),\"mud+json\")","v":"mud+json"},{"$f":"IFERROR(__xludf.DUMMYFUNCTION(\"\"\"COMPUTED_VALUE\"\"\"),\"mud+json\")","v":"mud+json"},{"$f":"IFERROR(__xludf.DUMMYFUNCTION(\"\"\"COMPUTED_VALUE\"\"\"),\"application/mud+json\")","v":"application/mud+json"},{"$f":"IFERROR(__xludf.DUMMYFUNCTION(\"\"\"COMPUTED_VALUE\"\"\"),\"en\")","v":"en"}]
[{"$f":"IFERROR(__xludf.DUMMYFUNCTION(\"\"\"COMPUTED_VALUE\"\"\"),\"https://www.iana.org/assignments/media-types/application/multipart-core\")","v":"https://www.iana.org/assignments/media-types/application/multipart-core"},{"$f":"IFERROR(__xludf.DUMMYFUNCTION(\"\"\"COMPUTED_VALUE\"\"\"),\"multipart-core\")","v":"multipart-core"},{"$f":"IFERROR(__xludf.DUMMYFUNCTION(\"\"\"COMPUTED_VALUE\"\"\"),\"multipart-core\")","v":"multipart-core"},{"$f":"IFERROR(__xludf.DUMMYFUNCTION(\"\"\"COMPUTED_VALUE\"\"\"),\"application/multipart-core\")","v":"application/multipart-core"},{"$f":"IFERROR(__xludf.DUMMYFUNCTION(\"\"\"COMPUTED_VALUE\"\"\"),\"en\")","v":"en"}]
[{"$f":"IFERROR(__xludf.DUMMYFUNCTION(\"\"\"COMPUTED_VALUE\"\"\"),\"https://www.iana.org/assignments/media-types/application/mxf\")","v":"https://www.iana.org/assignments/media-types/application/mxf"},{"$f":"IFERROR(__xludf.DUMMYFUNCTION(\"\"\"COMPUTED_VALUE\"\"\"),\"mxf\")","v":"mxf"},{"$f":"IFERROR(__xludf.DUMMYFUNCTION(\"\"\"COMPUTED_VALUE\"\"\"),\"mxf\")","v":"mxf"},{"$f":"IFERROR(__xludf.DUMMYFUNCTION(\"\"\"COMPUTED_VALUE\"\"\"),\"application/mxf\")","v":"application/mxf"},{"$f":"IFERROR(__xludf.DUMMYFUNCTION(\"\"\"COMPUTED_VALUE\"\"\"),\"en\")","v":"en"}]
[{"$f":"IFERROR(__xludf.DUMMYFUNCTION(\"\"\"COMPUTED_VALUE\"\"\"),\"https://www.iana.org/assignments/media-types/application/n-quads\")","v":"https://www.iana.org/assignments/media-types/application/n-quads"},{"$f":"IFERROR(__xludf.DUMMYFUNCTION(\"\"\"COMPUTED_VALUE\"\"\"),\"n-quads\")","v":"n-quads"},{"$f":"IFERROR(__xludf.DUMMYFUNCTION(\"\"\"COMPUTED_VALUE\"\"\"),\"n-quads\")","v":"n-quads"},{"$f":"IFERROR(__xludf.DUMMYFUNCTION(\"\"\"COMPUTED_VALUE\"\"\"),\"application/n-quads\")","v":"application/n-quads"},{"$f":"IFERROR(__xludf.DUMMYFUNCTION(\"\"\"COMPUTED_VALUE\"\"\"),\"en\")","v":"en"}]
[{"$f":"IFERROR(__xludf.DUMMYFUNCTION(\"\"\"COMPUTED_VALUE\"\"\"),\"https://www.iana.org/assignments/media-types/application/n-triples\")","v":"https://www.iana.org/assignments/media-types/application/n-triples"},{"$f":"IFERROR(__xludf.DUMMYFUNCTION(\"\"\"COMPUTED_VALUE\"\"\"),\"n-triples\")","v":"n-triples"},{"$f":"IFERROR(__xludf.DUMMYFUNCTION(\"\"\"COMPUTED_VALUE\"\"\"),\"n-triples\")","v":"n-triples"},{"$f":"IFERROR(__xludf.DUMMYFUNCTION(\"\"\"COMPUTED_VALUE\"\"\"),\"application/n-triples\")","v":"application/n-triples"},{"$f":"IFERROR(__xludf.DUMMYFUNCTION(\"\"\"COMPUTED_VALUE\"\"\"),\"en\")","v":"en"}]
[{"$f":"IFERROR(__xludf.DUMMYFUNCTION(\"\"\"COMPUTED_VALUE\"\"\"),\"https://www.iana.org/assignments/media-types/application/nasdata\")","v":"https://www.iana.org/assignments/media-types/application/nasdata"},{"$f":"IFERROR(__xludf.DUMMYFUNCTION(\"\"\"COMPUTED_VALUE\"\"\"),\"nasdata\")","v":"nasdata"},{"$f":"IFERROR(__xludf.DUMMYFUNCTION(\"\"\"COMPUTED_VALUE\"\"\"),\"nasdata\")","v":"nasdata"},{"$f":"IFERROR(__xludf.DUMMYFUNCTION(\"\"\"COMPUTED_VALUE\"\"\"),\"application/nasdata\")","v":"application/nasdata"},{"$f":"IFERROR(__xludf.DUMMYFUNCTION(\"\"\"COMPUTED_VALUE\"\"\"),\"en\")","v":"en"}]
[{"$f":"IFERROR(__xludf.DUMMYFUNCTION(\"\"\"COMPUTED_VALUE\"\"\"),\"https://www.iana.org/assignments/media-types/application/news-checkgroups\")","v":"https://www.iana.org/assignments/media-types/application/news-checkgroups"},{"$f":"IFERROR(__xludf.DUMMYFUNCTION(\"\"\"COMPUTED_VALUE\"\"\"),\"news-checkgroups\")","v":"news-checkgroups"},{"$f":"IFERROR(__xludf.DUMMYFUNCTION(\"\"\"COMPUTED_VALUE\"\"\"),\"news-checkgroups\")","v":"news-checkgroups"},{"$f":"IFERROR(__xludf.DUMMYFUNCTION(\"\"\"COMPUTED_VALUE\"\"\"),\"application/news-checkgroups\")","v":"application/news-checkgroups"},{"$f":"IFERROR(__xludf.DUMMYFUNCTION(\"\"\"COMPUTED_VALUE\"\"\"),\"en\")","v":"en"}]
[{"$f":"IFERROR(__xludf.DUMMYFUNCTION(\"\"\"COMPUTED_VALUE\"\"\"),\"https://www.iana.org/assignments/media-types/application/news-groupinfo\")","v":"https://www.iana.org/assignments/media-types/application/news-groupinfo"},{"$f":"IFERROR(__xludf.DUMMYFUNCTION(\"\"\"COMPUTED_VALUE\"\"\"),\"news-groupinfo\")","v":"news-groupinfo"},{"$f":"IFERROR(__xludf.DUMMYFUNCTION(\"\"\"COMPUTED_VALUE\"\"\"),\"news-groupinfo\")","v":"news-groupinfo"},{"$f":"IFERROR(__xludf.DUMMYFUNCTION(\"\"\"COMPUTED_VALUE\"\"\"),\"application/news-groupinfo\")","v":"application/news-groupinfo"},{"$f":"IFERROR(__xludf.DUMMYFUNCTION(\"\"\"COMPUTED_VALUE\"\"\"),\"en\")","v":"en"}]
[{"$f":"IFERROR(__xludf.DUMMYFUNCTION(\"\"\"COMPUTED_VALUE\"\"\"),\"https://www.iana.org/assignments/media-types/application/news-transmission\")","v":"https://www.iana.org/assignments/media-types/application/news-transmission"},{"$f":"IFERROR(__xludf.DUMMYFUNCTION(\"\"\"COMPUTED_VALUE\"\"\"),\"news-transmission\")","v":"news-transmission"},{"$f":"IFERROR(__xludf.DUMMYFUNCTION(\"\"\"COMPUTED_VALUE\"\"\"),\"news-transmission\")","v":"news-transmission"},{"$f":"IFERROR(__xludf.DUMMYFUNCTION(\"\"\"COMPUTED_VALUE\"\"\"),\"application/news-transmission\")","v":"application/news-transmission"},{"$f":"IFERROR(__xludf.DUMMYFUNCTION(\"\"\"COMPUTED_VALUE\"\"\"),\"en\")","v":"en"}]
[{"$f":"IFERROR(__xludf.DUMMYFUNCTION(\"\"\"COMPUTED_VALUE\"\"\"),\"https://www.iana.org/assignments/media-types/application/nlsml+xml\")","v":"https://www.iana.org/assignments/media-types/application/nlsml+xml"},{"$f":"IFERROR(__xludf.DUMMYFUNCTION(\"\"\"COMPUTED_VALUE\"\"\"),\"nlsml+xml\")","v":"nlsml+xml"},{"$f":"IFERROR(__xludf.DUMMYFUNCTION(\"\"\"COMPUTED_VALUE\"\"\"),\"nlsml+xml\")","v":"nlsml+xml"},{"$f":"IFERROR(__xludf.DUMMYFUNCTION(\"\"\"COMPUTED_VALUE\"\"\"),\"application/nlsml+xml\")","v":"application/nlsml+xml"},{"$f":"IFERROR(__xludf.DUMMYFUNCTION(\"\"\"COMPUTED_VALUE\"\"\"),\"en\")","v":"en"}]
[{"$f":"IFERROR(__xludf.DUMMYFUNCTION(\"\"\"COMPUTED_VALUE\"\"\"),\"https://www.iana.org/assignments/media-types/application/node\")","v":"https://www.iana.org/assignments/media-types/application/node"},{"$f":"IFERROR(__xludf.DUMMYFUNCTION(\"\"\"COMPUTED_VALUE\"\"\"),\"node\")","v":"node"},{"$f":"IFERROR(__xludf.DUMMYFUNCTION(\"\"\"COMPUTED_VALUE\"\"\"),\"node\")","v":"node"},{"$f":"IFERROR(__xludf.DUMMYFUNCTION(\"\"\"COMPUTED_VALUE\"\"\"),\"application/node\")","v":"application/node"},{"$f":"IFERROR(__xludf.DUMMYFUNCTION(\"\"\"COMPUTED_VALUE\"\"\"),\"en\")","v":"en"}]
[{"$f":"IFERROR(__xludf.DUMMYFUNCTION(\"\"\"COMPUTED_VALUE\"\"\"),\"https://www.iana.org/assignments/media-types/application/nss\")","v":"https://www.iana.org/assignments/media-types/application/nss"},{"$f":"IFERROR(__xludf.DUMMYFUNCTION(\"\"\"COMPUTED_VALUE\"\"\"),\"nss\")","v":"nss"},{"$f":"IFERROR(__xludf.DUMMYFUNCTION(\"\"\"COMPUTED_VALUE\"\"\"),\"nss\")","v":"nss"},{"$f":"IFERROR(__xludf.DUMMYFUNCTION(\"\"\"COMPUTED_VALUE\"\"\"),\"application/nss\")","v":"application/nss"},{"$f":"IFERROR(__xludf.DUMMYFUNCTION(\"\"\"COMPUTED_VALUE\"\"\"),\"en\")","v":"en"}]
[{"$f":"IFERROR(__xludf.DUMMYFUNCTION(\"\"\"COMPUTED_VALUE\"\"\"),\"https://www.iana.org/assignments/media-types/application/oauth-authz-req+jwt\")","v":"https://www.iana.org/assignments/media-types/application/oauth-authz-req+jwt"},{"$f":"IFERROR(__xludf.DUMMYFUNCTION(\"\"\"COMPUTED_VALUE\"\"\"),\"oauth-authz-req+jwt\")","v":"oauth-authz-req+jwt"},{"$f":"IFERROR(__xludf.DUMMYFUNCTION(\"\"\"COMPUTED_VALUE\"\"\"),\"oauth-authz-req+jwt\")","v":"oauth-authz-req+jwt"},{"$f":"IFERROR(__xludf.DUMMYFUNCTION(\"\"\"COMPUTED_VALUE\"\"\"),\"application/oauth-authz-req+jwt\")","v":"application/oauth-authz-req+jwt"},{"$f":"IFERROR(__xludf.DUMMYFUNCTION(\"\"\"COMPUTED_VALUE\"\"\"),\"en\")","v":"en"}]
[{"$f":"IFERROR(__xludf.DUMMYFUNCTION(\"\"\"COMPUTED_VALUE\"\"\"),\"https://www.iana.org/assignments/media-types/application/oblivious-dns-message\")","v":"https://www.iana.org/assignments/media-types/application/oblivious-dns-message"},{"$f":"IFERROR(__xludf.DUMMYFUNCTION(\"\"\"COMPUTED_VALUE\"\"\"),\"oblivious-dns-message\")","v":"oblivious-dns-message"},{"$f":"IFERROR(__xludf.DUMMYFUNCTION(\"\"\"COMPUTED_VALUE\"\"\"),\"oblivious-dns-message\")","v":"oblivious-dns-message"},{"$f":"IFERROR(__xludf.DUMMYFUNCTION(\"\"\"COMPUTED_VALUE\"\"\"),\"application/oblivious-dns-message\")","v":"application/oblivious-dns-message"},{"$f":"IFERROR(__xludf.DUMMYFUNCTION(\"\"\"COMPUTED_VALUE\"\"\"),\"en\")","v":"en"}]
[{"$f":"IFERROR(__xludf.DUMMYFUNCTION(\"\"\"COMPUTED_VALUE\"\"\"),\"https://www.iana.org/assignments/media-types/application/ocsp-request\")","v":"https://www.iana.org/assignments/media-types/application/ocsp-request"},{"$f":"IFERROR(__xludf.DUMMYFUNCTION(\"\"\"COMPUTED_VALUE\"\"\"),\"ocsp-request\")","v":"ocsp-request"},{"$f":"IFERROR(__xludf.DUMMYFUNCTION(\"\"\"COMPUTED_VALUE\"\"\"),\"ocsp-request\")","v":"ocsp-request"},{"$f":"IFERROR(__xludf.DUMMYFUNCTION(\"\"\"COMPUTED_VALUE\"\"\"),\"application/ocsp-request\")","v":"application/ocsp-request"},{"$f":"IFERROR(__xludf.DUMMYFUNCTION(\"\"\"COMPUTED_VALUE\"\"\"),\"en\")","v":"en"}]
[{"$f":"IFERROR(__xludf.DUMMYFUNCTION(\"\"\"COMPUTED_VALUE\"\"\"),\"https://www.iana.org/assignments/media-types/application/ocsp-response\")","v":"https://www.iana.org/assignments/media-types/application/ocsp-response"},{"$f":"IFERROR(__xludf.DUMMYFUNCTION(\"\"\"COMPUTED_VALUE\"\"\"),\"ocsp-response\")","v":"ocsp-response"},{"$f":"IFERROR(__xludf.DUMMYFUNCTION(\"\"\"COMPUTED_VALUE\"\"\"),\"ocsp-response\")","v":"ocsp-response"},{"$f":"IFERROR(__xludf.DUMMYFUNCTION(\"\"\"COMPUTED_VALUE\"\"\"),\"application/ocsp-response\")","v":"application/ocsp-response"},{"$f":"IFERROR(__xludf.DUMMYFUNCTION(\"\"\"COMPUTED_VALUE\"\"\"),\"en\")","v":"en"}]
[{"$f":"IFERROR(__xludf.DUMMYFUNCTION(\"\"\"COMPUTED_VALUE\"\"\"),\"https://www.iana.org/assignments/media-types/application/octet-stream\")","v":"https://www.iana.org/assignments/media-types/application/octet-stream"},{"$f":"IFERROR(__xludf.DUMMYFUNCTION(\"\"\"COMPUTED_VALUE\"\"\"),\"octet-stream\")","v":"octet-stream"},{"$f":"IFERROR(__xludf.DUMMYFUNCTION(\"\"\"COMPUTED_VALUE\"\"\"),\"octet-stream\")","v":"octet-stream"},{"$f":"IFERROR(__xludf.DUMMYFUNCTION(\"\"\"COMPUTED_VALUE\"\"\"),\"application/octet-stream\")","v":"application/octet-stream"},{"$f":"IFERROR(__xludf.DUMMYFUNCTION(\"\"\"COMPUTED_VALUE\"\"\"),\"en\")","v":"en"}]
[{"$f":"IFERROR(__xludf.DUMMYFUNCTION(\"\"\"COMPUTED_VALUE\"\"\"),\"https://www.iana.org/assignments/media-types/application/ODA\")","v":"https://www.iana.org/assignments/media-types/application/ODA"},{"$f":"IFERROR(__xludf.DUMMYFUNCTION(\"\"\"COMPUTED_VALUE\"\"\"),\"ODA\")","v":"ODA"},{"$f":"IFERROR(__xludf.DUMMYFUNCTION(\"\"\"COMPUTED_VALUE\"\"\"),\"ODA\")","v":"ODA"},{"$f":"IFERROR(__xludf.DUMMYFUNCTION(\"\"\"COMPUTED_VALUE\"\"\"),\"application/ODA\")","v":"application/ODA"},{"$f":"IFERROR(__xludf.DUMMYFUNCTION(\"\"\"COMPUTED_VALUE\"\"\"),\"en\")","v":"en"}]
[{"$f":"IFERROR(__xludf.DUMMYFUNCTION(\"\"\"COMPUTED_VALUE\"\"\"),\"https://www.iana.org/assignments/media-types/application/odm+xml\")","v":"https://www.iana.org/assignments/media-types/application/odm+xml"},{"$f":"IFERROR(__xludf.DUMMYFUNCTION(\"\"\"COMPUTED_VALUE\"\"\"),\"odm+xml\")","v":"odm+xml"},{"$f":"IFERROR(__xludf.DUMMYFUNCTION(\"\"\"COMPUTED_VALUE\"\"\"),\"odm+xml\")","v":"odm+xml"},{"$f":"IFERROR(__xludf.DUMMYFUNCTION(\"\"\"COMPUTED_VALUE\"\"\"),\"application/odm+xml\")","v":"application/odm+xml"},{"$f":"IFERROR(__xludf.DUMMYFUNCTION(\"\"\"COMPUTED_VALUE\"\"\"),\"en\")","v":"en"}]
[{"$f":"IFERROR(__xludf.DUMMYFUNCTION(\"\"\"COMPUTED_VALUE\"\"\"),\"https://www.iana.org/assignments/media-types/application/ODX\")","v":"https://www.iana.org/assignments/media-types/application/ODX"},{"$f":"IFERROR(__xludf.DUMMYFUNCTION(\"\"\"COMPUTED_VALUE\"\"\"),\"ODX\")","v":"ODX"},{"$f":"IFERROR(__xludf.DUMMYFUNCTION(\"\"\"COMPUTED_VALUE\"\"\"),\"ODX\")","v":"ODX"},{"$f":"IFERROR(__xludf.DUMMYFUNCTION(\"\"\"COMPUTED_VALUE\"\"\"),\"application/ODX\")","v":"application/ODX"},{"$f":"IFERROR(__xludf.DUMMYFUNCTION(\"\"\"COMPUTED_VALUE\"\"\"),\"en\")","v":"en"}]
[{"$f":"IFERROR(__xludf.DUMMYFUNCTION(\"\"\"COMPUTED_VALUE\"\"\"),\"https://www.iana.org/assignments/media-types/application/oebps-package+xml\")","v":"https://www.iana.org/assignments/media-types/application/oebps-package+xml"},{"$f":"IFERROR(__xludf.DUMMYFUNCTION(\"\"\"COMPUTED_VALUE\"\"\"),\"oebps-package+xml\")","v":"oebps-package+xml"},{"$f":"IFERROR(__xludf.DUMMYFUNCTION(\"\"\"COMPUTED_VALUE\"\"\"),\"oebps-package+xml\")","v":"oebps-package+xml"},{"$f":"IFERROR(__xludf.DUMMYFUNCTION(\"\"\"COMPUTED_VALUE\"\"\"),\"application/oebps-package+xml\")","v":"application/oebps-package+xml"},{"$f":"IFERROR(__xludf.DUMMYFUNCTION(\"\"\"COMPUTED_VALUE\"\"\"),\"en\")","v":"en"}]
[{"$f":"IFERROR(__xludf.DUMMYFUNCTION(\"\"\"COMPUTED_VALUE\"\"\"),\"https://www.iana.org/assignments/media-types/application/ogg\")","v":"https://www.iana.org/assignments/media-types/application/ogg"},{"$f":"IFERROR(__xludf.DUMMYFUNCTION(\"\"\"COMPUTED_VALUE\"\"\"),\"ogg\")","v":"ogg"},{"$f":"IFERROR(__xludf.DUMMYFUNCTION(\"\"\"COMPUTED_VALUE\"\"\"),\"ogg\")","v":"ogg"},{"$f":"IFERROR(__xludf.DUMMYFUNCTION(\"\"\"COMPUTED_VALUE\"\"\"),\"application/ogg\")","v":"application/ogg"},{"$f":"IFERROR(__xludf.DUMMYFUNCTION(\"\"\"COMPUTED_VALUE\"\"\"),\"en\")","v":"en"}]
[{"$f":"IFERROR(__xludf.DUMMYFUNCTION(\"\"\"COMPUTED_VALUE\"\"\"),\"https://www.iana.org/assignments/media-types/application/opc-nodeset+xml\")","v":"https://www.iana.org/assignments/media-types/application/opc-nodeset+xml"},{"$f":"IFERROR(__xludf.DUMMYFUNCTION(\"\"\"COMPUTED_VALUE\"\"\"),\"opc-nodeset+xml\")","v":"opc-nodeset+xml"},{"$f":"IFERROR(__xludf.DUMMYFUNCTION(\"\"\"COMPUTED_VALUE\"\"\"),\"opc-nodeset+xml\")","v":"opc-nodeset+xml"},{"$f":"IFERROR(__xludf.DUMMYFUNCTION(\"\"\"COMPUTED_VALUE\"\"\"),\"application/opc-nodeset+xml\")","v":"application/opc-nodeset+xml"},{"$f":"IFERROR(__xludf.DUMMYFUNCTION(\"\"\"COMPUTED_VALUE\"\"\"),\"en\")","v":"en"}]
[{"$f":"IFERROR(__xludf.DUMMYFUNCTION(\"\"\"COMPUTED_VALUE\"\"\"),\"https://www.iana.org/assignments/media-types/application/oscore\")","v":"https://www.iana.org/assignments/media-types/application/oscore"},{"$f":"IFERROR(__xludf.DUMMYFUNCTION(\"\"\"COMPUTED_VALUE\"\"\"),\"oscore\")","v":"oscore"},{"$f":"IFERROR(__xludf.DUMMYFUNCTION(\"\"\"COMPUTED_VALUE\"\"\"),\"oscore\")","v":"oscore"},{"$f":"IFERROR(__xludf.DUMMYFUNCTION(\"\"\"COMPUTED_VALUE\"\"\"),\"application/oscore\")","v":"application/oscore"},{"$f":"IFERROR(__xludf.DUMMYFUNCTION(\"\"\"COMPUTED_VALUE\"\"\"),\"en\")","v":"en"}]
[{"$f":"IFERROR(__xludf.DUMMYFUNCTION(\"\"\"COMPUTED_VALUE\"\"\"),\"https://www.iana.org/assignments/media-types/application/oxps\")","v":"https://www.iana.org/assignments/media-types/application/oxps"},{"$f":"IFERROR(__xludf.DUMMYFUNCTION(\"\"\"COMPUTED_VALUE\"\"\"),\"oxps\")","v":"oxps"},{"$f":"IFERROR(__xludf.DUMMYFUNCTION(\"\"\"COMPUTED_VALUE\"\"\"),\"oxps\")","v":"oxps"},{"$f":"IFERROR(__xludf.DUMMYFUNCTION(\"\"\"COMPUTED_VALUE\"\"\"),\"application/oxps\")","v":"application/oxps"},{"$f":"IFERROR(__xludf.DUMMYFUNCTION(\"\"\"COMPUTED_VALUE\"\"\"),\"en\")","v":"en"}]
[{"$f":"IFERROR(__xludf.DUMMYFUNCTION(\"\"\"COMPUTED_VALUE\"\"\"),\"https://www.iana.org/assignments/media-types/application/p21\")","v":"https://www.iana.org/assignments/media-types/application/p21"},{"$f":"IFERROR(__xludf.DUMMYFUNCTION(\"\"\"COMPUTED_VALUE\"\"\"),\"p21\")","v":"p21"},{"$f":"IFERROR(__xludf.DUMMYFUNCTION(\"\"\"COMPUTED_VALUE\"\"\"),\"p21\")","v":"p21"},{"$f":"IFERROR(__xludf.DUMMYFUNCTION(\"\"\"COMPUTED_VALUE\"\"\"),\"application/p21\")","v":"application/p21"},{"$f":"IFERROR(__xludf.DUMMYFUNCTION(\"\"\"COMPUTED_VALUE\"\"\"),\"en\")","v":"en"}]
[{"$f":"IFERROR(__xludf.DUMMYFUNCTION(\"\"\"COMPUTED_VALUE\"\"\"),\"https://www.iana.org/assignments/media-types/application/p21+zip\")","v":"https://www.iana.org/assignments/media-types/application/p21+zip"},{"$f":"IFERROR(__xludf.DUMMYFUNCTION(\"\"\"COMPUTED_VALUE\"\"\"),\"p21+zip\")","v":"p21+zip"},{"$f":"IFERROR(__xludf.DUMMYFUNCTION(\"\"\"COMPUTED_VALUE\"\"\"),\"p21+zip\")","v":"p21+zip"},{"$f":"IFERROR(__xludf.DUMMYFUNCTION(\"\"\"COMPUTED_VALUE\"\"\"),\"application/p21+zip\")","v":"application/p21+zip"},{"$f":"IFERROR(__xludf.DUMMYFUNCTION(\"\"\"COMPUTED_VALUE\"\"\"),\"en\")","v":"en"}]
[{"$f":"IFERROR(__xludf.DUMMYFUNCTION(\"\"\"COMPUTED_VALUE\"\"\"),\"https://www.iana.org/assignments/media-types/application/p2p-overlay+xml\")","v":"https://www.iana.org/assignments/media-types/application/p2p-overlay+xml"},{"$f":"IFERROR(__xludf.DUMMYFUNCTION(\"\"\"COMPUTED_VALUE\"\"\"),\"p2p-overlay+xml\")","v":"p2p-overlay+xml"},{"$f":"IFERROR(__xludf.DUMMYFUNCTION(\"\"\"COMPUTED_VALUE\"\"\"),\"p2p-overlay+xml\")","v":"p2p-overlay+xml"},{"$f":"IFERROR(__xludf.DUMMYFUNCTION(\"\"\"COMPUTED_VALUE\"\"\"),\"application/p2p-overlay+xml\")","v":"application/p2p-overlay+xml"},{"$f":"IFERROR(__xludf.DUMMYFUNCTION(\"\"\"COMPUTED_VALUE\"\"\"),\"en\")","v":"en"}]
[{"$f":"IFERROR(__xludf.DUMMYFUNCTION(\"\"\"COMPUTED_VALUE\"\"\"),\"https://www.iana.org/assignments/media-types/application/parityfec\")","v":"https://www.iana.org/assignments/media-types/application/parityfec"},{"$f":"IFERROR(__xludf.DUMMYFUNCTION(\"\"\"COMPUTED_VALUE\"\"\"),\"parityfec\")","v":"parityfec"},{"$f":"IFERROR(__xludf.DUMMYFUNCTION(\"\"\"COMPUTED_VALUE\"\"\"),\"parityfec\")","v":"parityfec"},{"$f":"IFERROR(__xludf.DUMMYFUNCTION(\"\"\"COMPUTED_VALUE\"\"\"),\"application/parityfec\")","v":"application/parityfec"},{"$f":"IFERROR(__xludf.DUMMYFUNCTION(\"\"\"COMPUTED_VALUE\"\"\"),\"en\")","v":"en"}]
[{"$f":"IFERROR(__xludf.DUMMYFUNCTION(\"\"\"COMPUTED_VALUE\"\"\"),\"https://www.iana.org/assignments/media-types/application/passport\")","v":"https://www.iana.org/assignments/media-types/application/passport"},{"$f":"IFERROR(__xludf.DUMMYFUNCTION(\"\"\"COMPUTED_VALUE\"\"\"),\"passport\")","v":"passport"},{"$f":"IFERROR(__xludf.DUMMYFUNCTION(\"\"\"COMPUTED_VALUE\"\"\"),\"passport\")","v":"passport"},{"$f":"IFERROR(__xludf.DUMMYFUNCTION(\"\"\"COMPUTED_VALUE\"\"\"),\"application/passport\")","v":"application/passport"},{"$f":"IFERROR(__xludf.DUMMYFUNCTION(\"\"\"COMPUTED_VALUE\"\"\"),\"en\")","v":"en"}]
[{"$f":"IFERROR(__xludf.DUMMYFUNCTION(\"\"\"COMPUTED_VALUE\"\"\"),\"https://www.iana.org/assignments/media-types/application/patch-ops-error+xml\")","v":"https://www.iana.org/assignments/media-types/application/patch-ops-error+xml"},{"$f":"IFERROR(__xludf.DUMMYFUNCTION(\"\"\"COMPUTED_VALUE\"\"\"),\"patch-ops-error+xml\")","v":"patch-ops-error+xml"},{"$f":"IFERROR(__xludf.DUMMYFUNCTION(\"\"\"COMPUTED_VALUE\"\"\"),\"patch-ops-error+xml\")","v":"patch-ops-error+xml"},{"$f":"IFERROR(__xludf.DUMMYFUNCTION(\"\"\"COMPUTED_VALUE\"\"\"),\"application/patch-ops-error+xml\")","v":"application/patch-ops-error+xml"},{"$f":"IFERROR(__xludf.DUMMYFUNCTION(\"\"\"COMPUTED_VALUE\"\"\"),\"en\")","v":"en"}]
[{"$f":"IFERROR(__xludf.DUMMYFUNCTION(\"\"\"COMPUTED_VALUE\"\"\"),\"https://www.iana.org/assignments/media-types/application/pdf\")","v":"https://www.iana.org/assignments/media-types/application/pdf"},{"$f":"IFERROR(__xludf.DUMMYFUNCTION(\"\"\"COMPUTED_VALUE\"\"\"),\"pdf\")","v":"pdf"},{"$f":"IFERROR(__xludf.DUMMYFUNCTION(\"\"\"COMPUTED_VALUE\"\"\"),\"pdf\")","v":"pdf"},{"$f":"IFERROR(__xludf.DUMMYFUNCTION(\"\"\"COMPUTED_VALUE\"\"\"),\"application/pdf\")","v":"application/pdf"},{"$f":"IFERROR(__xludf.DUMMYFUNCTION(\"\"\"COMPUTED_VALUE\"\"\"),\"en\")","v":"en"}]
[{"$f":"IFERROR(__xludf.DUMMYFUNCTION(\"\"\"COMPUTED_VALUE\"\"\"),\"https://www.iana.org/assignments/media-types/application/PDX\")","v":"https://www.iana.org/assignments/media-types/application/PDX"},{"$f":"IFERROR(__xludf.DUMMYFUNCTION(\"\"\"COMPUTED_VALUE\"\"\"),\"PDX\")","v":"PDX"},{"$f":"IFERROR(__xludf.DUMMYFUNCTION(\"\"\"COMPUTED_VALUE\"\"\"),\"PDX\")","v":"PDX"},{"$f":"IFERROR(__xludf.DUMMYFUNCTION(\"\"\"COMPUTED_VALUE\"\"\"),\"application/PDX\")","v":"application/PDX"},{"$f":"IFERROR(__xludf.DUMMYFUNCTION(\"\"\"COMPUTED_VALUE\"\"\"),\"en\")","v":"en"}]
[{"$f":"IFERROR(__xludf.DUMMYFUNCTION(\"\"\"COMPUTED_VALUE\"\"\"),\"https://www.iana.org/assignments/media-types/application/pem-certificate-chain\")","v":"https://www.iana.org/assignments/media-types/application/pem-certificate-chain"},{"$f":"IFERROR(__xludf.DUMMYFUNCTION(\"\"\"COMPUTED_VALUE\"\"\"),\"pem-certificate-chain\")","v":"pem-certificate-chain"},{"$f":"IFERROR(__xludf.DUMMYFUNCTION(\"\"\"COMPUTED_VALUE\"\"\"),\"pem-certificate-chain\")","v":"pem-certificate-chain"},{"$f":"IFERROR(__xludf.DUMMYFUNCTION(\"\"\"COMPUTED_VALUE\"\"\"),\"application/pem-certificate-chain\")","v":"application/pem-certificate-chain"},{"$f":"IFERROR(__xludf.DUMMYFUNCTION(\"\"\"COMPUTED_VALUE\"\"\"),\"en\")","v":"en"}]
[{"$f":"IFERROR(__xludf.DUMMYFUNCTION(\"\"\"COMPUTED_VALUE\"\"\"),\"https://www.iana.org/assignments/media-types/application/pgp-encrypted\")","v":"https://www.iana.org/assignments/media-types/application/pgp-encrypted"},{"$f":"IFERROR(__xludf.DUMMYFUNCTION(\"\"\"COMPUTED_VALUE\"\"\"),\"pgp-encrypted\")","v":"pgp-encrypted"},{"$f":"IFERROR(__xludf.DUMMYFUNCTION(\"\"\"COMPUTED_VALUE\"\"\"),\"pgp-encrypted\")","v":"pgp-encrypted"},{"$f":"IFERROR(__xludf.DUMMYFUNCTION(\"\"\"COMPUTED_VALUE\"\"\"),\"application/pgp-encrypted\")","v":"application/pgp-encrypted"},{"$f":"IFERROR(__xludf.DUMMYFUNCTION(\"\"\"COMPUTED_VALUE\"\"\"),\"en\")","v":"en"}]
[{"$f":"IFERROR(__xludf.DUMMYFUNCTION(\"\"\"COMPUTED_VALUE\"\"\"),\"https://www.iana.org/assignments/media-types/application/pgp-keys\")","v":"https://www.iana.org/assignments/media-types/application/pgp-keys"},{"$f":"IFERROR(__xludf.DUMMYFUNCTION(\"\"\"COMPUTED_VALUE\"\"\"),\"pgp-keys\")","v":"pgp-keys"},{"$f":"IFERROR(__xludf.DUMMYFUNCTION(\"\"\"COMPUTED_VALUE\"\"\"),\"pgp-keys\")","v":"pgp-keys"},{"$f":"IFERROR(__xludf.DUMMYFUNCTION(\"\"\"COMPUTED_VALUE\"\"\"),\"application/pgp-keys\")","v":"application/pgp-keys"},{"$f":"IFERROR(__xludf.DUMMYFUNCTION(\"\"\"COMPUTED_VALUE\"\"\"),\"en\")","v":"en"}]
[{"$f":"IFERROR(__xludf.DUMMYFUNCTION(\"\"\"COMPUTED_VALUE\"\"\"),\"https://www.iana.org/assignments/media-types/application/pgp-signature\")","v":"https://www.iana.org/assignments/media-types/application/pgp-signature"},{"$f":"IFERROR(__xludf.DUMMYFUNCTION(\"\"\"COMPUTED_VALUE\"\"\"),\"pgp-signature\")","v":"pgp-signature"},{"$f":"IFERROR(__xludf.DUMMYFUNCTION(\"\"\"COMPUTED_VALUE\"\"\"),\"pgp-signature\")","v":"pgp-signature"},{"$f":"IFERROR(__xludf.DUMMYFUNCTION(\"\"\"COMPUTED_VALUE\"\"\"),\"application/pgp-signature\")","v":"application/pgp-signature"},{"$f":"IFERROR(__xludf.DUMMYFUNCTION(\"\"\"COMPUTED_VALUE\"\"\"),\"en\")","v":"en"}]
[{"$f":"IFERROR(__xludf.DUMMYFUNCTION(\"\"\"COMPUTED_VALUE\"\"\"),\"https://www.iana.org/assignments/media-types/application/pidf-diff+xml\")","v":"https://www.iana.org/assignments/media-types/application/pidf-diff+xml"},{"$f":"IFERROR(__xludf.DUMMYFUNCTION(\"\"\"COMPUTED_VALUE\"\"\"),\"pidf-diff+xml\")","v":"pidf-diff+xml"},{"$f":"IFERROR(__xludf.DUMMYFUNCTION(\"\"\"COMPUTED_VALUE\"\"\"),\"pidf-diff+xml\")","v":"pidf-diff+xml"},{"$f":"IFERROR(__xludf.DUMMYFUNCTION(\"\"\"COMPUTED_VALUE\"\"\"),\"application/pidf-diff+xml\")","v":"application/pidf-diff+xml"},{"$f":"IFERROR(__xludf.DUMMYFUNCTION(\"\"\"COMPUTED_VALUE\"\"\"),\"en\")","v":"en"}]
[{"$f":"IFERROR(__xludf.DUMMYFUNCTION(\"\"\"COMPUTED_VALUE\"\"\"),\"https://www.iana.org/assignments/media-types/application/pidf+xml\")","v":"https://www.iana.org/assignments/media-types/application/pidf+xml"},{"$f":"IFERROR(__xludf.DUMMYFUNCTION(\"\"\"COMPUTED_VALUE\"\"\"),\"pidf+xml\")","v":"pidf+xml"},{"$f":"IFERROR(__xludf.DUMMYFUNCTION(\"\"\"COMPUTED_VALUE\"\"\"),\"pidf+xml\")","v":"pidf+xml"},{"$f":"IFERROR(__xludf.DUMMYFUNCTION(\"\"\"COMPUTED_VALUE\"\"\"),\"application/pidf+xml\")","v":"application/pidf+xml"},{"$f":"IFERROR(__xludf.DUMMYFUNCTION(\"\"\"COMPUTED_VALUE\"\"\"),\"en\")","v":"en"}]
[{"$f":"IFERROR(__xludf.DUMMYFUNCTION(\"\"\"COMPUTED_VALUE\"\"\"),\"https://www.iana.org/assignments/media-types/application/pkcs10\")","v":"https://www.iana.org/assignments/media-types/application/pkcs10"},{"$f":"IFERROR(__xludf.DUMMYFUNCTION(\"\"\"COMPUTED_VALUE\"\"\"),\"pkcs10\")","v":"pkcs10"},{"$f":"IFERROR(__xludf.DUMMYFUNCTION(\"\"\"COMPUTED_VALUE\"\"\"),\"pkcs10\")","v":"pkcs10"},{"$f":"IFERROR(__xludf.DUMMYFUNCTION(\"\"\"COMPUTED_VALUE\"\"\"),\"application/pkcs10\")","v":"application/pkcs10"},{"$f":"IFERROR(__xludf.DUMMYFUNCTION(\"\"\"COMPUTED_VALUE\"\"\"),\"en\")","v":"en"}]
[{"$f":"IFERROR(__xludf.DUMMYFUNCTION(\"\"\"COMPUTED_VALUE\"\"\"),\"https://www.iana.org/assignments/media-types/application/pkcs7-mime\")","v":"https://www.iana.org/assignments/media-types/application/pkcs7-mime"},{"$f":"IFERROR(__xludf.DUMMYFUNCTION(\"\"\"COMPUTED_VALUE\"\"\"),\"pkcs7-mime\")","v":"pkcs7-mime"},{"$f":"IFERROR(__xludf.DUMMYFUNCTION(\"\"\"COMPUTED_VALUE\"\"\"),\"pkcs7-mime\")","v":"pkcs7-mime"},{"$f":"IFERROR(__xludf.DUMMYFUNCTION(\"\"\"COMPUTED_VALUE\"\"\"),\"application/pkcs7-mime\")","v":"application/pkcs7-mime"},{"$f":"IFERROR(__xludf.DUMMYFUNCTION(\"\"\"COMPUTED_VALUE\"\"\"),\"en\")","v":"en"}]
[{"$f":"IFERROR(__xludf.DUMMYFUNCTION(\"\"\"COMPUTED_VALUE\"\"\"),\"https://www.iana.org/assignments/media-types/application/pkcs7-signature\")","v":"https://www.iana.org/assignments/media-types/application/pkcs7-signature"},{"$f":"IFERROR(__xludf.DUMMYFUNCTION(\"\"\"COMPUTED_VALUE\"\"\"),\"pkcs7-signature\")","v":"pkcs7-signature"},{"$f":"IFERROR(__xludf.DUMMYFUNCTION(\"\"\"COMPUTED_VALUE\"\"\"),\"pkcs7-signature\")","v":"pkcs7-signature"},{"$f":"IFERROR(__xludf.DUMMYFUNCTION(\"\"\"COMPUTED_VALUE\"\"\"),\"application/pkcs7-signature\")","v":"application/pkcs7-signature"},{"$f":"IFERROR(__xludf.DUMMYFUNCTION(\"\"\"COMPUTED_VALUE\"\"\"),\"en\")","v":"en"}]
[{"$f":"IFERROR(__xludf.DUMMYFUNCTION(\"\"\"COMPUTED_VALUE\"\"\"),\"https://www.iana.org/assignments/media-types/application/pkcs8\")","v":"https://www.iana.org/assignments/media-types/application/pkcs8"},{"$f":"IFERROR(__xludf.DUMMYFUNCTION(\"\"\"COMPUTED_VALUE\"\"\"),\"pkcs8\")","v":"pkcs8"},{"$f":"IFERROR(__xludf.DUMMYFUNCTION(\"\"\"COMPUTED_VALUE\"\"\"),\"pkcs8\")","v":"pkcs8"},{"$f":"IFERROR(__xludf.DUMMYFUNCTION(\"\"\"COMPUTED_VALUE\"\"\"),\"application/pkcs8\")","v":"application/pkcs8"},{"$f":"IFERROR(__xludf.DUMMYFUNCTION(\"\"\"COMPUTED_VALUE\"\"\"),\"en\")","v":"en"}]
[{"$f":"IFERROR(__xludf.DUMMYFUNCTION(\"\"\"COMPUTED_VALUE\"\"\"),\"https://www.iana.org/assignments/media-types/application/pkcs8-encrypted\")","v":"https://www.iana.org/assignments/media-types/application/pkcs8-encrypted"},{"$f":"IFERROR(__xludf.DUMMYFUNCTION(\"\"\"COMPUTED_VALUE\"\"\"),\"pkcs8-encrypted\")","v":"pkcs8-encrypted"},{"$f":"IFERROR(__xludf.DUMMYFUNCTION(\"\"\"COMPUTED_VALUE\"\"\"),\"pkcs8-encrypted\")","v":"pkcs8-encrypted"},{"$f":"IFERROR(__xludf.DUMMYFUNCTION(\"\"\"COMPUTED_VALUE\"\"\"),\"application/pkcs8-encrypted\")","v":"application/pkcs8-encrypted"},{"$f":"IFERROR(__xludf.DUMMYFUNCTION(\"\"\"COMPUTED_VALUE\"\"\"),\"en\")","v":"en"}]
[{"$f":"IFERROR(__xludf.DUMMYFUNCTION(\"\"\"COMPUTED_VALUE\"\"\"),\"https://www.iana.org/assignments/media-types/application/pkcs12\")","v":"https://www.iana.org/assignments/media-types/application/pkcs12"},{"$f":"IFERROR(__xludf.DUMMYFUNCTION(\"\"\"COMPUTED_VALUE\"\"\"),\"pkcs12\")","v":"pkcs12"},{"$f":"IFERROR(__xludf.DUMMYFUNCTION(\"\"\"COMPUTED_VALUE\"\"\"),\"pkcs12\")","v":"pkcs12"},{"$f":"IFERROR(__xludf.DUMMYFUNCTION(\"\"\"COMPUTED_VALUE\"\"\"),\"application/pkcs12\")","v":"application/pkcs12"},{"$f":"IFERROR(__xludf.DUMMYFUNCTION(\"\"\"COMPUTED_VALUE\"\"\"),\"en\")","v":"en"}]
[{"$f":"IFERROR(__xludf.DUMMYFUNCTION(\"\"\"COMPUTED_VALUE\"\"\"),\"https://www.iana.org/assignments/media-types/application/pkix-attr-cert\")","v":"https://www.iana.org/assignments/media-types/application/pkix-attr-cert"},{"$f":"IFERROR(__xludf.DUMMYFUNCTION(\"\"\"COMPUTED_VALUE\"\"\"),\"pkix-attr-cert\")","v":"pkix-attr-cert"},{"$f":"IFERROR(__xludf.DUMMYFUNCTION(\"\"\"COMPUTED_VALUE\"\"\"),\"pkix-attr-cert\")","v":"pkix-attr-cert"},{"$f":"IFERROR(__xludf.DUMMYFUNCTION(\"\"\"COMPUTED_VALUE\"\"\"),\"application/pkix-attr-cert\")","v":"application/pkix-attr-cert"},{"$f":"IFERROR(__xludf.DUMMYFUNCTION(\"\"\"COMPUTED_VALUE\"\"\"),\"en\")","v":"en"}]
[{"$f":"IFERROR(__xludf.DUMMYFUNCTION(\"\"\"COMPUTED_VALUE\"\"\"),\"https://www.iana.org/assignments/media-types/application/pkix-cert\")","v":"https://www.iana.org/assignments/media-types/application/pkix-cert"},{"$f":"IFERROR(__xludf.DUMMYFUNCTION(\"\"\"COMPUTED_VALUE\"\"\"),\"pkix-cert\")","v":"pkix-cert"},{"$f":"IFERROR(__xludf.DUMMYFUNCTION(\"\"\"COMPUTED_VALUE\"\"\"),\"pkix-cert\")","v":"pkix-cert"},{"$f":"IFERROR(__xludf.DUMMYFUNCTION(\"\"\"COMPUTED_VALUE\"\"\"),\"application/pkix-cert\")","v":"application/pkix-cert"},{"$f":"IFERROR(__xludf.DUMMYFUNCTION(\"\"\"COMPUTED_VALUE\"\"\"),\"en\")","v":"en"}]
[{"$f":"IFERROR(__xludf.DUMMYFUNCTION(\"\"\"COMPUTED_VALUE\"\"\"),\"https://www.iana.org/assignments/media-types/application/pkix-crl\")","v":"https://www.iana.org/assignments/media-types/application/pkix-crl"},{"$f":"IFERROR(__xludf.DUMMYFUNCTION(\"\"\"COMPUTED_VALUE\"\"\"),\"pkix-crl\")","v":"pkix-crl"},{"$f":"IFERROR(__xludf.DUMMYFUNCTION(\"\"\"COMPUTED_VALUE\"\"\"),\"pkix-crl\")","v":"pkix-crl"},{"$f":"IFERROR(__xludf.DUMMYFUNCTION(\"\"\"COMPUTED_VALUE\"\"\"),\"application/pkix-crl\")","v":"application/pkix-crl"},{"$f":"IFERROR(__xludf.DUMMYFUNCTION(\"\"\"COMPUTED_VALUE\"\"\"),\"en\")","v":"en"}]
[{"$f":"IFERROR(__xludf.DUMMYFUNCTION(\"\"\"COMPUTED_VALUE\"\"\"),\"https://www.iana.org/assignments/media-types/application/pkix-pkipath\")","v":"https://www.iana.org/assignments/media-types/application/pkix-pkipath"},{"$f":"IFERROR(__xludf.DUMMYFUNCTION(\"\"\"COMPUTED_VALUE\"\"\"),\"pkix-pkipath\")","v":"pkix-pkipath"},{"$f":"IFERROR(__xludf.DUMMYFUNCTION(\"\"\"COMPUTED_VALUE\"\"\"),\"pkix-pkipath\")","v":"pkix-pkipath"},{"$f":"IFERROR(__xludf.DUMMYFUNCTION(\"\"\"COMPUTED_VALUE\"\"\"),\"application/pkix-pkipath\")","v":"application/pkix-pkipath"},{"$f":"IFERROR(__xludf.DUMMYFUNCTION(\"\"\"COMPUTED_VALUE\"\"\"),\"en\")","v":"en"}]
[{"$f":"IFERROR(__xludf.DUMMYFUNCTION(\"\"\"COMPUTED_VALUE\"\"\"),\"https://www.iana.org/assignments/media-types/application/pkixcmp\")","v":"https://www.iana.org/assignments/media-types/application/pkixcmp"},{"$f":"IFERROR(__xludf.DUMMYFUNCTION(\"\"\"COMPUTED_VALUE\"\"\"),\"pkixcmp\")","v":"pkixcmp"},{"$f":"IFERROR(__xludf.DUMMYFUNCTION(\"\"\"COMPUTED_VALUE\"\"\"),\"pkixcmp\")","v":"pkixcmp"},{"$f":"IFERROR(__xludf.DUMMYFUNCTION(\"\"\"COMPUTED_VALUE\"\"\"),\"application/pkixcmp\")","v":"application/pkixcmp"},{"$f":"IFERROR(__xludf.DUMMYFUNCTION(\"\"\"COMPUTED_VALUE\"\"\"),\"en\")","v":"en"}]
[{"$f":"IFERROR(__xludf.DUMMYFUNCTION(\"\"\"COMPUTED_VALUE\"\"\"),\"https://www.iana.org/assignments/media-types/application/pls+xml\")","v":"https://www.iana.org/assignments/media-types/application/pls+xml"},{"$f":"IFERROR(__xludf.DUMMYFUNCTION(\"\"\"COMPUTED_VALUE\"\"\"),\"pls+xml\")","v":"pls+xml"},{"$f":"IFERROR(__xludf.DUMMYFUNCTION(\"\"\"COMPUTED_VALUE\"\"\"),\"pls+xml\")","v":"pls+xml"},{"$f":"IFERROR(__xludf.DUMMYFUNCTION(\"\"\"COMPUTED_VALUE\"\"\"),\"application/pls+xml\")","v":"application/pls+xml"},{"$f":"IFERROR(__xludf.DUMMYFUNCTION(\"\"\"COMPUTED_VALUE\"\"\"),\"en\")","v":"en"}]
[{"$f":"IFERROR(__xludf.DUMMYFUNCTION(\"\"\"COMPUTED_VALUE\"\"\"),\"https://www.iana.org/assignments/media-types/application/poc-settings+xml\")","v":"https://www.iana.org/assignments/media-types/application/poc-settings+xml"},{"$f":"IFERROR(__xludf.DUMMYFUNCTION(\"\"\"COMPUTED_VALUE\"\"\"),\"poc-settings+xml\")","v":"poc-settings+xml"},{"$f":"IFERROR(__xludf.DUMMYFUNCTION(\"\"\"COMPUTED_VALUE\"\"\"),\"poc-settings+xml\")","v":"poc-settings+xml"},{"$f":"IFERROR(__xludf.DUMMYFUNCTION(\"\"\"COMPUTED_VALUE\"\"\"),\"application/poc-settings+xml\")","v":"application/poc-settings+xml"},{"$f":"IFERROR(__xludf.DUMMYFUNCTION(\"\"\"COMPUTED_VALUE\"\"\"),\"en\")","v":"en"}]
[{"$f":"IFERROR(__xludf.DUMMYFUNCTION(\"\"\"COMPUTED_VALUE\"\"\"),\"https://www.iana.org/assignments/media-types/application/postscript\")","v":"https://www.iana.org/assignments/media-types/application/postscript"},{"$f":"IFERROR(__xludf.DUMMYFUNCTION(\"\"\"COMPUTED_VALUE\"\"\"),\"postscript\")","v":"postscript"},{"$f":"IFERROR(__xludf.DUMMYFUNCTION(\"\"\"COMPUTED_VALUE\"\"\"),\"postscript\")","v":"postscript"},{"$f":"IFERROR(__xludf.DUMMYFUNCTION(\"\"\"COMPUTED_VALUE\"\"\"),\"application/postscript\")","v":"application/postscript"},{"$f":"IFERROR(__xludf.DUMMYFUNCTION(\"\"\"COMPUTED_VALUE\"\"\"),\"en\")","v":"en"}]
[{"$f":"IFERROR(__xludf.DUMMYFUNCTION(\"\"\"COMPUTED_VALUE\"\"\"),\"https://www.iana.org/assignments/media-types/application/ppsp-tracker+json\")","v":"https://www.iana.org/assignments/media-types/application/ppsp-tracker+json"},{"$f":"IFERROR(__xludf.DUMMYFUNCTION(\"\"\"COMPUTED_VALUE\"\"\"),\"ppsp-tracker+json\")","v":"ppsp-tracker+json"},{"$f":"IFERROR(__xludf.DUMMYFUNCTION(\"\"\"COMPUTED_VALUE\"\"\"),\"ppsp-tracker+json\")","v":"ppsp-tracker+json"},{"$f":"IFERROR(__xludf.DUMMYFUNCTION(\"\"\"COMPUTED_VALUE\"\"\"),\"application/ppsp-tracker+json\")","v":"application/ppsp-tracker+json"},{"$f":"IFERROR(__xludf.DUMMYFUNCTION(\"\"\"COMPUTED_VALUE\"\"\"),\"en\")","v":"en"}]
[{"$f":"IFERROR(__xludf.DUMMYFUNCTION(\"\"\"COMPUTED_VALUE\"\"\"),\"https://www.iana.org/assignments/media-types/application/problem+json\")","v":"https://www.iana.org/assignments/media-types/application/problem+json"},{"$f":"IFERROR(__xludf.DUMMYFUNCTION(\"\"\"COMPUTED_VALUE\"\"\"),\"problem+json\")","v":"problem+json"},{"$f":"IFERROR(__xludf.DUMMYFUNCTION(\"\"\"COMPUTED_VALUE\"\"\"),\"problem+json\")","v":"problem+json"},{"$f":"IFERROR(__xludf.DUMMYFUNCTION(\"\"\"COMPUTED_VALUE\"\"\"),\"application/problem+json\")","v":"application/problem+json"},{"$f":"IFERROR(__xludf.DUMMYFUNCTION(\"\"\"COMPUTED_VALUE\"\"\"),\"en\")","v":"en"}]
[{"$f":"IFERROR(__xludf.DUMMYFUNCTION(\"\"\"COMPUTED_VALUE\"\"\"),\"https://www.iana.org/assignments/media-types/application/problem+xml\")","v":"https://www.iana.org/assignments/media-types/application/problem+xml"},{"$f":"IFERROR(__xludf.DUMMYFUNCTION(\"\"\"COMPUTED_VALUE\"\"\"),\"problem+xml\")","v":"problem+xml"},{"$f":"IFERROR(__xludf.DUMMYFUNCTION(\"\"\"COMPUTED_VALUE\"\"\"),\"problem+xml\")","v":"problem+xml"},{"$f":"IFERROR(__xludf.DUMMYFUNCTION(\"\"\"COMPUTED_VALUE\"\"\"),\"application/problem+xml\")","v":"application/problem+xml"},{"$f":"IFERROR(__xludf.DUMMYFUNCTION(\"\"\"COMPUTED_VALUE\"\"\"),\"en\")","v":"en"}]
[{"$f":"IFERROR(__xludf.DUMMYFUNCTION(\"\"\"COMPUTED_VALUE\"\"\"),\"https://www.iana.org/assignments/media-types/application/provenance+xml\")","v":"https://www.iana.org/assignments/media-types/application/provenance+xml"},{"$f":"IFERROR(__xludf.DUMMYFUNCTION(\"\"\"COMPUTED_VALUE\"\"\"),\"provenance+xml\")","v":"provenance+xml"},{"$f":"IFERROR(__xludf.DUMMYFUNCTION(\"\"\"COMPUTED_VALUE\"\"\"),\"provenance+xml\")","v":"provenance+xml"},{"$f":"IFERROR(__xludf.DUMMYFUNCTION(\"\"\"COMPUTED_VALUE\"\"\"),\"application/provenance+xml\")","v":"application/provenance+xml"},{"$f":"IFERROR(__xludf.DUMMYFUNCTION(\"\"\"COMPUTED_VALUE\"\"\"),\"en\")","v":"en"}]
[{"$f":"IFERROR(__xludf.DUMMYFUNCTION(\"\"\"COMPUTED_VALUE\"\"\"),\"https://www.iana.org/assignments/media-types/application/prs.alvestrand.titrax-sheet\")","v":"https://www.iana.org/assignments/media-types/application/prs.alvestrand.titrax-sheet"},{"$f":"IFERROR(__xludf.DUMMYFUNCTION(\"\"\"COMPUTED_VALUE\"\"\"),\"prs.alvestrand.titrax-sheet\")","v":"prs.alvestrand.titrax-sheet"},{"$f":"IFERROR(__xludf.DUMMYFUNCTION(\"\"\"COMPUTED_VALUE\"\"\"),\"prs.alvestrand.titrax-sheet\")","v":"prs.alvestrand.titrax-sheet"},{"$f":"IFERROR(__xludf.DUMMYFUNCTION(\"\"\"COMPUTED_VALUE\"\"\"),\"application/prs.alvestrand.titrax-sheet\")","v":"application/prs.alvestrand.titrax-sheet"},{"$f":"IFERROR(__xludf.DUMMYFUNCTION(\"\"\"COMPUTED_VALUE\"\"\"),\"en\")","v":"en"}]
[{"$f":"IFERROR(__xludf.DUMMYFUNCTION(\"\"\"COMPUTED_VALUE\"\"\"),\"https://www.iana.org/assignments/media-types/application/prs.cww\")","v":"https://www.iana.org/assignments/media-types/application/prs.cww"},{"$f":"IFERROR(__xludf.DUMMYFUNCTION(\"\"\"COMPUTED_VALUE\"\"\"),\"prs.cww\")","v":"prs.cww"},{"$f":"IFERROR(__xludf.DUMMYFUNCTION(\"\"\"COMPUTED_VALUE\"\"\"),\"prs.cww\")","v":"prs.cww"},{"$f":"IFERROR(__xludf.DUMMYFUNCTION(\"\"\"COMPUTED_VALUE\"\"\"),\"application/prs.cww\")","v":"application/prs.cww"},{"$f":"IFERROR(__xludf.DUMMYFUNCTION(\"\"\"COMPUTED_VALUE\"\"\"),\"en\")","v":"en"}]
[{"$f":"IFERROR(__xludf.DUMMYFUNCTION(\"\"\"COMPUTED_VALUE\"\"\"),\"https://www.iana.org/assignments/media-types/application/prs.cyn\")","v":"https://www.iana.org/assignments/media-types/application/prs.cyn"},{"$f":"IFERROR(__xludf.DUMMYFUNCTION(\"\"\"COMPUTED_VALUE\"\"\"),\"prs.cyn\")","v":"prs.cyn"},{"$f":"IFERROR(__xludf.DUMMYFUNCTION(\"\"\"COMPUTED_VALUE\"\"\"),\"prs.cyn\")","v":"prs.cyn"},{"$f":"IFERROR(__xludf.DUMMYFUNCTION(\"\"\"COMPUTED_VALUE\"\"\"),\"application/prs.cyn\")","v":"application/prs.cyn"},{"$f":"IFERROR(__xludf.DUMMYFUNCTION(\"\"\"COMPUTED_VALUE\"\"\"),\"en\")","v":"en"}]
[{"$f":"IFERROR(__xludf.DUMMYFUNCTION(\"\"\"COMPUTED_VALUE\"\"\"),\"https://www.iana.org/assignments/media-types/application/prs.hpub+zip\")","v":"https://www.iana.org/assignments/media-types/application/prs.hpub+zip"},{"$f":"IFERROR(__xludf.DUMMYFUNCTION(\"\"\"COMPUTED_VALUE\"\"\"),\"prs.hpub+zip\")","v":"prs.hpub+zip"},{"$f":"IFERROR(__xludf.DUMMYFUNCTION(\"\"\"COMPUTED_VALUE\"\"\"),\"prs.hpub+zip\")","v":"prs.hpub+zip"},{"$f":"IFERROR(__xludf.DUMMYFUNCTION(\"\"\"COMPUTED_VALUE\"\"\"),\"application/prs.hpub+zip\")","v":"application/prs.hpub+zip"},{"$f":"IFERROR(__xludf.DUMMYFUNCTION(\"\"\"COMPUTED_VALUE\"\"\"),\"en\")","v":"en"}]
[{"$f":"IFERROR(__xludf.DUMMYFUNCTION(\"\"\"COMPUTED_VALUE\"\"\"),\"https://www.iana.org/assignments/media-types/application/prs.nprend\")","v":"https://www.iana.org/assignments/media-types/application/prs.nprend"},{"$f":"IFERROR(__xludf.DUMMYFUNCTION(\"\"\"COMPUTED_VALUE\"\"\"),\"prs.nprend\")","v":"prs.nprend"},{"$f":"IFERROR(__xludf.DUMMYFUNCTION(\"\"\"COMPUTED_VALUE\"\"\"),\"prs.nprend\")","v":"prs.nprend"},{"$f":"IFERROR(__xludf.DUMMYFUNCTION(\"\"\"COMPUTED_VALUE\"\"\"),\"application/prs.nprend\")","v":"application/prs.nprend"},{"$f":"IFERROR(__xludf.DUMMYFUNCTION(\"\"\"COMPUTED_VALUE\"\"\"),\"en\")","v":"en"}]
[{"$f":"IFERROR(__xludf.DUMMYFUNCTION(\"\"\"COMPUTED_VALUE\"\"\"),\"https://www.iana.org/assignments/media-types/application/prs.plucker\")","v":"https://www.iana.org/assignments/media-types/application/prs.plucker"},{"$f":"IFERROR(__xludf.DUMMYFUNCTION(\"\"\"COMPUTED_VALUE\"\"\"),\"prs.plucker\")","v":"prs.plucker"},{"$f":"IFERROR(__xludf.DUMMYFUNCTION(\"\"\"COMPUTED_VALUE\"\"\"),\"prs.plucker\")","v":"prs.plucker"},{"$f":"IFERROR(__xludf.DUMMYFUNCTION(\"\"\"COMPUTED_VALUE\"\"\"),\"application/prs.plucker\")","v":"application/prs.plucker"},{"$f":"IFERROR(__xludf.DUMMYFUNCTION(\"\"\"COMPUTED_VALUE\"\"\"),\"en\")","v":"en"}]
[{"$f":"IFERROR(__xludf.DUMMYFUNCTION(\"\"\"COMPUTED_VALUE\"\"\"),\"https://www.iana.org/assignments/media-types/application/prs.rdf-xml-crypt\")","v":"https://www.iana.org/assignments/media-types/application/prs.rdf-xml-crypt"},{"$f":"IFERROR(__xludf.DUMMYFUNCTION(\"\"\"COMPUTED_VALUE\"\"\"),\"prs.rdf-xml-crypt\")","v":"prs.rdf-xml-crypt"},{"$f":"IFERROR(__xludf.DUMMYFUNCTION(\"\"\"COMPUTED_VALUE\"\"\"),\"prs.rdf-xml-crypt\")","v":"prs.rdf-xml-crypt"},{"$f":"IFERROR(__xludf.DUMMYFUNCTION(\"\"\"COMPUTED_VALUE\"\"\"),\"application/prs.rdf-xml-crypt\")","v":"application/prs.rdf-xml-crypt"},{"$f":"IFERROR(__xludf.DUMMYFUNCTION(\"\"\"COMPUTED_VALUE\"\"\"),\"en\")","v":"en"}]
[{"$f":"IFERROR(__xludf.DUMMYFUNCTION(\"\"\"COMPUTED_VALUE\"\"\"),\"https://www.iana.org/assignments/media-types/application/prs.xsf+xml\")","v":"https://www.iana.org/assignments/media-types/application/prs.xsf+xml"},{"$f":"IFERROR(__xludf.DUMMYFUNCTION(\"\"\"COMPUTED_VALUE\"\"\"),\"prs.xsf+xml\")","v":"prs.xsf+xml"},{"$f":"IFERROR(__xludf.DUMMYFUNCTION(\"\"\"COMPUTED_VALUE\"\"\"),\"prs.xsf+xml\")","v":"prs.xsf+xml"},{"$f":"IFERROR(__xludf.DUMMYFUNCTION(\"\"\"COMPUTED_VALUE\"\"\"),\"application/prs.xsf+xml\")","v":"application/prs.xsf+xml"},{"$f":"IFERROR(__xludf.DUMMYFUNCTION(\"\"\"COMPUTED_VALUE\"\"\"),\"en\")","v":"en"}]
[{"$f":"IFERROR(__xludf.DUMMYFUNCTION(\"\"\"COMPUTED_VALUE\"\"\"),\"https://www.iana.org/assignments/media-types/application/pskc+xml\")","v":"https://www.iana.org/assignments/media-types/application/pskc+xml"},{"$f":"IFERROR(__xludf.DUMMYFUNCTION(\"\"\"COMPUTED_VALUE\"\"\"),\"pskc+xml\")","v":"pskc+xml"},{"$f":"IFERROR(__xludf.DUMMYFUNCTION(\"\"\"COMPUTED_VALUE\"\"\"),\"pskc+xml\")","v":"pskc+xml"},{"$f":"IFERROR(__xludf.DUMMYFUNCTION(\"\"\"COMPUTED_VALUE\"\"\"),\"application/pskc+xml\")","v":"application/pskc+xml"},{"$f":"IFERROR(__xludf.DUMMYFUNCTION(\"\"\"COMPUTED_VALUE\"\"\"),\"en\")","v":"en"}]
[{"$f":"IFERROR(__xludf.DUMMYFUNCTION(\"\"\"COMPUTED_VALUE\"\"\"),\"https://www.iana.org/assignments/media-types/application/pvd+json\")","v":"https://www.iana.org/assignments/media-types/application/pvd+json"},{"$f":"IFERROR(__xludf.DUMMYFUNCTION(\"\"\"COMPUTED_VALUE\"\"\"),\"pvd+json\")","v":"pvd+json"},{"$f":"IFERROR(__xludf.DUMMYFUNCTION(\"\"\"COMPUTED_VALUE\"\"\"),\"pvd+json\")","v":"pvd+json"},{"$f":"IFERROR(__xludf.DUMMYFUNCTION(\"\"\"COMPUTED_VALUE\"\"\"),\"application/pvd+json\")","v":"application/pvd+json"},{"$f":"IFERROR(__xludf.DUMMYFUNCTION(\"\"\"COMPUTED_VALUE\"\"\"),\"en\")","v":"en"}]
[{"$f":"IFERROR(__xludf.DUMMYFUNCTION(\"\"\"COMPUTED_VALUE\"\"\"),\"https://www.iana.org/assignments/media-types/application/rdf+xml\")","v":"https://www.iana.org/assignments/media-types/application/rdf+xml"},{"$f":"IFERROR(__xludf.DUMMYFUNCTION(\"\"\"COMPUTED_VALUE\"\"\"),\"rdf+xml\")","v":"rdf+xml"},{"$f":"IFERROR(__xludf.DUMMYFUNCTION(\"\"\"COMPUTED_VALUE\"\"\"),\"rdf+xml\")","v":"rdf+xml"},{"$f":"IFERROR(__xludf.DUMMYFUNCTION(\"\"\"COMPUTED_VALUE\"\"\"),\"application/rdf+xml\")","v":"application/rdf+xml"},{"$f":"IFERROR(__xludf.DUMMYFUNCTION(\"\"\"COMPUTED_VALUE\"\"\"),\"en\")","v":"en"}]
[{"$f":"IFERROR(__xludf.DUMMYFUNCTION(\"\"\"COMPUTED_VALUE\"\"\"),\"https://www.iana.org/assignments/media-types/application/route-apd+xml\")","v":"https://www.iana.org/assignments/media-types/application/route-apd+xml"},{"$f":"IFERROR(__xludf.DUMMYFUNCTION(\"\"\"COMPUTED_VALUE\"\"\"),\"route-apd+xml\")","v":"route-apd+xml"},{"$f":"IFERROR(__xludf.DUMMYFUNCTION(\"\"\"COMPUTED_VALUE\"\"\"),\"route-apd+xml\")","v":"route-apd+xml"},{"$f":"IFERROR(__xludf.DUMMYFUNCTION(\"\"\"COMPUTED_VALUE\"\"\"),\"application/route-apd+xml\")","v":"application/route-apd+xml"},{"$f":"IFERROR(__xludf.DUMMYFUNCTION(\"\"\"COMPUTED_VALUE\"\"\"),\"en\")","v":"en"}]
[{"$f":"IFERROR(__xludf.DUMMYFUNCTION(\"\"\"COMPUTED_VALUE\"\"\"),\"https://www.iana.org/assignments/media-types/application/route-s-tsid+xml\")","v":"https://www.iana.org/assignments/media-types/application/route-s-tsid+xml"},{"$f":"IFERROR(__xludf.DUMMYFUNCTION(\"\"\"COMPUTED_VALUE\"\"\"),\"route-s-tsid+xml\")","v":"route-s-tsid+xml"},{"$f":"IFERROR(__xludf.DUMMYFUNCTION(\"\"\"COMPUTED_VALUE\"\"\"),\"route-s-tsid+xml\")","v":"route-s-tsid+xml"},{"$f":"IFERROR(__xludf.DUMMYFUNCTION(\"\"\"COMPUTED_VALUE\"\"\"),\"application/route-s-tsid+xml\")","v":"application/route-s-tsid+xml"},{"$f":"IFERROR(__xludf.DUMMYFUNCTION(\"\"\"COMPUTED_VALUE\"\"\"),\"en\")","v":"en"}]
[{"$f":"IFERROR(__xludf.DUMMYFUNCTION(\"\"\"COMPUTED_VALUE\"\"\"),\"https://www.iana.org/assignments/media-types/application/route-usd+xml\")","v":"https://www.iana.org/assignments/media-types/application/route-usd+xml"},{"$f":"IFERROR(__xludf.DUMMYFUNCTION(\"\"\"COMPUTED_VALUE\"\"\"),\"route-usd+xml\")","v":"route-usd+xml"},{"$f":"IFERROR(__xludf.DUMMYFUNCTION(\"\"\"COMPUTED_VALUE\"\"\"),\"route-usd+xml\")","v":"route-usd+xml"},{"$f":"IFERROR(__xludf.DUMMYFUNCTION(\"\"\"COMPUTED_VALUE\"\"\"),\"application/route-usd+xml\")","v":"application/route-usd+xml"},{"$f":"IFERROR(__xludf.DUMMYFUNCTION(\"\"\"COMPUTED_VALUE\"\"\"),\"en\")","v":"en"}]
[{"$f":"IFERROR(__xludf.DUMMYFUNCTION(\"\"\"COMPUTED_VALUE\"\"\"),\"https://www.iana.org/assignments/media-types/application/QSIG\")","v":"https://www.iana.org/assignments/media-types/application/QSIG"},{"$f":"IFERROR(__xludf.DUMMYFUNCTION(\"\"\"COMPUTED_VALUE\"\"\"),\"QSIG\")","v":"QSIG"},{"$f":"IFERROR(__xludf.DUMMYFUNCTION(\"\"\"COMPUTED_VALUE\"\"\"),\"QSIG\")","v":"QSIG"},{"$f":"IFERROR(__xludf.DUMMYFUNCTION(\"\"\"COMPUTED_VALUE\"\"\"),\"application/QSIG\")","v":"application/QSIG"},{"$f":"IFERROR(__xludf.DUMMYFUNCTION(\"\"\"COMPUTED_VALUE\"\"\"),\"en\")","v":"en"}]
[{"$f":"IFERROR(__xludf.DUMMYFUNCTION(\"\"\"COMPUTED_VALUE\"\"\"),\"https://www.iana.org/assignments/media-types/application/raptorfec\")","v":"https://www.iana.org/assignments/media-types/application/raptorfec"},{"$f":"IFERROR(__xludf.DUMMYFUNCTION(\"\"\"COMPUTED_VALUE\"\"\"),\"raptorfec\")","v":"raptorfec"},{"$f":"IFERROR(__xludf.DUMMYFUNCTION(\"\"\"COMPUTED_VALUE\"\"\"),\"raptorfec\")","v":"raptorfec"},{"$f":"IFERROR(__xludf.DUMMYFUNCTION(\"\"\"COMPUTED_VALUE\"\"\"),\"application/raptorfec\")","v":"application/raptorfec"},{"$f":"IFERROR(__xludf.DUMMYFUNCTION(\"\"\"COMPUTED_VALUE\"\"\"),\"en\")","v":"en"}]
[{"$f":"IFERROR(__xludf.DUMMYFUNCTION(\"\"\"COMPUTED_VALUE\"\"\"),\"https://www.iana.org/assignments/media-types/application/rdap+json\")","v":"https://www.iana.org/assignments/media-types/application/rdap+json"},{"$f":"IFERROR(__xludf.DUMMYFUNCTION(\"\"\"COMPUTED_VALUE\"\"\"),\"rdap+json\")","v":"rdap+json"},{"$f":"IFERROR(__xludf.DUMMYFUNCTION(\"\"\"COMPUTED_VALUE\"\"\"),\"rdap+json\")","v":"rdap+json"},{"$f":"IFERROR(__xludf.DUMMYFUNCTION(\"\"\"COMPUTED_VALUE\"\"\"),\"application/rdap+json\")","v":"application/rdap+json"},{"$f":"IFERROR(__xludf.DUMMYFUNCTION(\"\"\"COMPUTED_VALUE\"\"\"),\"en\")","v":"en"}]
[{"$f":"IFERROR(__xludf.DUMMYFUNCTION(\"\"\"COMPUTED_VALUE\"\"\"),\"https://www.iana.org/assignments/media-types/application/reginfo+xml\")","v":"https://www.iana.org/assignments/media-types/application/reginfo+xml"},{"$f":"IFERROR(__xludf.DUMMYFUNCTION(\"\"\"COMPUTED_VALUE\"\"\"),\"reginfo+xml\")","v":"reginfo+xml"},{"$f":"IFERROR(__xludf.DUMMYFUNCTION(\"\"\"COMPUTED_VALUE\"\"\"),\"reginfo+xml\")","v":"reginfo+xml"},{"$f":"IFERROR(__xludf.DUMMYFUNCTION(\"\"\"COMPUTED_VALUE\"\"\"),\"application/reginfo+xml\")","v":"application/reginfo+xml"},{"$f":"IFERROR(__xludf.DUMMYFUNCTION(\"\"\"COMPUTED_VALUE\"\"\"),\"en\")","v":"en"}]
[{"$f":"IFERROR(__xludf.DUMMYFUNCTION(\"\"\"COMPUTED_VALUE\"\"\"),\"https://www.iana.org/assignments/media-types/application/relax-ng-compact-syntax\")","v":"https://www.iana.org/assignments/media-types/application/relax-ng-compact-syntax"},{"$f":"IFERROR(__xludf.DUMMYFUNCTION(\"\"\"COMPUTED_VALUE\"\"\"),\"relax-ng-compact-syntax\")","v":"relax-ng-compact-syntax"},{"$f":"IFERROR(__xludf.DUMMYFUNCTION(\"\"\"COMPUTED_VALUE\"\"\"),\"relax-ng-compact-syntax\")","v":"relax-ng-compact-syntax"},{"$f":"IFERROR(__xludf.DUMMYFUNCTION(\"\"\"COMPUTED_VALUE\"\"\"),\"application/relax-ng-compact-syntax\")","v":"application/relax-ng-compact-syntax"},{"$f":"IFERROR(__xludf.DUMMYFUNCTION(\"\"\"COMPUTED_VALUE\"\"\"),\"en\")","v":"en"}]
[{"$f":"IFERROR(__xludf.DUMMYFUNCTION(\"\"\"COMPUTED_VALUE\"\"\"),\"https://www.iana.org/assignments/media-types/application/remote-printing\")","v":"https://www.iana.org/assignments/media-types/application/remote-printing"},{"$f":"IFERROR(__xludf.DUMMYFUNCTION(\"\"\"COMPUTED_VALUE\"\"\"),\"remote-printing (OBSOLETE)\")","v":"remote-printing (OBSOLETE)"},{"$f":"IFERROR(__xludf.DUMMYFUNCTION(\"\"\"COMPUTED_VALUE\"\"\"),\"remote-printing (OBSOLETE)\")","v":"remote-printing (OBSOLETE)"},{"$f":"IFERROR(__xludf.DUMMYFUNCTION(\"\"\"COMPUTED_VALUE\"\"\"),\"application/remote-printing\")","v":"application/remote-printing"},{"$f":"IFERROR(__xludf.DUMMYFUNCTION(\"\"\"COMPUTED_VALUE\"\"\"),\"en\")","v":"en"}]
[{"$f":"IFERROR(__xludf.DUMMYFUNCTION(\"\"\"COMPUTED_VALUE\"\"\"),\"https://www.iana.org/assignments/media-types/application/reputon+json\")","v":"https://www.iana.org/assignments/media-types/application/reputon+json"},{"$f":"IFERROR(__xludf.DUMMYFUNCTION(\"\"\"COMPUTED_VALUE\"\"\"),\"reputon+json\")","v":"reputon+json"},{"$f":"IFERROR(__xludf.DUMMYFUNCTION(\"\"\"COMPUTED_VALUE\"\"\"),\"reputon+json\")","v":"reputon+json"},{"$f":"IFERROR(__xludf.DUMMYFUNCTION(\"\"\"COMPUTED_VALUE\"\"\"),\"application/reputon+json\")","v":"application/reputon+json"},{"$f":"IFERROR(__xludf.DUMMYFUNCTION(\"\"\"COMPUTED_VALUE\"\"\"),\"en\")","v":"en"}]
[{"$f":"IFERROR(__xludf.DUMMYFUNCTION(\"\"\"COMPUTED_VALUE\"\"\"),\"https://www.iana.org/assignments/media-types/application/resource-lists-diff+xml\")","v":"https://www.iana.org/assignments/media-types/application/resource-lists-diff+xml"},{"$f":"IFERROR(__xludf.DUMMYFUNCTION(\"\"\"COMPUTED_VALUE\"\"\"),\"resource-lists-diff+xml\")","v":"resource-lists-diff+xml"},{"$f":"IFERROR(__xludf.DUMMYFUNCTION(\"\"\"COMPUTED_VALUE\"\"\"),\"resource-lists-diff+xml\")","v":"resource-lists-diff+xml"},{"$f":"IFERROR(__xludf.DUMMYFUNCTION(\"\"\"COMPUTED_VALUE\"\"\"),\"application/resource-lists-diff+xml\")","v":"application/resource-lists-diff+xml"},{"$f":"IFERROR(__xludf.DUMMYFUNCTION(\"\"\"COMPUTED_VALUE\"\"\"),\"en\")","v":"en"}]
[{"$f":"IFERROR(__xludf.DUMMYFUNCTION(\"\"\"COMPUTED_VALUE\"\"\"),\"https://www.iana.org/assignments/media-types/application/resource-lists+xml\")","v":"https://www.iana.org/assignments/media-types/application/resource-lists+xml"},{"$f":"IFERROR(__xludf.DUMMYFUNCTION(\"\"\"COMPUTED_VALUE\"\"\"),\"resource-lists+xml\")","v":"resource-lists+xml"},{"$f":"IFERROR(__xludf.DUMMYFUNCTION(\"\"\"COMPUTED_VALUE\"\"\"),\"resource-lists+xml\")","v":"resource-lists+xml"},{"$f":"IFERROR(__xludf.DUMMYFUNCTION(\"\"\"COMPUTED_VALUE\"\"\"),\"application/resource-lists+xml\")","v":"application/resource-lists+xml"},{"$f":"IFERROR(__xludf.DUMMYFUNCTION(\"\"\"COMPUTED_VALUE\"\"\"),\"en\")","v":"en"}]
[{"$f":"IFERROR(__xludf.DUMMYFUNCTION(\"\"\"COMPUTED_VALUE\"\"\"),\"https://www.iana.org/assignments/media-types/application/rfc+xml\")","v":"https://www.iana.org/assignments/media-types/application/rfc+xml"},{"$f":"IFERROR(__xludf.DUMMYFUNCTION(\"\"\"COMPUTED_VALUE\"\"\"),\"rfc+xml\")","v":"rfc+xml"},{"$f":"IFERROR(__xludf.DUMMYFUNCTION(\"\"\"COMPUTED_VALUE\"\"\"),\"rfc+xml\")","v":"rfc+xml"},{"$f":"IFERROR(__xludf.DUMMYFUNCTION(\"\"\"COMPUTED_VALUE\"\"\"),\"application/rfc+xml\")","v":"application/rfc+xml"},{"$f":"IFERROR(__xludf.DUMMYFUNCTION(\"\"\"COMPUTED_VALUE\"\"\"),\"en\")","v":"en"}]
[{"$f":"IFERROR(__xludf.DUMMYFUNCTION(\"\"\"COMPUTED_VALUE\"\"\"),\"https://www.iana.org/assignments/media-types/application/riscos\")","v":"https://www.iana.org/assignments/media-types/application/riscos"},{"$f":"IFERROR(__xludf.DUMMYFUNCTION(\"\"\"COMPUTED_VALUE\"\"\"),\"riscos\")","v":"riscos"},{"$f":"IFERROR(__xludf.DUMMYFUNCTION(\"\"\"COMPUTED_VALUE\"\"\"),\"riscos\")","v":"riscos"},{"$f":"IFERROR(__xludf.DUMMYFUNCTION(\"\"\"COMPUTED_VALUE\"\"\"),\"application/riscos\")","v":"application/riscos"},{"$f":"IFERROR(__xludf.DUMMYFUNCTION(\"\"\"COMPUTED_VALUE\"\"\"),\"en\")","v":"en"}]
[{"$f":"IFERROR(__xludf.DUMMYFUNCTION(\"\"\"COMPUTED_VALUE\"\"\"),\"https://www.iana.org/assignments/media-types/application/rlmi+xml\")","v":"https://www.iana.org/assignments/media-types/application/rlmi+xml"},{"$f":"IFERROR(__xludf.DUMMYFUNCTION(\"\"\"COMPUTED_VALUE\"\"\"),\"rlmi+xml\")","v":"rlmi+xml"},{"$f":"IFERROR(__xludf.DUMMYFUNCTION(\"\"\"COMPUTED_VALUE\"\"\"),\"rlmi+xml\")","v":"rlmi+xml"},{"$f":"IFERROR(__xludf.DUMMYFUNCTION(\"\"\"COMPUTED_VALUE\"\"\"),\"application/rlmi+xml\")","v":"application/rlmi+xml"},{"$f":"IFERROR(__xludf.DUMMYFUNCTION(\"\"\"COMPUTED_VALUE\"\"\"),\"en\")","v":"en"}]
[{"$f":"IFERROR(__xludf.DUMMYFUNCTION(\"\"\"COMPUTED_VALUE\"\"\"),\"https://www.iana.org/assignments/media-types/application/rls-services+xml\")","v":"https://www.iana.org/assignments/media-types/application/rls-services+xml"},{"$f":"IFERROR(__xludf.DUMMYFUNCTION(\"\"\"COMPUTED_VALUE\"\"\"),\"rls-services+xml\")","v":"rls-services+xml"},{"$f":"IFERROR(__xludf.DUMMYFUNCTION(\"\"\"COMPUTED_VALUE\"\"\"),\"rls-services+xml\")","v":"rls-services+xml"},{"$f":"IFERROR(__xludf.DUMMYFUNCTION(\"\"\"COMPUTED_VALUE\"\"\"),\"application/rls-services+xml\")","v":"application/rls-services+xml"},{"$f":"IFERROR(__xludf.DUMMYFUNCTION(\"\"\"COMPUTED_VALUE\"\"\"),\"en\")","v":"en"}]
[{"$f":"IFERROR(__xludf.DUMMYFUNCTION(\"\"\"COMPUTED_VALUE\"\"\"),\"https://www.iana.org/assignments/media-types/application/rpki-checklist\")","v":"https://www.iana.org/assignments/media-types/application/rpki-checklist"},{"$f":"IFERROR(__xludf.DUMMYFUNCTION(\"\"\"COMPUTED_VALUE\"\"\"),\"rpki-checklist\")","v":"rpki-checklist"},{"$f":"IFERROR(__xludf.DUMMYFUNCTION(\"\"\"COMPUTED_VALUE\"\"\"),\"rpki-checklist\")","v":"rpki-checklist"},{"$f":"IFERROR(__xludf.DUMMYFUNCTION(\"\"\"COMPUTED_VALUE\"\"\"),\"application/rpki-checklist\")","v":"application/rpki-checklist"},{"$f":"IFERROR(__xludf.DUMMYFUNCTION(\"\"\"COMPUTED_VALUE\"\"\"),\"en\")","v":"en"}]
[{"$f":"IFERROR(__xludf.DUMMYFUNCTION(\"\"\"COMPUTED_VALUE\"\"\"),\"https://www.iana.org/assignments/media-types/application/rpki-ghostbusters\")","v":"https://www.iana.org/assignments/media-types/application/rpki-ghostbusters"},{"$f":"IFERROR(__xludf.DUMMYFUNCTION(\"\"\"COMPUTED_VALUE\"\"\"),\"rpki-ghostbusters\")","v":"rpki-ghostbusters"},{"$f":"IFERROR(__xludf.DUMMYFUNCTION(\"\"\"COMPUTED_VALUE\"\"\"),\"rpki-ghostbusters\")","v":"rpki-ghostbusters"},{"$f":"IFERROR(__xludf.DUMMYFUNCTION(\"\"\"COMPUTED_VALUE\"\"\"),\"application/rpki-ghostbusters\")","v":"application/rpki-ghostbusters"},{"$f":"IFERROR(__xludf.DUMMYFUNCTION(\"\"\"COMPUTED_VALUE\"\"\"),\"en\")","v":"en"}]
[{"$f":"IFERROR(__xludf.DUMMYFUNCTION(\"\"\"COMPUTED_VALUE\"\"\"),\"https://www.iana.org/assignments/media-types/application/rpki-manifest\")","v":"https://www.iana.org/assignments/media-types/application/rpki-manifest"},{"$f":"IFERROR(__xludf.DUMMYFUNCTION(\"\"\"COMPUTED_VALUE\"\"\"),\"rpki-manifest\")","v":"rpki-manifest"},{"$f":"IFERROR(__xludf.DUMMYFUNCTION(\"\"\"COMPUTED_VALUE\"\"\"),\"rpki-manifest\")","v":"rpki-manifest"},{"$f":"IFERROR(__xludf.DUMMYFUNCTION(\"\"\"COMPUTED_VALUE\"\"\"),\"application/rpki-manifest\")","v":"application/rpki-manifest"},{"$f":"IFERROR(__xludf.DUMMYFUNCTION(\"\"\"COMPUTED_VALUE\"\"\"),\"en\")","v":"en"}]
[{"$f":"IFERROR(__xludf.DUMMYFUNCTION(\"\"\"COMPUTED_VALUE\"\"\"),\"https://www.iana.org/assignments/media-types/application/rpki-publication\")","v":"https://www.iana.org/assignments/media-types/application/rpki-publication"},{"$f":"IFERROR(__xludf.DUMMYFUNCTION(\"\"\"COMPUTED_VALUE\"\"\"),\"rpki-publication\")","v":"rpki-publication"},{"$f":"IFERROR(__xludf.DUMMYFUNCTION(\"\"\"COMPUTED_VALUE\"\"\"),\"rpki-publication\")","v":"rpki-publication"},{"$f":"IFERROR(__xludf.DUMMYFUNCTION(\"\"\"COMPUTED_VALUE\"\"\"),\"application/rpki-publication\")","v":"application/rpki-publication"},{"$f":"IFERROR(__xludf.DUMMYFUNCTION(\"\"\"COMPUTED_VALUE\"\"\"),\"en\")","v":"en"}]
[{"$f":"IFERROR(__xludf.DUMMYFUNCTION(\"\"\"COMPUTED_VALUE\"\"\"),\"https://www.iana.org/assignments/media-types/application/rpki-roa\")","v":"https://www.iana.org/assignments/media-types/application/rpki-roa"},{"$f":"IFERROR(__xludf.DUMMYFUNCTION(\"\"\"COMPUTED_VALUE\"\"\"),\"rpki-roa\")","v":"rpki-roa"},{"$f":"IFERROR(__xludf.DUMMYFUNCTION(\"\"\"COMPUTED_VALUE\"\"\"),\"rpki-roa\")","v":"rpki-roa"},{"$f":"IFERROR(__xludf.DUMMYFUNCTION(\"\"\"COMPUTED_VALUE\"\"\"),\"application/rpki-roa\")","v":"application/rpki-roa"},{"$f":"IFERROR(__xludf.DUMMYFUNCTION(\"\"\"COMPUTED_VALUE\"\"\"),\"en\")","v":"en"}]
[{"$f":"IFERROR(__xludf.DUMMYFUNCTION(\"\"\"COMPUTED_VALUE\"\"\"),\"https://www.iana.org/assignments/media-types/application/rpki-updown\")","v":"https://www.iana.org/assignments/media-types/application/rpki-updown"},{"$f":"IFERROR(__xludf.DUMMYFUNCTION(\"\"\"COMPUTED_VALUE\"\"\"),\"rpki-updown\")","v":"rpki-updown"},{"$f":"IFERROR(__xludf.DUMMYFUNCTION(\"\"\"COMPUTED_VALUE\"\"\"),\"rpki-updown\")","v":"rpki-updown"},{"$f":"IFERROR(__xludf.DUMMYFUNCTION(\"\"\"COMPUTED_VALUE\"\"\"),\"application/rpki-updown\")","v":"application/rpki-updown"},{"$f":"IFERROR(__xludf.DUMMYFUNCTION(\"\"\"COMPUTED_VALUE\"\"\"),\"en\")","v":"en"}]
[{"$f":"IFERROR(__xludf.DUMMYFUNCTION(\"\"\"COMPUTED_VALUE\"\"\"),\"https://www.iana.org/assignments/media-types/application/rtf\")","v":"https://www.iana.org/assignments/media-types/application/rtf"},{"$f":"IFERROR(__xludf.DUMMYFUNCTION(\"\"\"COMPUTED_VALUE\"\"\"),\"rtf\")","v":"rtf"},{"$f":"IFERROR(__xludf.DUMMYFUNCTION(\"\"\"COMPUTED_VALUE\"\"\"),\"rtf\")","v":"rtf"},{"$f":"IFERROR(__xludf.DUMMYFUNCTION(\"\"\"COMPUTED_VALUE\"\"\"),\"application/rtf\")","v":"application/rtf"},{"$f":"IFERROR(__xludf.DUMMYFUNCTION(\"\"\"COMPUTED_VALUE\"\"\"),\"en\")","v":"en"}]
[{"$f":"IFERROR(__xludf.DUMMYFUNCTION(\"\"\"COMPUTED_VALUE\"\"\"),\"https://www.iana.org/assignments/media-types/application/rtploopback\")","v":"https://www.iana.org/assignments/media-types/application/rtploopback"},{"$f":"IFERROR(__xludf.DUMMYFUNCTION(\"\"\"COMPUTED_VALUE\"\"\"),\"rtploopback\")","v":"rtploopback"},{"$f":"IFERROR(__xludf.DUMMYFUNCTION(\"\"\"COMPUTED_VALUE\"\"\"),\"rtploopback\")","v":"rtploopback"},{"$f":"IFERROR(__xludf.DUMMYFUNCTION(\"\"\"COMPUTED_VALUE\"\"\"),\"application/rtploopback\")","v":"application/rtploopback"},{"$f":"IFERROR(__xludf.DUMMYFUNCTION(\"\"\"COMPUTED_VALUE\"\"\"),\"en\")","v":"en"}]
[{"$f":"IFERROR(__xludf.DUMMYFUNCTION(\"\"\"COMPUTED_VALUE\"\"\"),\"https://www.iana.org/assignments/media-types/application/rtx\")","v":"https://www.iana.org/assignments/media-types/application/rtx"},{"$f":"IFERROR(__xludf.DUMMYFUNCTION(\"\"\"COMPUTED_VALUE\"\"\"),\"rtx\")","v":"rtx"},{"$f":"IFERROR(__xludf.DUMMYFUNCTION(\"\"\"COMPUTED_VALUE\"\"\"),\"rtx\")","v":"rtx"},{"$f":"IFERROR(__xludf.DUMMYFUNCTION(\"\"\"COMPUTED_VALUE\"\"\"),\"application/rtx\")","v":"application/rtx"},{"$f":"IFERROR(__xludf.DUMMYFUNCTION(\"\"\"COMPUTED_VALUE\"\"\"),\"en\")","v":"en"}]
[{"$f":"IFERROR(__xludf.DUMMYFUNCTION(\"\"\"COMPUTED_VALUE\"\"\"),\"https://www.iana.org/assignments/media-types/application/samlassertion+xml\")","v":"https://www.iana.org/assignments/media-types/application/samlassertion+xml"},{"$f":"IFERROR(__xludf.DUMMYFUNCTION(\"\"\"COMPUTED_VALUE\"\"\"),\"samlassertion+xml\")","v":"samlassertion+xml"},{"$f":"IFERROR(__xludf.DUMMYFUNCTION(\"\"\"COMPUTED_VALUE\"\"\"),\"samlassertion+xml\")","v":"samlassertion+xml"},{"$f":"IFERROR(__xludf.DUMMYFUNCTION(\"\"\"COMPUTED_VALUE\"\"\"),\"application/samlassertion+xml\")","v":"application/samlassertion+xml"},{"$f":"IFERROR(__xludf.DUMMYFUNCTION(\"\"\"COMPUTED_VALUE\"\"\"),\"en\")","v":"en"}]
[{"$f":"IFERROR(__xludf.DUMMYFUNCTION(\"\"\"COMPUTED_VALUE\"\"\"),\"https://www.iana.org/assignments/media-types/application/samlmetadata+xml\")","v":"https://www.iana.org/assignments/media-types/application/samlmetadata+xml"},{"$f":"IFERROR(__xludf.DUMMYFUNCTION(\"\"\"COMPUTED_VALUE\"\"\"),\"samlmetadata+xml\")","v":"samlmetadata+xml"},{"$f":"IFERROR(__xludf.DUMMYFUNCTION(\"\"\"COMPUTED_VALUE\"\"\"),\"samlmetadata+xml\")","v":"samlmetadata+xml"},{"$f":"IFERROR(__xludf.DUMMYFUNCTION(\"\"\"COMPUTED_VALUE\"\"\"),\"application/samlmetadata+xml\")","v":"application/samlmetadata+xml"},{"$f":"IFERROR(__xludf.DUMMYFUNCTION(\"\"\"COMPUTED_VALUE\"\"\"),\"en\")","v":"en"}]
[{"$f":"IFERROR(__xludf.DUMMYFUNCTION(\"\"\"COMPUTED_VALUE\"\"\"),\"https://www.iana.org/assignments/media-types/application/sarif-external-properties+json\")","v":"https://www.iana.org/assignments/media-types/application/sarif-external-properties+json"},{"$f":"IFERROR(__xludf.DUMMYFUNCTION(\"\"\"COMPUTED_VALUE\"\"\"),\"sarif-external-properties+json\")","v":"sarif-external-properties+json"},{"$f":"IFERROR(__xludf.DUMMYFUNCTION(\"\"\"COMPUTED_VALUE\"\"\"),\"sarif-external-properties+json\")","v":"sarif-external-properties+json"},{"$f":"IFERROR(__xludf.DUMMYFUNCTION(\"\"\"COMPUTED_VALUE\"\"\"),\"application/sarif-external-properties+json\")","v":"application/sarif-external-properties+json"},{"$f":"IFERROR(__xludf.DUMMYFUNCTION(\"\"\"COMPUTED_VALUE\"\"\"),\"en\")","v":"en"}]
[{"$f":"IFERROR(__xludf.DUMMYFUNCTION(\"\"\"COMPUTED_VALUE\"\"\"),\"https://www.iana.org/assignments/media-types/application/sarif+json\")","v":"https://www.iana.org/assignments/media-types/application/sarif+json"},{"$f":"IFERROR(__xludf.DUMMYFUNCTION(\"\"\"COMPUTED_VALUE\"\"\"),\"sarif+json\")","v":"sarif+json"},{"$f":"IFERROR(__xludf.DUMMYFUNCTION(\"\"\"COMPUTED_VALUE\"\"\"),\"sarif+json\")","v":"sarif+json"},{"$f":"IFERROR(__xludf.DUMMYFUNCTION(\"\"\"COMPUTED_VALUE\"\"\"),\"application/sarif+json\")","v":"application/sarif+json"},{"$f":"IFERROR(__xludf.DUMMYFUNCTION(\"\"\"COMPUTED_VALUE\"\"\"),\"en\")","v":"en"}]
[{"$f":"IFERROR(__xludf.DUMMYFUNCTION(\"\"\"COMPUTED_VALUE\"\"\"),\"https://www.iana.org/assignments/media-types/application/sbe\")","v":"https://www.iana.org/assignments/media-types/application/sbe"},{"$f":"IFERROR(__xludf.DUMMYFUNCTION(\"\"\"COMPUTED_VALUE\"\"\"),\"sbe\")","v":"sbe"},{"$f":"IFERROR(__xludf.DUMMYFUNCTION(\"\"\"COMPUTED_VALUE\"\"\"),\"sbe\")","v":"sbe"},{"$f":"IFERROR(__xludf.DUMMYFUNCTION(\"\"\"COMPUTED_VALUE\"\"\"),\"application/sbe\")","v":"application/sbe"},{"$f":"IFERROR(__xludf.DUMMYFUNCTION(\"\"\"COMPUTED_VALUE\"\"\"),\"en\")","v":"en"}]
[{"$f":"IFERROR(__xludf.DUMMYFUNCTION(\"\"\"COMPUTED_VALUE\"\"\"),\"https://www.iana.org/assignments/media-types/application/sbml+xml\")","v":"https://www.iana.org/assignments/media-types/application/sbml+xml"},{"$f":"IFERROR(__xludf.DUMMYFUNCTION(\"\"\"COMPUTED_VALUE\"\"\"),\"sbml+xml\")","v":"sbml+xml"},{"$f":"IFERROR(__xludf.DUMMYFUNCTION(\"\"\"COMPUTED_VALUE\"\"\"),\"sbml+xml\")","v":"sbml+xml"},{"$f":"IFERROR(__xludf.DUMMYFUNCTION(\"\"\"COMPUTED_VALUE\"\"\"),\"application/sbml+xml\")","v":"application/sbml+xml"},{"$f":"IFERROR(__xludf.DUMMYFUNCTION(\"\"\"COMPUTED_VALUE\"\"\"),\"en\")","v":"en"}]
[{"$f":"IFERROR(__xludf.DUMMYFUNCTION(\"\"\"COMPUTED_VALUE\"\"\"),\"https://www.iana.org/assignments/media-types/application/scaip+xml\")","v":"https://www.iana.org/assignments/media-types/application/scaip+xml"},{"$f":"IFERROR(__xludf.DUMMYFUNCTION(\"\"\"COMPUTED_VALUE\"\"\"),\"scaip+xml\")","v":"scaip+xml"},{"$f":"IFERROR(__xludf.DUMMYFUNCTION(\"\"\"COMPUTED_VALUE\"\"\"),\"scaip+xml\")","v":"scaip+xml"},{"$f":"IFERROR(__xludf.DUMMYFUNCTION(\"\"\"COMPUTED_VALUE\"\"\"),\"application/scaip+xml\")","v":"application/scaip+xml"},{"$f":"IFERROR(__xludf.DUMMYFUNCTION(\"\"\"COMPUTED_VALUE\"\"\"),\"en\")","v":"en"}]
[{"$f":"IFERROR(__xludf.DUMMYFUNCTION(\"\"\"COMPUTED_VALUE\"\"\"),\"https://www.iana.org/assignments/media-types/application/scim+json\")","v":"https://www.iana.org/assignments/media-types/application/scim+json"},{"$f":"IFERROR(__xludf.DUMMYFUNCTION(\"\"\"COMPUTED_VALUE\"\"\"),\"scim+json\")","v":"scim+json"},{"$f":"IFERROR(__xludf.DUMMYFUNCTION(\"\"\"COMPUTED_VALUE\"\"\"),\"scim+json\")","v":"scim+json"},{"$f":"IFERROR(__xludf.DUMMYFUNCTION(\"\"\"COMPUTED_VALUE\"\"\"),\"application/scim+json\")","v":"application/scim+json"},{"$f":"IFERROR(__xludf.DUMMYFUNCTION(\"\"\"COMPUTED_VALUE\"\"\"),\"en\")","v":"en"}]
[{"$f":"IFERROR(__xludf.DUMMYFUNCTION(\"\"\"COMPUTED_VALUE\"\"\"),\"https://www.iana.org/assignments/media-types/application/scvp-cv-request\")","v":"https://www.iana.org/assignments/media-types/application/scvp-cv-request"},{"$f":"IFERROR(__xludf.DUMMYFUNCTION(\"\"\"COMPUTED_VALUE\"\"\"),\"scvp-cv-request\")","v":"scvp-cv-request"},{"$f":"IFERROR(__xludf.DUMMYFUNCTION(\"\"\"COMPUTED_VALUE\"\"\"),\"scvp-cv-request\")","v":"scvp-cv-request"},{"$f":"IFERROR(__xludf.DUMMYFUNCTION(\"\"\"COMPUTED_VALUE\"\"\"),\"application/scvp-cv-request\")","v":"application/scvp-cv-request"},{"$f":"IFERROR(__xludf.DUMMYFUNCTION(\"\"\"COMPUTED_VALUE\"\"\"),\"en\")","v":"en"}]
[{"$f":"IFERROR(__xludf.DUMMYFUNCTION(\"\"\"COMPUTED_VALUE\"\"\"),\"https://www.iana.org/assignments/media-types/application/scvp-cv-response\")","v":"https://www.iana.org/assignments/media-types/application/scvp-cv-response"},{"$f":"IFERROR(__xludf.DUMMYFUNCTION(\"\"\"COMPUTED_VALUE\"\"\"),\"scvp-cv-response\")","v":"scvp-cv-response"},{"$f":"IFERROR(__xludf.DUMMYFUNCTION(\"\"\"COMPUTED_VALUE\"\"\"),\"scvp-cv-response\")","v":"scvp-cv-response"},{"$f":"IFERROR(__xludf.DUMMYFUNCTION(\"\"\"COMPUTED_VALUE\"\"\"),\"application/scvp-cv-response\")","v":"application/scvp-cv-response"},{"$f":"IFERROR(__xludf.DUMMYFUNCTION(\"\"\"COMPUTED_VALUE\"\"\"),\"en\")","v":"en"}]
[{"$f":"IFERROR(__xludf.DUMMYFUNCTION(\"\"\"COMPUTED_VALUE\"\"\"),\"https://www.iana.org/assignments/media-types/application/scvp-vp-request\")","v":"https://www.iana.org/assignments/media-types/application/scvp-vp-request"},{"$f":"IFERROR(__xludf.DUMMYFUNCTION(\"\"\"COMPUTED_VALUE\"\"\"),\"scvp-vp-request\")","v":"scvp-vp-request"},{"$f":"IFERROR(__xludf.DUMMYFUNCTION(\"\"\"COMPUTED_VALUE\"\"\"),\"scvp-vp-request\")","v":"scvp-vp-request"},{"$f":"IFERROR(__xludf.DUMMYFUNCTION(\"\"\"COMPUTED_VALUE\"\"\"),\"application/scvp-vp-request\")","v":"application/scvp-vp-request"},{"$f":"IFERROR(__xludf.DUMMYFUNCTION(\"\"\"COMPUTED_VALUE\"\"\"),\"en\")","v":"en"}]
[{"$f":"IFERROR(__xludf.DUMMYFUNCTION(\"\"\"COMPUTED_VALUE\"\"\"),\"https://www.iana.org/assignments/media-types/application/scvp-vp-response\")","v":"https://www.iana.org/assignments/media-types/application/scvp-vp-response"},{"$f":"IFERROR(__xludf.DUMMYFUNCTION(\"\"\"COMPUTED_VALUE\"\"\"),\"scvp-vp-response\")","v":"scvp-vp-response"},{"$f":"IFERROR(__xludf.DUMMYFUNCTION(\"\"\"COMPUTED_VALUE\"\"\"),\"scvp-vp-response\")","v":"scvp-vp-response"},{"$f":"IFERROR(__xludf.DUMMYFUNCTION(\"\"\"COMPUTED_VALUE\"\"\"),\"application/scvp-vp-response\")","v":"application/scvp-vp-response"},{"$f":"IFERROR(__xludf.DUMMYFUNCTION(\"\"\"COMPUTED_VALUE\"\"\"),\"en\")","v":"en"}]
[{"$f":"IFERROR(__xludf.DUMMYFUNCTION(\"\"\"COMPUTED_VALUE\"\"\"),\"https://www.iana.org/assignments/media-types/application/sdp\")","v":"https://www.iana.org/assignments/media-types/application/sdp"},{"$f":"IFERROR(__xludf.DUMMYFUNCTION(\"\"\"COMPUTED_VALUE\"\"\"),\"sdp\")","v":"sdp"},{"$f":"IFERROR(__xludf.DUMMYFUNCTION(\"\"\"COMPUTED_VALUE\"\"\"),\"sdp\")","v":"sdp"},{"$f":"IFERROR(__xludf.DUMMYFUNCTION(\"\"\"COMPUTED_VALUE\"\"\"),\"application/sdp\")","v":"application/sdp"},{"$f":"IFERROR(__xludf.DUMMYFUNCTION(\"\"\"COMPUTED_VALUE\"\"\"),\"en\")","v":"en"}]
[{"$f":"IFERROR(__xludf.DUMMYFUNCTION(\"\"\"COMPUTED_VALUE\"\"\"),\"https://www.iana.org/assignments/media-types/application/secevent+jwt\")","v":"https://www.iana.org/assignments/media-types/application/secevent+jwt"},{"$f":"IFERROR(__xludf.DUMMYFUNCTION(\"\"\"COMPUTED_VALUE\"\"\"),\"secevent+jwt\")","v":"secevent+jwt"},{"$f":"IFERROR(__xludf.DUMMYFUNCTION(\"\"\"COMPUTED_VALUE\"\"\"),\"secevent+jwt\")","v":"secevent+jwt"},{"$f":"IFERROR(__xludf.DUMMYFUNCTION(\"\"\"COMPUTED_VALUE\"\"\"),\"application/secevent+jwt\")","v":"application/secevent+jwt"},{"$f":"IFERROR(__xludf.DUMMYFUNCTION(\"\"\"COMPUTED_VALUE\"\"\"),\"en\")","v":"en"}]
[{"$f":"IFERROR(__xludf.DUMMYFUNCTION(\"\"\"COMPUTED_VALUE\"\"\"),\"https://www.iana.org/assignments/media-types/application/senml-etch+cbor\")","v":"https://www.iana.org/assignments/media-types/application/senml-etch+cbor"},{"$f":"IFERROR(__xludf.DUMMYFUNCTION(\"\"\"COMPUTED_VALUE\"\"\"),\"senml-etch+cbor\")","v":"senml-etch+cbor"},{"$f":"IFERROR(__xludf.DUMMYFUNCTION(\"\"\"COMPUTED_VALUE\"\"\"),\"senml-etch+cbor\")","v":"senml-etch+cbor"},{"$f":"IFERROR(__xludf.DUMMYFUNCTION(\"\"\"COMPUTED_VALUE\"\"\"),\"application/senml-etch+cbor\")","v":"application/senml-etch+cbor"},{"$f":"IFERROR(__xludf.DUMMYFUNCTION(\"\"\"COMPUTED_VALUE\"\"\"),\"en\")","v":"en"}]
[{"$f":"IFERROR(__xludf.DUMMYFUNCTION(\"\"\"COMPUTED_VALUE\"\"\"),\"https://www.iana.org/assignments/media-types/application/senml-etch+json\")","v":"https://www.iana.org/assignments/media-types/application/senml-etch+json"},{"$f":"IFERROR(__xludf.DUMMYFUNCTION(\"\"\"COMPUTED_VALUE\"\"\"),\"senml-etch+json\")","v":"senml-etch+json"},{"$f":"IFERROR(__xludf.DUMMYFUNCTION(\"\"\"COMPUTED_VALUE\"\"\"),\"senml-etch+json\")","v":"senml-etch+json"},{"$f":"IFERROR(__xludf.DUMMYFUNCTION(\"\"\"COMPUTED_VALUE\"\"\"),\"application/senml-etch+json\")","v":"application/senml-etch+json"},{"$f":"IFERROR(__xludf.DUMMYFUNCTION(\"\"\"COMPUTED_VALUE\"\"\"),\"en\")","v":"en"}]
[{"$f":"IFERROR(__xludf.DUMMYFUNCTION(\"\"\"COMPUTED_VALUE\"\"\"),\"https://www.iana.org/assignments/media-types/application/senml-exi\")","v":"https://www.iana.org/assignments/media-types/application/senml-exi"},{"$f":"IFERROR(__xludf.DUMMYFUNCTION(\"\"\"COMPUTED_VALUE\"\"\"),\"senml-exi\")","v":"senml-exi"},{"$f":"IFERROR(__xludf.DUMMYFUNCTION(\"\"\"COMPUTED_VALUE\"\"\"),\"senml-exi\")","v":"senml-exi"},{"$f":"IFERROR(__xludf.DUMMYFUNCTION(\"\"\"COMPUTED_VALUE\"\"\"),\"application/senml-exi\")","v":"application/senml-exi"},{"$f":"IFERROR(__xludf.DUMMYFUNCTION(\"\"\"COMPUTED_VALUE\"\"\"),\"en\")","v":"en"}]
[{"$f":"IFERROR(__xludf.DUMMYFUNCTION(\"\"\"COMPUTED_VALUE\"\"\"),\"https://www.iana.org/assignments/media-types/application/senml+cbor\")","v":"https://www.iana.org/assignments/media-types/application/senml+cbor"},{"$f":"IFERROR(__xludf.DUMMYFUNCTION(\"\"\"COMPUTED_VALUE\"\"\"),\"senml+cbor\")","v":"senml+cbor"},{"$f":"IFERROR(__xludf.DUMMYFUNCTION(\"\"\"COMPUTED_VALUE\"\"\"),\"senml+cbor\")","v":"senml+cbor"},{"$f":"IFERROR(__xludf.DUMMYFUNCTION(\"\"\"COMPUTED_VALUE\"\"\"),\"application/senml+cbor\")","v":"application/senml+cbor"},{"$f":"IFERROR(__xludf.DUMMYFUNCTION(\"\"\"COMPUTED_VALUE\"\"\"),\"en\")","v":"en"}]
[{"$f":"IFERROR(__xludf.DUMMYFUNCTION(\"\"\"COMPUTED_VALUE\"\"\"),\"https://www.iana.org/assignments/media-types/application/senml+json\")","v":"https://www.iana.org/assignments/media-types/application/senml+json"},{"$f":"IFERROR(__xludf.DUMMYFUNCTION(\"\"\"COMPUTED_VALUE\"\"\"),\"senml+json\")","v":"senml+json"},{"$f":"IFERROR(__xludf.DUMMYFUNCTION(\"\"\"COMPUTED_VALUE\"\"\"),\"senml+json\")","v":"senml+json"},{"$f":"IFERROR(__xludf.DUMMYFUNCTION(\"\"\"COMPUTED_VALUE\"\"\"),\"application/senml+json\")","v":"application/senml+json"},{"$f":"IFERROR(__xludf.DUMMYFUNCTION(\"\"\"COMPUTED_VALUE\"\"\"),\"en\")","v":"en"}]
[{"$f":"IFERROR(__xludf.DUMMYFUNCTION(\"\"\"COMPUTED_VALUE\"\"\"),\"https://www.iana.org/assignments/media-types/application/senml+xml\")","v":"https://www.iana.org/assignments/media-types/application/senml+xml"},{"$f":"IFERROR(__xludf.DUMMYFUNCTION(\"\"\"COMPUTED_VALUE\"\"\"),\"senml+xml\")","v":"senml+xml"},{"$f":"IFERROR(__xludf.DUMMYFUNCTION(\"\"\"COMPUTED_VALUE\"\"\"),\"senml+xml\")","v":"senml+xml"},{"$f":"IFERROR(__xludf.DUMMYFUNCTION(\"\"\"COMPUTED_VALUE\"\"\"),\"application/senml+xml\")","v":"application/senml+xml"},{"$f":"IFERROR(__xludf.DUMMYFUNCTION(\"\"\"COMPUTED_VALUE\"\"\"),\"en\")","v":"en"}]
[{"$f":"IFERROR(__xludf.DUMMYFUNCTION(\"\"\"COMPUTED_VALUE\"\"\"),\"https://www.iana.org/assignments/media-types/application/sensml-exi\")","v":"https://www.iana.org/assignments/media-types/application/sensml-exi"},{"$f":"IFERROR(__xludf.DUMMYFUNCTION(\"\"\"COMPUTED_VALUE\"\"\"),\"sensml-exi\")","v":"sensml-exi"},{"$f":"IFERROR(__xludf.DUMMYFUNCTION(\"\"\"COMPUTED_VALUE\"\"\"),\"sensml-exi\")","v":"sensml-exi"},{"$f":"IFERROR(__xludf.DUMMYFUNCTION(\"\"\"COMPUTED_VALUE\"\"\"),\"application/sensml-exi\")","v":"application/sensml-exi"},{"$f":"IFERROR(__xludf.DUMMYFUNCTION(\"\"\"COMPUTED_VALUE\"\"\"),\"en\")","v":"en"}]
[{"$f":"IFERROR(__xludf.DUMMYFUNCTION(\"\"\"COMPUTED_VALUE\"\"\"),\"https://www.iana.org/assignments/media-types/application/sensml+cbor\")","v":"https://www.iana.org/assignments/media-types/application/sensml+cbor"},{"$f":"IFERROR(__xludf.DUMMYFUNCTION(\"\"\"COMPUTED_VALUE\"\"\"),\"sensml+cbor\")","v":"sensml+cbor"},{"$f":"IFERROR(__xludf.DUMMYFUNCTION(\"\"\"COMPUTED_VALUE\"\"\"),\"sensml+cbor\")","v":"sensml+cbor"},{"$f":"IFERROR(__xludf.DUMMYFUNCTION(\"\"\"COMPUTED_VALUE\"\"\"),\"application/sensml+cbor\")","v":"application/sensml+cbor"},{"$f":"IFERROR(__xludf.DUMMYFUNCTION(\"\"\"COMPUTED_VALUE\"\"\"),\"en\")","v":"en"}]
[{"$f":"IFERROR(__xludf.DUMMYFUNCTION(\"\"\"COMPUTED_VALUE\"\"\"),\"https://www.iana.org/assignments/media-types/application/sensml+json\")","v":"https://www.iana.org/assignments/media-types/application/sensml+json"},{"$f":"IFERROR(__xludf.DUMMYFUNCTION(\"\"\"COMPUTED_VALUE\"\"\"),\"sensml+json\")","v":"sensml+json"},{"$f":"IFERROR(__xludf.DUMMYFUNCTION(\"\"\"COMPUTED_VALUE\"\"\"),\"sensml+json\")","v":"sensml+json"},{"$f":"IFERROR(__xludf.DUMMYFUNCTION(\"\"\"COMPUTED_VALUE\"\"\"),\"application/sensml+json\")","v":"application/sensml+json"},{"$f":"IFERROR(__xludf.DUMMYFUNCTION(\"\"\"COMPUTED_VALUE\"\"\"),\"en\")","v":"en"}]
[{"$f":"IFERROR(__xludf.DUMMYFUNCTION(\"\"\"COMPUTED_VALUE\"\"\"),\"https://www.iana.org/assignments/media-types/application/sensml+xml\")","v":"https://www.iana.org/assignments/media-types/application/sensml+xml"},{"$f":"IFERROR(__xludf.DUMMYFUNCTION(\"\"\"COMPUTED_VALUE\"\"\"),\"sensml+xml\")","v":"sensml+xml"},{"$f":"IFERROR(__xludf.DUMMYFUNCTION(\"\"\"COMPUTED_VALUE\"\"\"),\"sensml+xml\")","v":"sensml+xml"},{"$f":"IFERROR(__xludf.DUMMYFUNCTION(\"\"\"COMPUTED_VALUE\"\"\"),\"application/sensml+xml\")","v":"application/sensml+xml"},{"$f":"IFERROR(__xludf.DUMMYFUNCTION(\"\"\"COMPUTED_VALUE\"\"\"),\"en\")","v":"en"}]
[{"$f":"IFERROR(__xludf.DUMMYFUNCTION(\"\"\"COMPUTED_VALUE\"\"\"),\"https://www.iana.org/assignments/media-types/application/sep-exi\")","v":"https://www.iana.org/assignments/media-types/application/sep-exi"},{"$f":"IFERROR(__xludf.DUMMYFUNCTION(\"\"\"COMPUTED_VALUE\"\"\"),\"sep-exi\")","v":"sep-exi"},{"$f":"IFERROR(__xludf.DUMMYFUNCTION(\"\"\"COMPUTED_VALUE\"\"\"),\"sep-exi\")","v":"sep-exi"},{"$f":"IFERROR(__xludf.DUMMYFUNCTION(\"\"\"COMPUTED_VALUE\"\"\"),\"application/sep-exi\")","v":"application/sep-exi"},{"$f":"IFERROR(__xludf.DUMMYFUNCTION(\"\"\"COMPUTED_VALUE\"\"\"),\"en\")","v":"en"}]
[{"$f":"IFERROR(__xludf.DUMMYFUNCTION(\"\"\"COMPUTED_VALUE\"\"\"),\"https://www.iana.org/assignments/media-types/application/sep+xml\")","v":"https://www.iana.org/assignments/media-types/application/sep+xml"},{"$f":"IFERROR(__xludf.DUMMYFUNCTION(\"\"\"COMPUTED_VALUE\"\"\"),\"sep+xml\")","v":"sep+xml"},{"$f":"IFERROR(__xludf.DUMMYFUNCTION(\"\"\"COMPUTED_VALUE\"\"\"),\"sep+xml\")","v":"sep+xml"},{"$f":"IFERROR(__xludf.DUMMYFUNCTION(\"\"\"COMPUTED_VALUE\"\"\"),\"application/sep+xml\")","v":"application/sep+xml"},{"$f":"IFERROR(__xludf.DUMMYFUNCTION(\"\"\"COMPUTED_VALUE\"\"\"),\"en\")","v":"en"}]
[{"$f":"IFERROR(__xludf.DUMMYFUNCTION(\"\"\"COMPUTED_VALUE\"\"\"),\"https://www.iana.org/assignments/media-types/application/session-info\")","v":"https://www.iana.org/assignments/media-types/application/session-info"},{"$f":"IFERROR(__xludf.DUMMYFUNCTION(\"\"\"COMPUTED_VALUE\"\"\"),\"session-info\")","v":"session-info"},{"$f":"IFERROR(__xludf.DUMMYFUNCTION(\"\"\"COMPUTED_VALUE\"\"\"),\"session-info\")","v":"session-info"},{"$f":"IFERROR(__xludf.DUMMYFUNCTION(\"\"\"COMPUTED_VALUE\"\"\"),\"application/session-info\")","v":"application/session-info"},{"$f":"IFERROR(__xludf.DUMMYFUNCTION(\"\"\"COMPUTED_VALUE\"\"\"),\"en\")","v":"en"}]
[{"$f":"IFERROR(__xludf.DUMMYFUNCTION(\"\"\"COMPUTED_VALUE\"\"\"),\"https://www.iana.org/assignments/media-types/application/set-payment\")","v":"https://www.iana.org/assignments/media-types/application/set-payment"},{"$f":"IFERROR(__xludf.DUMMYFUNCTION(\"\"\"COMPUTED_VALUE\"\"\"),\"set-payment\")","v":"set-payment"},{"$f":"IFERROR(__xludf.DUMMYFUNCTION(\"\"\"COMPUTED_VALUE\"\"\"),\"set-payment\")","v":"set-payment"},{"$f":"IFERROR(__xludf.DUMMYFUNCTION(\"\"\"COMPUTED_VALUE\"\"\"),\"application/set-payment\")","v":"application/set-payment"},{"$f":"IFERROR(__xludf.DUMMYFUNCTION(\"\"\"COMPUTED_VALUE\"\"\"),\"en\")","v":"en"}]
[{"$f":"IFERROR(__xludf.DUMMYFUNCTION(\"\"\"COMPUTED_VALUE\"\"\"),\"https://www.iana.org/assignments/media-types/application/set-payment-initiation\")","v":"https://www.iana.org/assignments/media-types/application/set-payment-initiation"},{"$f":"IFERROR(__xludf.DUMMYFUNCTION(\"\"\"COMPUTED_VALUE\"\"\"),\"set-payment-initiation\")","v":"set-payment-initiation"},{"$f":"IFERROR(__xludf.DUMMYFUNCTION(\"\"\"COMPUTED_VALUE\"\"\"),\"set-payment-initiation\")","v":"set-payment-initiation"},{"$f":"IFERROR(__xludf.DUMMYFUNCTION(\"\"\"COMPUTED_VALUE\"\"\"),\"application/set-payment-initiation\")","v":"application/set-payment-initiation"},{"$f":"IFERROR(__xludf.DUMMYFUNCTION(\"\"\"COMPUTED_VALUE\"\"\"),\"en\")","v":"en"}]
[{"$f":"IFERROR(__xludf.DUMMYFUNCTION(\"\"\"COMPUTED_VALUE\"\"\"),\"https://www.iana.org/assignments/media-types/application/set-registration\")","v":"https://www.iana.org/assignments/media-types/application/set-registration"},{"$f":"IFERROR(__xludf.DUMMYFUNCTION(\"\"\"COMPUTED_VALUE\"\"\"),\"set-registration\")","v":"set-registration"},{"$f":"IFERROR(__xludf.DUMMYFUNCTION(\"\"\"COMPUTED_VALUE\"\"\"),\"set-registration\")","v":"set-registration"},{"$f":"IFERROR(__xludf.DUMMYFUNCTION(\"\"\"COMPUTED_VALUE\"\"\"),\"application/set-registration\")","v":"application/set-registration"},{"$f":"IFERROR(__xludf.DUMMYFUNCTION(\"\"\"COMPUTED_VALUE\"\"\"),\"en\")","v":"en"}]
[{"$f":"IFERROR(__xludf.DUMMYFUNCTION(\"\"\"COMPUTED_VALUE\"\"\"),\"https://www.iana.org/assignments/media-types/application/set-registration-initiation\")","v":"https://www.iana.org/assignments/media-types/application/set-registration-initiation"},{"$f":"IFERROR(__xludf.DUMMYFUNCTION(\"\"\"COMPUTED_VALUE\"\"\"),\"set-registration-initiation\")","v":"set-registration-initiation"},{"$f":"IFERROR(__xludf.DUMMYFUNCTION(\"\"\"COMPUTED_VALUE\"\"\"),\"set-registration-initiation\")","v":"set-registration-initiation"},{"$f":"IFERROR(__xludf.DUMMYFUNCTION(\"\"\"COMPUTED_VALUE\"\"\"),\"application/set-registration-initiation\")","v":"application/set-registration-initiation"},{"$f":"IFERROR(__xludf.DUMMYFUNCTION(\"\"\"COMPUTED_VALUE\"\"\"),\"en\")","v":"en"}]
[{"$f":"IFERROR(__xludf.DUMMYFUNCTION(\"\"\"COMPUTED_VALUE\"\"\"),\"https://www.iana.org/assignments/media-types/application/SGML\")","v":"https://www.iana.org/assignments/media-types/application/SGML"},{"$f":"IFERROR(__xludf.DUMMYFUNCTION(\"\"\"COMPUTED_VALUE\"\"\"),\"SGML\")","v":"SGML"},{"$f":"IFERROR(__xludf.DUMMYFUNCTION(\"\"\"COMPUTED_VALUE\"\"\"),\"SGML\")","v":"SGML"},{"$f":"IFERROR(__xludf.DUMMYFUNCTION(\"\"\"COMPUTED_VALUE\"\"\"),\"application/SGML\")","v":"application/SGML"},{"$f":"IFERROR(__xludf.DUMMYFUNCTION(\"\"\"COMPUTED_VALUE\"\"\"),\"en\")","v":"en"}]
[{"$f":"IFERROR(__xludf.DUMMYFUNCTION(\"\"\"COMPUTED_VALUE\"\"\"),\"https://www.iana.org/assignments/media-types/application/sgml-open-catalog\")","v":"https://www.iana.org/assignments/media-types/application/sgml-open-catalog"},{"$f":"IFERROR(__xludf.DUMMYFUNCTION(\"\"\"COMPUTED_VALUE\"\"\"),\"sgml-open-catalog\")","v":"sgml-open-catalog"},{"$f":"IFERROR(__xludf.DUMMYFUNCTION(\"\"\"COMPUTED_VALUE\"\"\"),\"sgml-open-catalog\")","v":"sgml-open-catalog"},{"$f":"IFERROR(__xludf.DUMMYFUNCTION(\"\"\"COMPUTED_VALUE\"\"\"),\"application/sgml-open-catalog\")","v":"application/sgml-open-catalog"},{"$f":"IFERROR(__xludf.DUMMYFUNCTION(\"\"\"COMPUTED_VALUE\"\"\"),\"en\")","v":"en"}]
[{"$f":"IFERROR(__xludf.DUMMYFUNCTION(\"\"\"COMPUTED_VALUE\"\"\"),\"https://www.iana.org/assignments/media-types/application/shf+xml\")","v":"https://www.iana.org/assignments/media-types/application/shf+xml"},{"$f":"IFERROR(__xludf.DUMMYFUNCTION(\"\"\"COMPUTED_VALUE\"\"\"),\"shf+xml\")","v":"shf+xml"},{"$f":"IFERROR(__xludf.DUMMYFUNCTION(\"\"\"COMPUTED_VALUE\"\"\"),\"shf+xml\")","v":"shf+xml"},{"$f":"IFERROR(__xludf.DUMMYFUNCTION(\"\"\"COMPUTED_VALUE\"\"\"),\"application/shf+xml\")","v":"application/shf+xml"},{"$f":"IFERROR(__xludf.DUMMYFUNCTION(\"\"\"COMPUTED_VALUE\"\"\"),\"en\")","v":"en"}]
[{"$f":"IFERROR(__xludf.DUMMYFUNCTION(\"\"\"COMPUTED_VALUE\"\"\"),\"https://www.iana.org/assignments/media-types/application/sieve\")","v":"https://www.iana.org/assignments/media-types/application/sieve"},{"$f":"IFERROR(__xludf.DUMMYFUNCTION(\"\"\"COMPUTED_VALUE\"\"\"),\"sieve\")","v":"sieve"},{"$f":"IFERROR(__xludf.DUMMYFUNCTION(\"\"\"COMPUTED_VALUE\"\"\"),\"sieve\")","v":"sieve"},{"$f":"IFERROR(__xludf.DUMMYFUNCTION(\"\"\"COMPUTED_VALUE\"\"\"),\"application/sieve\")","v":"application/sieve"},{"$f":"IFERROR(__xludf.DUMMYFUNCTION(\"\"\"COMPUTED_VALUE\"\"\"),\"en\")","v":"en"}]
[{"$f":"IFERROR(__xludf.DUMMYFUNCTION(\"\"\"COMPUTED_VALUE\"\"\"),\"https://www.iana.org/assignments/media-types/application/simple-filter+xml\")","v":"https://www.iana.org/assignments/media-types/application/simple-filter+xml"},{"$f":"IFERROR(__xludf.DUMMYFUNCTION(\"\"\"COMPUTED_VALUE\"\"\"),\"simple-filter+xml\")","v":"simple-filter+xml"},{"$f":"IFERROR(__xludf.DUMMYFUNCTION(\"\"\"COMPUTED_VALUE\"\"\"),\"simple-filter+xml\")","v":"simple-filter+xml"},{"$f":"IFERROR(__xludf.DUMMYFUNCTION(\"\"\"COMPUTED_VALUE\"\"\"),\"application/simple-filter+xml\")","v":"application/simple-filter+xml"},{"$f":"IFERROR(__xludf.DUMMYFUNCTION(\"\"\"COMPUTED_VALUE\"\"\"),\"en\")","v":"en"}]
[{"$f":"IFERROR(__xludf.DUMMYFUNCTION(\"\"\"COMPUTED_VALUE\"\"\"),\"https://www.iana.org/assignments/media-types/application/simple-message-summary\")","v":"https://www.iana.org/assignments/media-types/application/simple-message-summary"},{"$f":"IFERROR(__xludf.DUMMYFUNCTION(\"\"\"COMPUTED_VALUE\"\"\"),\"simple-message-summary\")","v":"simple-message-summary"},{"$f":"IFERROR(__xludf.DUMMYFUNCTION(\"\"\"COMPUTED_VALUE\"\"\"),\"simple-message-summary\")","v":"simple-message-summary"},{"$f":"IFERROR(__xludf.DUMMYFUNCTION(\"\"\"COMPUTED_VALUE\"\"\"),\"application/simple-message-summary\")","v":"application/simple-message-summary"},{"$f":"IFERROR(__xludf.DUMMYFUNCTION(\"\"\"COMPUTED_VALUE\"\"\"),\"en\")","v":"en"}]
[{"$f":"IFERROR(__xludf.DUMMYFUNCTION(\"\"\"COMPUTED_VALUE\"\"\"),\"https://www.iana.org/assignments/media-types/application/simpleSymbolContainer\")","v":"https://www.iana.org/assignments/media-types/application/simpleSymbolContainer"},{"$f":"IFERROR(__xludf.DUMMYFUNCTION(\"\"\"COMPUTED_VALUE\"\"\"),\"simpleSymbolContainer\")","v":"simpleSymbolContainer"},{"$f":"IFERROR(__xludf.DUMMYFUNCTION(\"\"\"COMPUTED_VALUE\"\"\"),\"simpleSymbolContainer\")","v":"simpleSymbolContainer"},{"$f":"IFERROR(__xludf.DUMMYFUNCTION(\"\"\"COMPUTED_VALUE\"\"\"),\"application/simpleSymbolContainer\")","v":"application/simpleSymbolContainer"},{"$f":"IFERROR(__xludf.DUMMYFUNCTION(\"\"\"COMPUTED_VALUE\"\"\"),\"en\")","v":"en"}]
[{"$f":"IFERROR(__xludf.DUMMYFUNCTION(\"\"\"COMPUTED_VALUE\"\"\"),\"https://www.iana.org/assignments/media-types/application/sipc\")","v":"https://www.iana.org/assignments/media-types/application/sipc"},{"$f":"IFERROR(__xludf.DUMMYFUNCTION(\"\"\"COMPUTED_VALUE\"\"\"),\"sipc\")","v":"sipc"},{"$f":"IFERROR(__xludf.DUMMYFUNCTION(\"\"\"COMPUTED_VALUE\"\"\"),\"sipc\")","v":"sipc"},{"$f":"IFERROR(__xludf.DUMMYFUNCTION(\"\"\"COMPUTED_VALUE\"\"\"),\"application/sipc\")","v":"application/sipc"},{"$f":"IFERROR(__xludf.DUMMYFUNCTION(\"\"\"COMPUTED_VALUE\"\"\"),\"en\")","v":"en"}]
[{"$f":"IFERROR(__xludf.DUMMYFUNCTION(\"\"\"COMPUTED_VALUE\"\"\"),\"https://www.iana.org/assignments/media-types/application/slate\")","v":"https://www.iana.org/assignments/media-types/application/slate"},{"$f":"IFERROR(__xludf.DUMMYFUNCTION(\"\"\"COMPUTED_VALUE\"\"\"),\"slate\")","v":"slate"},{"$f":"IFERROR(__xludf.DUMMYFUNCTION(\"\"\"COMPUTED_VALUE\"\"\"),\"slate\")","v":"slate"},{"$f":"IFERROR(__xludf.DUMMYFUNCTION(\"\"\"COMPUTED_VALUE\"\"\"),\"application/slate\")","v":"application/slate"},{"$f":"IFERROR(__xludf.DUMMYFUNCTION(\"\"\"COMPUTED_VALUE\"\"\"),\"en\")","v":"en"}]
[{"$f":"IFERROR(__xludf.DUMMYFUNCTION(\"\"\"COMPUTED_VALUE\"\"\"),\"https://www.iana.org/assignments/media-types/application/smil\")","v":"https://www.iana.org/assignments/media-types/application/smil"},{"$f":"IFERROR(__xludf.DUMMYFUNCTION(\"\"\"COMPUTED_VALUE\"\"\"),\"smil (OBSOLETED in favor of application/smil+xml)\")","v":"smil (OBSOLETED in favor of application/smil+xml)"},{"$f":"IFERROR(__xludf.DUMMYFUNCTION(\"\"\"COMPUTED_VALUE\"\"\"),\"smil (OBSOLETED in favor of application/smil+xml)\")","v":"smil (OBSOLETED in favor of application/smil+xml)"},{"$f":"IFERROR(__xludf.DUMMYFUNCTION(\"\"\"COMPUTED_VALUE\"\"\"),\"application/smil\")","v":"application/smil"},{"$f":"IFERROR(__xludf.DUMMYFUNCTION(\"\"\"COMPUTED_VALUE\"\"\"),\"en\")","v":"en"}]
[{"$f":"IFERROR(__xludf.DUMMYFUNCTION(\"\"\"COMPUTED_VALUE\"\"\"),\"https://www.iana.org/assignments/media-types/application/smil+xml\")","v":"https://www.iana.org/assignments/media-types/application/smil+xml"},{"$f":"IFERROR(__xludf.DUMMYFUNCTION(\"\"\"COMPUTED_VALUE\"\"\"),\"smil+xml\")","v":"smil+xml"},{"$f":"IFERROR(__xludf.DUMMYFUNCTION(\"\"\"COMPUTED_VALUE\"\"\"),\"smil+xml\")","v":"smil+xml"},{"$f":"IFERROR(__xludf.DUMMYFUNCTION(\"\"\"COMPUTED_VALUE\"\"\"),\"application/smil+xml\")","v":"application/smil+xml"},{"$f":"IFERROR(__xludf.DUMMYFUNCTION(\"\"\"COMPUTED_VALUE\"\"\"),\"en\")","v":"en"}]
[{"$f":"IFERROR(__xludf.DUMMYFUNCTION(\"\"\"COMPUTED_VALUE\"\"\"),\"https://www.iana.org/assignments/media-types/application/smpte336m\")","v":"https://www.iana.org/assignments/media-types/application/smpte336m"},{"$f":"IFERROR(__xludf.DUMMYFUNCTION(\"\"\"COMPUTED_VALUE\"\"\"),\"smpte336m\")","v":"smpte336m"},{"$f":"IFERROR(__xludf.DUMMYFUNCTION(\"\"\"COMPUTED_VALUE\"\"\"),\"smpte336m\")","v":"smpte336m"},{"$f":"IFERROR(__xludf.DUMMYFUNCTION(\"\"\"COMPUTED_VALUE\"\"\"),\"application/smpte336m\")","v":"application/smpte336m"},{"$f":"IFERROR(__xludf.DUMMYFUNCTION(\"\"\"COMPUTED_VALUE\"\"\"),\"en\")","v":"en"}]
[{"$f":"IFERROR(__xludf.DUMMYFUNCTION(\"\"\"COMPUTED_VALUE\"\"\"),\"https://www.iana.org/assignments/media-types/application/soap+fastinfoset\")","v":"https://www.iana.org/assignments/media-types/application/soap+fastinfoset"},{"$f":"IFERROR(__xludf.DUMMYFUNCTION(\"\"\"COMPUTED_VALUE\"\"\"),\"soap+fastinfoset\")","v":"soap+fastinfoset"},{"$f":"IFERROR(__xludf.DUMMYFUNCTION(\"\"\"COMPUTED_VALUE\"\"\"),\"soap+fastinfoset\")","v":"soap+fastinfoset"},{"$f":"IFERROR(__xludf.DUMMYFUNCTION(\"\"\"COMPUTED_VALUE\"\"\"),\"application/soap+fastinfoset\")","v":"application/soap+fastinfoset"},{"$f":"IFERROR(__xludf.DUMMYFUNCTION(\"\"\"COMPUTED_VALUE\"\"\"),\"en\")","v":"en"}]
[{"$f":"IFERROR(__xludf.DUMMYFUNCTION(\"\"\"COMPUTED_VALUE\"\"\"),\"https://www.iana.org/assignments/media-types/application/soap+xml\")","v":"https://www.iana.org/assignments/media-types/application/soap+xml"},{"$f":"IFERROR(__xludf.DUMMYFUNCTION(\"\"\"COMPUTED_VALUE\"\"\"),\"soap+xml\")","v":"soap+xml"},{"$f":"IFERROR(__xludf.DUMMYFUNCTION(\"\"\"COMPUTED_VALUE\"\"\"),\"soap+xml\")","v":"soap+xml"},{"$f":"IFERROR(__xludf.DUMMYFUNCTION(\"\"\"COMPUTED_VALUE\"\"\"),\"application/soap+xml\")","v":"application/soap+xml"},{"$f":"IFERROR(__xludf.DUMMYFUNCTION(\"\"\"COMPUTED_VALUE\"\"\"),\"en\")","v":"en"}]
[{"$f":"IFERROR(__xludf.DUMMYFUNCTION(\"\"\"COMPUTED_VALUE\"\"\"),\"https://www.iana.org/assignments/media-types/application/sparql-query\")","v":"https://www.iana.org/assignments/media-types/application/sparql-query"},{"$f":"IFERROR(__xludf.DUMMYFUNCTION(\"\"\"COMPUTED_VALUE\"\"\"),\"sparql-query\")","v":"sparql-query"},{"$f":"IFERROR(__xludf.DUMMYFUNCTION(\"\"\"COMPUTED_VALUE\"\"\"),\"sparql-query\")","v":"sparql-query"},{"$f":"IFERROR(__xludf.DUMMYFUNCTION(\"\"\"COMPUTED_VALUE\"\"\"),\"application/sparql-query\")","v":"application/sparql-query"},{"$f":"IFERROR(__xludf.DUMMYFUNCTION(\"\"\"COMPUTED_VALUE\"\"\"),\"en\")","v":"en"}]
[{"$f":"IFERROR(__xludf.DUMMYFUNCTION(\"\"\"COMPUTED_VALUE\"\"\"),\"https://www.iana.org/assignments/media-types/application/spdx+json\")","v":"https://www.iana.org/assignments/media-types/application/spdx+json"},{"$f":"IFERROR(__xludf.DUMMYFUNCTION(\"\"\"COMPUTED_VALUE\"\"\"),\"spdx+json\")","v":"spdx+json"},{"$f":"IFERROR(__xludf.DUMMYFUNCTION(\"\"\"COMPUTED_VALUE\"\"\"),\"spdx+json\")","v":"spdx+json"},{"$f":"IFERROR(__xludf.DUMMYFUNCTION(\"\"\"COMPUTED_VALUE\"\"\"),\"application/spdx+json\")","v":"application/spdx+json"},{"$f":"IFERROR(__xludf.DUMMYFUNCTION(\"\"\"COMPUTED_VALUE\"\"\"),\"en\")","v":"en"}]
[{"$f":"IFERROR(__xludf.DUMMYFUNCTION(\"\"\"COMPUTED_VALUE\"\"\"),\"https://www.iana.org/assignments/media-types/application/sparql-results+xml\")","v":"https://www.iana.org/assignments/media-types/application/sparql-results+xml"},{"$f":"IFERROR(__xludf.DUMMYFUNCTION(\"\"\"COMPUTED_VALUE\"\"\"),\"sparql-results+xml\")","v":"sparql-results+xml"},{"$f":"IFERROR(__xludf.DUMMYFUNCTION(\"\"\"COMPUTED_VALUE\"\"\"),\"sparql-results+xml\")","v":"sparql-results+xml"},{"$f":"IFERROR(__xludf.DUMMYFUNCTION(\"\"\"COMPUTED_VALUE\"\"\"),\"application/sparql-results+xml\")","v":"application/sparql-results+xml"},{"$f":"IFERROR(__xludf.DUMMYFUNCTION(\"\"\"COMPUTED_VALUE\"\"\"),\"en\")","v":"en"}]
[{"$f":"IFERROR(__xludf.DUMMYFUNCTION(\"\"\"COMPUTED_VALUE\"\"\"),\"https://www.iana.org/assignments/media-types/application/spirits-event+xml\")","v":"https://www.iana.org/assignments/media-types/application/spirits-event+xml"},{"$f":"IFERROR(__xludf.DUMMYFUNCTION(\"\"\"COMPUTED_VALUE\"\"\"),\"spirits-event+xml\")","v":"spirits-event+xml"},{"$f":"IFERROR(__xludf.DUMMYFUNCTION(\"\"\"COMPUTED_VALUE\"\"\"),\"spirits-event+xml\")","v":"spirits-event+xml"},{"$f":"IFERROR(__xludf.DUMMYFUNCTION(\"\"\"COMPUTED_VALUE\"\"\"),\"application/spirits-event+xml\")","v":"application/spirits-event+xml"},{"$f":"IFERROR(__xludf.DUMMYFUNCTION(\"\"\"COMPUTED_VALUE\"\"\"),\"en\")","v":"en"}]
[{"$f":"IFERROR(__xludf.DUMMYFUNCTION(\"\"\"COMPUTED_VALUE\"\"\"),\"https://www.iana.org/assignments/media-types/application/sql\")","v":"https://www.iana.org/assignments/media-types/application/sql"},{"$f":"IFERROR(__xludf.DUMMYFUNCTION(\"\"\"COMPUTED_VALUE\"\"\"),\"sql\")","v":"sql"},{"$f":"IFERROR(__xludf.DUMMYFUNCTION(\"\"\"COMPUTED_VALUE\"\"\"),\"sql\")","v":"sql"},{"$f":"IFERROR(__xludf.DUMMYFUNCTION(\"\"\"COMPUTED_VALUE\"\"\"),\"application/sql\")","v":"application/sql"},{"$f":"IFERROR(__xludf.DUMMYFUNCTION(\"\"\"COMPUTED_VALUE\"\"\"),\"en\")","v":"en"}]
[{"$f":"IFERROR(__xludf.DUMMYFUNCTION(\"\"\"COMPUTED_VALUE\"\"\"),\"https://www.iana.org/assignments/media-types/application/srgs\")","v":"https://www.iana.org/assignments/media-types/application/srgs"},{"$f":"IFERROR(__xludf.DUMMYFUNCTION(\"\"\"COMPUTED_VALUE\"\"\"),\"srgs\")","v":"srgs"},{"$f":"IFERROR(__xludf.DUMMYFUNCTION(\"\"\"COMPUTED_VALUE\"\"\"),\"srgs\")","v":"srgs"},{"$f":"IFERROR(__xludf.DUMMYFUNCTION(\"\"\"COMPUTED_VALUE\"\"\"),\"application/srgs\")","v":"application/srgs"},{"$f":"IFERROR(__xludf.DUMMYFUNCTION(\"\"\"COMPUTED_VALUE\"\"\"),\"en\")","v":"en"}]
[{"$f":"IFERROR(__xludf.DUMMYFUNCTION(\"\"\"COMPUTED_VALUE\"\"\"),\"https://www.iana.org/assignments/media-types/application/srgs+xml\")","v":"https://www.iana.org/assignments/media-types/application/srgs+xml"},{"$f":"IFERROR(__xludf.DUMMYFUNCTION(\"\"\"COMPUTED_VALUE\"\"\"),\"srgs+xml\")","v":"srgs+xml"},{"$f":"IFERROR(__xludf.DUMMYFUNCTION(\"\"\"COMPUTED_VALUE\"\"\"),\"srgs+xml\")","v":"srgs+xml"},{"$f":"IFERROR(__xludf.DUMMYFUNCTION(\"\"\"COMPUTED_VALUE\"\"\"),\"application/srgs+xml\")","v":"application/srgs+xml"},{"$f":"IFERROR(__xludf.DUMMYFUNCTION(\"\"\"COMPUTED_VALUE\"\"\"),\"en\")","v":"en"}]
[{"$f":"IFERROR(__xludf.DUMMYFUNCTION(\"\"\"COMPUTED_VALUE\"\"\"),\"https://www.iana.org/assignments/media-types/application/sru+xml\")","v":"https://www.iana.org/assignments/media-types/application/sru+xml"},{"$f":"IFERROR(__xludf.DUMMYFUNCTION(\"\"\"COMPUTED_VALUE\"\"\"),\"sru+xml\")","v":"sru+xml"},{"$f":"IFERROR(__xludf.DUMMYFUNCTION(\"\"\"COMPUTED_VALUE\"\"\"),\"sru+xml\")","v":"sru+xml"},{"$f":"IFERROR(__xludf.DUMMYFUNCTION(\"\"\"COMPUTED_VALUE\"\"\"),\"application/sru+xml\")","v":"application/sru+xml"},{"$f":"IFERROR(__xludf.DUMMYFUNCTION(\"\"\"COMPUTED_VALUE\"\"\"),\"en\")","v":"en"}]
[{"$f":"IFERROR(__xludf.DUMMYFUNCTION(\"\"\"COMPUTED_VALUE\"\"\"),\"https://www.iana.org/assignments/media-types/application/ssml+xml\")","v":"https://www.iana.org/assignments/media-types/application/ssml+xml"},{"$f":"IFERROR(__xludf.DUMMYFUNCTION(\"\"\"COMPUTED_VALUE\"\"\"),\"ssml+xml\")","v":"ssml+xml"},{"$f":"IFERROR(__xludf.DUMMYFUNCTION(\"\"\"COMPUTED_VALUE\"\"\"),\"ssml+xml\")","v":"ssml+xml"},{"$f":"IFERROR(__xludf.DUMMYFUNCTION(\"\"\"COMPUTED_VALUE\"\"\"),\"application/ssml+xml\")","v":"application/ssml+xml"},{"$f":"IFERROR(__xludf.DUMMYFUNCTION(\"\"\"COMPUTED_VALUE\"\"\"),\"en\")","v":"en"}]
[{"$f":"IFERROR(__xludf.DUMMYFUNCTION(\"\"\"COMPUTED_VALUE\"\"\"),\"https://www.iana.org/assignments/media-types/application/stix+json\")","v":"https://www.iana.org/assignments/media-types/application/stix+json"},{"$f":"IFERROR(__xludf.DUMMYFUNCTION(\"\"\"COMPUTED_VALUE\"\"\"),\"stix+json\")","v":"stix+json"},{"$f":"IFERROR(__xludf.DUMMYFUNCTION(\"\"\"COMPUTED_VALUE\"\"\"),\"stix+json\")","v":"stix+json"},{"$f":"IFERROR(__xludf.DUMMYFUNCTION(\"\"\"COMPUTED_VALUE\"\"\"),\"application/stix+json\")","v":"application/stix+json"},{"$f":"IFERROR(__xludf.DUMMYFUNCTION(\"\"\"COMPUTED_VALUE\"\"\"),\"en\")","v":"en"}]
[{"$f":"IFERROR(__xludf.DUMMYFUNCTION(\"\"\"COMPUTED_VALUE\"\"\"),\"https://www.iana.org/assignments/media-types/application/swid+cbor\")","v":"https://www.iana.org/assignments/media-types/application/swid+cbor"},{"$f":"IFERROR(__xludf.DUMMYFUNCTION(\"\"\"COMPUTED_VALUE\"\"\"),\"swid+cbor\")","v":"swid+cbor"},{"$f":"IFERROR(__xludf.DUMMYFUNCTION(\"\"\"COMPUTED_VALUE\"\"\"),\"swid+cbor\")","v":"swid+cbor"},{"$f":"IFERROR(__xludf.DUMMYFUNCTION(\"\"\"COMPUTED_VALUE\"\"\"),\"application/swid+cbor\")","v":"application/swid+cbor"},{"$f":"IFERROR(__xludf.DUMMYFUNCTION(\"\"\"COMPUTED_VALUE\"\"\"),\"en\")","v":"en"}]
[{"$f":"IFERROR(__xludf.DUMMYFUNCTION(\"\"\"COMPUTED_VALUE\"\"\"),\"https://www.iana.org/assignments/media-types/application/swid+xml\")","v":"https://www.iana.org/assignments/media-types/application/swid+xml"},{"$f":"IFERROR(__xludf.DUMMYFUNCTION(\"\"\"COMPUTED_VALUE\"\"\"),\"swid+xml\")","v":"swid+xml"},{"$f":"IFERROR(__xludf.DUMMYFUNCTION(\"\"\"COMPUTED_VALUE\"\"\"),\"swid+xml\")","v":"swid+xml"},{"$f":"IFERROR(__xludf.DUMMYFUNCTION(\"\"\"COMPUTED_VALUE\"\"\"),\"application/swid+xml\")","v":"application/swid+xml"},{"$f":"IFERROR(__xludf.DUMMYFUNCTION(\"\"\"COMPUTED_VALUE\"\"\"),\"en\")","v":"en"}]
[{"$f":"IFERROR(__xludf.DUMMYFUNCTION(\"\"\"COMPUTED_VALUE\"\"\"),\"https://www.iana.org/assignments/media-types/application/tamp-apex-update\")","v":"https://www.iana.org/assignments/media-types/application/tamp-apex-update"},{"$f":"IFERROR(__xludf.DUMMYFUNCTION(\"\"\"COMPUTED_VALUE\"\"\"),\"tamp-apex-update\")","v":"tamp-apex-update"},{"$f":"IFERROR(__xludf.DUMMYFUNCTION(\"\"\"COMPUTED_VALUE\"\"\"),\"tamp-apex-update\")","v":"tamp-apex-update"},{"$f":"IFERROR(__xludf.DUMMYFUNCTION(\"\"\"COMPUTED_VALUE\"\"\"),\"application/tamp-apex-update\")","v":"application/tamp-apex-update"},{"$f":"IFERROR(__xludf.DUMMYFUNCTION(\"\"\"COMPUTED_VALUE\"\"\"),\"en\")","v":"en"}]
[{"$f":"IFERROR(__xludf.DUMMYFUNCTION(\"\"\"COMPUTED_VALUE\"\"\"),\"https://www.iana.org/assignments/media-types/application/tamp-apex-update-confirm\")","v":"https://www.iana.org/assignments/media-types/application/tamp-apex-update-confirm"},{"$f":"IFERROR(__xludf.DUMMYFUNCTION(\"\"\"COMPUTED_VALUE\"\"\"),\"tamp-apex-update-confirm\")","v":"tamp-apex-update-confirm"},{"$f":"IFERROR(__xludf.DUMMYFUNCTION(\"\"\"COMPUTED_VALUE\"\"\"),\"tamp-apex-update-confirm\")","v":"tamp-apex-update-confirm"},{"$f":"IFERROR(__xludf.DUMMYFUNCTION(\"\"\"COMPUTED_VALUE\"\"\"),\"application/tamp-apex-update-confirm\")","v":"application/tamp-apex-update-confirm"},{"$f":"IFERROR(__xludf.DUMMYFUNCTION(\"\"\"COMPUTED_VALUE\"\"\"),\"en\")","v":"en"}]
[{"$f":"IFERROR(__xludf.DUMMYFUNCTION(\"\"\"COMPUTED_VALUE\"\"\"),\"https://www.iana.org/assignments/media-types/application/tamp-community-update\")","v":"https://www.iana.org/assignments/media-types/application/tamp-community-update"},{"$f":"IFERROR(__xludf.DUMMYFUNCTION(\"\"\"COMPUTED_VALUE\"\"\"),\"tamp-community-update\")","v":"tamp-community-update"},{"$f":"IFERROR(__xludf.DUMMYFUNCTION(\"\"\"COMPUTED_VALUE\"\"\"),\"tamp-community-update\")","v":"tamp-community-update"},{"$f":"IFERROR(__xludf.DUMMYFUNCTION(\"\"\"COMPUTED_VALUE\"\"\"),\"application/tamp-community-update\")","v":"application/tamp-community-update"},{"$f":"IFERROR(__xludf.DUMMYFUNCTION(\"\"\"COMPUTED_VALUE\"\"\"),\"en\")","v":"en"}]
[{"$f":"IFERROR(__xludf.DUMMYFUNCTION(\"\"\"COMPUTED_VALUE\"\"\"),\"https://www.iana.org/assignments/media-types/application/tamp-community-update-confirm\")","v":"https://www.iana.org/assignments/media-types/application/tamp-community-update-confirm"},{"$f":"IFERROR(__xludf.DUMMYFUNCTION(\"\"\"COMPUTED_VALUE\"\"\"),\"tamp-community-update-confirm\")","v":"tamp-community-update-confirm"},{"$f":"IFERROR(__xludf.DUMMYFUNCTION(\"\"\"COMPUTED_VALUE\"\"\"),\"tamp-community-update-confirm\")","v":"tamp-community-update-confirm"},{"$f":"IFERROR(__xludf.DUMMYFUNCTION(\"\"\"COMPUTED_VALUE\"\"\"),\"application/tamp-community-update-confirm\")","v":"application/tamp-community-update-confirm"},{"$f":"IFERROR(__xludf.DUMMYFUNCTION(\"\"\"COMPUTED_VALUE\"\"\"),\"en\")","v":"en"}]
[{"$f":"IFERROR(__xludf.DUMMYFUNCTION(\"\"\"COMPUTED_VALUE\"\"\"),\"https://www.iana.org/assignments/media-types/application/tamp-error\")","v":"https://www.iana.org/assignments/media-types/application/tamp-error"},{"$f":"IFERROR(__xludf.DUMMYFUNCTION(\"\"\"COMPUTED_VALUE\"\"\"),\"tamp-error\")","v":"tamp-error"},{"$f":"IFERROR(__xludf.DUMMYFUNCTION(\"\"\"COMPUTED_VALUE\"\"\"),\"tamp-error\")","v":"tamp-error"},{"$f":"IFERROR(__xludf.DUMMYFUNCTION(\"\"\"COMPUTED_VALUE\"\"\"),\"application/tamp-error\")","v":"application/tamp-error"},{"$f":"IFERROR(__xludf.DUMMYFUNCTION(\"\"\"COMPUTED_VALUE\"\"\"),\"en\")","v":"en"}]
[{"$f":"IFERROR(__xludf.DUMMYFUNCTION(\"\"\"COMPUTED_VALUE\"\"\"),\"https://www.iana.org/assignments/media-types/application/tamp-sequence-adjust\")","v":"https://www.iana.org/assignments/media-types/application/tamp-sequence-adjust"},{"$f":"IFERROR(__xludf.DUMMYFUNCTION(\"\"\"COMPUTED_VALUE\"\"\"),\"tamp-sequence-adjust\")","v":"tamp-sequence-adjust"},{"$f":"IFERROR(__xludf.DUMMYFUNCTION(\"\"\"COMPUTED_VALUE\"\"\"),\"tamp-sequence-adjust\")","v":"tamp-sequence-adjust"},{"$f":"IFERROR(__xludf.DUMMYFUNCTION(\"\"\"COMPUTED_VALUE\"\"\"),\"application/tamp-sequence-adjust\")","v":"application/tamp-sequence-adjust"},{"$f":"IFERROR(__xludf.DUMMYFUNCTION(\"\"\"COMPUTED_VALUE\"\"\"),\"en\")","v":"en"}]
[{"$f":"IFERROR(__xludf.DUMMYFUNCTION(\"\"\"COMPUTED_VALUE\"\"\"),\"https://www.iana.org/assignments/media-types/application/tamp-sequence-adjust-confirm\")","v":"https://www.iana.org/assignments/media-types/application/tamp-sequence-adjust-confirm"},{"$f":"IFERROR(__xludf.DUMMYFUNCTION(\"\"\"COMPUTED_VALUE\"\"\"),\"tamp-sequence-adjust-confirm\")","v":"tamp-sequence-adjust-confirm"},{"$f":"IFERROR(__xludf.DUMMYFUNCTION(\"\"\"COMPUTED_VALUE\"\"\"),\"tamp-sequence-adjust-confirm\")","v":"tamp-sequence-adjust-confirm"},{"$f":"IFERROR(__xludf.DUMMYFUNCTION(\"\"\"COMPUTED_VALUE\"\"\"),\"application/tamp-sequence-adjust-confirm\")","v":"application/tamp-sequence-adjust-confirm"},{"$f":"IFERROR(__xludf.DUMMYFUNCTION(\"\"\"COMPUTED_VALUE\"\"\"),\"en\")","v":"en"}]
[{"$f":"IFERROR(__xludf.DUMMYFUNCTION(\"\"\"COMPUTED_VALUE\"\"\"),\"https://www.iana.org/assignments/media-types/application/tamp-status-query\")","v":"https://www.iana.org/assignments/media-types/application/tamp-status-query"},{"$f":"IFERROR(__xludf.DUMMYFUNCTION(\"\"\"COMPUTED_VALUE\"\"\"),\"tamp-status-query\")","v":"tamp-status-query"},{"$f":"IFERROR(__xludf.DUMMYFUNCTION(\"\"\"COMPUTED_VALUE\"\"\"),\"tamp-status-query\")","v":"tamp-status-query"},{"$f":"IFERROR(__xludf.DUMMYFUNCTION(\"\"\"COMPUTED_VALUE\"\"\"),\"application/tamp-status-query\")","v":"application/tamp-status-query"},{"$f":"IFERROR(__xludf.DUMMYFUNCTION(\"\"\"COMPUTED_VALUE\"\"\"),\"en\")","v":"en"}]
[{"$f":"IFERROR(__xludf.DUMMYFUNCTION(\"\"\"COMPUTED_VALUE\"\"\"),\"https://www.iana.org/assignments/media-types/application/tamp-status-response\")","v":"https://www.iana.org/assignments/media-types/application/tamp-status-response"},{"$f":"IFERROR(__xludf.DUMMYFUNCTION(\"\"\"COMPUTED_VALUE\"\"\"),\"tamp-status-response\")","v":"tamp-status-response"},{"$f":"IFERROR(__xludf.DUMMYFUNCTION(\"\"\"COMPUTED_VALUE\"\"\"),\"tamp-status-response\")","v":"tamp-status-response"},{"$f":"IFERROR(__xludf.DUMMYFUNCTION(\"\"\"COMPUTED_VALUE\"\"\"),\"application/tamp-status-response\")","v":"application/tamp-status-response"},{"$f":"IFERROR(__xludf.DUMMYFUNCTION(\"\"\"COMPUTED_VALUE\"\"\"),\"en\")","v":"en"}]
[{"$f":"IFERROR(__xludf.DUMMYFUNCTION(\"\"\"COMPUTED_VALUE\"\"\"),\"https://www.iana.org/assignments/media-types/application/tamp-update\")","v":"https://www.iana.org/assignments/media-types/application/tamp-update"},{"$f":"IFERROR(__xludf.DUMMYFUNCTION(\"\"\"COMPUTED_VALUE\"\"\"),\"tamp-update\")","v":"tamp-update"},{"$f":"IFERROR(__xludf.DUMMYFUNCTION(\"\"\"COMPUTED_VALUE\"\"\"),\"tamp-update\")","v":"tamp-update"},{"$f":"IFERROR(__xludf.DUMMYFUNCTION(\"\"\"COMPUTED_VALUE\"\"\"),\"application/tamp-update\")","v":"application/tamp-update"},{"$f":"IFERROR(__xludf.DUMMYFUNCTION(\"\"\"COMPUTED_VALUE\"\"\"),\"en\")","v":"en"}]
[{"$f":"IFERROR(__xludf.DUMMYFUNCTION(\"\"\"COMPUTED_VALUE\"\"\"),\"https://www.iana.org/assignments/media-types/application/tamp-update-confirm\")","v":"https://www.iana.org/assignments/media-types/application/tamp-update-confirm"},{"$f":"IFERROR(__xludf.DUMMYFUNCTION(\"\"\"COMPUTED_VALUE\"\"\"),\"tamp-update-confirm\")","v":"tamp-update-confirm"},{"$f":"IFERROR(__xludf.DUMMYFUNCTION(\"\"\"COMPUTED_VALUE\"\"\"),\"tamp-update-confirm\")","v":"tamp-update-confirm"},{"$f":"IFERROR(__xludf.DUMMYFUNCTION(\"\"\"COMPUTED_VALUE\"\"\"),\"application/tamp-update-confirm\")","v":"application/tamp-update-confirm"},{"$f":"IFERROR(__xludf.DUMMYFUNCTION(\"\"\"COMPUTED_VALUE\"\"\"),\"en\")","v":"en"}]
[{"$f":"IFERROR(__xludf.DUMMYFUNCTION(\"\"\"COMPUTED_VALUE\"\"\"),\"https://www.iana.org/assignments/media-types/application/taxii+json\")","v":"https://www.iana.org/assignments/media-types/application/taxii+json"},{"$f":"IFERROR(__xludf.DUMMYFUNCTION(\"\"\"COMPUTED_VALUE\"\"\"),\"taxii+json\")","v":"taxii+json"},{"$f":"IFERROR(__xludf.DUMMYFUNCTION(\"\"\"COMPUTED_VALUE\"\"\"),\"taxii+json\")","v":"taxii+json"},{"$f":"IFERROR(__xludf.DUMMYFUNCTION(\"\"\"COMPUTED_VALUE\"\"\"),\"application/taxii+json\")","v":"application/taxii+json"},{"$f":"IFERROR(__xludf.DUMMYFUNCTION(\"\"\"COMPUTED_VALUE\"\"\"),\"en\")","v":"en"}]
[{"$f":"IFERROR(__xludf.DUMMYFUNCTION(\"\"\"COMPUTED_VALUE\"\"\"),\"https://www.iana.org/assignments/media-types/application/td+json\")","v":"https://www.iana.org/assignments/media-types/application/td+json"},{"$f":"IFERROR(__xludf.DUMMYFUNCTION(\"\"\"COMPUTED_VALUE\"\"\"),\"td+json\")","v":"td+json"},{"$f":"IFERROR(__xludf.DUMMYFUNCTION(\"\"\"COMPUTED_VALUE\"\"\"),\"td+json\")","v":"td+json"},{"$f":"IFERROR(__xludf.DUMMYFUNCTION(\"\"\"COMPUTED_VALUE\"\"\"),\"application/td+json\")","v":"application/td+json"},{"$f":"IFERROR(__xludf.DUMMYFUNCTION(\"\"\"COMPUTED_VALUE\"\"\"),\"en\")","v":"en"}]
[{"$f":"IFERROR(__xludf.DUMMYFUNCTION(\"\"\"COMPUTED_VALUE\"\"\"),\"https://www.iana.org/assignments/media-types/application/tei+xml\")","v":"https://www.iana.org/assignments/media-types/application/tei+xml"},{"$f":"IFERROR(__xludf.DUMMYFUNCTION(\"\"\"COMPUTED_VALUE\"\"\"),\"tei+xml\")","v":"tei+xml"},{"$f":"IFERROR(__xludf.DUMMYFUNCTION(\"\"\"COMPUTED_VALUE\"\"\"),\"tei+xml\")","v":"tei+xml"},{"$f":"IFERROR(__xludf.DUMMYFUNCTION(\"\"\"COMPUTED_VALUE\"\"\"),\"application/tei+xml\")","v":"application/tei+xml"},{"$f":"IFERROR(__xludf.DUMMYFUNCTION(\"\"\"COMPUTED_VALUE\"\"\"),\"en\")","v":"en"}]
[{"$f":"IFERROR(__xludf.DUMMYFUNCTION(\"\"\"COMPUTED_VALUE\"\"\"),\"https://www.iana.org/assignments/media-types/application/TETRA_ISI\")","v":"https://www.iana.org/assignments/media-types/application/TETRA_ISI"},{"$f":"IFERROR(__xludf.DUMMYFUNCTION(\"\"\"COMPUTED_VALUE\"\"\"),\"TETRA_ISI\")","v":"TETRA_ISI"},{"$f":"IFERROR(__xludf.DUMMYFUNCTION(\"\"\"COMPUTED_VALUE\"\"\"),\"TETRA_ISI\")","v":"TETRA_ISI"},{"$f":"IFERROR(__xludf.DUMMYFUNCTION(\"\"\"COMPUTED_VALUE\"\"\"),\"application/TETRA_ISI\")","v":"application/TETRA_ISI"},{"$f":"IFERROR(__xludf.DUMMYFUNCTION(\"\"\"COMPUTED_VALUE\"\"\"),\"en\")","v":"en"}]
[{"$f":"IFERROR(__xludf.DUMMYFUNCTION(\"\"\"COMPUTED_VALUE\"\"\"),\"https://www.iana.org/assignments/media-types/application/thraud+xml\")","v":"https://www.iana.org/assignments/media-types/application/thraud+xml"},{"$f":"IFERROR(__xludf.DUMMYFUNCTION(\"\"\"COMPUTED_VALUE\"\"\"),\"thraud+xml\")","v":"thraud+xml"},{"$f":"IFERROR(__xludf.DUMMYFUNCTION(\"\"\"COMPUTED_VALUE\"\"\"),\"thraud+xml\")","v":"thraud+xml"},{"$f":"IFERROR(__xludf.DUMMYFUNCTION(\"\"\"COMPUTED_VALUE\"\"\"),\"application/thraud+xml\")","v":"application/thraud+xml"},{"$f":"IFERROR(__xludf.DUMMYFUNCTION(\"\"\"COMPUTED_VALUE\"\"\"),\"en\")","v":"en"}]
[{"$f":"IFERROR(__xludf.DUMMYFUNCTION(\"\"\"COMPUTED_VALUE\"\"\"),\"https://www.iana.org/assignments/media-types/application/timestamp-query\")","v":"https://www.iana.org/assignments/media-types/application/timestamp-query"},{"$f":"IFERROR(__xludf.DUMMYFUNCTION(\"\"\"COMPUTED_VALUE\"\"\"),\"timestamp-query\")","v":"timestamp-query"},{"$f":"IFERROR(__xludf.DUMMYFUNCTION(\"\"\"COMPUTED_VALUE\"\"\"),\"timestamp-query\")","v":"timestamp-query"},{"$f":"IFERROR(__xludf.DUMMYFUNCTION(\"\"\"COMPUTED_VALUE\"\"\"),\"application/timestamp-query\")","v":"application/timestamp-query"},{"$f":"IFERROR(__xludf.DUMMYFUNCTION(\"\"\"COMPUTED_VALUE\"\"\"),\"en\")","v":"en"}]
[{"$f":"IFERROR(__xludf.DUMMYFUNCTION(\"\"\"COMPUTED_VALUE\"\"\"),\"https://www.iana.org/assignments/media-types/application/timestamp-reply\")","v":"https://www.iana.org/assignments/media-types/application/timestamp-reply"},{"$f":"IFERROR(__xludf.DUMMYFUNCTION(\"\"\"COMPUTED_VALUE\"\"\"),\"timestamp-reply\")","v":"timestamp-reply"},{"$f":"IFERROR(__xludf.DUMMYFUNCTION(\"\"\"COMPUTED_VALUE\"\"\"),\"timestamp-reply\")","v":"timestamp-reply"},{"$f":"IFERROR(__xludf.DUMMYFUNCTION(\"\"\"COMPUTED_VALUE\"\"\"),\"application/timestamp-reply\")","v":"application/timestamp-reply"},{"$f":"IFERROR(__xludf.DUMMYFUNCTION(\"\"\"COMPUTED_VALUE\"\"\"),\"en\")","v":"en"}]
[{"$f":"IFERROR(__xludf.DUMMYFUNCTION(\"\"\"COMPUTED_VALUE\"\"\"),\"https://www.iana.org/assignments/media-types/application/timestamped-data\")","v":"https://www.iana.org/assignments/media-types/application/timestamped-data"},{"$f":"IFERROR(__xludf.DUMMYFUNCTION(\"\"\"COMPUTED_VALUE\"\"\"),\"timestamped-data\")","v":"timestamped-data"},{"$f":"IFERROR(__xludf.DUMMYFUNCTION(\"\"\"COMPUTED_VALUE\"\"\"),\"timestamped-data\")","v":"timestamped-data"},{"$f":"IFERROR(__xludf.DUMMYFUNCTION(\"\"\"COMPUTED_VALUE\"\"\"),\"application/timestamped-data\")","v":"application/timestamped-data"},{"$f":"IFERROR(__xludf.DUMMYFUNCTION(\"\"\"COMPUTED_VALUE\"\"\"),\"en\")","v":"en"}]
[{"$f":"IFERROR(__xludf.DUMMYFUNCTION(\"\"\"COMPUTED_VALUE\"\"\"),\"https://www.iana.org/assignments/media-types/application/tlsrpt+gzip\")","v":"https://www.iana.org/assignments/media-types/application/tlsrpt+gzip"},{"$f":"IFERROR(__xludf.DUMMYFUNCTION(\"\"\"COMPUTED_VALUE\"\"\"),\"tlsrpt+gzip\")","v":"tlsrpt+gzip"},{"$f":"IFERROR(__xludf.DUMMYFUNCTION(\"\"\"COMPUTED_VALUE\"\"\"),\"tlsrpt+gzip\")","v":"tlsrpt+gzip"},{"$f":"IFERROR(__xludf.DUMMYFUNCTION(\"\"\"COMPUTED_VALUE\"\"\"),\"application/tlsrpt+gzip\")","v":"application/tlsrpt+gzip"},{"$f":"IFERROR(__xludf.DUMMYFUNCTION(\"\"\"COMPUTED_VALUE\"\"\"),\"en\")","v":"en"}]
[{"$f":"IFERROR(__xludf.DUMMYFUNCTION(\"\"\"COMPUTED_VALUE\"\"\"),\"https://www.iana.org/assignments/media-types/application/tlsrpt+json\")","v":"https://www.iana.org/assignments/media-types/application/tlsrpt+json"},{"$f":"IFERROR(__xludf.DUMMYFUNCTION(\"\"\"COMPUTED_VALUE\"\"\"),\"tlsrpt+json\")","v":"tlsrpt+json"},{"$f":"IFERROR(__xludf.DUMMYFUNCTION(\"\"\"COMPUTED_VALUE\"\"\"),\"tlsrpt+json\")","v":"tlsrpt+json"},{"$f":"IFERROR(__xludf.DUMMYFUNCTION(\"\"\"COMPUTED_VALUE\"\"\"),\"application/tlsrpt+json\")","v":"application/tlsrpt+json"},{"$f":"IFERROR(__xludf.DUMMYFUNCTION(\"\"\"COMPUTED_VALUE\"\"\"),\"en\")","v":"en"}]
[{"$f":"IFERROR(__xludf.DUMMYFUNCTION(\"\"\"COMPUTED_VALUE\"\"\"),\"https://www.iana.org/assignments/media-types/application/tm+json\")","v":"https://www.iana.org/assignments/media-types/application/tm+json"},{"$f":"IFERROR(__xludf.DUMMYFUNCTION(\"\"\"COMPUTED_VALUE\"\"\"),\"tm+json\")","v":"tm+json"},{"$f":"IFERROR(__xludf.DUMMYFUNCTION(\"\"\"COMPUTED_VALUE\"\"\"),\"tm+json\")","v":"tm+json"},{"$f":"IFERROR(__xludf.DUMMYFUNCTION(\"\"\"COMPUTED_VALUE\"\"\"),\"application/tm+json\")","v":"application/tm+json"},{"$f":"IFERROR(__xludf.DUMMYFUNCTION(\"\"\"COMPUTED_VALUE\"\"\"),\"en\")","v":"en"}]
[{"$f":"IFERROR(__xludf.DUMMYFUNCTION(\"\"\"COMPUTED_VALUE\"\"\"),\"https://www.iana.org/assignments/media-types/application/tnauthlist\")","v":"https://www.iana.org/assignments/media-types/application/tnauthlist"},{"$f":"IFERROR(__xludf.DUMMYFUNCTION(\"\"\"COMPUTED_VALUE\"\"\"),\"tnauthlist\")","v":"tnauthlist"},{"$f":"IFERROR(__xludf.DUMMYFUNCTION(\"\"\"COMPUTED_VALUE\"\"\"),\"tnauthlist\")","v":"tnauthlist"},{"$f":"IFERROR(__xludf.DUMMYFUNCTION(\"\"\"COMPUTED_VALUE\"\"\"),\"application/tnauthlist\")","v":"application/tnauthlist"},{"$f":"IFERROR(__xludf.DUMMYFUNCTION(\"\"\"COMPUTED_VALUE\"\"\"),\"en\")","v":"en"}]
[{"$f":"IFERROR(__xludf.DUMMYFUNCTION(\"\"\"COMPUTED_VALUE\"\"\"),\"https://www.iana.org/assignments/media-types/application/token-introspection+jwt\")","v":"https://www.iana.org/assignments/media-types/application/token-introspection+jwt"},{"$f":"IFERROR(__xludf.DUMMYFUNCTION(\"\"\"COMPUTED_VALUE\"\"\"),\"token-introspection+jwt\")","v":"token-introspection+jwt"},{"$f":"IFERROR(__xludf.DUMMYFUNCTION(\"\"\"COMPUTED_VALUE\"\"\"),\"token-introspection+jwt\")","v":"token-introspection+jwt"},{"$f":"IFERROR(__xludf.DUMMYFUNCTION(\"\"\"COMPUTED_VALUE\"\"\"),\"application/token-introspection+jwt\")","v":"application/token-introspection+jwt"},{"$f":"IFERROR(__xludf.DUMMYFUNCTION(\"\"\"COMPUTED_VALUE\"\"\"),\"en\")","v":"en"}]
[{"$f":"IFERROR(__xludf.DUMMYFUNCTION(\"\"\"COMPUTED_VALUE\"\"\"),\"https://www.iana.org/assignments/media-types/application/trickle-ice-sdpfrag\")","v":"https://www.iana.org/assignments/media-types/application/trickle-ice-sdpfrag"},{"$f":"IFERROR(__xludf.DUMMYFUNCTION(\"\"\"COMPUTED_VALUE\"\"\"),\"trickle-ice-sdpfrag\")","v":"trickle-ice-sdpfrag"},{"$f":"IFERROR(__xludf.DUMMYFUNCTION(\"\"\"COMPUTED_VALUE\"\"\"),\"trickle-ice-sdpfrag\")","v":"trickle-ice-sdpfrag"},{"$f":"IFERROR(__xludf.DUMMYFUNCTION(\"\"\"COMPUTED_VALUE\"\"\"),\"application/trickle-ice-sdpfrag\")","v":"application/trickle-ice-sdpfrag"},{"$f":"IFERROR(__xludf.DUMMYFUNCTION(\"\"\"COMPUTED_VALUE\"\"\"),\"en\")","v":"en"}]
[{"$f":"IFERROR(__xludf.DUMMYFUNCTION(\"\"\"COMPUTED_VALUE\"\"\"),\"https://www.iana.org/assignments/media-types/application/trig\")","v":"https://www.iana.org/assignments/media-types/application/trig"},{"$f":"IFERROR(__xludf.DUMMYFUNCTION(\"\"\"COMPUTED_VALUE\"\"\"),\"trig\")","v":"trig"},{"$f":"IFERROR(__xludf.DUMMYFUNCTION(\"\"\"COMPUTED_VALUE\"\"\"),\"trig\")","v":"trig"},{"$f":"IFERROR(__xludf.DUMMYFUNCTION(\"\"\"COMPUTED_VALUE\"\"\"),\"application/trig\")","v":"application/trig"},{"$f":"IFERROR(__xludf.DUMMYFUNCTION(\"\"\"COMPUTED_VALUE\"\"\"),\"en\")","v":"en"}]
[{"$f":"IFERROR(__xludf.DUMMYFUNCTION(\"\"\"COMPUTED_VALUE\"\"\"),\"https://www.iana.org/assignments/media-types/application/ttml+xml\")","v":"https://www.iana.org/assignments/media-types/application/ttml+xml"},{"$f":"IFERROR(__xludf.DUMMYFUNCTION(\"\"\"COMPUTED_VALUE\"\"\"),\"ttml+xml\")","v":"ttml+xml"},{"$f":"IFERROR(__xludf.DUMMYFUNCTION(\"\"\"COMPUTED_VALUE\"\"\"),\"ttml+xml\")","v":"ttml+xml"},{"$f":"IFERROR(__xludf.DUMMYFUNCTION(\"\"\"COMPUTED_VALUE\"\"\"),\"application/ttml+xml\")","v":"application/ttml+xml"},{"$f":"IFERROR(__xludf.DUMMYFUNCTION(\"\"\"COMPUTED_VALUE\"\"\"),\"en\")","v":"en"}]
[{"$f":"IFERROR(__xludf.DUMMYFUNCTION(\"\"\"COMPUTED_VALUE\"\"\"),\"https://www.iana.org/assignments/media-types/application/tve-trigger\")","v":"https://www.iana.org/assignments/media-types/application/tve-trigger"},{"$f":"IFERROR(__xludf.DUMMYFUNCTION(\"\"\"COMPUTED_VALUE\"\"\"),\"tve-trigger\")","v":"tve-trigger"},{"$f":"IFERROR(__xludf.DUMMYFUNCTION(\"\"\"COMPUTED_VALUE\"\"\"),\"tve-trigger\")","v":"tve-trigger"},{"$f":"IFERROR(__xludf.DUMMYFUNCTION(\"\"\"COMPUTED_VALUE\"\"\"),\"application/tve-trigger\")","v":"application/tve-trigger"},{"$f":"IFERROR(__xludf.DUMMYFUNCTION(\"\"\"COMPUTED_VALUE\"\"\"),\"en\")","v":"en"}]
[{"$f":"IFERROR(__xludf.DUMMYFUNCTION(\"\"\"COMPUTED_VALUE\"\"\"),\"https://www.iana.org/assignments/media-types/application/tzif\")","v":"https://www.iana.org/assignments/media-types/application/tzif"},{"$f":"IFERROR(__xludf.DUMMYFUNCTION(\"\"\"COMPUTED_VALUE\"\"\"),\"tzif\")","v":"tzif"},{"$f":"IFERROR(__xludf.DUMMYFUNCTION(\"\"\"COMPUTED_VALUE\"\"\"),\"tzif\")","v":"tzif"},{"$f":"IFERROR(__xludf.DUMMYFUNCTION(\"\"\"COMPUTED_VALUE\"\"\"),\"application/tzif\")","v":"application/tzif"},{"$f":"IFERROR(__xludf.DUMMYFUNCTION(\"\"\"COMPUTED_VALUE\"\"\"),\"en\")","v":"en"}]
[{"$f":"IFERROR(__xludf.DUMMYFUNCTION(\"\"\"COMPUTED_VALUE\"\"\"),\"https://www.iana.org/assignments/media-types/application/tzif-leap\")","v":"https://www.iana.org/assignments/media-types/application/tzif-leap"},{"$f":"IFERROR(__xludf.DUMMYFUNCTION(\"\"\"COMPUTED_VALUE\"\"\"),\"tzif-leap\")","v":"tzif-leap"},{"$f":"IFERROR(__xludf.DUMMYFUNCTION(\"\"\"COMPUTED_VALUE\"\"\"),\"tzif-leap\")","v":"tzif-leap"},{"$f":"IFERROR(__xludf.DUMMYFUNCTION(\"\"\"COMPUTED_VALUE\"\"\"),\"application/tzif-leap\")","v":"application/tzif-leap"},{"$f":"IFERROR(__xludf.DUMMYFUNCTION(\"\"\"COMPUTED_VALUE\"\"\"),\"en\")","v":"en"}]
[{"$f":"IFERROR(__xludf.DUMMYFUNCTION(\"\"\"COMPUTED_VALUE\"\"\"),\"https://www.iana.org/assignments/media-types/application/ulpfec\")","v":"https://www.iana.org/assignments/media-types/application/ulpfec"},{"$f":"IFERROR(__xludf.DUMMYFUNCTION(\"\"\"COMPUTED_VALUE\"\"\"),\"ulpfec\")","v":"ulpfec"},{"$f":"IFERROR(__xludf.DUMMYFUNCTION(\"\"\"COMPUTED_VALUE\"\"\"),\"ulpfec\")","v":"ulpfec"},{"$f":"IFERROR(__xludf.DUMMYFUNCTION(\"\"\"COMPUTED_VALUE\"\"\"),\"application/ulpfec\")","v":"application/ulpfec"},{"$f":"IFERROR(__xludf.DUMMYFUNCTION(\"\"\"COMPUTED_VALUE\"\"\"),\"en\")","v":"en"}]
[{"$f":"IFERROR(__xludf.DUMMYFUNCTION(\"\"\"COMPUTED_VALUE\"\"\"),\"https://www.iana.org/assignments/media-types/application/urc-grpsheet+xml\")","v":"https://www.iana.org/assignments/media-types/application/urc-grpsheet+xml"},{"$f":"IFERROR(__xludf.DUMMYFUNCTION(\"\"\"COMPUTED_VALUE\"\"\"),\"urc-grpsheet+xml\")","v":"urc-grpsheet+xml"},{"$f":"IFERROR(__xludf.DUMMYFUNCTION(\"\"\"COMPUTED_VALUE\"\"\"),\"urc-grpsheet+xml\")","v":"urc-grpsheet+xml"},{"$f":"IFERROR(__xludf.DUMMYFUNCTION(\"\"\"COMPUTED_VALUE\"\"\"),\"application/urc-grpsheet+xml\")","v":"application/urc-grpsheet+xml"},{"$f":"IFERROR(__xludf.DUMMYFUNCTION(\"\"\"COMPUTED_VALUE\"\"\"),\"en\")","v":"en"}]
[{"$f":"IFERROR(__xludf.DUMMYFUNCTION(\"\"\"COMPUTED_VALUE\"\"\"),\"https://www.iana.org/assignments/media-types/application/urc-ressheet+xml\")","v":"https://www.iana.org/assignments/media-types/application/urc-ressheet+xml"},{"$f":"IFERROR(__xludf.DUMMYFUNCTION(\"\"\"COMPUTED_VALUE\"\"\"),\"urc-ressheet+xml\")","v":"urc-ressheet+xml"},{"$f":"IFERROR(__xludf.DUMMYFUNCTION(\"\"\"COMPUTED_VALUE\"\"\"),\"urc-ressheet+xml\")","v":"urc-ressheet+xml"},{"$f":"IFERROR(__xludf.DUMMYFUNCTION(\"\"\"COMPUTED_VALUE\"\"\"),\"application/urc-ressheet+xml\")","v":"application/urc-ressheet+xml"},{"$f":"IFERROR(__xludf.DUMMYFUNCTION(\"\"\"COMPUTED_VALUE\"\"\"),\"en\")","v":"en"}]
[{"$f":"IFERROR(__xludf.DUMMYFUNCTION(\"\"\"COMPUTED_VALUE\"\"\"),\"https://www.iana.org/assignments/media-types/application/urc-targetdesc+xml\")","v":"https://www.iana.org/assignments/media-types/application/urc-targetdesc+xml"},{"$f":"IFERROR(__xludf.DUMMYFUNCTION(\"\"\"COMPUTED_VALUE\"\"\"),\"urc-targetdesc+xml\")","v":"urc-targetdesc+xml"},{"$f":"IFERROR(__xludf.DUMMYFUNCTION(\"\"\"COMPUTED_VALUE\"\"\"),\"urc-targetdesc+xml\")","v":"urc-targetdesc+xml"},{"$f":"IFERROR(__xludf.DUMMYFUNCTION(\"\"\"COMPUTED_VALUE\"\"\"),\"application/urc-targetdesc+xml\")","v":"application/urc-targetdesc+xml"},{"$f":"IFERROR(__xludf.DUMMYFUNCTION(\"\"\"COMPUTED_VALUE\"\"\"),\"en\")","v":"en"}]
[{"$f":"IFERROR(__xludf.DUMMYFUNCTION(\"\"\"COMPUTED_VALUE\"\"\"),\"https://www.iana.org/assignments/media-types/application/urc-uisocketdesc+xml\")","v":"https://www.iana.org/assignments/media-types/application/urc-uisocketdesc+xml"},{"$f":"IFERROR(__xludf.DUMMYFUNCTION(\"\"\"COMPUTED_VALUE\"\"\"),\"urc-uisocketdesc+xml\")","v":"urc-uisocketdesc+xml"},{"$f":"IFERROR(__xludf.DUMMYFUNCTION(\"\"\"COMPUTED_VALUE\"\"\"),\"urc-uisocketdesc+xml\")","v":"urc-uisocketdesc+xml"},{"$f":"IFERROR(__xludf.DUMMYFUNCTION(\"\"\"COMPUTED_VALUE\"\"\"),\"application/urc-uisocketdesc+xml\")","v":"application/urc-uisocketdesc+xml"},{"$f":"IFERROR(__xludf.DUMMYFUNCTION(\"\"\"COMPUTED_VALUE\"\"\"),\"en\")","v":"en"}]
[{"$f":"IFERROR(__xludf.DUMMYFUNCTION(\"\"\"COMPUTED_VALUE\"\"\"),\"https://www.iana.org/assignments/media-types/application/vcard+json\")","v":"https://www.iana.org/assignments/media-types/application/vcard+json"},{"$f":"IFERROR(__xludf.DUMMYFUNCTION(\"\"\"COMPUTED_VALUE\"\"\"),\"vcard+json\")","v":"vcard+json"},{"$f":"IFERROR(__xludf.DUMMYFUNCTION(\"\"\"COMPUTED_VALUE\"\"\"),\"vcard+json\")","v":"vcard+json"},{"$f":"IFERROR(__xludf.DUMMYFUNCTION(\"\"\"COMPUTED_VALUE\"\"\"),\"application/vcard+json\")","v":"application/vcard+json"},{"$f":"IFERROR(__xludf.DUMMYFUNCTION(\"\"\"COMPUTED_VALUE\"\"\"),\"en\")","v":"en"}]
[{"$f":"IFERROR(__xludf.DUMMYFUNCTION(\"\"\"COMPUTED_VALUE\"\"\"),\"https://www.iana.org/assignments/media-types/application/vcard+xml\")","v":"https://www.iana.org/assignments/media-types/application/vcard+xml"},{"$f":"IFERROR(__xludf.DUMMYFUNCTION(\"\"\"COMPUTED_VALUE\"\"\"),\"vcard+xml\")","v":"vcard+xml"},{"$f":"IFERROR(__xludf.DUMMYFUNCTION(\"\"\"COMPUTED_VALUE\"\"\"),\"vcard+xml\")","v":"vcard+xml"},{"$f":"IFERROR(__xludf.DUMMYFUNCTION(\"\"\"COMPUTED_VALUE\"\"\"),\"application/vcard+xml\")","v":"application/vcard+xml"},{"$f":"IFERROR(__xludf.DUMMYFUNCTION(\"\"\"COMPUTED_VALUE\"\"\"),\"en\")","v":"en"}]
[{"$f":"IFERROR(__xludf.DUMMYFUNCTION(\"\"\"COMPUTED_VALUE\"\"\"),\"https://www.iana.org/assignments/media-types/application/vemmi\")","v":"https://www.iana.org/assignments/media-types/application/vemmi"},{"$f":"IFERROR(__xludf.DUMMYFUNCTION(\"\"\"COMPUTED_VALUE\"\"\"),\"vemmi\")","v":"vemmi"},{"$f":"IFERROR(__xludf.DUMMYFUNCTION(\"\"\"COMPUTED_VALUE\"\"\"),\"vemmi\")","v":"vemmi"},{"$f":"IFERROR(__xludf.DUMMYFUNCTION(\"\"\"COMPUTED_VALUE\"\"\"),\"application/vemmi\")","v":"application/vemmi"},{"$f":"IFERROR(__xludf.DUMMYFUNCTION(\"\"\"COMPUTED_VALUE\"\"\"),\"en\")","v":"en"}]
[{"$f":"IFERROR(__xludf.DUMMYFUNCTION(\"\"\"COMPUTED_VALUE\"\"\"),\"https://www.iana.org/assignments/media-types/application/vnd.1000minds.decision-model+xml\")","v":"https://www.iana.org/assignments/media-types/application/vnd.1000minds.decision-model+xml"},{"$f":"IFERROR(__xludf.DUMMYFUNCTION(\"\"\"COMPUTED_VALUE\"\"\"),\"vnd.1000minds.decision-model+xml\")","v":"vnd.1000minds.decision-model+xml"},{"$f":"IFERROR(__xludf.DUMMYFUNCTION(\"\"\"COMPUTED_VALUE\"\"\"),\"vnd.1000minds.decision-model+xml\")","v":"vnd.1000minds.decision-model+xml"},{"$f":"IFERROR(__xludf.DUMMYFUNCTION(\"\"\"COMPUTED_VALUE\"\"\"),\"application/vnd.1000minds.decision-model+xml\")","v":"application/vnd.1000minds.decision-model+xml"},{"$f":"IFERROR(__xludf.DUMMYFUNCTION(\"\"\"COMPUTED_VALUE\"\"\"),\"en\")","v":"en"}]
[{"$f":"IFERROR(__xludf.DUMMYFUNCTION(\"\"\"COMPUTED_VALUE\"\"\"),\"https://www.iana.org/assignments/media-types/application/vnd.3gpp.5gnas\")","v":"https://www.iana.org/assignments/media-types/application/vnd.3gpp.5gnas"},{"$f":"IFERROR(__xludf.DUMMYFUNCTION(\"\"\"COMPUTED_VALUE\"\"\"),\"vnd.3gpp.5gnas\")","v":"vnd.3gpp.5gnas"},{"$f":"IFERROR(__xludf.DUMMYFUNCTION(\"\"\"COMPUTED_VALUE\"\"\"),\"vnd.3gpp.5gnas\")","v":"vnd.3gpp.5gnas"},{"$f":"IFERROR(__xludf.DUMMYFUNCTION(\"\"\"COMPUTED_VALUE\"\"\"),\"application/vnd.3gpp.5gnas\")","v":"application/vnd.3gpp.5gnas"},{"$f":"IFERROR(__xludf.DUMMYFUNCTION(\"\"\"COMPUTED_VALUE\"\"\"),\"en\")","v":"en"}]
[{"$f":"IFERROR(__xludf.DUMMYFUNCTION(\"\"\"COMPUTED_VALUE\"\"\"),\"https://www.iana.org/assignments/media-types/application/vnd.3gpp.access-transfer-events+xml\")","v":"https://www.iana.org/assignments/media-types/application/vnd.3gpp.access-transfer-events+xml"},{"$f":"IFERROR(__xludf.DUMMYFUNCTION(\"\"\"COMPUTED_VALUE\"\"\"),\"vnd.3gpp.access-transfer-events+xml\")","v":"vnd.3gpp.access-transfer-events+xml"},{"$f":"IFERROR(__xludf.DUMMYFUNCTION(\"\"\"COMPUTED_VALUE\"\"\"),\"vnd.3gpp.access-transfer-events+xml\")","v":"vnd.3gpp.access-transfer-events+xml"},{"$f":"IFERROR(__xludf.DUMMYFUNCTION(\"\"\"COMPUTED_VALUE\"\"\"),\"application/vnd.3gpp.access-transfer-events+xml\")","v":"application/vnd.3gpp.access-transfer-events+xml"},{"$f":"IFERROR(__xludf.DUMMYFUNCTION(\"\"\"COMPUTED_VALUE\"\"\"),\"en\")","v":"en"}]
[{"$f":"IFERROR(__xludf.DUMMYFUNCTION(\"\"\"COMPUTED_VALUE\"\"\"),\"https://www.iana.org/assignments/media-types/application/vnd.3gpp.bsf+xml\")","v":"https://www.iana.org/assignments/media-types/application/vnd.3gpp.bsf+xml"},{"$f":"IFERROR(__xludf.DUMMYFUNCTION(\"\"\"COMPUTED_VALUE\"\"\"),\"vnd.3gpp.bsf+xml\")","v":"vnd.3gpp.bsf+xml"},{"$f":"IFERROR(__xludf.DUMMYFUNCTION(\"\"\"COMPUTED_VALUE\"\"\"),\"vnd.3gpp.bsf+xml\")","v":"vnd.3gpp.bsf+xml"},{"$f":"IFERROR(__xludf.DUMMYFUNCTION(\"\"\"COMPUTED_VALUE\"\"\"),\"application/vnd.3gpp.bsf+xml\")","v":"application/vnd.3gpp.bsf+xml"},{"$f":"IFERROR(__xludf.DUMMYFUNCTION(\"\"\"COMPUTED_VALUE\"\"\"),\"en\")","v":"en"}]
[{"$f":"IFERROR(__xludf.DUMMYFUNCTION(\"\"\"COMPUTED_VALUE\"\"\"),\"https://www.iana.org/assignments/media-types/application/vnd.3gpp.GMOP+xml\")","v":"https://www.iana.org/assignments/media-types/application/vnd.3gpp.GMOP+xml"},{"$f":"IFERROR(__xludf.DUMMYFUNCTION(\"\"\"COMPUTED_VALUE\"\"\"),\"vnd.3gpp.GMOP+xml\")","v":"vnd.3gpp.GMOP+xml"},{"$f":"IFERROR(__xludf.DUMMYFUNCTION(\"\"\"COMPUTED_VALUE\"\"\"),\"vnd.3gpp.GMOP+xml\")","v":"vnd.3gpp.GMOP+xml"},{"$f":"IFERROR(__xludf.DUMMYFUNCTION(\"\"\"COMPUTED_VALUE\"\"\"),\"application/vnd.3gpp.GMOP+xml\")","v":"application/vnd.3gpp.GMOP+xml"},{"$f":"IFERROR(__xludf.DUMMYFUNCTION(\"\"\"COMPUTED_VALUE\"\"\"),\"en\")","v":"en"}]
[{"$f":"IFERROR(__xludf.DUMMYFUNCTION(\"\"\"COMPUTED_VALUE\"\"\"),\"https://www.iana.org/assignments/media-types/application/vnd.3gpp.gtpc\")","v":"https://www.iana.org/assignments/media-types/application/vnd.3gpp.gtpc"},{"$f":"IFERROR(__xludf.DUMMYFUNCTION(\"\"\"COMPUTED_VALUE\"\"\"),\"vnd.3gpp.gtpc\")","v":"vnd.3gpp.gtpc"},{"$f":"IFERROR(__xludf.DUMMYFUNCTION(\"\"\"COMPUTED_VALUE\"\"\"),\"vnd.3gpp.gtpc\")","v":"vnd.3gpp.gtpc"},{"$f":"IFERROR(__xludf.DUMMYFUNCTION(\"\"\"COMPUTED_VALUE\"\"\"),\"application/vnd.3gpp.gtpc\")","v":"application/vnd.3gpp.gtpc"},{"$f":"IFERROR(__xludf.DUMMYFUNCTION(\"\"\"COMPUTED_VALUE\"\"\"),\"en\")","v":"en"}]
[{"$f":"IFERROR(__xludf.DUMMYFUNCTION(\"\"\"COMPUTED_VALUE\"\"\"),\"https://www.iana.org/assignments/media-types/application/vnd.3gpp.interworking-data\")","v":"https://www.iana.org/assignments/media-types/application/vnd.3gpp.interworking-data"},{"$f":"IFERROR(__xludf.DUMMYFUNCTION(\"\"\"COMPUTED_VALUE\"\"\"),\"vnd.3gpp.interworking-data\")","v":"vnd.3gpp.interworking-data"},{"$f":"IFERROR(__xludf.DUMMYFUNCTION(\"\"\"COMPUTED_VALUE\"\"\"),\"vnd.3gpp.interworking-data\")","v":"vnd.3gpp.interworking-data"},{"$f":"IFERROR(__xludf.DUMMYFUNCTION(\"\"\"COMPUTED_VALUE\"\"\"),\"application/vnd.3gpp.interworking-data\")","v":"application/vnd.3gpp.interworking-data"},{"$f":"IFERROR(__xludf.DUMMYFUNCTION(\"\"\"COMPUTED_VALUE\"\"\"),\"en\")","v":"en"}]
[{"$f":"IFERROR(__xludf.DUMMYFUNCTION(\"\"\"COMPUTED_VALUE\"\"\"),\"https://www.iana.org/assignments/media-types/application/vnd.3gpp.lpp\")","v":"https://www.iana.org/assignments/media-types/application/vnd.3gpp.lpp"},{"$f":"IFERROR(__xludf.DUMMYFUNCTION(\"\"\"COMPUTED_VALUE\"\"\"),\"vnd.3gpp.lpp\")","v":"vnd.3gpp.lpp"},{"$f":"IFERROR(__xludf.DUMMYFUNCTION(\"\"\"COMPUTED_VALUE\"\"\"),\"vnd.3gpp.lpp\")","v":"vnd.3gpp.lpp"},{"$f":"IFERROR(__xludf.DUMMYFUNCTION(\"\"\"COMPUTED_VALUE\"\"\"),\"application/vnd.3gpp.lpp\")","v":"application/vnd.3gpp.lpp"},{"$f":"IFERROR(__xludf.DUMMYFUNCTION(\"\"\"COMPUTED_VALUE\"\"\"),\"en\")","v":"en"}]
[{"$f":"IFERROR(__xludf.DUMMYFUNCTION(\"\"\"COMPUTED_VALUE\"\"\"),\"https://www.iana.org/assignments/media-types/application/vnd.3gpp.mc-signalling-ear\")","v":"https://www.iana.org/assignments/media-types/application/vnd.3gpp.mc-signalling-ear"},{"$f":"IFERROR(__xludf.DUMMYFUNCTION(\"\"\"COMPUTED_VALUE\"\"\"),\"vnd.3gpp.mc-signalling-ear\")","v":"vnd.3gpp.mc-signalling-ear"},{"$f":"IFERROR(__xludf.DUMMYFUNCTION(\"\"\"COMPUTED_VALUE\"\"\"),\"vnd.3gpp.mc-signalling-ear\")","v":"vnd.3gpp.mc-signalling-ear"},{"$f":"IFERROR(__xludf.DUMMYFUNCTION(\"\"\"COMPUTED_VALUE\"\"\"),\"application/vnd.3gpp.mc-signalling-ear\")","v":"application/vnd.3gpp.mc-signalling-ear"},{"$f":"IFERROR(__xludf.DUMMYFUNCTION(\"\"\"COMPUTED_VALUE\"\"\"),\"en\")","v":"en"}]
[{"$f":"IFERROR(__xludf.DUMMYFUNCTION(\"\"\"COMPUTED_VALUE\"\"\"),\"https://www.iana.org/assignments/media-types/application/vnd.3gpp.mcdata-affiliation-command+xml\")","v":"https://www.iana.org/assignments/media-types/application/vnd.3gpp.mcdata-affiliation-command+xml"},{"$f":"IFERROR(__xludf.DUMMYFUNCTION(\"\"\"COMPUTED_VALUE\"\"\"),\"vnd.3gpp.mcdata-affiliation-command+xml\")","v":"vnd.3gpp.mcdata-affiliation-command+xml"},{"$f":"IFERROR(__xludf.DUMMYFUNCTION(\"\"\"COMPUTED_VALUE\"\"\"),\"vnd.3gpp.mcdata-affiliation-command+xml\")","v":"vnd.3gpp.mcdata-affiliation-command+xml"},{"$f":"IFERROR(__xludf.DUMMYFUNCTION(\"\"\"COMPUTED_VALUE\"\"\"),\"application/vnd.3gpp.mcdata-affiliation-command+xml\")","v":"application/vnd.3gpp.mcdata-affiliation-command+xml"},{"$f":"IFERROR(__xludf.DUMMYFUNCTION(\"\"\"COMPUTED_VALUE\"\"\"),\"en\")","v":"en"}]
[{"$f":"IFERROR(__xludf.DUMMYFUNCTION(\"\"\"COMPUTED_VALUE\"\"\"),\"https://www.iana.org/assignments/media-types/application/vnd.3gpp.mcdata-info+xml\")","v":"https://www.iana.org/assignments/media-types/application/vnd.3gpp.mcdata-info+xml"},{"$f":"IFERROR(__xludf.DUMMYFUNCTION(\"\"\"COMPUTED_VALUE\"\"\"),\"vnd.3gpp.mcdata-info+xml\")","v":"vnd.3gpp.mcdata-info+xml"},{"$f":"IFERROR(__xludf.DUMMYFUNCTION(\"\"\"COMPUTED_VALUE\"\"\"),\"vnd.3gpp.mcdata-info+xml\")","v":"vnd.3gpp.mcdata-info+xml"},{"$f":"IFERROR(__xludf.DUMMYFUNCTION(\"\"\"COMPUTED_VALUE\"\"\"),\"application/vnd.3gpp.mcdata-info+xml\")","v":"application/vnd.3gpp.mcdata-info+xml"},{"$f":"IFERROR(__xludf.DUMMYFUNCTION(\"\"\"COMPUTED_VALUE\"\"\"),\"en\")","v":"en"}]
[{"$f":"IFERROR(__xludf.DUMMYFUNCTION(\"\"\"COMPUTED_VALUE\"\"\"),\"https://www.iana.org/assignments/media-types/application/vnd.3gpp.mcdata-msgstore-ctrl-request+xml\")","v":"https://www.iana.org/assignments/media-types/application/vnd.3gpp.mcdata-msgstore-ctrl-request+xml"},{"$f":"IFERROR(__xludf.DUMMYFUNCTION(\"\"\"COMPUTED_VALUE\"\"\"),\"vnd.3gpp.mcdata-msgstore-ctrl-request+xml\")","v":"vnd.3gpp.mcdata-msgstore-ctrl-request+xml"},{"$f":"IFERROR(__xludf.DUMMYFUNCTION(\"\"\"COMPUTED_VALUE\"\"\"),\"vnd.3gpp.mcdata-msgstore-ctrl-request+xml\")","v":"vnd.3gpp.mcdata-msgstore-ctrl-request+xml"},{"$f":"IFERROR(__xludf.DUMMYFUNCTION(\"\"\"COMPUTED_VALUE\"\"\"),\"application/vnd.3gpp.mcdata-msgstore-ctrl-request+xml\")","v":"application/vnd.3gpp.mcdata-msgstore-ctrl-request+xml"},{"$f":"IFERROR(__xludf.DUMMYFUNCTION(\"\"\"COMPUTED_VALUE\"\"\"),\"en\")","v":"en"}]
[{"$f":"IFERROR(__xludf.DUMMYFUNCTION(\"\"\"COMPUTED_VALUE\"\"\"),\"https://www.iana.org/assignments/media-types/application/vnd.3gpp.mcdata-payload\")","v":"https://www.iana.org/assignments/media-types/application/vnd.3gpp.mcdata-payload"},{"$f":"IFERROR(__xludf.DUMMYFUNCTION(\"\"\"COMPUTED_VALUE\"\"\"),\"vnd.3gpp.mcdata-payload\")","v":"vnd.3gpp.mcdata-payload"},{"$f":"IFERROR(__xludf.DUMMYFUNCTION(\"\"\"COMPUTED_VALUE\"\"\"),\"vnd.3gpp.mcdata-payload\")","v":"vnd.3gpp.mcdata-payload"},{"$f":"IFERROR(__xludf.DUMMYFUNCTION(\"\"\"COMPUTED_VALUE\"\"\"),\"application/vnd.3gpp.mcdata-payload\")","v":"application/vnd.3gpp.mcdata-payload"},{"$f":"IFERROR(__xludf.DUMMYFUNCTION(\"\"\"COMPUTED_VALUE\"\"\"),\"en\")","v":"en"}]
[{"$f":"IFERROR(__xludf.DUMMYFUNCTION(\"\"\"COMPUTED_VALUE\"\"\"),\"https://www.iana.org/assignments/media-types/application/vnd.3gpp.mcdata-regroup+xml\")","v":"https://www.iana.org/assignments/media-types/application/vnd.3gpp.mcdata-regroup+xml"},{"$f":"IFERROR(__xludf.DUMMYFUNCTION(\"\"\"COMPUTED_VALUE\"\"\"),\"vnd.3gpp.mcdata-regroup+xml\")","v":"vnd.3gpp.mcdata-regroup+xml"},{"$f":"IFERROR(__xludf.DUMMYFUNCTION(\"\"\"COMPUTED_VALUE\"\"\"),\"vnd.3gpp.mcdata-regroup+xml\")","v":"vnd.3gpp.mcdata-regroup+xml"},{"$f":"IFERROR(__xludf.DUMMYFUNCTION(\"\"\"COMPUTED_VALUE\"\"\"),\"application/vnd.3gpp.mcdata-regroup+xml\")","v":"application/vnd.3gpp.mcdata-regroup+xml"},{"$f":"IFERROR(__xludf.DUMMYFUNCTION(\"\"\"COMPUTED_VALUE\"\"\"),\"en\")","v":"en"}]
[{"$f":"IFERROR(__xludf.DUMMYFUNCTION(\"\"\"COMPUTED_VALUE\"\"\"),\"https://www.iana.org/assignments/media-types/application/vnd.3gpp.mcdata-service-config+xml\")","v":"https://www.iana.org/assignments/media-types/application/vnd.3gpp.mcdata-service-config+xml"},{"$f":"IFERROR(__xludf.DUMMYFUNCTION(\"\"\"COMPUTED_VALUE\"\"\"),\"vnd.3gpp.mcdata-service-config+xml\")","v":"vnd.3gpp.mcdata-service-config+xml"},{"$f":"IFERROR(__xludf.DUMMYFUNCTION(\"\"\"COMPUTED_VALUE\"\"\"),\"vnd.3gpp.mcdata-service-config+xml\")","v":"vnd.3gpp.mcdata-service-config+xml"},{"$f":"IFERROR(__xludf.DUMMYFUNCTION(\"\"\"COMPUTED_VALUE\"\"\"),\"application/vnd.3gpp.mcdata-service-config+xml\")","v":"application/vnd.3gpp.mcdata-service-config+xml"},{"$f":"IFERROR(__xludf.DUMMYFUNCTION(\"\"\"COMPUTED_VALUE\"\"\"),\"en\")","v":"en"}]
[{"$f":"IFERROR(__xludf.DUMMYFUNCTION(\"\"\"COMPUTED_VALUE\"\"\"),\"https://www.iana.org/assignments/media-types/application/vnd.3gpp.mcdata-signalling\")","v":"https://www.iana.org/assignments/media-types/application/vnd.3gpp.mcdata-signalling"},{"$f":"IFERROR(__xludf.DUMMYFUNCTION(\"\"\"COMPUTED_VALUE\"\"\"),\"vnd.3gpp.mcdata-signalling\")","v":"vnd.3gpp.mcdata-signalling"},{"$f":"IFERROR(__xludf.DUMMYFUNCTION(\"\"\"COMPUTED_VALUE\"\"\"),\"vnd.3gpp.mcdata-signalling\")","v":"vnd.3gpp.mcdata-signalling"},{"$f":"IFERROR(__xludf.DUMMYFUNCTION(\"\"\"COMPUTED_VALUE\"\"\"),\"application/vnd.3gpp.mcdata-signalling\")","v":"application/vnd.3gpp.mcdata-signalling"},{"$f":"IFERROR(__xludf.DUMMYFUNCTION(\"\"\"COMPUTED_VALUE\"\"\"),\"en\")","v":"en"}]
[{"$f":"IFERROR(__xludf.DUMMYFUNCTION(\"\"\"COMPUTED_VALUE\"\"\"),\"https://www.iana.org/assignments/media-types/application/vnd.3gpp.mcdata-ue-config+xml\")","v":"https://www.iana.org/assignments/media-types/application/vnd.3gpp.mcdata-ue-config+xml"},{"$f":"IFERROR(__xludf.DUMMYFUNCTION(\"\"\"COMPUTED_VALUE\"\"\"),\"vnd.3gpp.mcdata-ue-config+xml\")","v":"vnd.3gpp.mcdata-ue-config+xml"},{"$f":"IFERROR(__xludf.DUMMYFUNCTION(\"\"\"COMPUTED_VALUE\"\"\"),\"vnd.3gpp.mcdata-ue-config+xml\")","v":"vnd.3gpp.mcdata-ue-config+xml"},{"$f":"IFERROR(__xludf.DUMMYFUNCTION(\"\"\"COMPUTED_VALUE\"\"\"),\"application/vnd.3gpp.mcdata-ue-config+xml\")","v":"application/vnd.3gpp.mcdata-ue-config+xml"},{"$f":"IFERROR(__xludf.DUMMYFUNCTION(\"\"\"COMPUTED_VALUE\"\"\"),\"en\")","v":"en"}]
[{"$f":"IFERROR(__xludf.DUMMYFUNCTION(\"\"\"COMPUTED_VALUE\"\"\"),\"https://www.iana.org/assignments/media-types/application/vnd.3gpp.mcdata-user-profile+xml\")","v":"https://www.iana.org/assignments/media-types/application/vnd.3gpp.mcdata-user-profile+xml"},{"$f":"IFERROR(__xludf.DUMMYFUNCTION(\"\"\"COMPUTED_VALUE\"\"\"),\"vnd.3gpp.mcdata-user-profile+xml\")","v":"vnd.3gpp.mcdata-user-profile+xml"},{"$f":"IFERROR(__xludf.DUMMYFUNCTION(\"\"\"COMPUTED_VALUE\"\"\"),\"vnd.3gpp.mcdata-user-profile+xml\")","v":"vnd.3gpp.mcdata-user-profile+xml"},{"$f":"IFERROR(__xludf.DUMMYFUNCTION(\"\"\"COMPUTED_VALUE\"\"\"),\"application/vnd.3gpp.mcdata-user-profile+xml\")","v":"application/vnd.3gpp.mcdata-user-profile+xml"},{"$f":"IFERROR(__xludf.DUMMYFUNCTION(\"\"\"COMPUTED_VALUE\"\"\"),\"en\")","v":"en"}]
[{"$f":"IFERROR(__xludf.DUMMYFUNCTION(\"\"\"COMPUTED_VALUE\"\"\"),\"https://www.iana.org/assignments/media-types/application/vnd.3gpp.mcptt-affiliation-command+xml\")","v":"https://www.iana.org/assignments/media-types/application/vnd.3gpp.mcptt-affiliation-command+xml"},{"$f":"IFERROR(__xludf.DUMMYFUNCTION(\"\"\"COMPUTED_VALUE\"\"\"),\"vnd.3gpp.mcptt-affiliation-command+xml\")","v":"vnd.3gpp.mcptt-affiliation-command+xml"},{"$f":"IFERROR(__xludf.DUMMYFUNCTION(\"\"\"COMPUTED_VALUE\"\"\"),\"vnd.3gpp.mcptt-affiliation-command+xml\")","v":"vnd.3gpp.mcptt-affiliation-command+xml"},{"$f":"IFERROR(__xludf.DUMMYFUNCTION(\"\"\"COMPUTED_VALUE\"\"\"),\"application/vnd.3gpp.mcptt-affiliation-command+xml\")","v":"application/vnd.3gpp.mcptt-affiliation-command+xml"},{"$f":"IFERROR(__xludf.DUMMYFUNCTION(\"\"\"COMPUTED_VALUE\"\"\"),\"en\")","v":"en"}]
[{"$f":"IFERROR(__xludf.DUMMYFUNCTION(\"\"\"COMPUTED_VALUE\"\"\"),\"https://www.iana.org/assignments/media-types/application/vnd.3gpp.mcptt-floor-request+xml\")","v":"https://www.iana.org/assignments/media-types/application/vnd.3gpp.mcptt-floor-request+xml"},{"$f":"IFERROR(__xludf.DUMMYFUNCTION(\"\"\"COMPUTED_VALUE\"\"\"),\"vnd.3gpp.mcptt-floor-request+xml\")","v":"vnd.3gpp.mcptt-floor-request+xml"},{"$f":"IFERROR(__xludf.DUMMYFUNCTION(\"\"\"COMPUTED_VALUE\"\"\"),\"vnd.3gpp.mcptt-floor-request+xml\")","v":"vnd.3gpp.mcptt-floor-request+xml"},{"$f":"IFERROR(__xludf.DUMMYFUNCTION(\"\"\"COMPUTED_VALUE\"\"\"),\"application/vnd.3gpp.mcptt-floor-request+xml\")","v":"application/vnd.3gpp.mcptt-floor-request+xml"},{"$f":"IFERROR(__xludf.DUMMYFUNCTION(\"\"\"COMPUTED_VALUE\"\"\"),\"en\")","v":"en"}]
[{"$f":"IFERROR(__xludf.DUMMYFUNCTION(\"\"\"COMPUTED_VALUE\"\"\"),\"https://www.iana.org/assignments/media-types/application/vnd.3gpp.mcptt-info+xml\")","v":"https://www.iana.org/assignments/media-types/application/vnd.3gpp.mcptt-info+xml"},{"$f":"IFERROR(__xludf.DUMMYFUNCTION(\"\"\"COMPUTED_VALUE\"\"\"),\"vnd.3gpp.mcptt-info+xml\")","v":"vnd.3gpp.mcptt-info+xml"},{"$f":"IFERROR(__xludf.DUMMYFUNCTION(\"\"\"COMPUTED_VALUE\"\"\"),\"vnd.3gpp.mcptt-info+xml\")","v":"vnd.3gpp.mcptt-info+xml"},{"$f":"IFERROR(__xludf.DUMMYFUNCTION(\"\"\"COMPUTED_VALUE\"\"\"),\"application/vnd.3gpp.mcptt-info+xml\")","v":"application/vnd.3gpp.mcptt-info+xml"},{"$f":"IFERROR(__xludf.DUMMYFUNCTION(\"\"\"COMPUTED_VALUE\"\"\"),\"en\")","v":"en"}]
[{"$f":"IFERROR(__xludf.DUMMYFUNCTION(\"\"\"COMPUTED_VALUE\"\"\"),\"https://www.iana.org/assignments/media-types/application/vnd.3gpp.mcptt-location-info+xml\")","v":"https://www.iana.org/assignments/media-types/application/vnd.3gpp.mcptt-location-info+xml"},{"$f":"IFERROR(__xludf.DUMMYFUNCTION(\"\"\"COMPUTED_VALUE\"\"\"),\"vnd.3gpp.mcptt-location-info+xml\")","v":"vnd.3gpp.mcptt-location-info+xml"},{"$f":"IFERROR(__xludf.DUMMYFUNCTION(\"\"\"COMPUTED_VALUE\"\"\"),\"vnd.3gpp.mcptt-location-info+xml\")","v":"vnd.3gpp.mcptt-location-info+xml"},{"$f":"IFERROR(__xludf.DUMMYFUNCTION(\"\"\"COMPUTED_VALUE\"\"\"),\"application/vnd.3gpp.mcptt-location-info+xml\")","v":"application/vnd.3gpp.mcptt-location-info+xml"},{"$f":"IFERROR(__xludf.DUMMYFUNCTION(\"\"\"COMPUTED_VALUE\"\"\"),\"en\")","v":"en"}]
[{"$f":"IFERROR(__xludf.DUMMYFUNCTION(\"\"\"COMPUTED_VALUE\"\"\"),\"https://www.iana.org/assignments/media-types/application/vnd.3gpp.mcptt-mbms-usage-info+xml\")","v":"https://www.iana.org/assignments/media-types/application/vnd.3gpp.mcptt-mbms-usage-info+xml"},{"$f":"IFERROR(__xludf.DUMMYFUNCTION(\"\"\"COMPUTED_VALUE\"\"\"),\"vnd.3gpp.mcptt-mbms-usage-info+xml\")","v":"vnd.3gpp.mcptt-mbms-usage-info+xml"},{"$f":"IFERROR(__xludf.DUMMYFUNCTION(\"\"\"COMPUTED_VALUE\"\"\"),\"vnd.3gpp.mcptt-mbms-usage-info+xml\")","v":"vnd.3gpp.mcptt-mbms-usage-info+xml"},{"$f":"IFERROR(__xludf.DUMMYFUNCTION(\"\"\"COMPUTED_VALUE\"\"\"),\"application/vnd.3gpp.mcptt-mbms-usage-info+xml\")","v":"application/vnd.3gpp.mcptt-mbms-usage-info+xml"},{"$f":"IFERROR(__xludf.DUMMYFUNCTION(\"\"\"COMPUTED_VALUE\"\"\"),\"en\")","v":"en"}]
[{"$f":"IFERROR(__xludf.DUMMYFUNCTION(\"\"\"COMPUTED_VALUE\"\"\"),\"https://www.iana.org/assignments/media-types/application/vnd.3gpp.mcptt-service-config+xml\")","v":"https://www.iana.org/assignments/media-types/application/vnd.3gpp.mcptt-service-config+xml"},{"$f":"IFERROR(__xludf.DUMMYFUNCTION(\"\"\"COMPUTED_VALUE\"\"\"),\"vnd.3gpp.mcptt-service-config+xml\")","v":"vnd.3gpp.mcptt-service-config+xml"},{"$f":"IFERROR(__xludf.DUMMYFUNCTION(\"\"\"COMPUTED_VALUE\"\"\"),\"vnd.3gpp.mcptt-service-config+xml\")","v":"vnd.3gpp.mcptt-service-config+xml"},{"$f":"IFERROR(__xludf.DUMMYFUNCTION(\"\"\"COMPUTED_VALUE\"\"\"),\"application/vnd.3gpp.mcptt-service-config+xml\")","v":"application/vnd.3gpp.mcptt-service-config+xml"},{"$f":"IFERROR(__xludf.DUMMYFUNCTION(\"\"\"COMPUTED_VALUE\"\"\"),\"en\")","v":"en"}]
[{"$f":"IFERROR(__xludf.DUMMYFUNCTION(\"\"\"COMPUTED_VALUE\"\"\"),\"https://www.iana.org/assignments/media-types/application/vnd.3gpp.mcptt-signed+xml\")","v":"https://www.iana.org/assignments/media-types/application/vnd.3gpp.mcptt-signed+xml"},{"$f":"IFERROR(__xludf.DUMMYFUNCTION(\"\"\"COMPUTED_VALUE\"\"\"),\"vnd.3gpp.mcptt-signed+xml\")","v":"vnd.3gpp.mcptt-signed+xml"},{"$f":"IFERROR(__xludf.DUMMYFUNCTION(\"\"\"COMPUTED_VALUE\"\"\"),\"vnd.3gpp.mcptt-signed+xml\")","v":"vnd.3gpp.mcptt-signed+xml"},{"$f":"IFERROR(__xludf.DUMMYFUNCTION(\"\"\"COMPUTED_VALUE\"\"\"),\"application/vnd.3gpp.mcptt-signed+xml\")","v":"application/vnd.3gpp.mcptt-signed+xml"},{"$f":"IFERROR(__xludf.DUMMYFUNCTION(\"\"\"COMPUTED_VALUE\"\"\"),\"en\")","v":"en"}]
[{"$f":"IFERROR(__xludf.DUMMYFUNCTION(\"\"\"COMPUTED_VALUE\"\"\"),\"https://www.iana.org/assignments/media-types/application/vnd.3gpp.mcptt-ue-config+xml\")","v":"https://www.iana.org/assignments/media-types/application/vnd.3gpp.mcptt-ue-config+xml"},{"$f":"IFERROR(__xludf.DUMMYFUNCTION(\"\"\"COMPUTED_VALUE\"\"\"),\"vnd.3gpp.mcptt-ue-config+xml\")","v":"vnd.3gpp.mcptt-ue-config+xml"},{"$f":"IFERROR(__xludf.DUMMYFUNCTION(\"\"\"COMPUTED_VALUE\"\"\"),\"vnd.3gpp.mcptt-ue-config+xml\")","v":"vnd.3gpp.mcptt-ue-config+xml"},{"$f":"IFERROR(__xludf.DUMMYFUNCTION(\"\"\"COMPUTED_VALUE\"\"\"),\"application/vnd.3gpp.mcptt-ue-config+xml\")","v":"application/vnd.3gpp.mcptt-ue-config+xml"},{"$f":"IFERROR(__xludf.DUMMYFUNCTION(\"\"\"COMPUTED_VALUE\"\"\"),\"en\")","v":"en"}]
[{"$f":"IFERROR(__xludf.DUMMYFUNCTION(\"\"\"COMPUTED_VALUE\"\"\"),\"https://www.iana.org/assignments/media-types/application/vnd.3gpp.mcptt-ue-init-config+xml\")","v":"https://www.iana.org/assignments/media-types/application/vnd.3gpp.mcptt-ue-init-config+xml"},{"$f":"IFERROR(__xludf.DUMMYFUNCTION(\"\"\"COMPUTED_VALUE\"\"\"),\"vnd.3gpp.mcptt-ue-init-config+xml\")","v":"vnd.3gpp.mcptt-ue-init-config+xml"},{"$f":"IFERROR(__xludf.DUMMYFUNCTION(\"\"\"COMPUTED_VALUE\"\"\"),\"vnd.3gpp.mcptt-ue-init-config+xml\")","v":"vnd.3gpp.mcptt-ue-init-config+xml"},{"$f":"IFERROR(__xludf.DUMMYFUNCTION(\"\"\"COMPUTED_VALUE\"\"\"),\"application/vnd.3gpp.mcptt-ue-init-config+xml\")","v":"application/vnd.3gpp.mcptt-ue-init-config+xml"},{"$f":"IFERROR(__xludf.DUMMYFUNCTION(\"\"\"COMPUTED_VALUE\"\"\"),\"en\")","v":"en"}]
[{"$f":"IFERROR(__xludf.DUMMYFUNCTION(\"\"\"COMPUTED_VALUE\"\"\"),\"https://www.iana.org/assignments/media-types/application/vnd.3gpp.mcptt-user-profile+xml\")","v":"https://www.iana.org/assignments/media-types/application/vnd.3gpp.mcptt-user-profile+xml"},{"$f":"IFERROR(__xludf.DUMMYFUNCTION(\"\"\"COMPUTED_VALUE\"\"\"),\"vnd.3gpp.mcptt-user-profile+xml\")","v":"vnd.3gpp.mcptt-user-profile+xml"},{"$f":"IFERROR(__xludf.DUMMYFUNCTION(\"\"\"COMPUTED_VALUE\"\"\"),\"vnd.3gpp.mcptt-user-profile+xml\")","v":"vnd.3gpp.mcptt-user-profile+xml"},{"$f":"IFERROR(__xludf.DUMMYFUNCTION(\"\"\"COMPUTED_VALUE\"\"\"),\"application/vnd.3gpp.mcptt-user-profile+xml\")","v":"application/vnd.3gpp.mcptt-user-profile+xml"},{"$f":"IFERROR(__xludf.DUMMYFUNCTION(\"\"\"COMPUTED_VALUE\"\"\"),\"en\")","v":"en"}]
[{"$f":"IFERROR(__xludf.DUMMYFUNCTION(\"\"\"COMPUTED_VALUE\"\"\"),\"https://www.iana.org/assignments/media-types/application/vnd.3gpp.mcvideo-affiliation-command+xml\")","v":"https://www.iana.org/assignments/media-types/application/vnd.3gpp.mcvideo-affiliation-command+xml"},{"$f":"IFERROR(__xludf.DUMMYFUNCTION(\"\"\"COMPUTED_VALUE\"\"\"),\"vnd.3gpp.mcvideo-affiliation-command+xml\")","v":"vnd.3gpp.mcvideo-affiliation-command+xml"},{"$f":"IFERROR(__xludf.DUMMYFUNCTION(\"\"\"COMPUTED_VALUE\"\"\"),\"vnd.3gpp.mcvideo-affiliation-command+xml\")","v":"vnd.3gpp.mcvideo-affiliation-command+xml"},{"$f":"IFERROR(__xludf.DUMMYFUNCTION(\"\"\"COMPUTED_VALUE\"\"\"),\"application/vnd.3gpp.mcvideo-affiliation-command+xml\")","v":"application/vnd.3gpp.mcvideo-affiliation-command+xml"},{"$f":"IFERROR(__xludf.DUMMYFUNCTION(\"\"\"COMPUTED_VALUE\"\"\"),\"en\")","v":"en"}]
[{"$f":"IFERROR(__xludf.DUMMYFUNCTION(\"\"\"COMPUTED_VALUE\"\"\"),\"https://www.iana.org/assignments/media-types/application/vnd.3gpp.mcvideo-affiliation-info+xml\")","v":"https://www.iana.org/assignments/media-types/application/vnd.3gpp.mcvideo-affiliation-info+xml"},{"$f":"IFERROR(__xludf.DUMMYFUNCTION(\"\"\"COMPUTED_VALUE\"\"\"),\"vnd.3gpp.mcvideo-affiliation-info+xml (OBSOLETED in favor of application/vnd.3gpp.mcvideo-info+xml)\")","v":"vnd.3gpp.mcvideo-affiliation-info+xml (OBSOLETED in favor of application/vnd.3gpp.mcvideo-info+xml)"},{"$f":"IFERROR(__xludf.DUMMYFUNCTION(\"\"\"COMPUTED_VALUE\"\"\"),\"vnd.3gpp.mcvideo-affiliation-info+xml (OBSOLETED in favor of application/vnd.3gpp.mcvideo-info+xml)\")","v":"vnd.3gpp.mcvideo-affiliation-info+xml (OBSOLETED in favor of application/vnd.3gpp.mcvideo-info+xml)"},{"$f":"IFERROR(__xludf.DUMMYFUNCTION(\"\"\"COMPUTED_VALUE\"\"\"),\"application/vnd.3gpp.mcvideo-affiliation-info+xml\")","v":"application/vnd.3gpp.mcvideo-affiliation-info+xml"},{"$f":"IFERROR(__xludf.DUMMYFUNCTION(\"\"\"COMPUTED_VALUE\"\"\"),\"en\")","v":"en"}]
[{"$f":"IFERROR(__xludf.DUMMYFUNCTION(\"\"\"COMPUTED_VALUE\"\"\"),\"https://www.iana.org/assignments/media-types/application/vnd.3gpp.mcvideo-info+xml\")","v":"https://www.iana.org/assignments/media-types/application/vnd.3gpp.mcvideo-info+xml"},{"$f":"IFERROR(__xludf.DUMMYFUNCTION(\"\"\"COMPUTED_VALUE\"\"\"),\"vnd.3gpp.mcvideo-info+xml\")","v":"vnd.3gpp.mcvideo-info+xml"},{"$f":"IFERROR(__xludf.DUMMYFUNCTION(\"\"\"COMPUTED_VALUE\"\"\"),\"vnd.3gpp.mcvideo-info+xml\")","v":"vnd.3gpp.mcvideo-info+xml"},{"$f":"IFERROR(__xludf.DUMMYFUNCTION(\"\"\"COMPUTED_VALUE\"\"\"),\"application/vnd.3gpp.mcvideo-info+xml\")","v":"application/vnd.3gpp.mcvideo-info+xml"},{"$f":"IFERROR(__xludf.DUMMYFUNCTION(\"\"\"COMPUTED_VALUE\"\"\"),\"en\")","v":"en"}]
[{"$f":"IFERROR(__xludf.DUMMYFUNCTION(\"\"\"COMPUTED_VALUE\"\"\"),\"https://www.iana.org/assignments/media-types/application/vnd.3gpp.mcvideo-location-info+xml\")","v":"https://www.iana.org/assignments/media-types/application/vnd.3gpp.mcvideo-location-info+xml"},{"$f":"IFERROR(__xludf.DUMMYFUNCTION(\"\"\"COMPUTED_VALUE\"\"\"),\"vnd.3gpp.mcvideo-location-info+xml\")","v":"vnd.3gpp.mcvideo-location-info+xml"},{"$f":"IFERROR(__xludf.DUMMYFUNCTION(\"\"\"COMPUTED_VALUE\"\"\"),\"vnd.3gpp.mcvideo-location-info+xml\")","v":"vnd.3gpp.mcvideo-location-info+xml"},{"$f":"IFERROR(__xludf.DUMMYFUNCTION(\"\"\"COMPUTED_VALUE\"\"\"),\"application/vnd.3gpp.mcvideo-location-info+xml\")","v":"application/vnd.3gpp.mcvideo-location-info+xml"},{"$f":"IFERROR(__xludf.DUMMYFUNCTION(\"\"\"COMPUTED_VALUE\"\"\"),\"en\")","v":"en"}]
[{"$f":"IFERROR(__xludf.DUMMYFUNCTION(\"\"\"COMPUTED_VALUE\"\"\"),\"https://www.iana.org/assignments/media-types/application/vnd.3gpp.mcvideo-mbms-usage-info+xml\")","v":"https://www.iana.org/assignments/media-types/application/vnd.3gpp.mcvideo-mbms-usage-info+xml"},{"$f":"IFERROR(__xludf.DUMMYFUNCTION(\"\"\"COMPUTED_VALUE\"\"\"),\"vnd.3gpp.mcvideo-mbms-usage-info+xml\")","v":"vnd.3gpp.mcvideo-mbms-usage-info+xml"},{"$f":"IFERROR(__xludf.DUMMYFUNCTION(\"\"\"COMPUTED_VALUE\"\"\"),\"vnd.3gpp.mcvideo-mbms-usage-info+xml\")","v":"vnd.3gpp.mcvideo-mbms-usage-info+xml"},{"$f":"IFERROR(__xludf.DUMMYFUNCTION(\"\"\"COMPUTED_VALUE\"\"\"),\"application/vnd.3gpp.mcvideo-mbms-usage-info+xml\")","v":"application/vnd.3gpp.mcvideo-mbms-usage-info+xml"},{"$f":"IFERROR(__xludf.DUMMYFUNCTION(\"\"\"COMPUTED_VALUE\"\"\"),\"en\")","v":"en"}]
[{"$f":"IFERROR(__xludf.DUMMYFUNCTION(\"\"\"COMPUTED_VALUE\"\"\"),\"https://www.iana.org/assignments/media-types/application/vnd.3gpp.mcvideo-service-config+xml\")","v":"https://www.iana.org/assignments/media-types/application/vnd.3gpp.mcvideo-service-config+xml"},{"$f":"IFERROR(__xludf.DUMMYFUNCTION(\"\"\"COMPUTED_VALUE\"\"\"),\"vnd.3gpp.mcvideo-service-config+xml\")","v":"vnd.3gpp.mcvideo-service-config+xml"},{"$f":"IFERROR(__xludf.DUMMYFUNCTION(\"\"\"COMPUTED_VALUE\"\"\"),\"vnd.3gpp.mcvideo-service-config+xml\")","v":"vnd.3gpp.mcvideo-service-config+xml"},{"$f":"IFERROR(__xludf.DUMMYFUNCTION(\"\"\"COMPUTED_VALUE\"\"\"),\"application/vnd.3gpp.mcvideo-service-config+xml\")","v":"application/vnd.3gpp.mcvideo-service-config+xml"},{"$f":"IFERROR(__xludf.DUMMYFUNCTION(\"\"\"COMPUTED_VALUE\"\"\"),\"en\")","v":"en"}]
[{"$f":"IFERROR(__xludf.DUMMYFUNCTION(\"\"\"COMPUTED_VALUE\"\"\"),\"https://www.iana.org/assignments/media-types/application/vnd.3gpp.mcvideo-transmission-request+xml\")","v":"https://www.iana.org/assignments/media-types/application/vnd.3gpp.mcvideo-transmission-request+xml"},{"$f":"IFERROR(__xludf.DUMMYFUNCTION(\"\"\"COMPUTED_VALUE\"\"\"),\"vnd.3gpp.mcvideo-transmission-request+xml\")","v":"vnd.3gpp.mcvideo-transmission-request+xml"},{"$f":"IFERROR(__xludf.DUMMYFUNCTION(\"\"\"COMPUTED_VALUE\"\"\"),\"vnd.3gpp.mcvideo-transmission-request+xml\")","v":"vnd.3gpp.mcvideo-transmission-request+xml"},{"$f":"IFERROR(__xludf.DUMMYFUNCTION(\"\"\"COMPUTED_VALUE\"\"\"),\"application/vnd.3gpp.mcvideo-transmission-request+xml\")","v":"application/vnd.3gpp.mcvideo-transmission-request+xml"},{"$f":"IFERROR(__xludf.DUMMYFUNCTION(\"\"\"COMPUTED_VALUE\"\"\"),\"en\")","v":"en"}]
[{"$f":"IFERROR(__xludf.DUMMYFUNCTION(\"\"\"COMPUTED_VALUE\"\"\"),\"https://www.iana.org/assignments/media-types/application/vnd.3gpp.mcvideo-ue-config+xml\")","v":"https://www.iana.org/assignments/media-types/application/vnd.3gpp.mcvideo-ue-config+xml"},{"$f":"IFERROR(__xludf.DUMMYFUNCTION(\"\"\"COMPUTED_VALUE\"\"\"),\"vnd.3gpp.mcvideo-ue-config+xml\")","v":"vnd.3gpp.mcvideo-ue-config+xml"},{"$f":"IFERROR(__xludf.DUMMYFUNCTION(\"\"\"COMPUTED_VALUE\"\"\"),\"vnd.3gpp.mcvideo-ue-config+xml\")","v":"vnd.3gpp.mcvideo-ue-config+xml"},{"$f":"IFERROR(__xludf.DUMMYFUNCTION(\"\"\"COMPUTED_VALUE\"\"\"),\"application/vnd.3gpp.mcvideo-ue-config+xml\")","v":"application/vnd.3gpp.mcvideo-ue-config+xml"},{"$f":"IFERROR(__xludf.DUMMYFUNCTION(\"\"\"COMPUTED_VALUE\"\"\"),\"en\")","v":"en"}]
[{"$f":"IFERROR(__xludf.DUMMYFUNCTION(\"\"\"COMPUTED_VALUE\"\"\"),\"https://www.iana.org/assignments/media-types/application/vnd.3gpp.mcvideo-user-profile+xml\")","v":"https://www.iana.org/assignments/media-types/application/vnd.3gpp.mcvideo-user-profile+xml"},{"$f":"IFERROR(__xludf.DUMMYFUNCTION(\"\"\"COMPUTED_VALUE\"\"\"),\"vnd.3gpp.mcvideo-user-profile+xml\")","v":"vnd.3gpp.mcvideo-user-profile+xml"},{"$f":"IFERROR(__xludf.DUMMYFUNCTION(\"\"\"COMPUTED_VALUE\"\"\"),\"vnd.3gpp.mcvideo-user-profile+xml\")","v":"vnd.3gpp.mcvideo-user-profile+xml"},{"$f":"IFERROR(__xludf.DUMMYFUNCTION(\"\"\"COMPUTED_VALUE\"\"\"),\"application/vnd.3gpp.mcvideo-user-profile+xml\")","v":"application/vnd.3gpp.mcvideo-user-profile+xml"},{"$f":"IFERROR(__xludf.DUMMYFUNCTION(\"\"\"COMPUTED_VALUE\"\"\"),\"en\")","v":"en"}]
[{"$f":"IFERROR(__xludf.DUMMYFUNCTION(\"\"\"COMPUTED_VALUE\"\"\"),\"https://www.iana.org/assignments/media-types/application/vnd.3gpp.mid-call+xml\")","v":"https://www.iana.org/assignments/media-types/application/vnd.3gpp.mid-call+xml"},{"$f":"IFERROR(__xludf.DUMMYFUNCTION(\"\"\"COMPUTED_VALUE\"\"\"),\"vnd.3gpp.mid-call+xml\")","v":"vnd.3gpp.mid-call+xml"},{"$f":"IFERROR(__xludf.DUMMYFUNCTION(\"\"\"COMPUTED_VALUE\"\"\"),\"vnd.3gpp.mid-call+xml\")","v":"vnd.3gpp.mid-call+xml"},{"$f":"IFERROR(__xludf.DUMMYFUNCTION(\"\"\"COMPUTED_VALUE\"\"\"),\"application/vnd.3gpp.mid-call+xml\")","v":"application/vnd.3gpp.mid-call+xml"},{"$f":"IFERROR(__xludf.DUMMYFUNCTION(\"\"\"COMPUTED_VALUE\"\"\"),\"en\")","v":"en"}]
[{"$f":"IFERROR(__xludf.DUMMYFUNCTION(\"\"\"COMPUTED_VALUE\"\"\"),\"https://www.iana.org/assignments/media-types/application/vnd.3gpp.ngap\")","v":"https://www.iana.org/assignments/media-types/application/vnd.3gpp.ngap"},{"$f":"IFERROR(__xludf.DUMMYFUNCTION(\"\"\"COMPUTED_VALUE\"\"\"),\"vnd.3gpp.ngap\")","v":"vnd.3gpp.ngap"},{"$f":"IFERROR(__xludf.DUMMYFUNCTION(\"\"\"COMPUTED_VALUE\"\"\"),\"vnd.3gpp.ngap\")","v":"vnd.3gpp.ngap"},{"$f":"IFERROR(__xludf.DUMMYFUNCTION(\"\"\"COMPUTED_VALUE\"\"\"),\"application/vnd.3gpp.ngap\")","v":"application/vnd.3gpp.ngap"},{"$f":"IFERROR(__xludf.DUMMYFUNCTION(\"\"\"COMPUTED_VALUE\"\"\"),\"en\")","v":"en"}]
[{"$f":"IFERROR(__xludf.DUMMYFUNCTION(\"\"\"COMPUTED_VALUE\"\"\"),\"https://www.iana.org/assignments/media-types/application/vnd.3gpp.pfcp\")","v":"https://www.iana.org/assignments/media-types/application/vnd.3gpp.pfcp"},{"$f":"IFERROR(__xludf.DUMMYFUNCTION(\"\"\"COMPUTED_VALUE\"\"\"),\"vnd.3gpp.pfcp\")","v":"vnd.3gpp.pfcp"},{"$f":"IFERROR(__xludf.DUMMYFUNCTION(\"\"\"COMPUTED_VALUE\"\"\"),\"vnd.3gpp.pfcp\")","v":"vnd.3gpp.pfcp"},{"$f":"IFERROR(__xludf.DUMMYFUNCTION(\"\"\"COMPUTED_VALUE\"\"\"),\"application/vnd.3gpp.pfcp\")","v":"application/vnd.3gpp.pfcp"},{"$f":"IFERROR(__xludf.DUMMYFUNCTION(\"\"\"COMPUTED_VALUE\"\"\"),\"en\")","v":"en"}]
[{"$f":"IFERROR(__xludf.DUMMYFUNCTION(\"\"\"COMPUTED_VALUE\"\"\"),\"https://www.iana.org/assignments/media-types/application/vnd.3gpp.pic-bw-large\")","v":"https://www.iana.org/assignments/media-types/application/vnd.3gpp.pic-bw-large"},{"$f":"IFERROR(__xludf.DUMMYFUNCTION(\"\"\"COMPUTED_VALUE\"\"\"),\"vnd.3gpp.pic-bw-large\")","v":"vnd.3gpp.pic-bw-large"},{"$f":"IFERROR(__xludf.DUMMYFUNCTION(\"\"\"COMPUTED_VALUE\"\"\"),\"vnd.3gpp.pic-bw-large\")","v":"vnd.3gpp.pic-bw-large"},{"$f":"IFERROR(__xludf.DUMMYFUNCTION(\"\"\"COMPUTED_VALUE\"\"\"),\"application/vnd.3gpp.pic-bw-large\")","v":"application/vnd.3gpp.pic-bw-large"},{"$f":"IFERROR(__xludf.DUMMYFUNCTION(\"\"\"COMPUTED_VALUE\"\"\"),\"en\")","v":"en"}]
[{"$f":"IFERROR(__xludf.DUMMYFUNCTION(\"\"\"COMPUTED_VALUE\"\"\"),\"https://www.iana.org/assignments/media-types/application/vnd.3gpp.pic-bw-small\")","v":"https://www.iana.org/assignments/media-types/application/vnd.3gpp.pic-bw-small"},{"$f":"IFERROR(__xludf.DUMMYFUNCTION(\"\"\"COMPUTED_VALUE\"\"\"),\"vnd.3gpp.pic-bw-small\")","v":"vnd.3gpp.pic-bw-small"},{"$f":"IFERROR(__xludf.DUMMYFUNCTION(\"\"\"COMPUTED_VALUE\"\"\"),\"vnd.3gpp.pic-bw-small\")","v":"vnd.3gpp.pic-bw-small"},{"$f":"IFERROR(__xludf.DUMMYFUNCTION(\"\"\"COMPUTED_VALUE\"\"\"),\"application/vnd.3gpp.pic-bw-small\")","v":"application/vnd.3gpp.pic-bw-small"},{"$f":"IFERROR(__xludf.DUMMYFUNCTION(\"\"\"COMPUTED_VALUE\"\"\"),\"en\")","v":"en"}]
[{"$f":"IFERROR(__xludf.DUMMYFUNCTION(\"\"\"COMPUTED_VALUE\"\"\"),\"https://www.iana.org/assignments/media-types/application/vnd.3gpp.pic-bw-var\")","v":"https://www.iana.org/assignments/media-types/application/vnd.3gpp.pic-bw-var"},{"$f":"IFERROR(__xludf.DUMMYFUNCTION(\"\"\"COMPUTED_VALUE\"\"\"),\"vnd.3gpp.pic-bw-var\")","v":"vnd.3gpp.pic-bw-var"},{"$f":"IFERROR(__xludf.DUMMYFUNCTION(\"\"\"COMPUTED_VALUE\"\"\"),\"vnd.3gpp.pic-bw-var\")","v":"vnd.3gpp.pic-bw-var"},{"$f":"IFERROR(__xludf.DUMMYFUNCTION(\"\"\"COMPUTED_VALUE\"\"\"),\"application/vnd.3gpp.pic-bw-var\")","v":"application/vnd.3gpp.pic-bw-var"},{"$f":"IFERROR(__xludf.DUMMYFUNCTION(\"\"\"COMPUTED_VALUE\"\"\"),\"en\")","v":"en"}]
[{"$f":"IFERROR(__xludf.DUMMYFUNCTION(\"\"\"COMPUTED_VALUE\"\"\"),\"https://www.iana.org/assignments/media-types/application/vnd.3gpp-prose-pc3a+xml\")","v":"https://www.iana.org/assignments/media-types/application/vnd.3gpp-prose-pc3a+xml"},{"$f":"IFERROR(__xludf.DUMMYFUNCTION(\"\"\"COMPUTED_VALUE\"\"\"),\"vnd.3gpp-prose-pc3a+xml\")","v":"vnd.3gpp-prose-pc3a+xml"},{"$f":"IFERROR(__xludf.DUMMYFUNCTION(\"\"\"COMPUTED_VALUE\"\"\"),\"vnd.3gpp-prose-pc3a+xml\")","v":"vnd.3gpp-prose-pc3a+xml"},{"$f":"IFERROR(__xludf.DUMMYFUNCTION(\"\"\"COMPUTED_VALUE\"\"\"),\"application/vnd.3gpp-prose-pc3a+xml\")","v":"application/vnd.3gpp-prose-pc3a+xml"},{"$f":"IFERROR(__xludf.DUMMYFUNCTION(\"\"\"COMPUTED_VALUE\"\"\"),\"en\")","v":"en"}]
[{"$f":"IFERROR(__xludf.DUMMYFUNCTION(\"\"\"COMPUTED_VALUE\"\"\"),\"https://www.iana.org/assignments/media-types/application/vnd.3gpp-prose-pc3ach+xml\")","v":"https://www.iana.org/assignments/media-types/application/vnd.3gpp-prose-pc3ach+xml"},{"$f":"IFERROR(__xludf.DUMMYFUNCTION(\"\"\"COMPUTED_VALUE\"\"\"),\"vnd.3gpp-prose-pc3ach+xml\")","v":"vnd.3gpp-prose-pc3ach+xml"},{"$f":"IFERROR(__xludf.DUMMYFUNCTION(\"\"\"COMPUTED_VALUE\"\"\"),\"vnd.3gpp-prose-pc3ach+xml\")","v":"vnd.3gpp-prose-pc3ach+xml"},{"$f":"IFERROR(__xludf.DUMMYFUNCTION(\"\"\"COMPUTED_VALUE\"\"\"),\"application/vnd.3gpp-prose-pc3ach+xml\")","v":"application/vnd.3gpp-prose-pc3ach+xml"},{"$f":"IFERROR(__xludf.DUMMYFUNCTION(\"\"\"COMPUTED_VALUE\"\"\"),\"en\")","v":"en"}]
[{"$f":"IFERROR(__xludf.DUMMYFUNCTION(\"\"\"COMPUTED_VALUE\"\"\"),\"https://www.iana.org/assignments/media-types/application/vnd.3gpp-prose-pc3ch+xml\")","v":"https://www.iana.org/assignments/media-types/application/vnd.3gpp-prose-pc3ch+xml"},{"$f":"IFERROR(__xludf.DUMMYFUNCTION(\"\"\"COMPUTED_VALUE\"\"\"),\"vnd.3gpp-prose-pc3ch+xml\")","v":"vnd.3gpp-prose-pc3ch+xml"},{"$f":"IFERROR(__xludf.DUMMYFUNCTION(\"\"\"COMPUTED_VALUE\"\"\"),\"vnd.3gpp-prose-pc3ch+xml\")","v":"vnd.3gpp-prose-pc3ch+xml"},{"$f":"IFERROR(__xludf.DUMMYFUNCTION(\"\"\"COMPUTED_VALUE\"\"\"),\"application/vnd.3gpp-prose-pc3ch+xml\")","v":"application/vnd.3gpp-prose-pc3ch+xml"},{"$f":"IFERROR(__xludf.DUMMYFUNCTION(\"\"\"COMPUTED_VALUE\"\"\"),\"en\")","v":"en"}]
[{"$f":"IFERROR(__xludf.DUMMYFUNCTION(\"\"\"COMPUTED_VALUE\"\"\"),\"https://www.iana.org/assignments/media-types/application/vnd.3gpp-prose-pc8+xml\")","v":"https://www.iana.org/assignments/media-types/application/vnd.3gpp-prose-pc8+xml"},{"$f":"IFERROR(__xludf.DUMMYFUNCTION(\"\"\"COMPUTED_VALUE\"\"\"),\"vnd.3gpp-prose-pc8+xml\")","v":"vnd.3gpp-prose-pc8+xml"},{"$f":"IFERROR(__xludf.DUMMYFUNCTION(\"\"\"COMPUTED_VALUE\"\"\"),\"vnd.3gpp-prose-pc8+xml\")","v":"vnd.3gpp-prose-pc8+xml"},{"$f":"IFERROR(__xludf.DUMMYFUNCTION(\"\"\"COMPUTED_VALUE\"\"\"),\"application/vnd.3gpp-prose-pc8+xml\")","v":"application/vnd.3gpp-prose-pc8+xml"},{"$f":"IFERROR(__xludf.DUMMYFUNCTION(\"\"\"COMPUTED_VALUE\"\"\"),\"en\")","v":"en"}]
[{"$f":"IFERROR(__xludf.DUMMYFUNCTION(\"\"\"COMPUTED_VALUE\"\"\"),\"https://www.iana.org/assignments/media-types/application/vnd.3gpp-prose+xml\")","v":"https://www.iana.org/assignments/media-types/application/vnd.3gpp-prose+xml"},{"$f":"IFERROR(__xludf.DUMMYFUNCTION(\"\"\"COMPUTED_VALUE\"\"\"),\"vnd.3gpp-prose+xml\")","v":"vnd.3gpp-prose+xml"},{"$f":"IFERROR(__xludf.DUMMYFUNCTION(\"\"\"COMPUTED_VALUE\"\"\"),\"vnd.3gpp-prose+xml\")","v":"vnd.3gpp-prose+xml"},{"$f":"IFERROR(__xludf.DUMMYFUNCTION(\"\"\"COMPUTED_VALUE\"\"\"),\"application/vnd.3gpp-prose+xml\")","v":"application/vnd.3gpp-prose+xml"},{"$f":"IFERROR(__xludf.DUMMYFUNCTION(\"\"\"COMPUTED_VALUE\"\"\"),\"en\")","v":"en"}]
[{"$f":"IFERROR(__xludf.DUMMYFUNCTION(\"\"\"COMPUTED_VALUE\"\"\"),\"https://www.iana.org/assignments/media-types/application/vnd.3gpp.s1ap\")","v":"https://www.iana.org/assignments/media-types/application/vnd.3gpp.s1ap"},{"$f":"IFERROR(__xludf.DUMMYFUNCTION(\"\"\"COMPUTED_VALUE\"\"\"),\"vnd.3gpp.s1ap\")","v":"vnd.3gpp.s1ap"},{"$f":"IFERROR(__xludf.DUMMYFUNCTION(\"\"\"COMPUTED_VALUE\"\"\"),\"vnd.3gpp.s1ap\")","v":"vnd.3gpp.s1ap"},{"$f":"IFERROR(__xludf.DUMMYFUNCTION(\"\"\"COMPUTED_VALUE\"\"\"),\"application/vnd.3gpp.s1ap\")","v":"application/vnd.3gpp.s1ap"},{"$f":"IFERROR(__xludf.DUMMYFUNCTION(\"\"\"COMPUTED_VALUE\"\"\"),\"en\")","v":"en"}]
[{"$f":"IFERROR(__xludf.DUMMYFUNCTION(\"\"\"COMPUTED_VALUE\"\"\"),\"https://www.iana.org/assignments/media-types/application/vnd.3gpp.seal-info+xml\")","v":"https://www.iana.org/assignments/media-types/application/vnd.3gpp.seal-info+xml"},{"$f":"IFERROR(__xludf.DUMMYFUNCTION(\"\"\"COMPUTED_VALUE\"\"\"),\"vnd.3gpp.seal-info+xml\")","v":"vnd.3gpp.seal-info+xml"},{"$f":"IFERROR(__xludf.DUMMYFUNCTION(\"\"\"COMPUTED_VALUE\"\"\"),\"vnd.3gpp.seal-info+xml\")","v":"vnd.3gpp.seal-info+xml"},{"$f":"IFERROR(__xludf.DUMMYFUNCTION(\"\"\"COMPUTED_VALUE\"\"\"),\"application/vnd.3gpp.seal-info+xml\")","v":"application/vnd.3gpp.seal-info+xml"},{"$f":"IFERROR(__xludf.DUMMYFUNCTION(\"\"\"COMPUTED_VALUE\"\"\"),\"en\")","v":"en"}]
[{"$f":"IFERROR(__xludf.DUMMYFUNCTION(\"\"\"COMPUTED_VALUE\"\"\"),\"https://www.iana.org/assignments/media-types/application/vnd.3gpp.seal-location-info+xml\")","v":"https://www.iana.org/assignments/media-types/application/vnd.3gpp.seal-location-info+xml"},{"$f":"IFERROR(__xludf.DUMMYFUNCTION(\"\"\"COMPUTED_VALUE\"\"\"),\"vnd.3gpp.seal-location-info+xml\")","v":"vnd.3gpp.seal-location-info+xml"},{"$f":"IFERROR(__xludf.DUMMYFUNCTION(\"\"\"COMPUTED_VALUE\"\"\"),\"vnd.3gpp.seal-location-info+xml\")","v":"vnd.3gpp.seal-location-info+xml"},{"$f":"IFERROR(__xludf.DUMMYFUNCTION(\"\"\"COMPUTED_VALUE\"\"\"),\"application/vnd.3gpp.seal-location-info+xml\")","v":"application/vnd.3gpp.seal-location-info+xml"},{"$f":"IFERROR(__xludf.DUMMYFUNCTION(\"\"\"COMPUTED_VALUE\"\"\"),\"en\")","v":"en"}]
[{"$f":"IFERROR(__xludf.DUMMYFUNCTION(\"\"\"COMPUTED_VALUE\"\"\"),\"https://www.iana.org/assignments/media-types/application/vnd.3gpp.sms\")","v":"https://www.iana.org/assignments/media-types/application/vnd.3gpp.sms"},{"$f":"IFERROR(__xludf.DUMMYFUNCTION(\"\"\"COMPUTED_VALUE\"\"\"),\"vnd.3gpp.sms\")","v":"vnd.3gpp.sms"},{"$f":"IFERROR(__xludf.DUMMYFUNCTION(\"\"\"COMPUTED_VALUE\"\"\"),\"vnd.3gpp.sms\")","v":"vnd.3gpp.sms"},{"$f":"IFERROR(__xludf.DUMMYFUNCTION(\"\"\"COMPUTED_VALUE\"\"\"),\"application/vnd.3gpp.sms\")","v":"application/vnd.3gpp.sms"},{"$f":"IFERROR(__xludf.DUMMYFUNCTION(\"\"\"COMPUTED_VALUE\"\"\"),\"en\")","v":"en"}]
[{"$f":"IFERROR(__xludf.DUMMYFUNCTION(\"\"\"COMPUTED_VALUE\"\"\"),\"https://www.iana.org/assignments/media-types/application/vnd.3gpp.sms+xml\")","v":"https://www.iana.org/assignments/media-types/application/vnd.3gpp.sms+xml"},{"$f":"IFERROR(__xludf.DUMMYFUNCTION(\"\"\"COMPUTED_VALUE\"\"\"),\"vnd.3gpp.sms+xml\")","v":"vnd.3gpp.sms+xml"},{"$f":"IFERROR(__xludf.DUMMYFUNCTION(\"\"\"COMPUTED_VALUE\"\"\"),\"vnd.3gpp.sms+xml\")","v":"vnd.3gpp.sms+xml"},{"$f":"IFERROR(__xludf.DUMMYFUNCTION(\"\"\"COMPUTED_VALUE\"\"\"),\"application/vnd.3gpp.sms+xml\")","v":"application/vnd.3gpp.sms+xml"},{"$f":"IFERROR(__xludf.DUMMYFUNCTION(\"\"\"COMPUTED_VALUE\"\"\"),\"en\")","v":"en"}]
[{"$f":"IFERROR(__xludf.DUMMYFUNCTION(\"\"\"COMPUTED_VALUE\"\"\"),\"https://www.iana.org/assignments/media-types/application/vnd.3gpp.srvcc-ext+xml\")","v":"https://www.iana.org/assignments/media-types/application/vnd.3gpp.srvcc-ext+xml"},{"$f":"IFERROR(__xludf.DUMMYFUNCTION(\"\"\"COMPUTED_VALUE\"\"\"),\"vnd.3gpp.srvcc-ext+xml\")","v":"vnd.3gpp.srvcc-ext+xml"},{"$f":"IFERROR(__xludf.DUMMYFUNCTION(\"\"\"COMPUTED_VALUE\"\"\"),\"vnd.3gpp.srvcc-ext+xml\")","v":"vnd.3gpp.srvcc-ext+xml"},{"$f":"IFERROR(__xludf.DUMMYFUNCTION(\"\"\"COMPUTED_VALUE\"\"\"),\"application/vnd.3gpp.srvcc-ext+xml\")","v":"application/vnd.3gpp.srvcc-ext+xml"},{"$f":"IFERROR(__xludf.DUMMYFUNCTION(\"\"\"COMPUTED_VALUE\"\"\"),\"en\")","v":"en"}]
[{"$f":"IFERROR(__xludf.DUMMYFUNCTION(\"\"\"COMPUTED_VALUE\"\"\"),\"https://www.iana.org/assignments/media-types/application/vnd.3gpp.SRVCC-info+xml\")","v":"https://www.iana.org/assignments/media-types/application/vnd.3gpp.SRVCC-info+xml"},{"$f":"IFERROR(__xludf.DUMMYFUNCTION(\"\"\"COMPUTED_VALUE\"\"\"),\"vnd.3gpp.SRVCC-info+xml\")","v":"vnd.3gpp.SRVCC-info+xml"},{"$f":"IFERROR(__xludf.DUMMYFUNCTION(\"\"\"COMPUTED_VALUE\"\"\"),\"vnd.3gpp.SRVCC-info+xml\")","v":"vnd.3gpp.SRVCC-info+xml"},{"$f":"IFERROR(__xludf.DUMMYFUNCTION(\"\"\"COMPUTED_VALUE\"\"\"),\"application/vnd.3gpp.SRVCC-info+xml\")","v":"application/vnd.3gpp.SRVCC-info+xml"},{"$f":"IFERROR(__xludf.DUMMYFUNCTION(\"\"\"COMPUTED_VALUE\"\"\"),\"en\")","v":"en"}]
[{"$f":"IFERROR(__xludf.DUMMYFUNCTION(\"\"\"COMPUTED_VALUE\"\"\"),\"https://www.iana.org/assignments/media-types/application/vnd.3gpp.state-and-event-info+xml\")","v":"https://www.iana.org/assignments/media-types/application/vnd.3gpp.state-and-event-info+xml"},{"$f":"IFERROR(__xludf.DUMMYFUNCTION(\"\"\"COMPUTED_VALUE\"\"\"),\"vnd.3gpp.state-and-event-info+xml\")","v":"vnd.3gpp.state-and-event-info+xml"},{"$f":"IFERROR(__xludf.DUMMYFUNCTION(\"\"\"COMPUTED_VALUE\"\"\"),\"vnd.3gpp.state-and-event-info+xml\")","v":"vnd.3gpp.state-and-event-info+xml"},{"$f":"IFERROR(__xludf.DUMMYFUNCTION(\"\"\"COMPUTED_VALUE\"\"\"),\"application/vnd.3gpp.state-and-event-info+xml\")","v":"application/vnd.3gpp.state-and-event-info+xml"},{"$f":"IFERROR(__xludf.DUMMYFUNCTION(\"\"\"COMPUTED_VALUE\"\"\"),\"en\")","v":"en"}]
[{"$f":"IFERROR(__xludf.DUMMYFUNCTION(\"\"\"COMPUTED_VALUE\"\"\"),\"https://www.iana.org/assignments/media-types/application/vnd.3gpp.ussd+xml\")","v":"https://www.iana.org/assignments/media-types/application/vnd.3gpp.ussd+xml"},{"$f":"IFERROR(__xludf.DUMMYFUNCTION(\"\"\"COMPUTED_VALUE\"\"\"),\"vnd.3gpp.ussd+xml\")","v":"vnd.3gpp.ussd+xml"},{"$f":"IFERROR(__xludf.DUMMYFUNCTION(\"\"\"COMPUTED_VALUE\"\"\"),\"vnd.3gpp.ussd+xml\")","v":"vnd.3gpp.ussd+xml"},{"$f":"IFERROR(__xludf.DUMMYFUNCTION(\"\"\"COMPUTED_VALUE\"\"\"),\"application/vnd.3gpp.ussd+xml\")","v":"application/vnd.3gpp.ussd+xml"},{"$f":"IFERROR(__xludf.DUMMYFUNCTION(\"\"\"COMPUTED_VALUE\"\"\"),\"en\")","v":"en"}]
[{"$f":"IFERROR(__xludf.DUMMYFUNCTION(\"\"\"COMPUTED_VALUE\"\"\"),\"https://www.iana.org/assignments/media-types/application/vnd.3gpp.vae-info+xml\")","v":"https://www.iana.org/assignments/media-types/application/vnd.3gpp.vae-info+xml"},{"$f":"IFERROR(__xludf.DUMMYFUNCTION(\"\"\"COMPUTED_VALUE\"\"\"),\"vnd.3gpp.vae-info+xml\")","v":"vnd.3gpp.vae-info+xml"},{"$f":"IFERROR(__xludf.DUMMYFUNCTION(\"\"\"COMPUTED_VALUE\"\"\"),\"vnd.3gpp.vae-info+xml\")","v":"vnd.3gpp.vae-info+xml"},{"$f":"IFERROR(__xludf.DUMMYFUNCTION(\"\"\"COMPUTED_VALUE\"\"\"),\"application/vnd.3gpp.vae-info+xml\")","v":"application/vnd.3gpp.vae-info+xml"},{"$f":"IFERROR(__xludf.DUMMYFUNCTION(\"\"\"COMPUTED_VALUE\"\"\"),\"en\")","v":"en"}]
[{"$f":"IFERROR(__xludf.DUMMYFUNCTION(\"\"\"COMPUTED_VALUE\"\"\"),\"https://www.iana.org/assignments/media-types/application/vnd.3gpp-v2x-local-service-information\")","v":"https://www.iana.org/assignments/media-types/application/vnd.3gpp-v2x-local-service-information"},{"$f":"IFERROR(__xludf.DUMMYFUNCTION(\"\"\"COMPUTED_VALUE\"\"\"),\"vnd.3gpp-v2x-local-service-information\")","v":"vnd.3gpp-v2x-local-service-information"},{"$f":"IFERROR(__xludf.DUMMYFUNCTION(\"\"\"COMPUTED_VALUE\"\"\"),\"vnd.3gpp-v2x-local-service-information\")","v":"vnd.3gpp-v2x-local-service-information"},{"$f":"IFERROR(__xludf.DUMMYFUNCTION(\"\"\"COMPUTED_VALUE\"\"\"),\"application/vnd.3gpp-v2x-local-service-information\")","v":"application/vnd.3gpp-v2x-local-service-information"},{"$f":"IFERROR(__xludf.DUMMYFUNCTION(\"\"\"COMPUTED_VALUE\"\"\"),\"en\")","v":"en"}]
[{"$f":"IFERROR(__xludf.DUMMYFUNCTION(\"\"\"COMPUTED_VALUE\"\"\"),\"https://www.iana.org/assignments/media-types/application/vnd.3gpp2.bcmcsinfo+xml\")","v":"https://www.iana.org/assignments/media-types/application/vnd.3gpp2.bcmcsinfo+xml"},{"$f":"IFERROR(__xludf.DUMMYFUNCTION(\"\"\"COMPUTED_VALUE\"\"\"),\"vnd.3gpp2.bcmcsinfo+xml\")","v":"vnd.3gpp2.bcmcsinfo+xml"},{"$f":"IFERROR(__xludf.DUMMYFUNCTION(\"\"\"COMPUTED_VALUE\"\"\"),\"vnd.3gpp2.bcmcsinfo+xml\")","v":"vnd.3gpp2.bcmcsinfo+xml"},{"$f":"IFERROR(__xludf.DUMMYFUNCTION(\"\"\"COMPUTED_VALUE\"\"\"),\"application/vnd.3gpp2.bcmcsinfo+xml\")","v":"application/vnd.3gpp2.bcmcsinfo+xml"},{"$f":"IFERROR(__xludf.DUMMYFUNCTION(\"\"\"COMPUTED_VALUE\"\"\"),\"en\")","v":"en"}]
[{"$f":"IFERROR(__xludf.DUMMYFUNCTION(\"\"\"COMPUTED_VALUE\"\"\"),\"https://www.iana.org/assignments/media-types/application/vnd.3gpp2.sms\")","v":"https://www.iana.org/assignments/media-types/application/vnd.3gpp2.sms"},{"$f":"IFERROR(__xludf.DUMMYFUNCTION(\"\"\"COMPUTED_VALUE\"\"\"),\"vnd.3gpp2.sms\")","v":"vnd.3gpp2.sms"},{"$f":"IFERROR(__xludf.DUMMYFUNCTION(\"\"\"COMPUTED_VALUE\"\"\"),\"vnd.3gpp2.sms\")","v":"vnd.3gpp2.sms"},{"$f":"IFERROR(__xludf.DUMMYFUNCTION(\"\"\"COMPUTED_VALUE\"\"\"),\"application/vnd.3gpp2.sms\")","v":"application/vnd.3gpp2.sms"},{"$f":"IFERROR(__xludf.DUMMYFUNCTION(\"\"\"COMPUTED_VALUE\"\"\"),\"en\")","v":"en"}]
[{"$f":"IFERROR(__xludf.DUMMYFUNCTION(\"\"\"COMPUTED_VALUE\"\"\"),\"https://www.iana.org/assignments/media-types/application/vnd.3gpp2.tcap\")","v":"https://www.iana.org/assignments/media-types/application/vnd.3gpp2.tcap"},{"$f":"IFERROR(__xludf.DUMMYFUNCTION(\"\"\"COMPUTED_VALUE\"\"\"),\"vnd.3gpp2.tcap\")","v":"vnd.3gpp2.tcap"},{"$f":"IFERROR(__xludf.DUMMYFUNCTION(\"\"\"COMPUTED_VALUE\"\"\"),\"vnd.3gpp2.tcap\")","v":"vnd.3gpp2.tcap"},{"$f":"IFERROR(__xludf.DUMMYFUNCTION(\"\"\"COMPUTED_VALUE\"\"\"),\"application/vnd.3gpp2.tcap\")","v":"application/vnd.3gpp2.tcap"},{"$f":"IFERROR(__xludf.DUMMYFUNCTION(\"\"\"COMPUTED_VALUE\"\"\"),\"en\")","v":"en"}]
[{"$f":"IFERROR(__xludf.DUMMYFUNCTION(\"\"\"COMPUTED_VALUE\"\"\"),\"https://www.iana.org/assignments/media-types/application/vnd.3lightssoftware.imagescal\")","v":"https://www.iana.org/assignments/media-types/application/vnd.3lightssoftware.imagescal"},{"$f":"IFERROR(__xludf.DUMMYFUNCTION(\"\"\"COMPUTED_VALUE\"\"\"),\"vnd.3lightssoftware.imagescal\")","v":"vnd.3lightssoftware.imagescal"},{"$f":"IFERROR(__xludf.DUMMYFUNCTION(\"\"\"COMPUTED_VALUE\"\"\"),\"vnd.3lightssoftware.imagescal\")","v":"vnd.3lightssoftware.imagescal"},{"$f":"IFERROR(__xludf.DUMMYFUNCTION(\"\"\"COMPUTED_VALUE\"\"\"),\"application/vnd.3lightssoftware.imagescal\")","v":"application/vnd.3lightssoftware.imagescal"},{"$f":"IFERROR(__xludf.DUMMYFUNCTION(\"\"\"COMPUTED_VALUE\"\"\"),\"en\")","v":"en"}]
[{"$f":"IFERROR(__xludf.DUMMYFUNCTION(\"\"\"COMPUTED_VALUE\"\"\"),\"https://www.iana.org/assignments/media-types/application/vnd.3M.Post-it-Notes\")","v":"https://www.iana.org/assignments/media-types/application/vnd.3M.Post-it-Notes"},{"$f":"IFERROR(__xludf.DUMMYFUNCTION(\"\"\"COMPUTED_VALUE\"\"\"),\"vnd.3M.Post-it-Notes\")","v":"vnd.3M.Post-it-Notes"},{"$f":"IFERROR(__xludf.DUMMYFUNCTION(\"\"\"COMPUTED_VALUE\"\"\"),\"vnd.3M.Post-it-Notes\")","v":"vnd.3M.Post-it-Notes"},{"$f":"IFERROR(__xludf.DUMMYFUNCTION(\"\"\"COMPUTED_VALUE\"\"\"),\"application/vnd.3M.Post-it-Notes\")","v":"application/vnd.3M.Post-it-Notes"},{"$f":"IFERROR(__xludf.DUMMYFUNCTION(\"\"\"COMPUTED_VALUE\"\"\"),\"en\")","v":"en"}]
[{"$f":"IFERROR(__xludf.DUMMYFUNCTION(\"\"\"COMPUTED_VALUE\"\"\"),\"https://www.iana.org/assignments/media-types/application/vnd.accpac.simply.aso\")","v":"https://www.iana.org/assignments/media-types/application/vnd.accpac.simply.aso"},{"$f":"IFERROR(__xludf.DUMMYFUNCTION(\"\"\"COMPUTED_VALUE\"\"\"),\"vnd.accpac.simply.aso\")","v":"vnd.accpac.simply.aso"},{"$f":"IFERROR(__xludf.DUMMYFUNCTION(\"\"\"COMPUTED_VALUE\"\"\"),\"vnd.accpac.simply.aso\")","v":"vnd.accpac.simply.aso"},{"$f":"IFERROR(__xludf.DUMMYFUNCTION(\"\"\"COMPUTED_VALUE\"\"\"),\"application/vnd.accpac.simply.aso\")","v":"application/vnd.accpac.simply.aso"},{"$f":"IFERROR(__xludf.DUMMYFUNCTION(\"\"\"COMPUTED_VALUE\"\"\"),\"en\")","v":"en"}]
[{"$f":"IFERROR(__xludf.DUMMYFUNCTION(\"\"\"COMPUTED_VALUE\"\"\"),\"https://www.iana.org/assignments/media-types/application/vnd.accpac.simply.imp\")","v":"https://www.iana.org/assignments/media-types/application/vnd.accpac.simply.imp"},{"$f":"IFERROR(__xludf.DUMMYFUNCTION(\"\"\"COMPUTED_VALUE\"\"\"),\"vnd.accpac.simply.imp\")","v":"vnd.accpac.simply.imp"},{"$f":"IFERROR(__xludf.DUMMYFUNCTION(\"\"\"COMPUTED_VALUE\"\"\"),\"vnd.accpac.simply.imp\")","v":"vnd.accpac.simply.imp"},{"$f":"IFERROR(__xludf.DUMMYFUNCTION(\"\"\"COMPUTED_VALUE\"\"\"),\"application/vnd.accpac.simply.imp\")","v":"application/vnd.accpac.simply.imp"},{"$f":"IFERROR(__xludf.DUMMYFUNCTION(\"\"\"COMPUTED_VALUE\"\"\"),\"en\")","v":"en"}]
[{"$f":"IFERROR(__xludf.DUMMYFUNCTION(\"\"\"COMPUTED_VALUE\"\"\"),\"https://www.iana.org/assignments/media-types/application/vnd.acucobol\")","v":"https://www.iana.org/assignments/media-types/application/vnd.acucobol"},{"$f":"IFERROR(__xludf.DUMMYFUNCTION(\"\"\"COMPUTED_VALUE\"\"\"),\"vnd.acucobol\")","v":"vnd.acucobol"},{"$f":"IFERROR(__xludf.DUMMYFUNCTION(\"\"\"COMPUTED_VALUE\"\"\"),\"vnd.acucobol\")","v":"vnd.acucobol"},{"$f":"IFERROR(__xludf.DUMMYFUNCTION(\"\"\"COMPUTED_VALUE\"\"\"),\"application/vnd.acucobol\")","v":"application/vnd.acucobol"},{"$f":"IFERROR(__xludf.DUMMYFUNCTION(\"\"\"COMPUTED_VALUE\"\"\"),\"en\")","v":"en"}]
[{"$f":"IFERROR(__xludf.DUMMYFUNCTION(\"\"\"COMPUTED_VALUE\"\"\"),\"https://www.iana.org/assignments/media-types/application/vnd.acucorp\")","v":"https://www.iana.org/assignments/media-types/application/vnd.acucorp"},{"$f":"IFERROR(__xludf.DUMMYFUNCTION(\"\"\"COMPUTED_VALUE\"\"\"),\"vnd.acucorp\")","v":"vnd.acucorp"},{"$f":"IFERROR(__xludf.DUMMYFUNCTION(\"\"\"COMPUTED_VALUE\"\"\"),\"vnd.acucorp\")","v":"vnd.acucorp"},{"$f":"IFERROR(__xludf.DUMMYFUNCTION(\"\"\"COMPUTED_VALUE\"\"\"),\"application/vnd.acucorp\")","v":"application/vnd.acucorp"},{"$f":"IFERROR(__xludf.DUMMYFUNCTION(\"\"\"COMPUTED_VALUE\"\"\"),\"en\")","v":"en"}]
[{"$f":"IFERROR(__xludf.DUMMYFUNCTION(\"\"\"COMPUTED_VALUE\"\"\"),\"https://www.iana.org/assignments/media-types/application/vnd.adobe.flash.movie\")","v":"https://www.iana.org/assignments/media-types/application/vnd.adobe.flash.movie"},{"$f":"IFERROR(__xludf.DUMMYFUNCTION(\"\"\"COMPUTED_VALUE\"\"\"),\"vnd.adobe.flash.movie\")","v":"vnd.adobe.flash.movie"},{"$f":"IFERROR(__xludf.DUMMYFUNCTION(\"\"\"COMPUTED_VALUE\"\"\"),\"vnd.adobe.flash.movie\")","v":"vnd.adobe.flash.movie"},{"$f":"IFERROR(__xludf.DUMMYFUNCTION(\"\"\"COMPUTED_VALUE\"\"\"),\"application/vnd.adobe.flash.movie\")","v":"application/vnd.adobe.flash.movie"},{"$f":"IFERROR(__xludf.DUMMYFUNCTION(\"\"\"COMPUTED_VALUE\"\"\"),\"en\")","v":"en"}]
[{"$f":"IFERROR(__xludf.DUMMYFUNCTION(\"\"\"COMPUTED_VALUE\"\"\"),\"https://www.iana.org/assignments/media-types/application/vnd.adobe.formscentral.fcdt\")","v":"https://www.iana.org/assignments/media-types/application/vnd.adobe.formscentral.fcdt"},{"$f":"IFERROR(__xludf.DUMMYFUNCTION(\"\"\"COMPUTED_VALUE\"\"\"),\"vnd.adobe.formscentral.fcdt\")","v":"vnd.adobe.formscentral.fcdt"},{"$f":"IFERROR(__xludf.DUMMYFUNCTION(\"\"\"COMPUTED_VALUE\"\"\"),\"vnd.adobe.formscentral.fcdt\")","v":"vnd.adobe.formscentral.fcdt"},{"$f":"IFERROR(__xludf.DUMMYFUNCTION(\"\"\"COMPUTED_VALUE\"\"\"),\"application/vnd.adobe.formscentral.fcdt\")","v":"application/vnd.adobe.formscentral.fcdt"},{"$f":"IFERROR(__xludf.DUMMYFUNCTION(\"\"\"COMPUTED_VALUE\"\"\"),\"en\")","v":"en"}]
[{"$f":"IFERROR(__xludf.DUMMYFUNCTION(\"\"\"COMPUTED_VALUE\"\"\"),\"https://www.iana.org/assignments/media-types/application/vnd.adobe.fxp\")","v":"https://www.iana.org/assignments/media-types/application/vnd.adobe.fxp"},{"$f":"IFERROR(__xludf.DUMMYFUNCTION(\"\"\"COMPUTED_VALUE\"\"\"),\"vnd.adobe.fxp\")","v":"vnd.adobe.fxp"},{"$f":"IFERROR(__xludf.DUMMYFUNCTION(\"\"\"COMPUTED_VALUE\"\"\"),\"vnd.adobe.fxp\")","v":"vnd.adobe.fxp"},{"$f":"IFERROR(__xludf.DUMMYFUNCTION(\"\"\"COMPUTED_VALUE\"\"\"),\"application/vnd.adobe.fxp\")","v":"application/vnd.adobe.fxp"},{"$f":"IFERROR(__xludf.DUMMYFUNCTION(\"\"\"COMPUTED_VALUE\"\"\"),\"en\")","v":"en"}]
[{"$f":"IFERROR(__xludf.DUMMYFUNCTION(\"\"\"COMPUTED_VALUE\"\"\"),\"https://www.iana.org/assignments/media-types/application/vnd.adobe.partial-upload\")","v":"https://www.iana.org/assignments/media-types/application/vnd.adobe.partial-upload"},{"$f":"IFERROR(__xludf.DUMMYFUNCTION(\"\"\"COMPUTED_VALUE\"\"\"),\"vnd.adobe.partial-upload\")","v":"vnd.adobe.partial-upload"},{"$f":"IFERROR(__xludf.DUMMYFUNCTION(\"\"\"COMPUTED_VALUE\"\"\"),\"vnd.adobe.partial-upload\")","v":"vnd.adobe.partial-upload"},{"$f":"IFERROR(__xludf.DUMMYFUNCTION(\"\"\"COMPUTED_VALUE\"\"\"),\"application/vnd.adobe.partial-upload\")","v":"application/vnd.adobe.partial-upload"},{"$f":"IFERROR(__xludf.DUMMYFUNCTION(\"\"\"COMPUTED_VALUE\"\"\"),\"en\")","v":"en"}]
[{"$f":"IFERROR(__xludf.DUMMYFUNCTION(\"\"\"COMPUTED_VALUE\"\"\"),\"https://www.iana.org/assignments/media-types/application/vnd.adobe.xdp+xml\")","v":"https://www.iana.org/assignments/media-types/application/vnd.adobe.xdp+xml"},{"$f":"IFERROR(__xludf.DUMMYFUNCTION(\"\"\"COMPUTED_VALUE\"\"\"),\"vnd.adobe.xdp+xml\")","v":"vnd.adobe.xdp+xml"},{"$f":"IFERROR(__xludf.DUMMYFUNCTION(\"\"\"COMPUTED_VALUE\"\"\"),\"vnd.adobe.xdp+xml\")","v":"vnd.adobe.xdp+xml"},{"$f":"IFERROR(__xludf.DUMMYFUNCTION(\"\"\"COMPUTED_VALUE\"\"\"),\"application/vnd.adobe.xdp+xml\")","v":"application/vnd.adobe.xdp+xml"},{"$f":"IFERROR(__xludf.DUMMYFUNCTION(\"\"\"COMPUTED_VALUE\"\"\"),\"en\")","v":"en"}]
[{"$f":"IFERROR(__xludf.DUMMYFUNCTION(\"\"\"COMPUTED_VALUE\"\"\"),\"https://www.iana.org/assignments/media-types/application/vnd.aether.imp\")","v":"https://www.iana.org/assignments/media-types/application/vnd.aether.imp"},{"$f":"IFERROR(__xludf.DUMMYFUNCTION(\"\"\"COMPUTED_VALUE\"\"\"),\"vnd.aether.imp\")","v":"vnd.aether.imp"},{"$f":"IFERROR(__xludf.DUMMYFUNCTION(\"\"\"COMPUTED_VALUE\"\"\"),\"vnd.aether.imp\")","v":"vnd.aether.imp"},{"$f":"IFERROR(__xludf.DUMMYFUNCTION(\"\"\"COMPUTED_VALUE\"\"\"),\"application/vnd.aether.imp\")","v":"application/vnd.aether.imp"},{"$f":"IFERROR(__xludf.DUMMYFUNCTION(\"\"\"COMPUTED_VALUE\"\"\"),\"en\")","v":"en"}]
[{"$f":"IFERROR(__xludf.DUMMYFUNCTION(\"\"\"COMPUTED_VALUE\"\"\"),\"https://www.iana.org/assignments/media-types/application/vnd.afpc.afplinedata\")","v":"https://www.iana.org/assignments/media-types/application/vnd.afpc.afplinedata"},{"$f":"IFERROR(__xludf.DUMMYFUNCTION(\"\"\"COMPUTED_VALUE\"\"\"),\"vnd.afpc.afplinedata\")","v":"vnd.afpc.afplinedata"},{"$f":"IFERROR(__xludf.DUMMYFUNCTION(\"\"\"COMPUTED_VALUE\"\"\"),\"vnd.afpc.afplinedata\")","v":"vnd.afpc.afplinedata"},{"$f":"IFERROR(__xludf.DUMMYFUNCTION(\"\"\"COMPUTED_VALUE\"\"\"),\"application/vnd.afpc.afplinedata\")","v":"application/vnd.afpc.afplinedata"},{"$f":"IFERROR(__xludf.DUMMYFUNCTION(\"\"\"COMPUTED_VALUE\"\"\"),\"en\")","v":"en"}]
[{"$f":"IFERROR(__xludf.DUMMYFUNCTION(\"\"\"COMPUTED_VALUE\"\"\"),\"https://www.iana.org/assignments/media-types/application/vnd.afpc.afplinedata-pagedef\")","v":"https://www.iana.org/assignments/media-types/application/vnd.afpc.afplinedata-pagedef"},{"$f":"IFERROR(__xludf.DUMMYFUNCTION(\"\"\"COMPUTED_VALUE\"\"\"),\"vnd.afpc.afplinedata-pagedef\")","v":"vnd.afpc.afplinedata-pagedef"},{"$f":"IFERROR(__xludf.DUMMYFUNCTION(\"\"\"COMPUTED_VALUE\"\"\"),\"vnd.afpc.afplinedata-pagedef\")","v":"vnd.afpc.afplinedata-pagedef"},{"$f":"IFERROR(__xludf.DUMMYFUNCTION(\"\"\"COMPUTED_VALUE\"\"\"),\"application/vnd.afpc.afplinedata-pagedef\")","v":"application/vnd.afpc.afplinedata-pagedef"},{"$f":"IFERROR(__xludf.DUMMYFUNCTION(\"\"\"COMPUTED_VALUE\"\"\"),\"en\")","v":"en"}]
[{"$f":"IFERROR(__xludf.DUMMYFUNCTION(\"\"\"COMPUTED_VALUE\"\"\"),\"https://www.iana.org/assignments/media-types/application/vnd.afpc.cmoca-cmresource\")","v":"https://www.iana.org/assignments/media-types/application/vnd.afpc.cmoca-cmresource"},{"$f":"IFERROR(__xludf.DUMMYFUNCTION(\"\"\"COMPUTED_VALUE\"\"\"),\"vnd.afpc.cmoca-cmresource\")","v":"vnd.afpc.cmoca-cmresource"},{"$f":"IFERROR(__xludf.DUMMYFUNCTION(\"\"\"COMPUTED_VALUE\"\"\"),\"vnd.afpc.cmoca-cmresource\")","v":"vnd.afpc.cmoca-cmresource"},{"$f":"IFERROR(__xludf.DUMMYFUNCTION(\"\"\"COMPUTED_VALUE\"\"\"),\"application/vnd.afpc.cmoca-cmresource\")","v":"application/vnd.afpc.cmoca-cmresource"},{"$f":"IFERROR(__xludf.DUMMYFUNCTION(\"\"\"COMPUTED_VALUE\"\"\"),\"en\")","v":"en"}]
[{"$f":"IFERROR(__xludf.DUMMYFUNCTION(\"\"\"COMPUTED_VALUE\"\"\"),\"https://www.iana.org/assignments/media-types/application/vnd.afpc.foca-charset\")","v":"https://www.iana.org/assignments/media-types/application/vnd.afpc.foca-charset"},{"$f":"IFERROR(__xludf.DUMMYFUNCTION(\"\"\"COMPUTED_VALUE\"\"\"),\"vnd.afpc.foca-charset\")","v":"vnd.afpc.foca-charset"},{"$f":"IFERROR(__xludf.DUMMYFUNCTION(\"\"\"COMPUTED_VALUE\"\"\"),\"vnd.afpc.foca-charset\")","v":"vnd.afpc.foca-charset"},{"$f":"IFERROR(__xludf.DUMMYFUNCTION(\"\"\"COMPUTED_VALUE\"\"\"),\"application/vnd.afpc.foca-charset\")","v":"application/vnd.afpc.foca-charset"},{"$f":"IFERROR(__xludf.DUMMYFUNCTION(\"\"\"COMPUTED_VALUE\"\"\"),\"en\")","v":"en"}]
[{"$f":"IFERROR(__xludf.DUMMYFUNCTION(\"\"\"COMPUTED_VALUE\"\"\"),\"https://www.iana.org/assignments/media-types/application/vnd.afpc.foca-codedfont\")","v":"https://www.iana.org/assignments/media-types/application/vnd.afpc.foca-codedfont"},{"$f":"IFERROR(__xludf.DUMMYFUNCTION(\"\"\"COMPUTED_VALUE\"\"\"),\"vnd.afpc.foca-codedfont\")","v":"vnd.afpc.foca-codedfont"},{"$f":"IFERROR(__xludf.DUMMYFUNCTION(\"\"\"COMPUTED_VALUE\"\"\"),\"vnd.afpc.foca-codedfont\")","v":"vnd.afpc.foca-codedfont"},{"$f":"IFERROR(__xludf.DUMMYFUNCTION(\"\"\"COMPUTED_VALUE\"\"\"),\"application/vnd.afpc.foca-codedfont\")","v":"application/vnd.afpc.foca-codedfont"},{"$f":"IFERROR(__xludf.DUMMYFUNCTION(\"\"\"COMPUTED_VALUE\"\"\"),\"en\")","v":"en"}]
[{"$f":"IFERROR(__xludf.DUMMYFUNCTION(\"\"\"COMPUTED_VALUE\"\"\"),\"https://www.iana.org/assignments/media-types/application/vnd.afpc.foca-codepage\")","v":"https://www.iana.org/assignments/media-types/application/vnd.afpc.foca-codepage"},{"$f":"IFERROR(__xludf.DUMMYFUNCTION(\"\"\"COMPUTED_VALUE\"\"\"),\"vnd.afpc.foca-codepage\")","v":"vnd.afpc.foca-codepage"},{"$f":"IFERROR(__xludf.DUMMYFUNCTION(\"\"\"COMPUTED_VALUE\"\"\"),\"vnd.afpc.foca-codepage\")","v":"vnd.afpc.foca-codepage"},{"$f":"IFERROR(__xludf.DUMMYFUNCTION(\"\"\"COMPUTED_VALUE\"\"\"),\"application/vnd.afpc.foca-codepage\")","v":"application/vnd.afpc.foca-codepage"},{"$f":"IFERROR(__xludf.DUMMYFUNCTION(\"\"\"COMPUTED_VALUE\"\"\"),\"en\")","v":"en"}]
[{"$f":"IFERROR(__xludf.DUMMYFUNCTION(\"\"\"COMPUTED_VALUE\"\"\"),\"https://www.iana.org/assignments/media-types/application/vnd.afpc.modca\")","v":"https://www.iana.org/assignments/media-types/application/vnd.afpc.modca"},{"$f":"IFERROR(__xludf.DUMMYFUNCTION(\"\"\"COMPUTED_VALUE\"\"\"),\"vnd.afpc.modca\")","v":"vnd.afpc.modca"},{"$f":"IFERROR(__xludf.DUMMYFUNCTION(\"\"\"COMPUTED_VALUE\"\"\"),\"vnd.afpc.modca\")","v":"vnd.afpc.modca"},{"$f":"IFERROR(__xludf.DUMMYFUNCTION(\"\"\"COMPUTED_VALUE\"\"\"),\"application/vnd.afpc.modca\")","v":"application/vnd.afpc.modca"},{"$f":"IFERROR(__xludf.DUMMYFUNCTION(\"\"\"COMPUTED_VALUE\"\"\"),\"en\")","v":"en"}]
[{"$f":"IFERROR(__xludf.DUMMYFUNCTION(\"\"\"COMPUTED_VALUE\"\"\"),\"https://www.iana.org/assignments/media-types/application/vnd.afpc.modca-cmtable\")","v":"https://www.iana.org/assignments/media-types/application/vnd.afpc.modca-cmtable"},{"$f":"IFERROR(__xludf.DUMMYFUNCTION(\"\"\"COMPUTED_VALUE\"\"\"),\"vnd.afpc.modca-cmtable\")","v":"vnd.afpc.modca-cmtable"},{"$f":"IFERROR(__xludf.DUMMYFUNCTION(\"\"\"COMPUTED_VALUE\"\"\"),\"vnd.afpc.modca-cmtable\")","v":"vnd.afpc.modca-cmtable"},{"$f":"IFERROR(__xludf.DUMMYFUNCTION(\"\"\"COMPUTED_VALUE\"\"\"),\"application/vnd.afpc.modca-cmtable\")","v":"application/vnd.afpc.modca-cmtable"},{"$f":"IFERROR(__xludf.DUMMYFUNCTION(\"\"\"COMPUTED_VALUE\"\"\"),\"en\")","v":"en"}]
[{"$f":"IFERROR(__xludf.DUMMYFUNCTION(\"\"\"COMPUTED_VALUE\"\"\"),\"https://www.iana.org/assignments/media-types/application/vnd.afpc.modca-formdef\")","v":"https://www.iana.org/assignments/media-types/application/vnd.afpc.modca-formdef"},{"$f":"IFERROR(__xludf.DUMMYFUNCTION(\"\"\"COMPUTED_VALUE\"\"\"),\"vnd.afpc.modca-formdef\")","v":"vnd.afpc.modca-formdef"},{"$f":"IFERROR(__xludf.DUMMYFUNCTION(\"\"\"COMPUTED_VALUE\"\"\"),\"vnd.afpc.modca-formdef\")","v":"vnd.afpc.modca-formdef"},{"$f":"IFERROR(__xludf.DUMMYFUNCTION(\"\"\"COMPUTED_VALUE\"\"\"),\"application/vnd.afpc.modca-formdef\")","v":"application/vnd.afpc.modca-formdef"},{"$f":"IFERROR(__xludf.DUMMYFUNCTION(\"\"\"COMPUTED_VALUE\"\"\"),\"en\")","v":"en"}]
[{"$f":"IFERROR(__xludf.DUMMYFUNCTION(\"\"\"COMPUTED_VALUE\"\"\"),\"https://www.iana.org/assignments/media-types/application/vnd.afpc.modca-mediummap\")","v":"https://www.iana.org/assignments/media-types/application/vnd.afpc.modca-mediummap"},{"$f":"IFERROR(__xludf.DUMMYFUNCTION(\"\"\"COMPUTED_VALUE\"\"\"),\"vnd.afpc.modca-mediummap\")","v":"vnd.afpc.modca-mediummap"},{"$f":"IFERROR(__xludf.DUMMYFUNCTION(\"\"\"COMPUTED_VALUE\"\"\"),\"vnd.afpc.modca-mediummap\")","v":"vnd.afpc.modca-mediummap"},{"$f":"IFERROR(__xludf.DUMMYFUNCTION(\"\"\"COMPUTED_VALUE\"\"\"),\"application/vnd.afpc.modca-mediummap\")","v":"application/vnd.afpc.modca-mediummap"},{"$f":"IFERROR(__xludf.DUMMYFUNCTION(\"\"\"COMPUTED_VALUE\"\"\"),\"en\")","v":"en"}]
[{"$f":"IFERROR(__xludf.DUMMYFUNCTION(\"\"\"COMPUTED_VALUE\"\"\"),\"https://www.iana.org/assignments/media-types/application/vnd.afpc.modca-objectcontainer\")","v":"https://www.iana.org/assignments/media-types/application/vnd.afpc.modca-objectcontainer"},{"$f":"IFERROR(__xludf.DUMMYFUNCTION(\"\"\"COMPUTED_VALUE\"\"\"),\"vnd.afpc.modca-objectcontainer\")","v":"vnd.afpc.modca-objectcontainer"},{"$f":"IFERROR(__xludf.DUMMYFUNCTION(\"\"\"COMPUTED_VALUE\"\"\"),\"vnd.afpc.modca-objectcontainer\")","v":"vnd.afpc.modca-objectcontainer"},{"$f":"IFERROR(__xludf.DUMMYFUNCTION(\"\"\"COMPUTED_VALUE\"\"\"),\"application/vnd.afpc.modca-objectcontainer\")","v":"application/vnd.afpc.modca-objectcontainer"},{"$f":"IFERROR(__xludf.DUMMYFUNCTION(\"\"\"COMPUTED_VALUE\"\"\"),\"en\")","v":"en"}]
[{"$f":"IFERROR(__xludf.DUMMYFUNCTION(\"\"\"COMPUTED_VALUE\"\"\"),\"https://www.iana.org/assignments/media-types/application/vnd.afpc.modca-overlay\")","v":"https://www.iana.org/assignments/media-types/application/vnd.afpc.modca-overlay"},{"$f":"IFERROR(__xludf.DUMMYFUNCTION(\"\"\"COMPUTED_VALUE\"\"\"),\"vnd.afpc.modca-overlay\")","v":"vnd.afpc.modca-overlay"},{"$f":"IFERROR(__xludf.DUMMYFUNCTION(\"\"\"COMPUTED_VALUE\"\"\"),\"vnd.afpc.modca-overlay\")","v":"vnd.afpc.modca-overlay"},{"$f":"IFERROR(__xludf.DUMMYFUNCTION(\"\"\"COMPUTED_VALUE\"\"\"),\"application/vnd.afpc.modca-overlay\")","v":"application/vnd.afpc.modca-overlay"},{"$f":"IFERROR(__xludf.DUMMYFUNCTION(\"\"\"COMPUTED_VALUE\"\"\"),\"en\")","v":"en"}]
[{"$f":"IFERROR(__xludf.DUMMYFUNCTION(\"\"\"COMPUTED_VALUE\"\"\"),\"https://www.iana.org/assignments/media-types/application/vnd.afpc.modca-pagesegment\")","v":"https://www.iana.org/assignments/media-types/application/vnd.afpc.modca-pagesegment"},{"$f":"IFERROR(__xludf.DUMMYFUNCTION(\"\"\"COMPUTED_VALUE\"\"\"),\"vnd.afpc.modca-pagesegment\")","v":"vnd.afpc.modca-pagesegment"},{"$f":"IFERROR(__xludf.DUMMYFUNCTION(\"\"\"COMPUTED_VALUE\"\"\"),\"vnd.afpc.modca-pagesegment\")","v":"vnd.afpc.modca-pagesegment"},{"$f":"IFERROR(__xludf.DUMMYFUNCTION(\"\"\"COMPUTED_VALUE\"\"\"),\"application/vnd.afpc.modca-pagesegment\")","v":"application/vnd.afpc.modca-pagesegment"},{"$f":"IFERROR(__xludf.DUMMYFUNCTION(\"\"\"COMPUTED_VALUE\"\"\"),\"en\")","v":"en"}]
[{"$f":"IFERROR(__xludf.DUMMYFUNCTION(\"\"\"COMPUTED_VALUE\"\"\"),\"https://www.iana.org/assignments/media-types/application/vnd.age\")","v":"https://www.iana.org/assignments/media-types/application/vnd.age"},{"$f":"IFERROR(__xludf.DUMMYFUNCTION(\"\"\"COMPUTED_VALUE\"\"\"),\"vnd.age\")","v":"vnd.age"},{"$f":"IFERROR(__xludf.DUMMYFUNCTION(\"\"\"COMPUTED_VALUE\"\"\"),\"vnd.age\")","v":"vnd.age"},{"$f":"IFERROR(__xludf.DUMMYFUNCTION(\"\"\"COMPUTED_VALUE\"\"\"),\"application/vnd.age\")","v":"application/vnd.age"},{"$f":"IFERROR(__xludf.DUMMYFUNCTION(\"\"\"COMPUTED_VALUE\"\"\"),\"en\")","v":"en"}]
[{"$f":"IFERROR(__xludf.DUMMYFUNCTION(\"\"\"COMPUTED_VALUE\"\"\"),\"https://www.iana.org/assignments/media-types/application/vnd.ah-barcode\")","v":"https://www.iana.org/assignments/media-types/application/vnd.ah-barcode"},{"$f":"IFERROR(__xludf.DUMMYFUNCTION(\"\"\"COMPUTED_VALUE\"\"\"),\"vnd.ah-barcode\")","v":"vnd.ah-barcode"},{"$f":"IFERROR(__xludf.DUMMYFUNCTION(\"\"\"COMPUTED_VALUE\"\"\"),\"vnd.ah-barcode\")","v":"vnd.ah-barcode"},{"$f":"IFERROR(__xludf.DUMMYFUNCTION(\"\"\"COMPUTED_VALUE\"\"\"),\"application/vnd.ah-barcode\")","v":"application/vnd.ah-barcode"},{"$f":"IFERROR(__xludf.DUMMYFUNCTION(\"\"\"COMPUTED_VALUE\"\"\"),\"en\")","v":"en"}]
[{"$f":"IFERROR(__xludf.DUMMYFUNCTION(\"\"\"COMPUTED_VALUE\"\"\"),\"https://www.iana.org/assignments/media-types/application/vnd.ahead.space\")","v":"https://www.iana.org/assignments/media-types/application/vnd.ahead.space"},{"$f":"IFERROR(__xludf.DUMMYFUNCTION(\"\"\"COMPUTED_VALUE\"\"\"),\"vnd.ahead.space\")","v":"vnd.ahead.space"},{"$f":"IFERROR(__xludf.DUMMYFUNCTION(\"\"\"COMPUTED_VALUE\"\"\"),\"vnd.ahead.space\")","v":"vnd.ahead.space"},{"$f":"IFERROR(__xludf.DUMMYFUNCTION(\"\"\"COMPUTED_VALUE\"\"\"),\"application/vnd.ahead.space\")","v":"application/vnd.ahead.space"},{"$f":"IFERROR(__xludf.DUMMYFUNCTION(\"\"\"COMPUTED_VALUE\"\"\"),\"en\")","v":"en"}]
[{"$f":"IFERROR(__xludf.DUMMYFUNCTION(\"\"\"COMPUTED_VALUE\"\"\"),\"https://www.iana.org/assignments/media-types/application/vnd.airzip.filesecure.azf\")","v":"https://www.iana.org/assignments/media-types/application/vnd.airzip.filesecure.azf"},{"$f":"IFERROR(__xludf.DUMMYFUNCTION(\"\"\"COMPUTED_VALUE\"\"\"),\"vnd.airzip.filesecure.azf\")","v":"vnd.airzip.filesecure.azf"},{"$f":"IFERROR(__xludf.DUMMYFUNCTION(\"\"\"COMPUTED_VALUE\"\"\"),\"vnd.airzip.filesecure.azf\")","v":"vnd.airzip.filesecure.azf"},{"$f":"IFERROR(__xludf.DUMMYFUNCTION(\"\"\"COMPUTED_VALUE\"\"\"),\"application/vnd.airzip.filesecure.azf\")","v":"application/vnd.airzip.filesecure.azf"},{"$f":"IFERROR(__xludf.DUMMYFUNCTION(\"\"\"COMPUTED_VALUE\"\"\"),\"en\")","v":"en"}]
[{"$f":"IFERROR(__xludf.DUMMYFUNCTION(\"\"\"COMPUTED_VALUE\"\"\"),\"https://www.iana.org/assignments/media-types/application/vnd.airzip.filesecure.azs\")","v":"https://www.iana.org/assignments/media-types/application/vnd.airzip.filesecure.azs"},{"$f":"IFERROR(__xludf.DUMMYFUNCTION(\"\"\"COMPUTED_VALUE\"\"\"),\"vnd.airzip.filesecure.azs\")","v":"vnd.airzip.filesecure.azs"},{"$f":"IFERROR(__xludf.DUMMYFUNCTION(\"\"\"COMPUTED_VALUE\"\"\"),\"vnd.airzip.filesecure.azs\")","v":"vnd.airzip.filesecure.azs"},{"$f":"IFERROR(__xludf.DUMMYFUNCTION(\"\"\"COMPUTED_VALUE\"\"\"),\"application/vnd.airzip.filesecure.azs\")","v":"application/vnd.airzip.filesecure.azs"},{"$f":"IFERROR(__xludf.DUMMYFUNCTION(\"\"\"COMPUTED_VALUE\"\"\"),\"en\")","v":"en"}]
[{"$f":"IFERROR(__xludf.DUMMYFUNCTION(\"\"\"COMPUTED_VALUE\"\"\"),\"https://www.iana.org/assignments/media-types/application/vnd.amadeus+json\")","v":"https://www.iana.org/assignments/media-types/application/vnd.amadeus+json"},{"$f":"IFERROR(__xludf.DUMMYFUNCTION(\"\"\"COMPUTED_VALUE\"\"\"),\"vnd.amadeus+json\")","v":"vnd.amadeus+json"},{"$f":"IFERROR(__xludf.DUMMYFUNCTION(\"\"\"COMPUTED_VALUE\"\"\"),\"vnd.amadeus+json\")","v":"vnd.amadeus+json"},{"$f":"IFERROR(__xludf.DUMMYFUNCTION(\"\"\"COMPUTED_VALUE\"\"\"),\"application/vnd.amadeus+json\")","v":"application/vnd.amadeus+json"},{"$f":"IFERROR(__xludf.DUMMYFUNCTION(\"\"\"COMPUTED_VALUE\"\"\"),\"en\")","v":"en"}]
[{"$f":"IFERROR(__xludf.DUMMYFUNCTION(\"\"\"COMPUTED_VALUE\"\"\"),\"https://www.iana.org/assignments/media-types/application/vnd.amazon.mobi8-ebook\")","v":"https://www.iana.org/assignments/media-types/application/vnd.amazon.mobi8-ebook"},{"$f":"IFERROR(__xludf.DUMMYFUNCTION(\"\"\"COMPUTED_VALUE\"\"\"),\"vnd.amazon.mobi8-ebook\")","v":"vnd.amazon.mobi8-ebook"},{"$f":"IFERROR(__xludf.DUMMYFUNCTION(\"\"\"COMPUTED_VALUE\"\"\"),\"vnd.amazon.mobi8-ebook\")","v":"vnd.amazon.mobi8-ebook"},{"$f":"IFERROR(__xludf.DUMMYFUNCTION(\"\"\"COMPUTED_VALUE\"\"\"),\"application/vnd.amazon.mobi8-ebook\")","v":"application/vnd.amazon.mobi8-ebook"},{"$f":"IFERROR(__xludf.DUMMYFUNCTION(\"\"\"COMPUTED_VALUE\"\"\"),\"en\")","v":"en"}]
[{"$f":"IFERROR(__xludf.DUMMYFUNCTION(\"\"\"COMPUTED_VALUE\"\"\"),\"https://www.iana.org/assignments/media-types/application/vnd.americandynamics.acc\")","v":"https://www.iana.org/assignments/media-types/application/vnd.americandynamics.acc"},{"$f":"IFERROR(__xludf.DUMMYFUNCTION(\"\"\"COMPUTED_VALUE\"\"\"),\"vnd.americandynamics.acc\")","v":"vnd.americandynamics.acc"},{"$f":"IFERROR(__xludf.DUMMYFUNCTION(\"\"\"COMPUTED_VALUE\"\"\"),\"vnd.americandynamics.acc\")","v":"vnd.americandynamics.acc"},{"$f":"IFERROR(__xludf.DUMMYFUNCTION(\"\"\"COMPUTED_VALUE\"\"\"),\"application/vnd.americandynamics.acc\")","v":"application/vnd.americandynamics.acc"},{"$f":"IFERROR(__xludf.DUMMYFUNCTION(\"\"\"COMPUTED_VALUE\"\"\"),\"en\")","v":"en"}]
[{"$f":"IFERROR(__xludf.DUMMYFUNCTION(\"\"\"COMPUTED_VALUE\"\"\"),\"https://www.iana.org/assignments/media-types/application/vnd.amiga.ami\")","v":"https://www.iana.org/assignments/media-types/application/vnd.amiga.ami"},{"$f":"IFERROR(__xludf.DUMMYFUNCTION(\"\"\"COMPUTED_VALUE\"\"\"),\"vnd.amiga.ami\")","v":"vnd.amiga.ami"},{"$f":"IFERROR(__xludf.DUMMYFUNCTION(\"\"\"COMPUTED_VALUE\"\"\"),\"vnd.amiga.ami\")","v":"vnd.amiga.ami"},{"$f":"IFERROR(__xludf.DUMMYFUNCTION(\"\"\"COMPUTED_VALUE\"\"\"),\"application/vnd.amiga.ami\")","v":"application/vnd.amiga.ami"},{"$f":"IFERROR(__xludf.DUMMYFUNCTION(\"\"\"COMPUTED_VALUE\"\"\"),\"en\")","v":"en"}]
[{"$f":"IFERROR(__xludf.DUMMYFUNCTION(\"\"\"COMPUTED_VALUE\"\"\"),\"https://www.iana.org/assignments/media-types/application/vnd.amundsen.maze+xml\")","v":"https://www.iana.org/assignments/media-types/application/vnd.amundsen.maze+xml"},{"$f":"IFERROR(__xludf.DUMMYFUNCTION(\"\"\"COMPUTED_VALUE\"\"\"),\"vnd.amundsen.maze+xml\")","v":"vnd.amundsen.maze+xml"},{"$f":"IFERROR(__xludf.DUMMYFUNCTION(\"\"\"COMPUTED_VALUE\"\"\"),\"vnd.amundsen.maze+xml\")","v":"vnd.amundsen.maze+xml"},{"$f":"IFERROR(__xludf.DUMMYFUNCTION(\"\"\"COMPUTED_VALUE\"\"\"),\"application/vnd.amundsen.maze+xml\")","v":"application/vnd.amundsen.maze+xml"},{"$f":"IFERROR(__xludf.DUMMYFUNCTION(\"\"\"COMPUTED_VALUE\"\"\"),\"en\")","v":"en"}]
[{"$f":"IFERROR(__xludf.DUMMYFUNCTION(\"\"\"COMPUTED_VALUE\"\"\"),\"https://www.iana.org/assignments/media-types/application/vnd.android.ota\")","v":"https://www.iana.org/assignments/media-types/application/vnd.android.ota"},{"$f":"IFERROR(__xludf.DUMMYFUNCTION(\"\"\"COMPUTED_VALUE\"\"\"),\"vnd.android.ota\")","v":"vnd.android.ota"},{"$f":"IFERROR(__xludf.DUMMYFUNCTION(\"\"\"COMPUTED_VALUE\"\"\"),\"vnd.android.ota\")","v":"vnd.android.ota"},{"$f":"IFERROR(__xludf.DUMMYFUNCTION(\"\"\"COMPUTED_VALUE\"\"\"),\"application/vnd.android.ota\")","v":"application/vnd.android.ota"},{"$f":"IFERROR(__xludf.DUMMYFUNCTION(\"\"\"COMPUTED_VALUE\"\"\"),\"en\")","v":"en"}]
[{"$f":"IFERROR(__xludf.DUMMYFUNCTION(\"\"\"COMPUTED_VALUE\"\"\"),\"https://www.iana.org/assignments/media-types/application/vnd.anki\")","v":"https://www.iana.org/assignments/media-types/application/vnd.anki"},{"$f":"IFERROR(__xludf.DUMMYFUNCTION(\"\"\"COMPUTED_VALUE\"\"\"),\"vnd.anki\")","v":"vnd.anki"},{"$f":"IFERROR(__xludf.DUMMYFUNCTION(\"\"\"COMPUTED_VALUE\"\"\"),\"vnd.anki\")","v":"vnd.anki"},{"$f":"IFERROR(__xludf.DUMMYFUNCTION(\"\"\"COMPUTED_VALUE\"\"\"),\"application/vnd.anki\")","v":"application/vnd.anki"},{"$f":"IFERROR(__xludf.DUMMYFUNCTION(\"\"\"COMPUTED_VALUE\"\"\"),\"en\")","v":"en"}]
[{"$f":"IFERROR(__xludf.DUMMYFUNCTION(\"\"\"COMPUTED_VALUE\"\"\"),\"https://www.iana.org/assignments/media-types/application/vnd.anser-web-certificate-issue-initiation\")","v":"https://www.iana.org/assignments/media-types/application/vnd.anser-web-certificate-issue-initiation"},{"$f":"IFERROR(__xludf.DUMMYFUNCTION(\"\"\"COMPUTED_VALUE\"\"\"),\"vnd.anser-web-certificate-issue-initiation\")","v":"vnd.anser-web-certificate-issue-initiation"},{"$f":"IFERROR(__xludf.DUMMYFUNCTION(\"\"\"COMPUTED_VALUE\"\"\"),\"vnd.anser-web-certificate-issue-initiation\")","v":"vnd.anser-web-certificate-issue-initiation"},{"$f":"IFERROR(__xludf.DUMMYFUNCTION(\"\"\"COMPUTED_VALUE\"\"\"),\"application/vnd.anser-web-certificate-issue-initiation\")","v":"application/vnd.anser-web-certificate-issue-initiation"},{"$f":"IFERROR(__xludf.DUMMYFUNCTION(\"\"\"COMPUTED_VALUE\"\"\"),\"en\")","v":"en"}]
[{"$f":"IFERROR(__xludf.DUMMYFUNCTION(\"\"\"COMPUTED_VALUE\"\"\"),\"https://www.iana.org/assignments/media-types/application/vnd.antix.game-component\")","v":"https://www.iana.org/assignments/media-types/application/vnd.antix.game-component"},{"$f":"IFERROR(__xludf.DUMMYFUNCTION(\"\"\"COMPUTED_VALUE\"\"\"),\"vnd.antix.game-component\")","v":"vnd.antix.game-component"},{"$f":"IFERROR(__xludf.DUMMYFUNCTION(\"\"\"COMPUTED_VALUE\"\"\"),\"vnd.antix.game-component\")","v":"vnd.antix.game-component"},{"$f":"IFERROR(__xludf.DUMMYFUNCTION(\"\"\"COMPUTED_VALUE\"\"\"),\"application/vnd.antix.game-component\")","v":"application/vnd.antix.game-component"},{"$f":"IFERROR(__xludf.DUMMYFUNCTION(\"\"\"COMPUTED_VALUE\"\"\"),\"en\")","v":"en"}]
[{"$f":"IFERROR(__xludf.DUMMYFUNCTION(\"\"\"COMPUTED_VALUE\"\"\"),\"https://www.iana.org/assignments/media-types/application/vnd.apache.arrow.file\")","v":"https://www.iana.org/assignments/media-types/application/vnd.apache.arrow.file"},{"$f":"IFERROR(__xludf.DUMMYFUNCTION(\"\"\"COMPUTED_VALUE\"\"\"),\"vnd.apache.arrow.file\")","v":"vnd.apache.arrow.file"},{"$f":"IFERROR(__xludf.DUMMYFUNCTION(\"\"\"COMPUTED_VALUE\"\"\"),\"vnd.apache.arrow.file\")","v":"vnd.apache.arrow.file"},{"$f":"IFERROR(__xludf.DUMMYFUNCTION(\"\"\"COMPUTED_VALUE\"\"\"),\"application/vnd.apache.arrow.file\")","v":"application/vnd.apache.arrow.file"},{"$f":"IFERROR(__xludf.DUMMYFUNCTION(\"\"\"COMPUTED_VALUE\"\"\"),\"en\")","v":"en"}]
[{"$f":"IFERROR(__xludf.DUMMYFUNCTION(\"\"\"COMPUTED_VALUE\"\"\"),\"https://www.iana.org/assignments/media-types/application/vnd.apache.arrow.stream\")","v":"https://www.iana.org/assignments/media-types/application/vnd.apache.arrow.stream"},{"$f":"IFERROR(__xludf.DUMMYFUNCTION(\"\"\"COMPUTED_VALUE\"\"\"),\"vnd.apache.arrow.stream\")","v":"vnd.apache.arrow.stream"},{"$f":"IFERROR(__xludf.DUMMYFUNCTION(\"\"\"COMPUTED_VALUE\"\"\"),\"vnd.apache.arrow.stream\")","v":"vnd.apache.arrow.stream"},{"$f":"IFERROR(__xludf.DUMMYFUNCTION(\"\"\"COMPUTED_VALUE\"\"\"),\"application/vnd.apache.arrow.stream\")","v":"application/vnd.apache.arrow.stream"},{"$f":"IFERROR(__xludf.DUMMYFUNCTION(\"\"\"COMPUTED_VALUE\"\"\"),\"en\")","v":"en"}]
[{"$f":"IFERROR(__xludf.DUMMYFUNCTION(\"\"\"COMPUTED_VALUE\"\"\"),\"https://www.iana.org/assignments/media-types/application/vnd.apache.thrift.binary\")","v":"https://www.iana.org/assignments/media-types/application/vnd.apache.thrift.binary"},{"$f":"IFERROR(__xludf.DUMMYFUNCTION(\"\"\"COMPUTED_VALUE\"\"\"),\"vnd.apache.thrift.binary\")","v":"vnd.apache.thrift.binary"},{"$f":"IFERROR(__xludf.DUMMYFUNCTION(\"\"\"COMPUTED_VALUE\"\"\"),\"vnd.apache.thrift.binary\")","v":"vnd.apache.thrift.binary"},{"$f":"IFERROR(__xludf.DUMMYFUNCTION(\"\"\"COMPUTED_VALUE\"\"\"),\"application/vnd.apache.thrift.binary\")","v":"application/vnd.apache.thrift.binary"},{"$f":"IFERROR(__xludf.DUMMYFUNCTION(\"\"\"COMPUTED_VALUE\"\"\"),\"en\")","v":"en"}]
[{"$f":"IFERROR(__xludf.DUMMYFUNCTION(\"\"\"COMPUTED_VALUE\"\"\"),\"https://www.iana.org/assignments/media-types/application/vnd.apache.thrift.compact\")","v":"https://www.iana.org/assignments/media-types/application/vnd.apache.thrift.compact"},{"$f":"IFERROR(__xludf.DUMMYFUNCTION(\"\"\"COMPUTED_VALUE\"\"\"),\"vnd.apache.thrift.compact\")","v":"vnd.apache.thrift.compact"},{"$f":"IFERROR(__xludf.DUMMYFUNCTION(\"\"\"COMPUTED_VALUE\"\"\"),\"vnd.apache.thrift.compact\")","v":"vnd.apache.thrift.compact"},{"$f":"IFERROR(__xludf.DUMMYFUNCTION(\"\"\"COMPUTED_VALUE\"\"\"),\"application/vnd.apache.thrift.compact\")","v":"application/vnd.apache.thrift.compact"},{"$f":"IFERROR(__xludf.DUMMYFUNCTION(\"\"\"COMPUTED_VALUE\"\"\"),\"en\")","v":"en"}]
[{"$f":"IFERROR(__xludf.DUMMYFUNCTION(\"\"\"COMPUTED_VALUE\"\"\"),\"https://www.iana.org/assignments/media-types/application/vnd.apache.thrift.json\")","v":"https://www.iana.org/assignments/media-types/application/vnd.apache.thrift.json"},{"$f":"IFERROR(__xludf.DUMMYFUNCTION(\"\"\"COMPUTED_VALUE\"\"\"),\"vnd.apache.thrift.json\")","v":"vnd.apache.thrift.json"},{"$f":"IFERROR(__xludf.DUMMYFUNCTION(\"\"\"COMPUTED_VALUE\"\"\"),\"vnd.apache.thrift.json\")","v":"vnd.apache.thrift.json"},{"$f":"IFERROR(__xludf.DUMMYFUNCTION(\"\"\"COMPUTED_VALUE\"\"\"),\"application/vnd.apache.thrift.json\")","v":"application/vnd.apache.thrift.json"},{"$f":"IFERROR(__xludf.DUMMYFUNCTION(\"\"\"COMPUTED_VALUE\"\"\"),\"en\")","v":"en"}]
[{"$f":"IFERROR(__xludf.DUMMYFUNCTION(\"\"\"COMPUTED_VALUE\"\"\"),\"https://www.iana.org/assignments/media-types/application/vnd.apexlang\")","v":"https://www.iana.org/assignments/media-types/application/vnd.apexlang"},{"$f":"IFERROR(__xludf.DUMMYFUNCTION(\"\"\"COMPUTED_VALUE\"\"\"),\"vnd.apexlang\")","v":"vnd.apexlang"},{"$f":"IFERROR(__xludf.DUMMYFUNCTION(\"\"\"COMPUTED_VALUE\"\"\"),\"vnd.apexlang\")","v":"vnd.apexlang"},{"$f":"IFERROR(__xludf.DUMMYFUNCTION(\"\"\"COMPUTED_VALUE\"\"\"),\"application/vnd.apexlang\")","v":"application/vnd.apexlang"},{"$f":"IFERROR(__xludf.DUMMYFUNCTION(\"\"\"COMPUTED_VALUE\"\"\"),\"en\")","v":"en"}]
[{"$f":"IFERROR(__xludf.DUMMYFUNCTION(\"\"\"COMPUTED_VALUE\"\"\"),\"https://www.iana.org/assignments/media-types/application/vnd.api+json\")","v":"https://www.iana.org/assignments/media-types/application/vnd.api+json"},{"$f":"IFERROR(__xludf.DUMMYFUNCTION(\"\"\"COMPUTED_VALUE\"\"\"),\"vnd.api+json\")","v":"vnd.api+json"},{"$f":"IFERROR(__xludf.DUMMYFUNCTION(\"\"\"COMPUTED_VALUE\"\"\"),\"vnd.api+json\")","v":"vnd.api+json"},{"$f":"IFERROR(__xludf.DUMMYFUNCTION(\"\"\"COMPUTED_VALUE\"\"\"),\"application/vnd.api+json\")","v":"application/vnd.api+json"},{"$f":"IFERROR(__xludf.DUMMYFUNCTION(\"\"\"COMPUTED_VALUE\"\"\"),\"en\")","v":"en"}]
[{"$f":"IFERROR(__xludf.DUMMYFUNCTION(\"\"\"COMPUTED_VALUE\"\"\"),\"https://www.iana.org/assignments/media-types/application/vnd.aplextor.warrp+json\")","v":"https://www.iana.org/assignments/media-types/application/vnd.aplextor.warrp+json"},{"$f":"IFERROR(__xludf.DUMMYFUNCTION(\"\"\"COMPUTED_VALUE\"\"\"),\"vnd.aplextor.warrp+json\")","v":"vnd.aplextor.warrp+json"},{"$f":"IFERROR(__xludf.DUMMYFUNCTION(\"\"\"COMPUTED_VALUE\"\"\"),\"vnd.aplextor.warrp+json\")","v":"vnd.aplextor.warrp+json"},{"$f":"IFERROR(__xludf.DUMMYFUNCTION(\"\"\"COMPUTED_VALUE\"\"\"),\"application/vnd.aplextor.warrp+json\")","v":"application/vnd.aplextor.warrp+json"},{"$f":"IFERROR(__xludf.DUMMYFUNCTION(\"\"\"COMPUTED_VALUE\"\"\"),\"en\")","v":"en"}]
[{"$f":"IFERROR(__xludf.DUMMYFUNCTION(\"\"\"COMPUTED_VALUE\"\"\"),\"https://www.iana.org/assignments/media-types/application/vnd.apothekende.reservation+json\")","v":"https://www.iana.org/assignments/media-types/application/vnd.apothekende.reservation+json"},{"$f":"IFERROR(__xludf.DUMMYFUNCTION(\"\"\"COMPUTED_VALUE\"\"\"),\"vnd.apothekende.reservation+json\")","v":"vnd.apothekende.reservation+json"},{"$f":"IFERROR(__xludf.DUMMYFUNCTION(\"\"\"COMPUTED_VALUE\"\"\"),\"vnd.apothekende.reservation+json\")","v":"vnd.apothekende.reservation+json"},{"$f":"IFERROR(__xludf.DUMMYFUNCTION(\"\"\"COMPUTED_VALUE\"\"\"),\"application/vnd.apothekende.reservation+json\")","v":"application/vnd.apothekende.reservation+json"},{"$f":"IFERROR(__xludf.DUMMYFUNCTION(\"\"\"COMPUTED_VALUE\"\"\"),\"en\")","v":"en"}]
[{"$f":"IFERROR(__xludf.DUMMYFUNCTION(\"\"\"COMPUTED_VALUE\"\"\"),\"https://www.iana.org/assignments/media-types/application/vnd.apple.installer+xml\")","v":"https://www.iana.org/assignments/media-types/application/vnd.apple.installer+xml"},{"$f":"IFERROR(__xludf.DUMMYFUNCTION(\"\"\"COMPUTED_VALUE\"\"\"),\"vnd.apple.installer+xml\")","v":"vnd.apple.installer+xml"},{"$f":"IFERROR(__xludf.DUMMYFUNCTION(\"\"\"COMPUTED_VALUE\"\"\"),\"vnd.apple.installer+xml\")","v":"vnd.apple.installer+xml"},{"$f":"IFERROR(__xludf.DUMMYFUNCTION(\"\"\"COMPUTED_VALUE\"\"\"),\"application/vnd.apple.installer+xml\")","v":"application/vnd.apple.installer+xml"},{"$f":"IFERROR(__xludf.DUMMYFUNCTION(\"\"\"COMPUTED_VALUE\"\"\"),\"en\")","v":"en"}]
[{"$f":"IFERROR(__xludf.DUMMYFUNCTION(\"\"\"COMPUTED_VALUE\"\"\"),\"https://www.iana.org/assignments/media-types/application/vnd.apple.keynote\")","v":"https://www.iana.org/assignments/media-types/application/vnd.apple.keynote"},{"$f":"IFERROR(__xludf.DUMMYFUNCTION(\"\"\"COMPUTED_VALUE\"\"\"),\"vnd.apple.keynote\")","v":"vnd.apple.keynote"},{"$f":"IFERROR(__xludf.DUMMYFUNCTION(\"\"\"COMPUTED_VALUE\"\"\"),\"vnd.apple.keynote\")","v":"vnd.apple.keynote"},{"$f":"IFERROR(__xludf.DUMMYFUNCTION(\"\"\"COMPUTED_VALUE\"\"\"),\"application/vnd.apple.keynote\")","v":"application/vnd.apple.keynote"},{"$f":"IFERROR(__xludf.DUMMYFUNCTION(\"\"\"COMPUTED_VALUE\"\"\"),\"en\")","v":"en"}]
[{"$f":"IFERROR(__xludf.DUMMYFUNCTION(\"\"\"COMPUTED_VALUE\"\"\"),\"https://www.iana.org/assignments/media-types/application/vnd.apple.mpegurl\")","v":"https://www.iana.org/assignments/media-types/application/vnd.apple.mpegurl"},{"$f":"IFERROR(__xludf.DUMMYFUNCTION(\"\"\"COMPUTED_VALUE\"\"\"),\"vnd.apple.mpegurl\")","v":"vnd.apple.mpegurl"},{"$f":"IFERROR(__xludf.DUMMYFUNCTION(\"\"\"COMPUTED_VALUE\"\"\"),\"vnd.apple.mpegurl\")","v":"vnd.apple.mpegurl"},{"$f":"IFERROR(__xludf.DUMMYFUNCTION(\"\"\"COMPUTED_VALUE\"\"\"),\"application/vnd.apple.mpegurl\")","v":"application/vnd.apple.mpegurl"},{"$f":"IFERROR(__xludf.DUMMYFUNCTION(\"\"\"COMPUTED_VALUE\"\"\"),\"en\")","v":"en"}]
[{"$f":"IFERROR(__xludf.DUMMYFUNCTION(\"\"\"COMPUTED_VALUE\"\"\"),\"https://www.iana.org/assignments/media-types/application/vnd.apple.numbers\")","v":"https://www.iana.org/assignments/media-types/application/vnd.apple.numbers"},{"$f":"IFERROR(__xludf.DUMMYFUNCTION(\"\"\"COMPUTED_VALUE\"\"\"),\"vnd.apple.numbers\")","v":"vnd.apple.numbers"},{"$f":"IFERROR(__xludf.DUMMYFUNCTION(\"\"\"COMPUTED_VALUE\"\"\"),\"vnd.apple.numbers\")","v":"vnd.apple.numbers"},{"$f":"IFERROR(__xludf.DUMMYFUNCTION(\"\"\"COMPUTED_VALUE\"\"\"),\"application/vnd.apple.numbers\")","v":"application/vnd.apple.numbers"},{"$f":"IFERROR(__xludf.DUMMYFUNCTION(\"\"\"COMPUTED_VALUE\"\"\"),\"en\")","v":"en"}]
[{"$f":"IFERROR(__xludf.DUMMYFUNCTION(\"\"\"COMPUTED_VALUE\"\"\"),\"https://www.iana.org/assignments/media-types/application/vnd.apple.pages\")","v":"https://www.iana.org/assignments/media-types/application/vnd.apple.pages"},{"$f":"IFERROR(__xludf.DUMMYFUNCTION(\"\"\"COMPUTED_VALUE\"\"\"),\"vnd.apple.pages\")","v":"vnd.apple.pages"},{"$f":"IFERROR(__xludf.DUMMYFUNCTION(\"\"\"COMPUTED_VALUE\"\"\"),\"vnd.apple.pages\")","v":"vnd.apple.pages"},{"$f":"IFERROR(__xludf.DUMMYFUNCTION(\"\"\"COMPUTED_VALUE\"\"\"),\"application/vnd.apple.pages\")","v":"application/vnd.apple.pages"},{"$f":"IFERROR(__xludf.DUMMYFUNCTION(\"\"\"COMPUTED_VALUE\"\"\"),\"en\")","v":"en"}]
[{"$f":"IFERROR(__xludf.DUMMYFUNCTION(\"\"\"COMPUTED_VALUE\"\"\"),\"https://www.iana.org/assignments/media-types/application/vnd.arastra.swi\")","v":"https://www.iana.org/assignments/media-types/application/vnd.arastra.swi"},{"$f":"IFERROR(__xludf.DUMMYFUNCTION(\"\"\"COMPUTED_VALUE\"\"\"),\"vnd.arastra.swi (OBSOLETED in favor of application/vnd.aristanetworks.swi)\")","v":"vnd.arastra.swi (OBSOLETED in favor of application/vnd.aristanetworks.swi)"},{"$f":"IFERROR(__xludf.DUMMYFUNCTION(\"\"\"COMPUTED_VALUE\"\"\"),\"vnd.arastra.swi (OBSOLETED in favor of application/vnd.aristanetworks.swi)\")","v":"vnd.arastra.swi (OBSOLETED in favor of application/vnd.aristanetworks.swi)"},{"$f":"IFERROR(__xludf.DUMMYFUNCTION(\"\"\"COMPUTED_VALUE\"\"\"),\"application/vnd.arastra.swi\")","v":"application/vnd.arastra.swi"},{"$f":"IFERROR(__xludf.DUMMYFUNCTION(\"\"\"COMPUTED_VALUE\"\"\"),\"en\")","v":"en"}]
[{"$f":"IFERROR(__xludf.DUMMYFUNCTION(\"\"\"COMPUTED_VALUE\"\"\"),\"https://www.iana.org/assignments/media-types/application/vnd.aristanetworks.swi\")","v":"https://www.iana.org/assignments/media-types/application/vnd.aristanetworks.swi"},{"$f":"IFERROR(__xludf.DUMMYFUNCTION(\"\"\"COMPUTED_VALUE\"\"\"),\"vnd.aristanetworks.swi\")","v":"vnd.aristanetworks.swi"},{"$f":"IFERROR(__xludf.DUMMYFUNCTION(\"\"\"COMPUTED_VALUE\"\"\"),\"vnd.aristanetworks.swi\")","v":"vnd.aristanetworks.swi"},{"$f":"IFERROR(__xludf.DUMMYFUNCTION(\"\"\"COMPUTED_VALUE\"\"\"),\"application/vnd.aristanetworks.swi\")","v":"application/vnd.aristanetworks.swi"},{"$f":"IFERROR(__xludf.DUMMYFUNCTION(\"\"\"COMPUTED_VALUE\"\"\"),\"en\")","v":"en"}]
[{"$f":"IFERROR(__xludf.DUMMYFUNCTION(\"\"\"COMPUTED_VALUE\"\"\"),\"https://www.iana.org/assignments/media-types/application/vnd.artisan+json\")","v":"https://www.iana.org/assignments/media-types/application/vnd.artisan+json"},{"$f":"IFERROR(__xludf.DUMMYFUNCTION(\"\"\"COMPUTED_VALUE\"\"\"),\"vnd.artisan+json\")","v":"vnd.artisan+json"},{"$f":"IFERROR(__xludf.DUMMYFUNCTION(\"\"\"COMPUTED_VALUE\"\"\"),\"vnd.artisan+json\")","v":"vnd.artisan+json"},{"$f":"IFERROR(__xludf.DUMMYFUNCTION(\"\"\"COMPUTED_VALUE\"\"\"),\"application/vnd.artisan+json\")","v":"application/vnd.artisan+json"},{"$f":"IFERROR(__xludf.DUMMYFUNCTION(\"\"\"COMPUTED_VALUE\"\"\"),\"en\")","v":"en"}]
[{"$f":"IFERROR(__xludf.DUMMYFUNCTION(\"\"\"COMPUTED_VALUE\"\"\"),\"https://www.iana.org/assignments/media-types/application/vnd.artsquare\")","v":"https://www.iana.org/assignments/media-types/application/vnd.artsquare"},{"$f":"IFERROR(__xludf.DUMMYFUNCTION(\"\"\"COMPUTED_VALUE\"\"\"),\"vnd.artsquare\")","v":"vnd.artsquare"},{"$f":"IFERROR(__xludf.DUMMYFUNCTION(\"\"\"COMPUTED_VALUE\"\"\"),\"vnd.artsquare\")","v":"vnd.artsquare"},{"$f":"IFERROR(__xludf.DUMMYFUNCTION(\"\"\"COMPUTED_VALUE\"\"\"),\"application/vnd.artsquare\")","v":"application/vnd.artsquare"},{"$f":"IFERROR(__xludf.DUMMYFUNCTION(\"\"\"COMPUTED_VALUE\"\"\"),\"en\")","v":"en"}]
[{"$f":"IFERROR(__xludf.DUMMYFUNCTION(\"\"\"COMPUTED_VALUE\"\"\"),\"https://www.iana.org/assignments/media-types/application/vnd.astraea-software.iota\")","v":"https://www.iana.org/assignments/media-types/application/vnd.astraea-software.iota"},{"$f":"IFERROR(__xludf.DUMMYFUNCTION(\"\"\"COMPUTED_VALUE\"\"\"),\"vnd.astraea-software.iota\")","v":"vnd.astraea-software.iota"},{"$f":"IFERROR(__xludf.DUMMYFUNCTION(\"\"\"COMPUTED_VALUE\"\"\"),\"vnd.astraea-software.iota\")","v":"vnd.astraea-software.iota"},{"$f":"IFERROR(__xludf.DUMMYFUNCTION(\"\"\"COMPUTED_VALUE\"\"\"),\"application/vnd.astraea-software.iota\")","v":"application/vnd.astraea-software.iota"},{"$f":"IFERROR(__xludf.DUMMYFUNCTION(\"\"\"COMPUTED_VALUE\"\"\"),\"en\")","v":"en"}]
[{"$f":"IFERROR(__xludf.DUMMYFUNCTION(\"\"\"COMPUTED_VALUE\"\"\"),\"https://www.iana.org/assignments/media-types/application/vnd.audiograph\")","v":"https://www.iana.org/assignments/media-types/application/vnd.audiograph"},{"$f":"IFERROR(__xludf.DUMMYFUNCTION(\"\"\"COMPUTED_VALUE\"\"\"),\"vnd.audiograph\")","v":"vnd.audiograph"},{"$f":"IFERROR(__xludf.DUMMYFUNCTION(\"\"\"COMPUTED_VALUE\"\"\"),\"vnd.audiograph\")","v":"vnd.audiograph"},{"$f":"IFERROR(__xludf.DUMMYFUNCTION(\"\"\"COMPUTED_VALUE\"\"\"),\"application/vnd.audiograph\")","v":"application/vnd.audiograph"},{"$f":"IFERROR(__xludf.DUMMYFUNCTION(\"\"\"COMPUTED_VALUE\"\"\"),\"en\")","v":"en"}]
[{"$f":"IFERROR(__xludf.DUMMYFUNCTION(\"\"\"COMPUTED_VALUE\"\"\"),\"https://www.iana.org/assignments/media-types/application/vnd.autopackage\")","v":"https://www.iana.org/assignments/media-types/application/vnd.autopackage"},{"$f":"IFERROR(__xludf.DUMMYFUNCTION(\"\"\"COMPUTED_VALUE\"\"\"),\"vnd.autopackage\")","v":"vnd.autopackage"},{"$f":"IFERROR(__xludf.DUMMYFUNCTION(\"\"\"COMPUTED_VALUE\"\"\"),\"vnd.autopackage\")","v":"vnd.autopackage"},{"$f":"IFERROR(__xludf.DUMMYFUNCTION(\"\"\"COMPUTED_VALUE\"\"\"),\"application/vnd.autopackage\")","v":"application/vnd.autopackage"},{"$f":"IFERROR(__xludf.DUMMYFUNCTION(\"\"\"COMPUTED_VALUE\"\"\"),\"en\")","v":"en"}]
[{"$f":"IFERROR(__xludf.DUMMYFUNCTION(\"\"\"COMPUTED_VALUE\"\"\"),\"https://www.iana.org/assignments/media-types/application/vnd.avalon+json\")","v":"https://www.iana.org/assignments/media-types/application/vnd.avalon+json"},{"$f":"IFERROR(__xludf.DUMMYFUNCTION(\"\"\"COMPUTED_VALUE\"\"\"),\"vnd.avalon+json\")","v":"vnd.avalon+json"},{"$f":"IFERROR(__xludf.DUMMYFUNCTION(\"\"\"COMPUTED_VALUE\"\"\"),\"vnd.avalon+json\")","v":"vnd.avalon+json"},{"$f":"IFERROR(__xludf.DUMMYFUNCTION(\"\"\"COMPUTED_VALUE\"\"\"),\"application/vnd.avalon+json\")","v":"application/vnd.avalon+json"},{"$f":"IFERROR(__xludf.DUMMYFUNCTION(\"\"\"COMPUTED_VALUE\"\"\"),\"en\")","v":"en"}]
[{"$f":"IFERROR(__xludf.DUMMYFUNCTION(\"\"\"COMPUTED_VALUE\"\"\"),\"https://www.iana.org/assignments/media-types/application/vnd.avistar+xml\")","v":"https://www.iana.org/assignments/media-types/application/vnd.avistar+xml"},{"$f":"IFERROR(__xludf.DUMMYFUNCTION(\"\"\"COMPUTED_VALUE\"\"\"),\"vnd.avistar+xml\")","v":"vnd.avistar+xml"},{"$f":"IFERROR(__xludf.DUMMYFUNCTION(\"\"\"COMPUTED_VALUE\"\"\"),\"vnd.avistar+xml\")","v":"vnd.avistar+xml"},{"$f":"IFERROR(__xludf.DUMMYFUNCTION(\"\"\"COMPUTED_VALUE\"\"\"),\"application/vnd.avistar+xml\")","v":"application/vnd.avistar+xml"},{"$f":"IFERROR(__xludf.DUMMYFUNCTION(\"\"\"COMPUTED_VALUE\"\"\"),\"en\")","v":"en"}]
[{"$f":"IFERROR(__xludf.DUMMYFUNCTION(\"\"\"COMPUTED_VALUE\"\"\"),\"https://www.iana.org/assignments/media-types/application/vnd.balsamiq.bmml+xml\")","v":"https://www.iana.org/assignments/media-types/application/vnd.balsamiq.bmml+xml"},{"$f":"IFERROR(__xludf.DUMMYFUNCTION(\"\"\"COMPUTED_VALUE\"\"\"),\"vnd.balsamiq.bmml+xml\")","v":"vnd.balsamiq.bmml+xml"},{"$f":"IFERROR(__xludf.DUMMYFUNCTION(\"\"\"COMPUTED_VALUE\"\"\"),\"vnd.balsamiq.bmml+xml\")","v":"vnd.balsamiq.bmml+xml"},{"$f":"IFERROR(__xludf.DUMMYFUNCTION(\"\"\"COMPUTED_VALUE\"\"\"),\"application/vnd.balsamiq.bmml+xml\")","v":"application/vnd.balsamiq.bmml+xml"},{"$f":"IFERROR(__xludf.DUMMYFUNCTION(\"\"\"COMPUTED_VALUE\"\"\"),\"en\")","v":"en"}]
[{"$f":"IFERROR(__xludf.DUMMYFUNCTION(\"\"\"COMPUTED_VALUE\"\"\"),\"https://www.iana.org/assignments/media-types/application/vnd.banana-accounting\")","v":"https://www.iana.org/assignments/media-types/application/vnd.banana-accounting"},{"$f":"IFERROR(__xludf.DUMMYFUNCTION(\"\"\"COMPUTED_VALUE\"\"\"),\"vnd.banana-accounting\")","v":"vnd.banana-accounting"},{"$f":"IFERROR(__xludf.DUMMYFUNCTION(\"\"\"COMPUTED_VALUE\"\"\"),\"vnd.banana-accounting\")","v":"vnd.banana-accounting"},{"$f":"IFERROR(__xludf.DUMMYFUNCTION(\"\"\"COMPUTED_VALUE\"\"\"),\"application/vnd.banana-accounting\")","v":"application/vnd.banana-accounting"},{"$f":"IFERROR(__xludf.DUMMYFUNCTION(\"\"\"COMPUTED_VALUE\"\"\"),\"en\")","v":"en"}]
[{"$f":"IFERROR(__xludf.DUMMYFUNCTION(\"\"\"COMPUTED_VALUE\"\"\"),\"https://www.iana.org/assignments/media-types/application/vnd.bbf.usp.error\")","v":"https://www.iana.org/assignments/media-types/application/vnd.bbf.usp.error"},{"$f":"IFERROR(__xludf.DUMMYFUNCTION(\"\"\"COMPUTED_VALUE\"\"\"),\"vnd.bbf.usp.error\")","v":"vnd.bbf.usp.error"},{"$f":"IFERROR(__xludf.DUMMYFUNCTION(\"\"\"COMPUTED_VALUE\"\"\"),\"vnd.bbf.usp.error\")","v":"vnd.bbf.usp.error"},{"$f":"IFERROR(__xludf.DUMMYFUNCTION(\"\"\"COMPUTED_VALUE\"\"\"),\"application/vnd.bbf.usp.error\")","v":"application/vnd.bbf.usp.error"},{"$f":"IFERROR(__xludf.DUMMYFUNCTION(\"\"\"COMPUTED_VALUE\"\"\"),\"en\")","v":"en"}]
[{"$f":"IFERROR(__xludf.DUMMYFUNCTION(\"\"\"COMPUTED_VALUE\"\"\"),\"https://www.iana.org/assignments/media-types/application/vnd.bbf.usp.msg\")","v":"https://www.iana.org/assignments/media-types/application/vnd.bbf.usp.msg"},{"$f":"IFERROR(__xludf.DUMMYFUNCTION(\"\"\"COMPUTED_VALUE\"\"\"),\"vnd.bbf.usp.msg\")","v":"vnd.bbf.usp.msg"},{"$f":"IFERROR(__xludf.DUMMYFUNCTION(\"\"\"COMPUTED_VALUE\"\"\"),\"vnd.bbf.usp.msg\")","v":"vnd.bbf.usp.msg"},{"$f":"IFERROR(__xludf.DUMMYFUNCTION(\"\"\"COMPUTED_VALUE\"\"\"),\"application/vnd.bbf.usp.msg\")","v":"application/vnd.bbf.usp.msg"},{"$f":"IFERROR(__xludf.DUMMYFUNCTION(\"\"\"COMPUTED_VALUE\"\"\"),\"en\")","v":"en"}]
[{"$f":"IFERROR(__xludf.DUMMYFUNCTION(\"\"\"COMPUTED_VALUE\"\"\"),\"https://www.iana.org/assignments/media-types/application/vnd.bbf.usp.msg+json\")","v":"https://www.iana.org/assignments/media-types/application/vnd.bbf.usp.msg+json"},{"$f":"IFERROR(__xludf.DUMMYFUNCTION(\"\"\"COMPUTED_VALUE\"\"\"),\"vnd.bbf.usp.msg+json\")","v":"vnd.bbf.usp.msg+json"},{"$f":"IFERROR(__xludf.DUMMYFUNCTION(\"\"\"COMPUTED_VALUE\"\"\"),\"vnd.bbf.usp.msg+json\")","v":"vnd.bbf.usp.msg+json"},{"$f":"IFERROR(__xludf.DUMMYFUNCTION(\"\"\"COMPUTED_VALUE\"\"\"),\"application/vnd.bbf.usp.msg+json\")","v":"application/vnd.bbf.usp.msg+json"},{"$f":"IFERROR(__xludf.DUMMYFUNCTION(\"\"\"COMPUTED_VALUE\"\"\"),\"en\")","v":"en"}]
[{"$f":"IFERROR(__xludf.DUMMYFUNCTION(\"\"\"COMPUTED_VALUE\"\"\"),\"https://www.iana.org/assignments/media-types/application/vnd.balsamiq.bmpr\")","v":"https://www.iana.org/assignments/media-types/application/vnd.balsamiq.bmpr"},{"$f":"IFERROR(__xludf.DUMMYFUNCTION(\"\"\"COMPUTED_VALUE\"\"\"),\"vnd.balsamiq.bmpr\")","v":"vnd.balsamiq.bmpr"},{"$f":"IFERROR(__xludf.DUMMYFUNCTION(\"\"\"COMPUTED_VALUE\"\"\"),\"vnd.balsamiq.bmpr\")","v":"vnd.balsamiq.bmpr"},{"$f":"IFERROR(__xludf.DUMMYFUNCTION(\"\"\"COMPUTED_VALUE\"\"\"),\"application/vnd.balsamiq.bmpr\")","v":"application/vnd.balsamiq.bmpr"},{"$f":"IFERROR(__xludf.DUMMYFUNCTION(\"\"\"COMPUTED_VALUE\"\"\"),\"en\")","v":"en"}]
[{"$f":"IFERROR(__xludf.DUMMYFUNCTION(\"\"\"COMPUTED_VALUE\"\"\"),\"https://www.iana.org/assignments/media-types/application/vnd.bekitzur-stech+json\")","v":"https://www.iana.org/assignments/media-types/application/vnd.bekitzur-stech+json"},{"$f":"IFERROR(__xludf.DUMMYFUNCTION(\"\"\"COMPUTED_VALUE\"\"\"),\"vnd.bekitzur-stech+json\")","v":"vnd.bekitzur-stech+json"},{"$f":"IFERROR(__xludf.DUMMYFUNCTION(\"\"\"COMPUTED_VALUE\"\"\"),\"vnd.bekitzur-stech+json\")","v":"vnd.bekitzur-stech+json"},{"$f":"IFERROR(__xludf.DUMMYFUNCTION(\"\"\"COMPUTED_VALUE\"\"\"),\"application/vnd.bekitzur-stech+json\")","v":"application/vnd.bekitzur-stech+json"},{"$f":"IFERROR(__xludf.DUMMYFUNCTION(\"\"\"COMPUTED_VALUE\"\"\"),\"en\")","v":"en"}]
[{"$f":"IFERROR(__xludf.DUMMYFUNCTION(\"\"\"COMPUTED_VALUE\"\"\"),\"https://www.iana.org/assignments/media-types/application/vnd.belightsoft.lhzd+zip\")","v":"https://www.iana.org/assignments/media-types/application/vnd.belightsoft.lhzd+zip"},{"$f":"IFERROR(__xludf.DUMMYFUNCTION(\"\"\"COMPUTED_VALUE\"\"\"),\"vnd.belightsoft.lhzd+zip\")","v":"vnd.belightsoft.lhzd+zip"},{"$f":"IFERROR(__xludf.DUMMYFUNCTION(\"\"\"COMPUTED_VALUE\"\"\"),\"vnd.belightsoft.lhzd+zip\")","v":"vnd.belightsoft.lhzd+zip"},{"$f":"IFERROR(__xludf.DUMMYFUNCTION(\"\"\"COMPUTED_VALUE\"\"\"),\"application/vnd.belightsoft.lhzd+zip\")","v":"application/vnd.belightsoft.lhzd+zip"},{"$f":"IFERROR(__xludf.DUMMYFUNCTION(\"\"\"COMPUTED_VALUE\"\"\"),\"en\")","v":"en"}]
[{"$f":"IFERROR(__xludf.DUMMYFUNCTION(\"\"\"COMPUTED_VALUE\"\"\"),\"https://www.iana.org/assignments/media-types/application/vnd.belightsoft.lhzl+zip\")","v":"https://www.iana.org/assignments/media-types/application/vnd.belightsoft.lhzl+zip"},{"$f":"IFERROR(__xludf.DUMMYFUNCTION(\"\"\"COMPUTED_VALUE\"\"\"),\"vnd.belightsoft.lhzl+zip\")","v":"vnd.belightsoft.lhzl+zip"},{"$f":"IFERROR(__xludf.DUMMYFUNCTION(\"\"\"COMPUTED_VALUE\"\"\"),\"vnd.belightsoft.lhzl+zip\")","v":"vnd.belightsoft.lhzl+zip"},{"$f":"IFERROR(__xludf.DUMMYFUNCTION(\"\"\"COMPUTED_VALUE\"\"\"),\"application/vnd.belightsoft.lhzl+zip\")","v":"application/vnd.belightsoft.lhzl+zip"},{"$f":"IFERROR(__xludf.DUMMYFUNCTION(\"\"\"COMPUTED_VALUE\"\"\"),\"en\")","v":"en"}]
[{"$f":"IFERROR(__xludf.DUMMYFUNCTION(\"\"\"COMPUTED_VALUE\"\"\"),\"https://www.iana.org/assignments/media-types/application/vnd.bint.med-content\")","v":"https://www.iana.org/assignments/media-types/application/vnd.bint.med-content"},{"$f":"IFERROR(__xludf.DUMMYFUNCTION(\"\"\"COMPUTED_VALUE\"\"\"),\"vnd.bint.med-content\")","v":"vnd.bint.med-content"},{"$f":"IFERROR(__xludf.DUMMYFUNCTION(\"\"\"COMPUTED_VALUE\"\"\"),\"vnd.bint.med-content\")","v":"vnd.bint.med-content"},{"$f":"IFERROR(__xludf.DUMMYFUNCTION(\"\"\"COMPUTED_VALUE\"\"\"),\"application/vnd.bint.med-content\")","v":"application/vnd.bint.med-content"},{"$f":"IFERROR(__xludf.DUMMYFUNCTION(\"\"\"COMPUTED_VALUE\"\"\"),\"en\")","v":"en"}]
[{"$f":"IFERROR(__xludf.DUMMYFUNCTION(\"\"\"COMPUTED_VALUE\"\"\"),\"https://www.iana.org/assignments/media-types/application/vnd.biopax.rdf+xml\")","v":"https://www.iana.org/assignments/media-types/application/vnd.biopax.rdf+xml"},{"$f":"IFERROR(__xludf.DUMMYFUNCTION(\"\"\"COMPUTED_VALUE\"\"\"),\"vnd.biopax.rdf+xml\")","v":"vnd.biopax.rdf+xml"},{"$f":"IFERROR(__xludf.DUMMYFUNCTION(\"\"\"COMPUTED_VALUE\"\"\"),\"vnd.biopax.rdf+xml\")","v":"vnd.biopax.rdf+xml"},{"$f":"IFERROR(__xludf.DUMMYFUNCTION(\"\"\"COMPUTED_VALUE\"\"\"),\"application/vnd.biopax.rdf+xml\")","v":"application/vnd.biopax.rdf+xml"},{"$f":"IFERROR(__xludf.DUMMYFUNCTION(\"\"\"COMPUTED_VALUE\"\"\"),\"en\")","v":"en"}]
[{"$f":"IFERROR(__xludf.DUMMYFUNCTION(\"\"\"COMPUTED_VALUE\"\"\"),\"https://www.iana.org/assignments/media-types/application/vnd.blink-idb-value-wrapper\")","v":"https://www.iana.org/assignments/media-types/application/vnd.blink-idb-value-wrapper"},{"$f":"IFERROR(__xludf.DUMMYFUNCTION(\"\"\"COMPUTED_VALUE\"\"\"),\"vnd.blink-idb-value-wrapper\")","v":"vnd.blink-idb-value-wrapper"},{"$f":"IFERROR(__xludf.DUMMYFUNCTION(\"\"\"COMPUTED_VALUE\"\"\"),\"vnd.blink-idb-value-wrapper\")","v":"vnd.blink-idb-value-wrapper"},{"$f":"IFERROR(__xludf.DUMMYFUNCTION(\"\"\"COMPUTED_VALUE\"\"\"),\"application/vnd.blink-idb-value-wrapper\")","v":"application/vnd.blink-idb-value-wrapper"},{"$f":"IFERROR(__xludf.DUMMYFUNCTION(\"\"\"COMPUTED_VALUE\"\"\"),\"en\")","v":"en"}]
[{"$f":"IFERROR(__xludf.DUMMYFUNCTION(\"\"\"COMPUTED_VALUE\"\"\"),\"https://www.iana.org/assignments/media-types/application/vnd.blueice.multipass\")","v":"https://www.iana.org/assignments/media-types/application/vnd.blueice.multipass"},{"$f":"IFERROR(__xludf.DUMMYFUNCTION(\"\"\"COMPUTED_VALUE\"\"\"),\"vnd.blueice.multipass\")","v":"vnd.blueice.multipass"},{"$f":"IFERROR(__xludf.DUMMYFUNCTION(\"\"\"COMPUTED_VALUE\"\"\"),\"vnd.blueice.multipass\")","v":"vnd.blueice.multipass"},{"$f":"IFERROR(__xludf.DUMMYFUNCTION(\"\"\"COMPUTED_VALUE\"\"\"),\"application/vnd.blueice.multipass\")","v":"application/vnd.blueice.multipass"},{"$f":"IFERROR(__xludf.DUMMYFUNCTION(\"\"\"COMPUTED_VALUE\"\"\"),\"en\")","v":"en"}]
[{"$f":"IFERROR(__xludf.DUMMYFUNCTION(\"\"\"COMPUTED_VALUE\"\"\"),\"https://www.iana.org/assignments/media-types/application/vnd.bluetooth.ep.oob\")","v":"https://www.iana.org/assignments/media-types/application/vnd.bluetooth.ep.oob"},{"$f":"IFERROR(__xludf.DUMMYFUNCTION(\"\"\"COMPUTED_VALUE\"\"\"),\"vnd.bluetooth.ep.oob\")","v":"vnd.bluetooth.ep.oob"},{"$f":"IFERROR(__xludf.DUMMYFUNCTION(\"\"\"COMPUTED_VALUE\"\"\"),\"vnd.bluetooth.ep.oob\")","v":"vnd.bluetooth.ep.oob"},{"$f":"IFERROR(__xludf.DUMMYFUNCTION(\"\"\"COMPUTED_VALUE\"\"\"),\"application/vnd.bluetooth.ep.oob\")","v":"application/vnd.bluetooth.ep.oob"},{"$f":"IFERROR(__xludf.DUMMYFUNCTION(\"\"\"COMPUTED_VALUE\"\"\"),\"en\")","v":"en"}]
[{"$f":"IFERROR(__xludf.DUMMYFUNCTION(\"\"\"COMPUTED_VALUE\"\"\"),\"https://www.iana.org/assignments/media-types/application/vnd.bluetooth.le.oob\")","v":"https://www.iana.org/assignments/media-types/application/vnd.bluetooth.le.oob"},{"$f":"IFERROR(__xludf.DUMMYFUNCTION(\"\"\"COMPUTED_VALUE\"\"\"),\"vnd.bluetooth.le.oob\")","v":"vnd.bluetooth.le.oob"},{"$f":"IFERROR(__xludf.DUMMYFUNCTION(\"\"\"COMPUTED_VALUE\"\"\"),\"vnd.bluetooth.le.oob\")","v":"vnd.bluetooth.le.oob"},{"$f":"IFERROR(__xludf.DUMMYFUNCTION(\"\"\"COMPUTED_VALUE\"\"\"),\"application/vnd.bluetooth.le.oob\")","v":"application/vnd.bluetooth.le.oob"},{"$f":"IFERROR(__xludf.DUMMYFUNCTION(\"\"\"COMPUTED_VALUE\"\"\"),\"en\")","v":"en"}]
[{"$f":"IFERROR(__xludf.DUMMYFUNCTION(\"\"\"COMPUTED_VALUE\"\"\"),\"https://www.iana.org/assignments/media-types/application/vnd.bmi\")","v":"https://www.iana.org/assignments/media-types/application/vnd.bmi"},{"$f":"IFERROR(__xludf.DUMMYFUNCTION(\"\"\"COMPUTED_VALUE\"\"\"),\"vnd.bmi\")","v":"vnd.bmi"},{"$f":"IFERROR(__xludf.DUMMYFUNCTION(\"\"\"COMPUTED_VALUE\"\"\"),\"vnd.bmi\")","v":"vnd.bmi"},{"$f":"IFERROR(__xludf.DUMMYFUNCTION(\"\"\"COMPUTED_VALUE\"\"\"),\"application/vnd.bmi\")","v":"application/vnd.bmi"},{"$f":"IFERROR(__xludf.DUMMYFUNCTION(\"\"\"COMPUTED_VALUE\"\"\"),\"en\")","v":"en"}]
[{"$f":"IFERROR(__xludf.DUMMYFUNCTION(\"\"\"COMPUTED_VALUE\"\"\"),\"https://www.iana.org/assignments/media-types/application/vnd.bpf\")","v":"https://www.iana.org/assignments/media-types/application/vnd.bpf"},{"$f":"IFERROR(__xludf.DUMMYFUNCTION(\"\"\"COMPUTED_VALUE\"\"\"),\"vnd.bpf\")","v":"vnd.bpf"},{"$f":"IFERROR(__xludf.DUMMYFUNCTION(\"\"\"COMPUTED_VALUE\"\"\"),\"vnd.bpf\")","v":"vnd.bpf"},{"$f":"IFERROR(__xludf.DUMMYFUNCTION(\"\"\"COMPUTED_VALUE\"\"\"),\"application/vnd.bpf\")","v":"application/vnd.bpf"},{"$f":"IFERROR(__xludf.DUMMYFUNCTION(\"\"\"COMPUTED_VALUE\"\"\"),\"en\")","v":"en"}]
[{"$f":"IFERROR(__xludf.DUMMYFUNCTION(\"\"\"COMPUTED_VALUE\"\"\"),\"https://www.iana.org/assignments/media-types/application/vnd.bpf3\")","v":"https://www.iana.org/assignments/media-types/application/vnd.bpf3"},{"$f":"IFERROR(__xludf.DUMMYFUNCTION(\"\"\"COMPUTED_VALUE\"\"\"),\"vnd.bpf3\")","v":"vnd.bpf3"},{"$f":"IFERROR(__xludf.DUMMYFUNCTION(\"\"\"COMPUTED_VALUE\"\"\"),\"vnd.bpf3\")","v":"vnd.bpf3"},{"$f":"IFERROR(__xludf.DUMMYFUNCTION(\"\"\"COMPUTED_VALUE\"\"\"),\"application/vnd.bpf3\")","v":"application/vnd.bpf3"},{"$f":"IFERROR(__xludf.DUMMYFUNCTION(\"\"\"COMPUTED_VALUE\"\"\"),\"en\")","v":"en"}]
[{"$f":"IFERROR(__xludf.DUMMYFUNCTION(\"\"\"COMPUTED_VALUE\"\"\"),\"https://www.iana.org/assignments/media-types/application/vnd.businessobjects\")","v":"https://www.iana.org/assignments/media-types/application/vnd.businessobjects"},{"$f":"IFERROR(__xludf.DUMMYFUNCTION(\"\"\"COMPUTED_VALUE\"\"\"),\"vnd.businessobjects\")","v":"vnd.businessobjects"},{"$f":"IFERROR(__xludf.DUMMYFUNCTION(\"\"\"COMPUTED_VALUE\"\"\"),\"vnd.businessobjects\")","v":"vnd.businessobjects"},{"$f":"IFERROR(__xludf.DUMMYFUNCTION(\"\"\"COMPUTED_VALUE\"\"\"),\"application/vnd.businessobjects\")","v":"application/vnd.businessobjects"},{"$f":"IFERROR(__xludf.DUMMYFUNCTION(\"\"\"COMPUTED_VALUE\"\"\"),\"en\")","v":"en"}]
[{"$f":"IFERROR(__xludf.DUMMYFUNCTION(\"\"\"COMPUTED_VALUE\"\"\"),\"https://www.iana.org/assignments/media-types/application/vnd.byu.uapi+json\")","v":"https://www.iana.org/assignments/media-types/application/vnd.byu.uapi+json"},{"$f":"IFERROR(__xludf.DUMMYFUNCTION(\"\"\"COMPUTED_VALUE\"\"\"),\"vnd.byu.uapi+json\")","v":"vnd.byu.uapi+json"},{"$f":"IFERROR(__xludf.DUMMYFUNCTION(\"\"\"COMPUTED_VALUE\"\"\"),\"vnd.byu.uapi+json\")","v":"vnd.byu.uapi+json"},{"$f":"IFERROR(__xludf.DUMMYFUNCTION(\"\"\"COMPUTED_VALUE\"\"\"),\"application/vnd.byu.uapi+json\")","v":"application/vnd.byu.uapi+json"},{"$f":"IFERROR(__xludf.DUMMYFUNCTION(\"\"\"COMPUTED_VALUE\"\"\"),\"en\")","v":"en"}]
[{"$f":"IFERROR(__xludf.DUMMYFUNCTION(\"\"\"COMPUTED_VALUE\"\"\"),\"https://www.iana.org/assignments/media-types/application/vnd.cab-jscript\")","v":"https://www.iana.org/assignments/media-types/application/vnd.cab-jscript"},{"$f":"IFERROR(__xludf.DUMMYFUNCTION(\"\"\"COMPUTED_VALUE\"\"\"),\"vnd.cab-jscript\")","v":"vnd.cab-jscript"},{"$f":"IFERROR(__xludf.DUMMYFUNCTION(\"\"\"COMPUTED_VALUE\"\"\"),\"vnd.cab-jscript\")","v":"vnd.cab-jscript"},{"$f":"IFERROR(__xludf.DUMMYFUNCTION(\"\"\"COMPUTED_VALUE\"\"\"),\"application/vnd.cab-jscript\")","v":"application/vnd.cab-jscript"},{"$f":"IFERROR(__xludf.DUMMYFUNCTION(\"\"\"COMPUTED_VALUE\"\"\"),\"en\")","v":"en"}]
[{"$f":"IFERROR(__xludf.DUMMYFUNCTION(\"\"\"COMPUTED_VALUE\"\"\"),\"https://www.iana.org/assignments/media-types/application/vnd.canon-cpdl\")","v":"https://www.iana.org/assignments/media-types/application/vnd.canon-cpdl"},{"$f":"IFERROR(__xludf.DUMMYFUNCTION(\"\"\"COMPUTED_VALUE\"\"\"),\"vnd.canon-cpdl\")","v":"vnd.canon-cpdl"},{"$f":"IFERROR(__xludf.DUMMYFUNCTION(\"\"\"COMPUTED_VALUE\"\"\"),\"vnd.canon-cpdl\")","v":"vnd.canon-cpdl"},{"$f":"IFERROR(__xludf.DUMMYFUNCTION(\"\"\"COMPUTED_VALUE\"\"\"),\"application/vnd.canon-cpdl\")","v":"application/vnd.canon-cpdl"},{"$f":"IFERROR(__xludf.DUMMYFUNCTION(\"\"\"COMPUTED_VALUE\"\"\"),\"en\")","v":"en"}]
[{"$f":"IFERROR(__xludf.DUMMYFUNCTION(\"\"\"COMPUTED_VALUE\"\"\"),\"https://www.iana.org/assignments/media-types/application/vnd.canon-lips\")","v":"https://www.iana.org/assignments/media-types/application/vnd.canon-lips"},{"$f":"IFERROR(__xludf.DUMMYFUNCTION(\"\"\"COMPUTED_VALUE\"\"\"),\"vnd.canon-lips\")","v":"vnd.canon-lips"},{"$f":"IFERROR(__xludf.DUMMYFUNCTION(\"\"\"COMPUTED_VALUE\"\"\"),\"vnd.canon-lips\")","v":"vnd.canon-lips"},{"$f":"IFERROR(__xludf.DUMMYFUNCTION(\"\"\"COMPUTED_VALUE\"\"\"),\"application/vnd.canon-lips\")","v":"application/vnd.canon-lips"},{"$f":"IFERROR(__xludf.DUMMYFUNCTION(\"\"\"COMPUTED_VALUE\"\"\"),\"en\")","v":"en"}]
[{"$f":"IFERROR(__xludf.DUMMYFUNCTION(\"\"\"COMPUTED_VALUE\"\"\"),\"https://www.iana.org/assignments/media-types/application/vnd.capasystems-pg+json\")","v":"https://www.iana.org/assignments/media-types/application/vnd.capasystems-pg+json"},{"$f":"IFERROR(__xludf.DUMMYFUNCTION(\"\"\"COMPUTED_VALUE\"\"\"),\"vnd.capasystems-pg+json\")","v":"vnd.capasystems-pg+json"},{"$f":"IFERROR(__xludf.DUMMYFUNCTION(\"\"\"COMPUTED_VALUE\"\"\"),\"vnd.capasystems-pg+json\")","v":"vnd.capasystems-pg+json"},{"$f":"IFERROR(__xludf.DUMMYFUNCTION(\"\"\"COMPUTED_VALUE\"\"\"),\"application/vnd.capasystems-pg+json\")","v":"application/vnd.capasystems-pg+json"},{"$f":"IFERROR(__xludf.DUMMYFUNCTION(\"\"\"COMPUTED_VALUE\"\"\"),\"en\")","v":"en"}]
[{"$f":"IFERROR(__xludf.DUMMYFUNCTION(\"\"\"COMPUTED_VALUE\"\"\"),\"https://www.iana.org/assignments/media-types/application/vnd.cendio.thinlinc.clientconf\")","v":"https://www.iana.org/assignments/media-types/application/vnd.cendio.thinlinc.clientconf"},{"$f":"IFERROR(__xludf.DUMMYFUNCTION(\"\"\"COMPUTED_VALUE\"\"\"),\"vnd.cendio.thinlinc.clientconf\")","v":"vnd.cendio.thinlinc.clientconf"},{"$f":"IFERROR(__xludf.DUMMYFUNCTION(\"\"\"COMPUTED_VALUE\"\"\"),\"vnd.cendio.thinlinc.clientconf\")","v":"vnd.cendio.thinlinc.clientconf"},{"$f":"IFERROR(__xludf.DUMMYFUNCTION(\"\"\"COMPUTED_VALUE\"\"\"),\"application/vnd.cendio.thinlinc.clientconf\")","v":"application/vnd.cendio.thinlinc.clientconf"},{"$f":"IFERROR(__xludf.DUMMYFUNCTION(\"\"\"COMPUTED_VALUE\"\"\"),\"en\")","v":"en"}]
[{"$f":"IFERROR(__xludf.DUMMYFUNCTION(\"\"\"COMPUTED_VALUE\"\"\"),\"https://www.iana.org/assignments/media-types/application/vnd.century-systems.tcp_stream\")","v":"https://www.iana.org/assignments/media-types/application/vnd.century-systems.tcp_stream"},{"$f":"IFERROR(__xludf.DUMMYFUNCTION(\"\"\"COMPUTED_VALUE\"\"\"),\"vnd.century-systems.tcp_stream\")","v":"vnd.century-systems.tcp_stream"},{"$f":"IFERROR(__xludf.DUMMYFUNCTION(\"\"\"COMPUTED_VALUE\"\"\"),\"vnd.century-systems.tcp_stream\")","v":"vnd.century-systems.tcp_stream"},{"$f":"IFERROR(__xludf.DUMMYFUNCTION(\"\"\"COMPUTED_VALUE\"\"\"),\"application/vnd.century-systems.tcp_stream\")","v":"application/vnd.century-systems.tcp_stream"},{"$f":"IFERROR(__xludf.DUMMYFUNCTION(\"\"\"COMPUTED_VALUE\"\"\"),\"en\")","v":"en"}]
[{"$f":"IFERROR(__xludf.DUMMYFUNCTION(\"\"\"COMPUTED_VALUE\"\"\"),\"https://www.iana.org/assignments/media-types/application/vnd.chemdraw+xml\")","v":"https://www.iana.org/assignments/media-types/application/vnd.chemdraw+xml"},{"$f":"IFERROR(__xludf.DUMMYFUNCTION(\"\"\"COMPUTED_VALUE\"\"\"),\"vnd.chemdraw+xml\")","v":"vnd.chemdraw+xml"},{"$f":"IFERROR(__xludf.DUMMYFUNCTION(\"\"\"COMPUTED_VALUE\"\"\"),\"vnd.chemdraw+xml\")","v":"vnd.chemdraw+xml"},{"$f":"IFERROR(__xludf.DUMMYFUNCTION(\"\"\"COMPUTED_VALUE\"\"\"),\"application/vnd.chemdraw+xml\")","v":"application/vnd.chemdraw+xml"},{"$f":"IFERROR(__xludf.DUMMYFUNCTION(\"\"\"COMPUTED_VALUE\"\"\"),\"en\")","v":"en"}]
[{"$f":"IFERROR(__xludf.DUMMYFUNCTION(\"\"\"COMPUTED_VALUE\"\"\"),\"https://www.iana.org/assignments/media-types/application/vnd.chess-pgn\")","v":"https://www.iana.org/assignments/media-types/application/vnd.chess-pgn"},{"$f":"IFERROR(__xludf.DUMMYFUNCTION(\"\"\"COMPUTED_VALUE\"\"\"),\"vnd.chess-pgn\")","v":"vnd.chess-pgn"},{"$f":"IFERROR(__xludf.DUMMYFUNCTION(\"\"\"COMPUTED_VALUE\"\"\"),\"vnd.chess-pgn\")","v":"vnd.chess-pgn"},{"$f":"IFERROR(__xludf.DUMMYFUNCTION(\"\"\"COMPUTED_VALUE\"\"\"),\"application/vnd.chess-pgn\")","v":"application/vnd.chess-pgn"},{"$f":"IFERROR(__xludf.DUMMYFUNCTION(\"\"\"COMPUTED_VALUE\"\"\"),\"en\")","v":"en"}]
[{"$f":"IFERROR(__xludf.DUMMYFUNCTION(\"\"\"COMPUTED_VALUE\"\"\"),\"https://www.iana.org/assignments/media-types/application/vnd.chipnuts.karaoke-mmd\")","v":"https://www.iana.org/assignments/media-types/application/vnd.chipnuts.karaoke-mmd"},{"$f":"IFERROR(__xludf.DUMMYFUNCTION(\"\"\"COMPUTED_VALUE\"\"\"),\"vnd.chipnuts.karaoke-mmd\")","v":"vnd.chipnuts.karaoke-mmd"},{"$f":"IFERROR(__xludf.DUMMYFUNCTION(\"\"\"COMPUTED_VALUE\"\"\"),\"vnd.chipnuts.karaoke-mmd\")","v":"vnd.chipnuts.karaoke-mmd"},{"$f":"IFERROR(__xludf.DUMMYFUNCTION(\"\"\"COMPUTED_VALUE\"\"\"),\"application/vnd.chipnuts.karaoke-mmd\")","v":"application/vnd.chipnuts.karaoke-mmd"},{"$f":"IFERROR(__xludf.DUMMYFUNCTION(\"\"\"COMPUTED_VALUE\"\"\"),\"en\")","v":"en"}]
[{"$f":"IFERROR(__xludf.DUMMYFUNCTION(\"\"\"COMPUTED_VALUE\"\"\"),\"https://www.iana.org/assignments/media-types/application/vnd.ciedi\")","v":"https://www.iana.org/assignments/media-types/application/vnd.ciedi"},{"$f":"IFERROR(__xludf.DUMMYFUNCTION(\"\"\"COMPUTED_VALUE\"\"\"),\"vnd.ciedi\")","v":"vnd.ciedi"},{"$f":"IFERROR(__xludf.DUMMYFUNCTION(\"\"\"COMPUTED_VALUE\"\"\"),\"vnd.ciedi\")","v":"vnd.ciedi"},{"$f":"IFERROR(__xludf.DUMMYFUNCTION(\"\"\"COMPUTED_VALUE\"\"\"),\"application/vnd.ciedi\")","v":"application/vnd.ciedi"},{"$f":"IFERROR(__xludf.DUMMYFUNCTION(\"\"\"COMPUTED_VALUE\"\"\"),\"en\")","v":"en"}]
[{"$f":"IFERROR(__xludf.DUMMYFUNCTION(\"\"\"COMPUTED_VALUE\"\"\"),\"https://www.iana.org/assignments/media-types/application/vnd.cinderella\")","v":"https://www.iana.org/assignments/media-types/application/vnd.cinderella"},{"$f":"IFERROR(__xludf.DUMMYFUNCTION(\"\"\"COMPUTED_VALUE\"\"\"),\"vnd.cinderella\")","v":"vnd.cinderella"},{"$f":"IFERROR(__xludf.DUMMYFUNCTION(\"\"\"COMPUTED_VALUE\"\"\"),\"vnd.cinderella\")","v":"vnd.cinderella"},{"$f":"IFERROR(__xludf.DUMMYFUNCTION(\"\"\"COMPUTED_VALUE\"\"\"),\"application/vnd.cinderella\")","v":"application/vnd.cinderella"},{"$f":"IFERROR(__xludf.DUMMYFUNCTION(\"\"\"COMPUTED_VALUE\"\"\"),\"en\")","v":"en"}]
[{"$f":"IFERROR(__xludf.DUMMYFUNCTION(\"\"\"COMPUTED_VALUE\"\"\"),\"https://www.iana.org/assignments/media-types/application/vnd.cirpack.isdn-ext\")","v":"https://www.iana.org/assignments/media-types/application/vnd.cirpack.isdn-ext"},{"$f":"IFERROR(__xludf.DUMMYFUNCTION(\"\"\"COMPUTED_VALUE\"\"\"),\"vnd.cirpack.isdn-ext\")","v":"vnd.cirpack.isdn-ext"},{"$f":"IFERROR(__xludf.DUMMYFUNCTION(\"\"\"COMPUTED_VALUE\"\"\"),\"vnd.cirpack.isdn-ext\")","v":"vnd.cirpack.isdn-ext"},{"$f":"IFERROR(__xludf.DUMMYFUNCTION(\"\"\"COMPUTED_VALUE\"\"\"),\"application/vnd.cirpack.isdn-ext\")","v":"application/vnd.cirpack.isdn-ext"},{"$f":"IFERROR(__xludf.DUMMYFUNCTION(\"\"\"COMPUTED_VALUE\"\"\"),\"en\")","v":"en"}]
[{"$f":"IFERROR(__xludf.DUMMYFUNCTION(\"\"\"COMPUTED_VALUE\"\"\"),\"https://www.iana.org/assignments/media-types/application/vnd.citationstyles.style+xml\")","v":"https://www.iana.org/assignments/media-types/application/vnd.citationstyles.style+xml"},{"$f":"IFERROR(__xludf.DUMMYFUNCTION(\"\"\"COMPUTED_VALUE\"\"\"),\"vnd.citationstyles.style+xml\")","v":"vnd.citationstyles.style+xml"},{"$f":"IFERROR(__xludf.DUMMYFUNCTION(\"\"\"COMPUTED_VALUE\"\"\"),\"vnd.citationstyles.style+xml\")","v":"vnd.citationstyles.style+xml"},{"$f":"IFERROR(__xludf.DUMMYFUNCTION(\"\"\"COMPUTED_VALUE\"\"\"),\"application/vnd.citationstyles.style+xml\")","v":"application/vnd.citationstyles.style+xml"},{"$f":"IFERROR(__xludf.DUMMYFUNCTION(\"\"\"COMPUTED_VALUE\"\"\"),\"en\")","v":"en"}]
[{"$f":"IFERROR(__xludf.DUMMYFUNCTION(\"\"\"COMPUTED_VALUE\"\"\"),\"https://www.iana.org/assignments/media-types/application/vnd.claymore\")","v":"https://www.iana.org/assignments/media-types/application/vnd.claymore"},{"$f":"IFERROR(__xludf.DUMMYFUNCTION(\"\"\"COMPUTED_VALUE\"\"\"),\"vnd.claymore\")","v":"vnd.claymore"},{"$f":"IFERROR(__xludf.DUMMYFUNCTION(\"\"\"COMPUTED_VALUE\"\"\"),\"vnd.claymore\")","v":"vnd.claymore"},{"$f":"IFERROR(__xludf.DUMMYFUNCTION(\"\"\"COMPUTED_VALUE\"\"\"),\"application/vnd.claymore\")","v":"application/vnd.claymore"},{"$f":"IFERROR(__xludf.DUMMYFUNCTION(\"\"\"COMPUTED_VALUE\"\"\"),\"en\")","v":"en"}]
[{"$f":"IFERROR(__xludf.DUMMYFUNCTION(\"\"\"COMPUTED_VALUE\"\"\"),\"https://www.iana.org/assignments/media-types/application/vnd.cloanto.rp9\")","v":"https://www.iana.org/assignments/media-types/application/vnd.cloanto.rp9"},{"$f":"IFERROR(__xludf.DUMMYFUNCTION(\"\"\"COMPUTED_VALUE\"\"\"),\"vnd.cloanto.rp9\")","v":"vnd.cloanto.rp9"},{"$f":"IFERROR(__xludf.DUMMYFUNCTION(\"\"\"COMPUTED_VALUE\"\"\"),\"vnd.cloanto.rp9\")","v":"vnd.cloanto.rp9"},{"$f":"IFERROR(__xludf.DUMMYFUNCTION(\"\"\"COMPUTED_VALUE\"\"\"),\"application/vnd.cloanto.rp9\")","v":"application/vnd.cloanto.rp9"},{"$f":"IFERROR(__xludf.DUMMYFUNCTION(\"\"\"COMPUTED_VALUE\"\"\"),\"en\")","v":"en"}]
[{"$f":"IFERROR(__xludf.DUMMYFUNCTION(\"\"\"COMPUTED_VALUE\"\"\"),\"https://www.iana.org/assignments/media-types/application/vnd.clonk.c4group\")","v":"https://www.iana.org/assignments/media-types/application/vnd.clonk.c4group"},{"$f":"IFERROR(__xludf.DUMMYFUNCTION(\"\"\"COMPUTED_VALUE\"\"\"),\"vnd.clonk.c4group\")","v":"vnd.clonk.c4group"},{"$f":"IFERROR(__xludf.DUMMYFUNCTION(\"\"\"COMPUTED_VALUE\"\"\"),\"vnd.clonk.c4group\")","v":"vnd.clonk.c4group"},{"$f":"IFERROR(__xludf.DUMMYFUNCTION(\"\"\"COMPUTED_VALUE\"\"\"),\"application/vnd.clonk.c4group\")","v":"application/vnd.clonk.c4group"},{"$f":"IFERROR(__xludf.DUMMYFUNCTION(\"\"\"COMPUTED_VALUE\"\"\"),\"en\")","v":"en"}]
[{"$f":"IFERROR(__xludf.DUMMYFUNCTION(\"\"\"COMPUTED_VALUE\"\"\"),\"https://www.iana.org/assignments/media-types/application/vnd.cluetrust.cartomobile-config\")","v":"https://www.iana.org/assignments/media-types/application/vnd.cluetrust.cartomobile-config"},{"$f":"IFERROR(__xludf.DUMMYFUNCTION(\"\"\"COMPUTED_VALUE\"\"\"),\"vnd.cluetrust.cartomobile-config\")","v":"vnd.cluetrust.cartomobile-config"},{"$f":"IFERROR(__xludf.DUMMYFUNCTION(\"\"\"COMPUTED_VALUE\"\"\"),\"vnd.cluetrust.cartomobile-config\")","v":"vnd.cluetrust.cartomobile-config"},{"$f":"IFERROR(__xludf.DUMMYFUNCTION(\"\"\"COMPUTED_VALUE\"\"\"),\"application/vnd.cluetrust.cartomobile-config\")","v":"application/vnd.cluetrust.cartomobile-config"},{"$f":"IFERROR(__xludf.DUMMYFUNCTION(\"\"\"COMPUTED_VALUE\"\"\"),\"en\")","v":"en"}]
[{"$f":"IFERROR(__xludf.DUMMYFUNCTION(\"\"\"COMPUTED_VALUE\"\"\"),\"https://www.iana.org/assignments/media-types/application/vnd.cluetrust.cartomobile-config-pkg\")","v":"https://www.iana.org/assignments/media-types/application/vnd.cluetrust.cartomobile-config-pkg"},{"$f":"IFERROR(__xludf.DUMMYFUNCTION(\"\"\"COMPUTED_VALUE\"\"\"),\"vnd.cluetrust.cartomobile-config-pkg\")","v":"vnd.cluetrust.cartomobile-config-pkg"},{"$f":"IFERROR(__xludf.DUMMYFUNCTION(\"\"\"COMPUTED_VALUE\"\"\"),\"vnd.cluetrust.cartomobile-config-pkg\")","v":"vnd.cluetrust.cartomobile-config-pkg"},{"$f":"IFERROR(__xludf.DUMMYFUNCTION(\"\"\"COMPUTED_VALUE\"\"\"),\"application/vnd.cluetrust.cartomobile-config-pkg\")","v":"application/vnd.cluetrust.cartomobile-config-pkg"},{"$f":"IFERROR(__xludf.DUMMYFUNCTION(\"\"\"COMPUTED_VALUE\"\"\"),\"en\")","v":"en"}]
[{"$f":"IFERROR(__xludf.DUMMYFUNCTION(\"\"\"COMPUTED_VALUE\"\"\"),\"https://www.iana.org/assignments/media-types/application/vnd.cncf.helm.chart.content.v1.tar+gzip\")","v":"https://www.iana.org/assignments/media-types/application/vnd.cncf.helm.chart.content.v1.tar+gzip"},{"$f":"IFERROR(__xludf.DUMMYFUNCTION(\"\"\"COMPUTED_VALUE\"\"\"),\"vnd.cncf.helm.chart.content.v1.tar+gzip\")","v":"vnd.cncf.helm.chart.content.v1.tar+gzip"},{"$f":"IFERROR(__xludf.DUMMYFUNCTION(\"\"\"COMPUTED_VALUE\"\"\"),\"vnd.cncf.helm.chart.content.v1.tar+gzip\")","v":"vnd.cncf.helm.chart.content.v1.tar+gzip"},{"$f":"IFERROR(__xludf.DUMMYFUNCTION(\"\"\"COMPUTED_VALUE\"\"\"),\"application/vnd.cncf.helm.chart.content.v1.tar+gzip\")","v":"application/vnd.cncf.helm.chart.content.v1.tar+gzip"},{"$f":"IFERROR(__xludf.DUMMYFUNCTION(\"\"\"COMPUTED_VALUE\"\"\"),\"en\")","v":"en"}]
[{"$f":"IFERROR(__xludf.DUMMYFUNCTION(\"\"\"COMPUTED_VALUE\"\"\"),\"https://www.iana.org/assignments/media-types/application/vnd.cncf.helm.chart.provenance.v1.prov\")","v":"https://www.iana.org/assignments/media-types/application/vnd.cncf.helm.chart.provenance.v1.prov"},{"$f":"IFERROR(__xludf.DUMMYFUNCTION(\"\"\"COMPUTED_VALUE\"\"\"),\"vnd.cncf.helm.chart.provenance.v1.prov\")","v":"vnd.cncf.helm.chart.provenance.v1.prov"},{"$f":"IFERROR(__xludf.DUMMYFUNCTION(\"\"\"COMPUTED_VALUE\"\"\"),\"vnd.cncf.helm.chart.provenance.v1.prov\")","v":"vnd.cncf.helm.chart.provenance.v1.prov"},{"$f":"IFERROR(__xludf.DUMMYFUNCTION(\"\"\"COMPUTED_VALUE\"\"\"),\"application/vnd.cncf.helm.chart.provenance.v1.prov\")","v":"application/vnd.cncf.helm.chart.provenance.v1.prov"},{"$f":"IFERROR(__xludf.DUMMYFUNCTION(\"\"\"COMPUTED_VALUE\"\"\"),\"en\")","v":"en"}]
[{"$f":"IFERROR(__xludf.DUMMYFUNCTION(\"\"\"COMPUTED_VALUE\"\"\"),\"https://www.iana.org/assignments/media-types/application/vnd.coffeescript\")","v":"https://www.iana.org/assignments/media-types/application/vnd.coffeescript"},{"$f":"IFERROR(__xludf.DUMMYFUNCTION(\"\"\"COMPUTED_VALUE\"\"\"),\"vnd.coffeescript\")","v":"vnd.coffeescript"},{"$f":"IFERROR(__xludf.DUMMYFUNCTION(\"\"\"COMPUTED_VALUE\"\"\"),\"vnd.coffeescript\")","v":"vnd.coffeescript"},{"$f":"IFERROR(__xludf.DUMMYFUNCTION(\"\"\"COMPUTED_VALUE\"\"\"),\"application/vnd.coffeescript\")","v":"application/vnd.coffeescript"},{"$f":"IFERROR(__xludf.DUMMYFUNCTION(\"\"\"COMPUTED_VALUE\"\"\"),\"en\")","v":"en"}]
[{"$f":"IFERROR(__xludf.DUMMYFUNCTION(\"\"\"COMPUTED_VALUE\"\"\"),\"https://www.iana.org/assignments/media-types/application/vnd.collabio.xodocuments.document\")","v":"https://www.iana.org/assignments/media-types/application/vnd.collabio.xodocuments.document"},{"$f":"IFERROR(__xludf.DUMMYFUNCTION(\"\"\"COMPUTED_VALUE\"\"\"),\"vnd.collabio.xodocuments.document\")","v":"vnd.collabio.xodocuments.document"},{"$f":"IFERROR(__xludf.DUMMYFUNCTION(\"\"\"COMPUTED_VALUE\"\"\"),\"vnd.collabio.xodocuments.document\")","v":"vnd.collabio.xodocuments.document"},{"$f":"IFERROR(__xludf.DUMMYFUNCTION(\"\"\"COMPUTED_VALUE\"\"\"),\"application/vnd.collabio.xodocuments.document\")","v":"application/vnd.collabio.xodocuments.document"},{"$f":"IFERROR(__xludf.DUMMYFUNCTION(\"\"\"COMPUTED_VALUE\"\"\"),\"en\")","v":"en"}]
[{"$f":"IFERROR(__xludf.DUMMYFUNCTION(\"\"\"COMPUTED_VALUE\"\"\"),\"https://www.iana.org/assignments/media-types/application/vnd.collabio.xodocuments.document-template\")","v":"https://www.iana.org/assignments/media-types/application/vnd.collabio.xodocuments.document-template"},{"$f":"IFERROR(__xludf.DUMMYFUNCTION(\"\"\"COMPUTED_VALUE\"\"\"),\"vnd.collabio.xodocuments.document-template\")","v":"vnd.collabio.xodocuments.document-template"},{"$f":"IFERROR(__xludf.DUMMYFUNCTION(\"\"\"COMPUTED_VALUE\"\"\"),\"vnd.collabio.xodocuments.document-template\")","v":"vnd.collabio.xodocuments.document-template"},{"$f":"IFERROR(__xludf.DUMMYFUNCTION(\"\"\"COMPUTED_VALUE\"\"\"),\"application/vnd.collabio.xodocuments.document-template\")","v":"application/vnd.collabio.xodocuments.document-template"},{"$f":"IFERROR(__xludf.DUMMYFUNCTION(\"\"\"COMPUTED_VALUE\"\"\"),\"en\")","v":"en"}]
[{"$f":"IFERROR(__xludf.DUMMYFUNCTION(\"\"\"COMPUTED_VALUE\"\"\"),\"https://www.iana.org/assignments/media-types/application/vnd.collabio.xodocuments.presentation\")","v":"https://www.iana.org/assignments/media-types/application/vnd.collabio.xodocuments.presentation"},{"$f":"IFERROR(__xludf.DUMMYFUNCTION(\"\"\"COMPUTED_VALUE\"\"\"),\"vnd.collabio.xodocuments.presentation\")","v":"vnd.collabio.xodocuments.presentation"},{"$f":"IFERROR(__xludf.DUMMYFUNCTION(\"\"\"COMPUTED_VALUE\"\"\"),\"vnd.collabio.xodocuments.presentation\")","v":"vnd.collabio.xodocuments.presentation"},{"$f":"IFERROR(__xludf.DUMMYFUNCTION(\"\"\"COMPUTED_VALUE\"\"\"),\"application/vnd.collabio.xodocuments.presentation\")","v":"application/vnd.collabio.xodocuments.presentation"},{"$f":"IFERROR(__xludf.DUMMYFUNCTION(\"\"\"COMPUTED_VALUE\"\"\"),\"en\")","v":"en"}]
[{"$f":"IFERROR(__xludf.DUMMYFUNCTION(\"\"\"COMPUTED_VALUE\"\"\"),\"https://www.iana.org/assignments/media-types/application/vnd.collabio.xodocuments.presentation-template\")","v":"https://www.iana.org/assignments/media-types/application/vnd.collabio.xodocuments.presentation-template"},{"$f":"IFERROR(__xludf.DUMMYFUNCTION(\"\"\"COMPUTED_VALUE\"\"\"),\"vnd.collabio.xodocuments.presentation-template\")","v":"vnd.collabio.xodocuments.presentation-template"},{"$f":"IFERROR(__xludf.DUMMYFUNCTION(\"\"\"COMPUTED_VALUE\"\"\"),\"vnd.collabio.xodocuments.presentation-template\")","v":"vnd.collabio.xodocuments.presentation-template"},{"$f":"IFERROR(__xludf.DUMMYFUNCTION(\"\"\"COMPUTED_VALUE\"\"\"),\"application/vnd.collabio.xodocuments.presentation-template\")","v":"application/vnd.collabio.xodocuments.presentation-template"},{"$f":"IFERROR(__xludf.DUMMYFUNCTION(\"\"\"COMPUTED_VALUE\"\"\"),\"en\")","v":"en"}]
[{"$f":"IFERROR(__xludf.DUMMYFUNCTION(\"\"\"COMPUTED_VALUE\"\"\"),\"https://www.iana.org/assignments/media-types/application/vnd.collabio.xodocuments.spreadsheet\")","v":"https://www.iana.org/assignments/media-types/application/vnd.collabio.xodocuments.spreadsheet"},{"$f":"IFERROR(__xludf.DUMMYFUNCTION(\"\"\"COMPUTED_VALUE\"\"\"),\"vnd.collabio.xodocuments.spreadsheet\")","v":"vnd.collabio.xodocuments.spreadsheet"},{"$f":"IFERROR(__xludf.DUMMYFUNCTION(\"\"\"COMPUTED_VALUE\"\"\"),\"vnd.collabio.xodocuments.spreadsheet\")","v":"vnd.collabio.xodocuments.spreadsheet"},{"$f":"IFERROR(__xludf.DUMMYFUNCTION(\"\"\"COMPUTED_VALUE\"\"\"),\"application/vnd.collabio.xodocuments.spreadsheet\")","v":"application/vnd.collabio.xodocuments.spreadsheet"},{"$f":"IFERROR(__xludf.DUMMYFUNCTION(\"\"\"COMPUTED_VALUE\"\"\"),\"en\")","v":"en"}]
[{"$f":"IFERROR(__xludf.DUMMYFUNCTION(\"\"\"COMPUTED_VALUE\"\"\"),\"https://www.iana.org/assignments/media-types/application/vnd.collabio.xodocuments.spreadsheet-template\")","v":"https://www.iana.org/assignments/media-types/application/vnd.collabio.xodocuments.spreadsheet-template"},{"$f":"IFERROR(__xludf.DUMMYFUNCTION(\"\"\"COMPUTED_VALUE\"\"\"),\"vnd.collabio.xodocuments.spreadsheet-template\")","v":"vnd.collabio.xodocuments.spreadsheet-template"},{"$f":"IFERROR(__xludf.DUMMYFUNCTION(\"\"\"COMPUTED_VALUE\"\"\"),\"vnd.collabio.xodocuments.spreadsheet-template\")","v":"vnd.collabio.xodocuments.spreadsheet-template"},{"$f":"IFERROR(__xludf.DUMMYFUNCTION(\"\"\"COMPUTED_VALUE\"\"\"),\"application/vnd.collabio.xodocuments.spreadsheet-template\")","v":"application/vnd.collabio.xodocuments.spreadsheet-template"},{"$f":"IFERROR(__xludf.DUMMYFUNCTION(\"\"\"COMPUTED_VALUE\"\"\"),\"en\")","v":"en"}]
[{"$f":"IFERROR(__xludf.DUMMYFUNCTION(\"\"\"COMPUTED_VALUE\"\"\"),\"https://www.iana.org/assignments/media-types/application/vnd.collection.doc+json\")","v":"https://www.iana.org/assignments/media-types/application/vnd.collection.doc+json"},{"$f":"IFERROR(__xludf.DUMMYFUNCTION(\"\"\"COMPUTED_VALUE\"\"\"),\"vnd.collection.doc+json\")","v":"vnd.collection.doc+json"},{"$f":"IFERROR(__xludf.DUMMYFUNCTION(\"\"\"COMPUTED_VALUE\"\"\"),\"vnd.collection.doc+json\")","v":"vnd.collection.doc+json"},{"$f":"IFERROR(__xludf.DUMMYFUNCTION(\"\"\"COMPUTED_VALUE\"\"\"),\"application/vnd.collection.doc+json\")","v":"application/vnd.collection.doc+json"},{"$f":"IFERROR(__xludf.DUMMYFUNCTION(\"\"\"COMPUTED_VALUE\"\"\"),\"en\")","v":"en"}]
[{"$f":"IFERROR(__xludf.DUMMYFUNCTION(\"\"\"COMPUTED_VALUE\"\"\"),\"https://www.iana.org/assignments/media-types/application/vnd.collection+json\")","v":"https://www.iana.org/assignments/media-types/application/vnd.collection+json"},{"$f":"IFERROR(__xludf.DUMMYFUNCTION(\"\"\"COMPUTED_VALUE\"\"\"),\"vnd.collection+json\")","v":"vnd.collection+json"},{"$f":"IFERROR(__xludf.DUMMYFUNCTION(\"\"\"COMPUTED_VALUE\"\"\"),\"vnd.collection+json\")","v":"vnd.collection+json"},{"$f":"IFERROR(__xludf.DUMMYFUNCTION(\"\"\"COMPUTED_VALUE\"\"\"),\"application/vnd.collection+json\")","v":"application/vnd.collection+json"},{"$f":"IFERROR(__xludf.DUMMYFUNCTION(\"\"\"COMPUTED_VALUE\"\"\"),\"en\")","v":"en"}]
[{"$f":"IFERROR(__xludf.DUMMYFUNCTION(\"\"\"COMPUTED_VALUE\"\"\"),\"https://www.iana.org/assignments/media-types/application/vnd.collection.next+json\")","v":"https://www.iana.org/assignments/media-types/application/vnd.collection.next+json"},{"$f":"IFERROR(__xludf.DUMMYFUNCTION(\"\"\"COMPUTED_VALUE\"\"\"),\"vnd.collection.next+json\")","v":"vnd.collection.next+json"},{"$f":"IFERROR(__xludf.DUMMYFUNCTION(\"\"\"COMPUTED_VALUE\"\"\"),\"vnd.collection.next+json\")","v":"vnd.collection.next+json"},{"$f":"IFERROR(__xludf.DUMMYFUNCTION(\"\"\"COMPUTED_VALUE\"\"\"),\"application/vnd.collection.next+json\")","v":"application/vnd.collection.next+json"},{"$f":"IFERROR(__xludf.DUMMYFUNCTION(\"\"\"COMPUTED_VALUE\"\"\"),\"en\")","v":"en"}]
[{"$f":"IFERROR(__xludf.DUMMYFUNCTION(\"\"\"COMPUTED_VALUE\"\"\"),\"https://www.iana.org/assignments/media-types/application/vnd.comicbook-rar\")","v":"https://www.iana.org/assignments/media-types/application/vnd.comicbook-rar"},{"$f":"IFERROR(__xludf.DUMMYFUNCTION(\"\"\"COMPUTED_VALUE\"\"\"),\"vnd.comicbook-rar\")","v":"vnd.comicbook-rar"},{"$f":"IFERROR(__xludf.DUMMYFUNCTION(\"\"\"COMPUTED_VALUE\"\"\"),\"vnd.comicbook-rar\")","v":"vnd.comicbook-rar"},{"$f":"IFERROR(__xludf.DUMMYFUNCTION(\"\"\"COMPUTED_VALUE\"\"\"),\"application/vnd.comicbook-rar\")","v":"application/vnd.comicbook-rar"},{"$f":"IFERROR(__xludf.DUMMYFUNCTION(\"\"\"COMPUTED_VALUE\"\"\"),\"en\")","v":"en"}]
[{"$f":"IFERROR(__xludf.DUMMYFUNCTION(\"\"\"COMPUTED_VALUE\"\"\"),\"https://www.iana.org/assignments/media-types/application/vnd.comicbook+zip\")","v":"https://www.iana.org/assignments/media-types/application/vnd.comicbook+zip"},{"$f":"IFERROR(__xludf.DUMMYFUNCTION(\"\"\"COMPUTED_VALUE\"\"\"),\"vnd.comicbook+zip\")","v":"vnd.comicbook+zip"},{"$f":"IFERROR(__xludf.DUMMYFUNCTION(\"\"\"COMPUTED_VALUE\"\"\"),\"vnd.comicbook+zip\")","v":"vnd.comicbook+zip"},{"$f":"IFERROR(__xludf.DUMMYFUNCTION(\"\"\"COMPUTED_VALUE\"\"\"),\"application/vnd.comicbook+zip\")","v":"application/vnd.comicbook+zip"},{"$f":"IFERROR(__xludf.DUMMYFUNCTION(\"\"\"COMPUTED_VALUE\"\"\"),\"en\")","v":"en"}]
[{"$f":"IFERROR(__xludf.DUMMYFUNCTION(\"\"\"COMPUTED_VALUE\"\"\"),\"https://www.iana.org/assignments/media-types/application/vnd.commerce-battelle\")","v":"https://www.iana.org/assignments/media-types/application/vnd.commerce-battelle"},{"$f":"IFERROR(__xludf.DUMMYFUNCTION(\"\"\"COMPUTED_VALUE\"\"\"),\"vnd.commerce-battelle\")","v":"vnd.commerce-battelle"},{"$f":"IFERROR(__xludf.DUMMYFUNCTION(\"\"\"COMPUTED_VALUE\"\"\"),\"vnd.commerce-battelle\")","v":"vnd.commerce-battelle"},{"$f":"IFERROR(__xludf.DUMMYFUNCTION(\"\"\"COMPUTED_VALUE\"\"\"),\"application/vnd.commerce-battelle\")","v":"application/vnd.commerce-battelle"},{"$f":"IFERROR(__xludf.DUMMYFUNCTION(\"\"\"COMPUTED_VALUE\"\"\"),\"en\")","v":"en"}]
[{"$f":"IFERROR(__xludf.DUMMYFUNCTION(\"\"\"COMPUTED_VALUE\"\"\"),\"https://www.iana.org/assignments/media-types/application/vnd.commonspace\")","v":"https://www.iana.org/assignments/media-types/application/vnd.commonspace"},{"$f":"IFERROR(__xludf.DUMMYFUNCTION(\"\"\"COMPUTED_VALUE\"\"\"),\"vnd.commonspace\")","v":"vnd.commonspace"},{"$f":"IFERROR(__xludf.DUMMYFUNCTION(\"\"\"COMPUTED_VALUE\"\"\"),\"vnd.commonspace\")","v":"vnd.commonspace"},{"$f":"IFERROR(__xludf.DUMMYFUNCTION(\"\"\"COMPUTED_VALUE\"\"\"),\"application/vnd.commonspace\")","v":"application/vnd.commonspace"},{"$f":"IFERROR(__xludf.DUMMYFUNCTION(\"\"\"COMPUTED_VALUE\"\"\"),\"en\")","v":"en"}]
[{"$f":"IFERROR(__xludf.DUMMYFUNCTION(\"\"\"COMPUTED_VALUE\"\"\"),\"https://www.iana.org/assignments/media-types/application/vnd.coreos.ignition+json\")","v":"https://www.iana.org/assignments/media-types/application/vnd.coreos.ignition+json"},{"$f":"IFERROR(__xludf.DUMMYFUNCTION(\"\"\"COMPUTED_VALUE\"\"\"),\"vnd.coreos.ignition+json\")","v":"vnd.coreos.ignition+json"},{"$f":"IFERROR(__xludf.DUMMYFUNCTION(\"\"\"COMPUTED_VALUE\"\"\"),\"vnd.coreos.ignition+json\")","v":"vnd.coreos.ignition+json"},{"$f":"IFERROR(__xludf.DUMMYFUNCTION(\"\"\"COMPUTED_VALUE\"\"\"),\"application/vnd.coreos.ignition+json\")","v":"application/vnd.coreos.ignition+json"},{"$f":"IFERROR(__xludf.DUMMYFUNCTION(\"\"\"COMPUTED_VALUE\"\"\"),\"en\")","v":"en"}]
[{"$f":"IFERROR(__xludf.DUMMYFUNCTION(\"\"\"COMPUTED_VALUE\"\"\"),\"https://www.iana.org/assignments/media-types/application/vnd.cosmocaller\")","v":"https://www.iana.org/assignments/media-types/application/vnd.cosmocaller"},{"$f":"IFERROR(__xludf.DUMMYFUNCTION(\"\"\"COMPUTED_VALUE\"\"\"),\"vnd.cosmocaller\")","v":"vnd.cosmocaller"},{"$f":"IFERROR(__xludf.DUMMYFUNCTION(\"\"\"COMPUTED_VALUE\"\"\"),\"vnd.cosmocaller\")","v":"vnd.cosmocaller"},{"$f":"IFERROR(__xludf.DUMMYFUNCTION(\"\"\"COMPUTED_VALUE\"\"\"),\"application/vnd.cosmocaller\")","v":"application/vnd.cosmocaller"},{"$f":"IFERROR(__xludf.DUMMYFUNCTION(\"\"\"COMPUTED_VALUE\"\"\"),\"en\")","v":"en"}]
[{"$f":"IFERROR(__xludf.DUMMYFUNCTION(\"\"\"COMPUTED_VALUE\"\"\"),\"https://www.iana.org/assignments/media-types/application/vnd.contact.cmsg\")","v":"https://www.iana.org/assignments/media-types/application/vnd.contact.cmsg"},{"$f":"IFERROR(__xludf.DUMMYFUNCTION(\"\"\"COMPUTED_VALUE\"\"\"),\"vnd.contact.cmsg\")","v":"vnd.contact.cmsg"},{"$f":"IFERROR(__xludf.DUMMYFUNCTION(\"\"\"COMPUTED_VALUE\"\"\"),\"vnd.contact.cmsg\")","v":"vnd.contact.cmsg"},{"$f":"IFERROR(__xludf.DUMMYFUNCTION(\"\"\"COMPUTED_VALUE\"\"\"),\"application/vnd.contact.cmsg\")","v":"application/vnd.contact.cmsg"},{"$f":"IFERROR(__xludf.DUMMYFUNCTION(\"\"\"COMPUTED_VALUE\"\"\"),\"en\")","v":"en"}]
[{"$f":"IFERROR(__xludf.DUMMYFUNCTION(\"\"\"COMPUTED_VALUE\"\"\"),\"https://www.iana.org/assignments/media-types/application/vnd.crick.clicker\")","v":"https://www.iana.org/assignments/media-types/application/vnd.crick.clicker"},{"$f":"IFERROR(__xludf.DUMMYFUNCTION(\"\"\"COMPUTED_VALUE\"\"\"),\"vnd.crick.clicker\")","v":"vnd.crick.clicker"},{"$f":"IFERROR(__xludf.DUMMYFUNCTION(\"\"\"COMPUTED_VALUE\"\"\"),\"vnd.crick.clicker\")","v":"vnd.crick.clicker"},{"$f":"IFERROR(__xludf.DUMMYFUNCTION(\"\"\"COMPUTED_VALUE\"\"\"),\"application/vnd.crick.clicker\")","v":"application/vnd.crick.clicker"},{"$f":"IFERROR(__xludf.DUMMYFUNCTION(\"\"\"COMPUTED_VALUE\"\"\"),\"en\")","v":"en"}]
[{"$f":"IFERROR(__xludf.DUMMYFUNCTION(\"\"\"COMPUTED_VALUE\"\"\"),\"https://www.iana.org/assignments/media-types/application/vnd.crick.clicker.keyboard\")","v":"https://www.iana.org/assignments/media-types/application/vnd.crick.clicker.keyboard"},{"$f":"IFERROR(__xludf.DUMMYFUNCTION(\"\"\"COMPUTED_VALUE\"\"\"),\"vnd.crick.clicker.keyboard\")","v":"vnd.crick.clicker.keyboard"},{"$f":"IFERROR(__xludf.DUMMYFUNCTION(\"\"\"COMPUTED_VALUE\"\"\"),\"vnd.crick.clicker.keyboard\")","v":"vnd.crick.clicker.keyboard"},{"$f":"IFERROR(__xludf.DUMMYFUNCTION(\"\"\"COMPUTED_VALUE\"\"\"),\"application/vnd.crick.clicker.keyboard\")","v":"application/vnd.crick.clicker.keyboard"},{"$f":"IFERROR(__xludf.DUMMYFUNCTION(\"\"\"COMPUTED_VALUE\"\"\"),\"en\")","v":"en"}]
[{"$f":"IFERROR(__xludf.DUMMYFUNCTION(\"\"\"COMPUTED_VALUE\"\"\"),\"https://www.iana.org/assignments/media-types/application/vnd.crick.clicker.palette\")","v":"https://www.iana.org/assignments/media-types/application/vnd.crick.clicker.palette"},{"$f":"IFERROR(__xludf.DUMMYFUNCTION(\"\"\"COMPUTED_VALUE\"\"\"),\"vnd.crick.clicker.palette\")","v":"vnd.crick.clicker.palette"},{"$f":"IFERROR(__xludf.DUMMYFUNCTION(\"\"\"COMPUTED_VALUE\"\"\"),\"vnd.crick.clicker.palette\")","v":"vnd.crick.clicker.palette"},{"$f":"IFERROR(__xludf.DUMMYFUNCTION(\"\"\"COMPUTED_VALUE\"\"\"),\"application/vnd.crick.clicker.palette\")","v":"application/vnd.crick.clicker.palette"},{"$f":"IFERROR(__xludf.DUMMYFUNCTION(\"\"\"COMPUTED_VALUE\"\"\"),\"en\")","v":"en"}]
[{"$f":"IFERROR(__xludf.DUMMYFUNCTION(\"\"\"COMPUTED_VALUE\"\"\"),\"https://www.iana.org/assignments/media-types/application/vnd.crick.clicker.template\")","v":"https://www.iana.org/assignments/media-types/application/vnd.crick.clicker.template"},{"$f":"IFERROR(__xludf.DUMMYFUNCTION(\"\"\"COMPUTED_VALUE\"\"\"),\"vnd.crick.clicker.template\")","v":"vnd.crick.clicker.template"},{"$f":"IFERROR(__xludf.DUMMYFUNCTION(\"\"\"COMPUTED_VALUE\"\"\"),\"vnd.crick.clicker.template\")","v":"vnd.crick.clicker.template"},{"$f":"IFERROR(__xludf.DUMMYFUNCTION(\"\"\"COMPUTED_VALUE\"\"\"),\"application/vnd.crick.clicker.template\")","v":"application/vnd.crick.clicker.template"},{"$f":"IFERROR(__xludf.DUMMYFUNCTION(\"\"\"COMPUTED_VALUE\"\"\"),\"en\")","v":"en"}]
[{"$f":"IFERROR(__xludf.DUMMYFUNCTION(\"\"\"COMPUTED_VALUE\"\"\"),\"https://www.iana.org/assignments/media-types/application/vnd.crick.clicker.wordbank\")","v":"https://www.iana.org/assignments/media-types/application/vnd.crick.clicker.wordbank"},{"$f":"IFERROR(__xludf.DUMMYFUNCTION(\"\"\"COMPUTED_VALUE\"\"\"),\"vnd.crick.clicker.wordbank\")","v":"vnd.crick.clicker.wordbank"},{"$f":"IFERROR(__xludf.DUMMYFUNCTION(\"\"\"COMPUTED_VALUE\"\"\"),\"vnd.crick.clicker.wordbank\")","v":"vnd.crick.clicker.wordbank"},{"$f":"IFERROR(__xludf.DUMMYFUNCTION(\"\"\"COMPUTED_VALUE\"\"\"),\"application/vnd.crick.clicker.wordbank\")","v":"application/vnd.crick.clicker.wordbank"},{"$f":"IFERROR(__xludf.DUMMYFUNCTION(\"\"\"COMPUTED_VALUE\"\"\"),\"en\")","v":"en"}]
[{"$f":"IFERROR(__xludf.DUMMYFUNCTION(\"\"\"COMPUTED_VALUE\"\"\"),\"https://www.iana.org/assignments/media-types/application/vnd.criticaltools.wbs+xml\")","v":"https://www.iana.org/assignments/media-types/application/vnd.criticaltools.wbs+xml"},{"$f":"IFERROR(__xludf.DUMMYFUNCTION(\"\"\"COMPUTED_VALUE\"\"\"),\"vnd.criticaltools.wbs+xml\")","v":"vnd.criticaltools.wbs+xml"},{"$f":"IFERROR(__xludf.DUMMYFUNCTION(\"\"\"COMPUTED_VALUE\"\"\"),\"vnd.criticaltools.wbs+xml\")","v":"vnd.criticaltools.wbs+xml"},{"$f":"IFERROR(__xludf.DUMMYFUNCTION(\"\"\"COMPUTED_VALUE\"\"\"),\"application/vnd.criticaltools.wbs+xml\")","v":"application/vnd.criticaltools.wbs+xml"},{"$f":"IFERROR(__xludf.DUMMYFUNCTION(\"\"\"COMPUTED_VALUE\"\"\"),\"en\")","v":"en"}]
[{"$f":"IFERROR(__xludf.DUMMYFUNCTION(\"\"\"COMPUTED_VALUE\"\"\"),\"https://www.iana.org/assignments/media-types/application/vnd.cryptii.pipe+json\")","v":"https://www.iana.org/assignments/media-types/application/vnd.cryptii.pipe+json"},{"$f":"IFERROR(__xludf.DUMMYFUNCTION(\"\"\"COMPUTED_VALUE\"\"\"),\"vnd.cryptii.pipe+json\")","v":"vnd.cryptii.pipe+json"},{"$f":"IFERROR(__xludf.DUMMYFUNCTION(\"\"\"COMPUTED_VALUE\"\"\"),\"vnd.cryptii.pipe+json\")","v":"vnd.cryptii.pipe+json"},{"$f":"IFERROR(__xludf.DUMMYFUNCTION(\"\"\"COMPUTED_VALUE\"\"\"),\"application/vnd.cryptii.pipe+json\")","v":"application/vnd.cryptii.pipe+json"},{"$f":"IFERROR(__xludf.DUMMYFUNCTION(\"\"\"COMPUTED_VALUE\"\"\"),\"en\")","v":"en"}]
[{"$f":"IFERROR(__xludf.DUMMYFUNCTION(\"\"\"COMPUTED_VALUE\"\"\"),\"https://www.iana.org/assignments/media-types/application/vnd.crypto-shade-file\")","v":"https://www.iana.org/assignments/media-types/application/vnd.crypto-shade-file"},{"$f":"IFERROR(__xludf.DUMMYFUNCTION(\"\"\"COMPUTED_VALUE\"\"\"),\"vnd.crypto-shade-file\")","v":"vnd.crypto-shade-file"},{"$f":"IFERROR(__xludf.DUMMYFUNCTION(\"\"\"COMPUTED_VALUE\"\"\"),\"vnd.crypto-shade-file\")","v":"vnd.crypto-shade-file"},{"$f":"IFERROR(__xludf.DUMMYFUNCTION(\"\"\"COMPUTED_VALUE\"\"\"),\"application/vnd.crypto-shade-file\")","v":"application/vnd.crypto-shade-file"},{"$f":"IFERROR(__xludf.DUMMYFUNCTION(\"\"\"COMPUTED_VALUE\"\"\"),\"en\")","v":"en"}]
[{"$f":"IFERROR(__xludf.DUMMYFUNCTION(\"\"\"COMPUTED_VALUE\"\"\"),\"https://www.iana.org/assignments/media-types/application/vnd.cryptomator.encrypted\")","v":"https://www.iana.org/assignments/media-types/application/vnd.cryptomator.encrypted"},{"$f":"IFERROR(__xludf.DUMMYFUNCTION(\"\"\"COMPUTED_VALUE\"\"\"),\"vnd.cryptomator.encrypted\")","v":"vnd.cryptomator.encrypted"},{"$f":"IFERROR(__xludf.DUMMYFUNCTION(\"\"\"COMPUTED_VALUE\"\"\"),\"vnd.cryptomator.encrypted\")","v":"vnd.cryptomator.encrypted"},{"$f":"IFERROR(__xludf.DUMMYFUNCTION(\"\"\"COMPUTED_VALUE\"\"\"),\"application/vnd.cryptomator.encrypted\")","v":"application/vnd.cryptomator.encrypted"},{"$f":"IFERROR(__xludf.DUMMYFUNCTION(\"\"\"COMPUTED_VALUE\"\"\"),\"en\")","v":"en"}]
[{"$f":"IFERROR(__xludf.DUMMYFUNCTION(\"\"\"COMPUTED_VALUE\"\"\"),\"https://www.iana.org/assignments/media-types/application/vnd.cryptomator.vault\")","v":"https://www.iana.org/assignments/media-types/application/vnd.cryptomator.vault"},{"$f":"IFERROR(__xludf.DUMMYFUNCTION(\"\"\"COMPUTED_VALUE\"\"\"),\"vnd.cryptomator.vault\")","v":"vnd.cryptomator.vault"},{"$f":"IFERROR(__xludf.DUMMYFUNCTION(\"\"\"COMPUTED_VALUE\"\"\"),\"vnd.cryptomator.vault\")","v":"vnd.cryptomator.vault"},{"$f":"IFERROR(__xludf.DUMMYFUNCTION(\"\"\"COMPUTED_VALUE\"\"\"),\"application/vnd.cryptomator.vault\")","v":"application/vnd.cryptomator.vault"},{"$f":"IFERROR(__xludf.DUMMYFUNCTION(\"\"\"COMPUTED_VALUE\"\"\"),\"en\")","v":"en"}]
[{"$f":"IFERROR(__xludf.DUMMYFUNCTION(\"\"\"COMPUTED_VALUE\"\"\"),\"https://www.iana.org/assignments/media-types/application/vnd.ctc-posml\")","v":"https://www.iana.org/assignments/media-types/application/vnd.ctc-posml"},{"$f":"IFERROR(__xludf.DUMMYFUNCTION(\"\"\"COMPUTED_VALUE\"\"\"),\"vnd.ctc-posml\")","v":"vnd.ctc-posml"},{"$f":"IFERROR(__xludf.DUMMYFUNCTION(\"\"\"COMPUTED_VALUE\"\"\"),\"vnd.ctc-posml\")","v":"vnd.ctc-posml"},{"$f":"IFERROR(__xludf.DUMMYFUNCTION(\"\"\"COMPUTED_VALUE\"\"\"),\"application/vnd.ctc-posml\")","v":"application/vnd.ctc-posml"},{"$f":"IFERROR(__xludf.DUMMYFUNCTION(\"\"\"COMPUTED_VALUE\"\"\"),\"en\")","v":"en"}]
[{"$f":"IFERROR(__xludf.DUMMYFUNCTION(\"\"\"COMPUTED_VALUE\"\"\"),\"https://www.iana.org/assignments/media-types/application/vnd.ctct.ws+xml\")","v":"https://www.iana.org/assignments/media-types/application/vnd.ctct.ws+xml"},{"$f":"IFERROR(__xludf.DUMMYFUNCTION(\"\"\"COMPUTED_VALUE\"\"\"),\"vnd.ctct.ws+xml\")","v":"vnd.ctct.ws+xml"},{"$f":"IFERROR(__xludf.DUMMYFUNCTION(\"\"\"COMPUTED_VALUE\"\"\"),\"vnd.ctct.ws+xml\")","v":"vnd.ctct.ws+xml"},{"$f":"IFERROR(__xludf.DUMMYFUNCTION(\"\"\"COMPUTED_VALUE\"\"\"),\"application/vnd.ctct.ws+xml\")","v":"application/vnd.ctct.ws+xml"},{"$f":"IFERROR(__xludf.DUMMYFUNCTION(\"\"\"COMPUTED_VALUE\"\"\"),\"en\")","v":"en"}]
[{"$f":"IFERROR(__xludf.DUMMYFUNCTION(\"\"\"COMPUTED_VALUE\"\"\"),\"https://www.iana.org/assignments/media-types/application/vnd.cups-pdf\")","v":"https://www.iana.org/assignments/media-types/application/vnd.cups-pdf"},{"$f":"IFERROR(__xludf.DUMMYFUNCTION(\"\"\"COMPUTED_VALUE\"\"\"),\"vnd.cups-pdf\")","v":"vnd.cups-pdf"},{"$f":"IFERROR(__xludf.DUMMYFUNCTION(\"\"\"COMPUTED_VALUE\"\"\"),\"vnd.cups-pdf\")","v":"vnd.cups-pdf"},{"$f":"IFERROR(__xludf.DUMMYFUNCTION(\"\"\"COMPUTED_VALUE\"\"\"),\"application/vnd.cups-pdf\")","v":"application/vnd.cups-pdf"},{"$f":"IFERROR(__xludf.DUMMYFUNCTION(\"\"\"COMPUTED_VALUE\"\"\"),\"en\")","v":"en"}]
[{"$f":"IFERROR(__xludf.DUMMYFUNCTION(\"\"\"COMPUTED_VALUE\"\"\"),\"https://www.iana.org/assignments/media-types/application/vnd.cups-postscript\")","v":"https://www.iana.org/assignments/media-types/application/vnd.cups-postscript"},{"$f":"IFERROR(__xludf.DUMMYFUNCTION(\"\"\"COMPUTED_VALUE\"\"\"),\"vnd.cups-postscript\")","v":"vnd.cups-postscript"},{"$f":"IFERROR(__xludf.DUMMYFUNCTION(\"\"\"COMPUTED_VALUE\"\"\"),\"vnd.cups-postscript\")","v":"vnd.cups-postscript"},{"$f":"IFERROR(__xludf.DUMMYFUNCTION(\"\"\"COMPUTED_VALUE\"\"\"),\"application/vnd.cups-postscript\")","v":"application/vnd.cups-postscript"},{"$f":"IFERROR(__xludf.DUMMYFUNCTION(\"\"\"COMPUTED_VALUE\"\"\"),\"en\")","v":"en"}]
[{"$f":"IFERROR(__xludf.DUMMYFUNCTION(\"\"\"COMPUTED_VALUE\"\"\"),\"https://www.iana.org/assignments/media-types/application/vnd.cups-ppd\")","v":"https://www.iana.org/assignments/media-types/application/vnd.cups-ppd"},{"$f":"IFERROR(__xludf.DUMMYFUNCTION(\"\"\"COMPUTED_VALUE\"\"\"),\"vnd.cups-ppd\")","v":"vnd.cups-ppd"},{"$f":"IFERROR(__xludf.DUMMYFUNCTION(\"\"\"COMPUTED_VALUE\"\"\"),\"vnd.cups-ppd\")","v":"vnd.cups-ppd"},{"$f":"IFERROR(__xludf.DUMMYFUNCTION(\"\"\"COMPUTED_VALUE\"\"\"),\"application/vnd.cups-ppd\")","v":"application/vnd.cups-ppd"},{"$f":"IFERROR(__xludf.DUMMYFUNCTION(\"\"\"COMPUTED_VALUE\"\"\"),\"en\")","v":"en"}]
[{"$f":"IFERROR(__xludf.DUMMYFUNCTION(\"\"\"COMPUTED_VALUE\"\"\"),\"https://www.iana.org/assignments/media-types/application/vnd.cups-raster\")","v":"https://www.iana.org/assignments/media-types/application/vnd.cups-raster"},{"$f":"IFERROR(__xludf.DUMMYFUNCTION(\"\"\"COMPUTED_VALUE\"\"\"),\"vnd.cups-raster\")","v":"vnd.cups-raster"},{"$f":"IFERROR(__xludf.DUMMYFUNCTION(\"\"\"COMPUTED_VALUE\"\"\"),\"vnd.cups-raster\")","v":"vnd.cups-raster"},{"$f":"IFERROR(__xludf.DUMMYFUNCTION(\"\"\"COMPUTED_VALUE\"\"\"),\"application/vnd.cups-raster\")","v":"application/vnd.cups-raster"},{"$f":"IFERROR(__xludf.DUMMYFUNCTION(\"\"\"COMPUTED_VALUE\"\"\"),\"en\")","v":"en"}]
[{"$f":"IFERROR(__xludf.DUMMYFUNCTION(\"\"\"COMPUTED_VALUE\"\"\"),\"https://www.iana.org/assignments/media-types/application/vnd.cups-raw\")","v":"https://www.iana.org/assignments/media-types/application/vnd.cups-raw"},{"$f":"IFERROR(__xludf.DUMMYFUNCTION(\"\"\"COMPUTED_VALUE\"\"\"),\"vnd.cups-raw\")","v":"vnd.cups-raw"},{"$f":"IFERROR(__xludf.DUMMYFUNCTION(\"\"\"COMPUTED_VALUE\"\"\"),\"vnd.cups-raw\")","v":"vnd.cups-raw"},{"$f":"IFERROR(__xludf.DUMMYFUNCTION(\"\"\"COMPUTED_VALUE\"\"\"),\"application/vnd.cups-raw\")","v":"application/vnd.cups-raw"},{"$f":"IFERROR(__xludf.DUMMYFUNCTION(\"\"\"COMPUTED_VALUE\"\"\"),\"en\")","v":"en"}]
[{"$f":"IFERROR(__xludf.DUMMYFUNCTION(\"\"\"COMPUTED_VALUE\"\"\"),\"https://www.iana.org/assignments/media-types/application/vnd.curl\")","v":"https://www.iana.org/assignments/media-types/application/vnd.curl"},{"$f":"IFERROR(__xludf.DUMMYFUNCTION(\"\"\"COMPUTED_VALUE\"\"\"),\"vnd.curl\")","v":"vnd.curl"},{"$f":"IFERROR(__xludf.DUMMYFUNCTION(\"\"\"COMPUTED_VALUE\"\"\"),\"vnd.curl\")","v":"vnd.curl"},{"$f":"IFERROR(__xludf.DUMMYFUNCTION(\"\"\"COMPUTED_VALUE\"\"\"),\"application/vnd.curl\")","v":"application/vnd.curl"},{"$f":"IFERROR(__xludf.DUMMYFUNCTION(\"\"\"COMPUTED_VALUE\"\"\"),\"en\")","v":"en"}]
[{"$f":"IFERROR(__xludf.DUMMYFUNCTION(\"\"\"COMPUTED_VALUE\"\"\"),\"https://www.iana.org/assignments/media-types/application/vnd.cyan.dean.root+xml\")","v":"https://www.iana.org/assignments/media-types/application/vnd.cyan.dean.root+xml"},{"$f":"IFERROR(__xludf.DUMMYFUNCTION(\"\"\"COMPUTED_VALUE\"\"\"),\"vnd.cyan.dean.root+xml\")","v":"vnd.cyan.dean.root+xml"},{"$f":"IFERROR(__xludf.DUMMYFUNCTION(\"\"\"COMPUTED_VALUE\"\"\"),\"vnd.cyan.dean.root+xml\")","v":"vnd.cyan.dean.root+xml"},{"$f":"IFERROR(__xludf.DUMMYFUNCTION(\"\"\"COMPUTED_VALUE\"\"\"),\"application/vnd.cyan.dean.root+xml\")","v":"application/vnd.cyan.dean.root+xml"},{"$f":"IFERROR(__xludf.DUMMYFUNCTION(\"\"\"COMPUTED_VALUE\"\"\"),\"en\")","v":"en"}]
[{"$f":"IFERROR(__xludf.DUMMYFUNCTION(\"\"\"COMPUTED_VALUE\"\"\"),\"https://www.iana.org/assignments/media-types/application/vnd.cybank\")","v":"https://www.iana.org/assignments/media-types/application/vnd.cybank"},{"$f":"IFERROR(__xludf.DUMMYFUNCTION(\"\"\"COMPUTED_VALUE\"\"\"),\"vnd.cybank\")","v":"vnd.cybank"},{"$f":"IFERROR(__xludf.DUMMYFUNCTION(\"\"\"COMPUTED_VALUE\"\"\"),\"vnd.cybank\")","v":"vnd.cybank"},{"$f":"IFERROR(__xludf.DUMMYFUNCTION(\"\"\"COMPUTED_VALUE\"\"\"),\"application/vnd.cybank\")","v":"application/vnd.cybank"},{"$f":"IFERROR(__xludf.DUMMYFUNCTION(\"\"\"COMPUTED_VALUE\"\"\"),\"en\")","v":"en"}]
[{"$f":"IFERROR(__xludf.DUMMYFUNCTION(\"\"\"COMPUTED_VALUE\"\"\"),\"https://www.iana.org/assignments/media-types/application/vnd.cyclonedx+json\")","v":"https://www.iana.org/assignments/media-types/application/vnd.cyclonedx+json"},{"$f":"IFERROR(__xludf.DUMMYFUNCTION(\"\"\"COMPUTED_VALUE\"\"\"),\"vnd.cyclonedx+json\")","v":"vnd.cyclonedx+json"},{"$f":"IFERROR(__xludf.DUMMYFUNCTION(\"\"\"COMPUTED_VALUE\"\"\"),\"vnd.cyclonedx+json\")","v":"vnd.cyclonedx+json"},{"$f":"IFERROR(__xludf.DUMMYFUNCTION(\"\"\"COMPUTED_VALUE\"\"\"),\"application/vnd.cyclonedx+json\")","v":"application/vnd.cyclonedx+json"},{"$f":"IFERROR(__xludf.DUMMYFUNCTION(\"\"\"COMPUTED_VALUE\"\"\"),\"en\")","v":"en"}]
[{"$f":"IFERROR(__xludf.DUMMYFUNCTION(\"\"\"COMPUTED_VALUE\"\"\"),\"https://www.iana.org/assignments/media-types/application/vnd.cyclonedx+xml\")","v":"https://www.iana.org/assignments/media-types/application/vnd.cyclonedx+xml"},{"$f":"IFERROR(__xludf.DUMMYFUNCTION(\"\"\"COMPUTED_VALUE\"\"\"),\"vnd.cyclonedx+xml\")","v":"vnd.cyclonedx+xml"},{"$f":"IFERROR(__xludf.DUMMYFUNCTION(\"\"\"COMPUTED_VALUE\"\"\"),\"vnd.cyclonedx+xml\")","v":"vnd.cyclonedx+xml"},{"$f":"IFERROR(__xludf.DUMMYFUNCTION(\"\"\"COMPUTED_VALUE\"\"\"),\"application/vnd.cyclonedx+xml\")","v":"application/vnd.cyclonedx+xml"},{"$f":"IFERROR(__xludf.DUMMYFUNCTION(\"\"\"COMPUTED_VALUE\"\"\"),\"en\")","v":"en"}]
[{"$f":"IFERROR(__xludf.DUMMYFUNCTION(\"\"\"COMPUTED_VALUE\"\"\"),\"https://www.iana.org/assignments/media-types/application/vnd.d2l.coursepackage1p0+zip\")","v":"https://www.iana.org/assignments/media-types/application/vnd.d2l.coursepackage1p0+zip"},{"$f":"IFERROR(__xludf.DUMMYFUNCTION(\"\"\"COMPUTED_VALUE\"\"\"),\"vnd.d2l.coursepackage1p0+zip\")","v":"vnd.d2l.coursepackage1p0+zip"},{"$f":"IFERROR(__xludf.DUMMYFUNCTION(\"\"\"COMPUTED_VALUE\"\"\"),\"vnd.d2l.coursepackage1p0+zip\")","v":"vnd.d2l.coursepackage1p0+zip"},{"$f":"IFERROR(__xludf.DUMMYFUNCTION(\"\"\"COMPUTED_VALUE\"\"\"),\"application/vnd.d2l.coursepackage1p0+zip\")","v":"application/vnd.d2l.coursepackage1p0+zip"},{"$f":"IFERROR(__xludf.DUMMYFUNCTION(\"\"\"COMPUTED_VALUE\"\"\"),\"en\")","v":"en"}]
[{"$f":"IFERROR(__xludf.DUMMYFUNCTION(\"\"\"COMPUTED_VALUE\"\"\"),\"https://www.iana.org/assignments/media-types/application/vnd.d3m-dataset\")","v":"https://www.iana.org/assignments/media-types/application/vnd.d3m-dataset"},{"$f":"IFERROR(__xludf.DUMMYFUNCTION(\"\"\"COMPUTED_VALUE\"\"\"),\"vnd.d3m-dataset\")","v":"vnd.d3m-dataset"},{"$f":"IFERROR(__xludf.DUMMYFUNCTION(\"\"\"COMPUTED_VALUE\"\"\"),\"vnd.d3m-dataset\")","v":"vnd.d3m-dataset"},{"$f":"IFERROR(__xludf.DUMMYFUNCTION(\"\"\"COMPUTED_VALUE\"\"\"),\"application/vnd.d3m-dataset\")","v":"application/vnd.d3m-dataset"},{"$f":"IFERROR(__xludf.DUMMYFUNCTION(\"\"\"COMPUTED_VALUE\"\"\"),\"en\")","v":"en"}]
[{"$f":"IFERROR(__xludf.DUMMYFUNCTION(\"\"\"COMPUTED_VALUE\"\"\"),\"https://www.iana.org/assignments/media-types/application/vnd.d3m-problem\")","v":"https://www.iana.org/assignments/media-types/application/vnd.d3m-problem"},{"$f":"IFERROR(__xludf.DUMMYFUNCTION(\"\"\"COMPUTED_VALUE\"\"\"),\"vnd.d3m-problem\")","v":"vnd.d3m-problem"},{"$f":"IFERROR(__xludf.DUMMYFUNCTION(\"\"\"COMPUTED_VALUE\"\"\"),\"vnd.d3m-problem\")","v":"vnd.d3m-problem"},{"$f":"IFERROR(__xludf.DUMMYFUNCTION(\"\"\"COMPUTED_VALUE\"\"\"),\"application/vnd.d3m-problem\")","v":"application/vnd.d3m-problem"},{"$f":"IFERROR(__xludf.DUMMYFUNCTION(\"\"\"COMPUTED_VALUE\"\"\"),\"en\")","v":"en"}]
[{"$f":"IFERROR(__xludf.DUMMYFUNCTION(\"\"\"COMPUTED_VALUE\"\"\"),\"https://www.iana.org/assignments/media-types/application/vnd.dart\")","v":"https://www.iana.org/assignments/media-types/application/vnd.dart"},{"$f":"IFERROR(__xludf.DUMMYFUNCTION(\"\"\"COMPUTED_VALUE\"\"\"),\"vnd.dart\")","v":"vnd.dart"},{"$f":"IFERROR(__xludf.DUMMYFUNCTION(\"\"\"COMPUTED_VALUE\"\"\"),\"vnd.dart\")","v":"vnd.dart"},{"$f":"IFERROR(__xludf.DUMMYFUNCTION(\"\"\"COMPUTED_VALUE\"\"\"),\"application/vnd.dart\")","v":"application/vnd.dart"},{"$f":"IFERROR(__xludf.DUMMYFUNCTION(\"\"\"COMPUTED_VALUE\"\"\"),\"en\")","v":"en"}]
[{"$f":"IFERROR(__xludf.DUMMYFUNCTION(\"\"\"COMPUTED_VALUE\"\"\"),\"https://www.iana.org/assignments/media-types/application/vnd.data-vision.rdz\")","v":"https://www.iana.org/assignments/media-types/application/vnd.data-vision.rdz"},{"$f":"IFERROR(__xludf.DUMMYFUNCTION(\"\"\"COMPUTED_VALUE\"\"\"),\"vnd.data-vision.rdz\")","v":"vnd.data-vision.rdz"},{"$f":"IFERROR(__xludf.DUMMYFUNCTION(\"\"\"COMPUTED_VALUE\"\"\"),\"vnd.data-vision.rdz\")","v":"vnd.data-vision.rdz"},{"$f":"IFERROR(__xludf.DUMMYFUNCTION(\"\"\"COMPUTED_VALUE\"\"\"),\"application/vnd.data-vision.rdz\")","v":"application/vnd.data-vision.rdz"},{"$f":"IFERROR(__xludf.DUMMYFUNCTION(\"\"\"COMPUTED_VALUE\"\"\"),\"en\")","v":"en"}]
[{"$f":"IFERROR(__xludf.DUMMYFUNCTION(\"\"\"COMPUTED_VALUE\"\"\"),\"https://www.iana.org/assignments/media-types/application/vnd.datalog\")","v":"https://www.iana.org/assignments/media-types/application/vnd.datalog"},{"$f":"IFERROR(__xludf.DUMMYFUNCTION(\"\"\"COMPUTED_VALUE\"\"\"),\"vnd.datalog\")","v":"vnd.datalog"},{"$f":"IFERROR(__xludf.DUMMYFUNCTION(\"\"\"COMPUTED_VALUE\"\"\"),\"vnd.datalog\")","v":"vnd.datalog"},{"$f":"IFERROR(__xludf.DUMMYFUNCTION(\"\"\"COMPUTED_VALUE\"\"\"),\"application/vnd.datalog\")","v":"application/vnd.datalog"},{"$f":"IFERROR(__xludf.DUMMYFUNCTION(\"\"\"COMPUTED_VALUE\"\"\"),\"en\")","v":"en"}]
[{"$f":"IFERROR(__xludf.DUMMYFUNCTION(\"\"\"COMPUTED_VALUE\"\"\"),\"https://www.iana.org/assignments/media-types/application/vnd.datapackage+json\")","v":"https://www.iana.org/assignments/media-types/application/vnd.datapackage+json"},{"$f":"IFERROR(__xludf.DUMMYFUNCTION(\"\"\"COMPUTED_VALUE\"\"\"),\"vnd.datapackage+json\")","v":"vnd.datapackage+json"},{"$f":"IFERROR(__xludf.DUMMYFUNCTION(\"\"\"COMPUTED_VALUE\"\"\"),\"vnd.datapackage+json\")","v":"vnd.datapackage+json"},{"$f":"IFERROR(__xludf.DUMMYFUNCTION(\"\"\"COMPUTED_VALUE\"\"\"),\"application/vnd.datapackage+json\")","v":"application/vnd.datapackage+json"},{"$f":"IFERROR(__xludf.DUMMYFUNCTION(\"\"\"COMPUTED_VALUE\"\"\"),\"en\")","v":"en"}]
[{"$f":"IFERROR(__xludf.DUMMYFUNCTION(\"\"\"COMPUTED_VALUE\"\"\"),\"https://www.iana.org/assignments/media-types/application/vnd.dataresource+json\")","v":"https://www.iana.org/assignments/media-types/application/vnd.dataresource+json"},{"$f":"IFERROR(__xludf.DUMMYFUNCTION(\"\"\"COMPUTED_VALUE\"\"\"),\"vnd.dataresource+json\")","v":"vnd.dataresource+json"},{"$f":"IFERROR(__xludf.DUMMYFUNCTION(\"\"\"COMPUTED_VALUE\"\"\"),\"vnd.dataresource+json\")","v":"vnd.dataresource+json"},{"$f":"IFERROR(__xludf.DUMMYFUNCTION(\"\"\"COMPUTED_VALUE\"\"\"),\"application/vnd.dataresource+json\")","v":"application/vnd.dataresource+json"},{"$f":"IFERROR(__xludf.DUMMYFUNCTION(\"\"\"COMPUTED_VALUE\"\"\"),\"en\")","v":"en"}]
[{"$f":"IFERROR(__xludf.DUMMYFUNCTION(\"\"\"COMPUTED_VALUE\"\"\"),\"https://www.iana.org/assignments/media-types/application/vnd.dbf\")","v":"https://www.iana.org/assignments/media-types/application/vnd.dbf"},{"$f":"IFERROR(__xludf.DUMMYFUNCTION(\"\"\"COMPUTED_VALUE\"\"\"),\"vnd.dbf\")","v":"vnd.dbf"},{"$f":"IFERROR(__xludf.DUMMYFUNCTION(\"\"\"COMPUTED_VALUE\"\"\"),\"vnd.dbf\")","v":"vnd.dbf"},{"$f":"IFERROR(__xludf.DUMMYFUNCTION(\"\"\"COMPUTED_VALUE\"\"\"),\"application/vnd.dbf\")","v":"application/vnd.dbf"},{"$f":"IFERROR(__xludf.DUMMYFUNCTION(\"\"\"COMPUTED_VALUE\"\"\"),\"en\")","v":"en"}]
[{"$f":"IFERROR(__xludf.DUMMYFUNCTION(\"\"\"COMPUTED_VALUE\"\"\"),\"https://www.iana.org/assignments/media-types/application/vnd.debian.binary-package\")","v":"https://www.iana.org/assignments/media-types/application/vnd.debian.binary-package"},{"$f":"IFERROR(__xludf.DUMMYFUNCTION(\"\"\"COMPUTED_VALUE\"\"\"),\"vnd.debian.binary-package\")","v":"vnd.debian.binary-package"},{"$f":"IFERROR(__xludf.DUMMYFUNCTION(\"\"\"COMPUTED_VALUE\"\"\"),\"vnd.debian.binary-package\")","v":"vnd.debian.binary-package"},{"$f":"IFERROR(__xludf.DUMMYFUNCTION(\"\"\"COMPUTED_VALUE\"\"\"),\"application/vnd.debian.binary-package\")","v":"application/vnd.debian.binary-package"},{"$f":"IFERROR(__xludf.DUMMYFUNCTION(\"\"\"COMPUTED_VALUE\"\"\"),\"en\")","v":"en"}]
[{"$f":"IFERROR(__xludf.DUMMYFUNCTION(\"\"\"COMPUTED_VALUE\"\"\"),\"https://www.iana.org/assignments/media-types/application/vnd.dece.data\")","v":"https://www.iana.org/assignments/media-types/application/vnd.dece.data"},{"$f":"IFERROR(__xludf.DUMMYFUNCTION(\"\"\"COMPUTED_VALUE\"\"\"),\"vnd.dece.data\")","v":"vnd.dece.data"},{"$f":"IFERROR(__xludf.DUMMYFUNCTION(\"\"\"COMPUTED_VALUE\"\"\"),\"vnd.dece.data\")","v":"vnd.dece.data"},{"$f":"IFERROR(__xludf.DUMMYFUNCTION(\"\"\"COMPUTED_VALUE\"\"\"),\"application/vnd.dece.data\")","v":"application/vnd.dece.data"},{"$f":"IFERROR(__xludf.DUMMYFUNCTION(\"\"\"COMPUTED_VALUE\"\"\"),\"en\")","v":"en"}]
[{"$f":"IFERROR(__xludf.DUMMYFUNCTION(\"\"\"COMPUTED_VALUE\"\"\"),\"https://www.iana.org/assignments/media-types/application/vnd.dece.ttml+xml\")","v":"https://www.iana.org/assignments/media-types/application/vnd.dece.ttml+xml"},{"$f":"IFERROR(__xludf.DUMMYFUNCTION(\"\"\"COMPUTED_VALUE\"\"\"),\"vnd.dece.ttml+xml\")","v":"vnd.dece.ttml+xml"},{"$f":"IFERROR(__xludf.DUMMYFUNCTION(\"\"\"COMPUTED_VALUE\"\"\"),\"vnd.dece.ttml+xml\")","v":"vnd.dece.ttml+xml"},{"$f":"IFERROR(__xludf.DUMMYFUNCTION(\"\"\"COMPUTED_VALUE\"\"\"),\"application/vnd.dece.ttml+xml\")","v":"application/vnd.dece.ttml+xml"},{"$f":"IFERROR(__xludf.DUMMYFUNCTION(\"\"\"COMPUTED_VALUE\"\"\"),\"en\")","v":"en"}]
[{"$f":"IFERROR(__xludf.DUMMYFUNCTION(\"\"\"COMPUTED_VALUE\"\"\"),\"https://www.iana.org/assignments/media-types/application/vnd.dece.unspecified\")","v":"https://www.iana.org/assignments/media-types/application/vnd.dece.unspecified"},{"$f":"IFERROR(__xludf.DUMMYFUNCTION(\"\"\"COMPUTED_VALUE\"\"\"),\"vnd.dece.unspecified\")","v":"vnd.dece.unspecified"},{"$f":"IFERROR(__xludf.DUMMYFUNCTION(\"\"\"COMPUTED_VALUE\"\"\"),\"vnd.dece.unspecified\")","v":"vnd.dece.unspecified"},{"$f":"IFERROR(__xludf.DUMMYFUNCTION(\"\"\"COMPUTED_VALUE\"\"\"),\"application/vnd.dece.unspecified\")","v":"application/vnd.dece.unspecified"},{"$f":"IFERROR(__xludf.DUMMYFUNCTION(\"\"\"COMPUTED_VALUE\"\"\"),\"en\")","v":"en"}]
[{"$f":"IFERROR(__xludf.DUMMYFUNCTION(\"\"\"COMPUTED_VALUE\"\"\"),\"https://www.iana.org/assignments/media-types/application/vnd.dece.zip\")","v":"https://www.iana.org/assignments/media-types/application/vnd.dece.zip"},{"$f":"IFERROR(__xludf.DUMMYFUNCTION(\"\"\"COMPUTED_VALUE\"\"\"),\"vnd.dece.zip\")","v":"vnd.dece.zip"},{"$f":"IFERROR(__xludf.DUMMYFUNCTION(\"\"\"COMPUTED_VALUE\"\"\"),\"vnd.dece.zip\")","v":"vnd.dece.zip"},{"$f":"IFERROR(__xludf.DUMMYFUNCTION(\"\"\"COMPUTED_VALUE\"\"\"),\"application/vnd.dece.zip\")","v":"application/vnd.dece.zip"},{"$f":"IFERROR(__xludf.DUMMYFUNCTION(\"\"\"COMPUTED_VALUE\"\"\"),\"en\")","v":"en"}]
[{"$f":"IFERROR(__xludf.DUMMYFUNCTION(\"\"\"COMPUTED_VALUE\"\"\"),\"https://www.iana.org/assignments/media-types/application/vnd.denovo.fcselayout-link\")","v":"https://www.iana.org/assignments/media-types/application/vnd.denovo.fcselayout-link"},{"$f":"IFERROR(__xludf.DUMMYFUNCTION(\"\"\"COMPUTED_VALUE\"\"\"),\"vnd.denovo.fcselayout-link\")","v":"vnd.denovo.fcselayout-link"},{"$f":"IFERROR(__xludf.DUMMYFUNCTION(\"\"\"COMPUTED_VALUE\"\"\"),\"vnd.denovo.fcselayout-link\")","v":"vnd.denovo.fcselayout-link"},{"$f":"IFERROR(__xludf.DUMMYFUNCTION(\"\"\"COMPUTED_VALUE\"\"\"),\"application/vnd.denovo.fcselayout-link\")","v":"application/vnd.denovo.fcselayout-link"},{"$f":"IFERROR(__xludf.DUMMYFUNCTION(\"\"\"COMPUTED_VALUE\"\"\"),\"en\")","v":"en"}]
[{"$f":"IFERROR(__xludf.DUMMYFUNCTION(\"\"\"COMPUTED_VALUE\"\"\"),\"https://www.iana.org/assignments/media-types/application/vnd.desmume.movie\")","v":"https://www.iana.org/assignments/media-types/application/vnd.desmume.movie"},{"$f":"IFERROR(__xludf.DUMMYFUNCTION(\"\"\"COMPUTED_VALUE\"\"\"),\"vnd.desmume.movie\")","v":"vnd.desmume.movie"},{"$f":"IFERROR(__xludf.DUMMYFUNCTION(\"\"\"COMPUTED_VALUE\"\"\"),\"vnd.desmume.movie\")","v":"vnd.desmume.movie"},{"$f":"IFERROR(__xludf.DUMMYFUNCTION(\"\"\"COMPUTED_VALUE\"\"\"),\"application/vnd.desmume.movie\")","v":"application/vnd.desmume.movie"},{"$f":"IFERROR(__xludf.DUMMYFUNCTION(\"\"\"COMPUTED_VALUE\"\"\"),\"en\")","v":"en"}]
[{"$f":"IFERROR(__xludf.DUMMYFUNCTION(\"\"\"COMPUTED_VALUE\"\"\"),\"https://www.iana.org/assignments/media-types/application/vnd.dir-bi.plate-dl-nosuffix\")","v":"https://www.iana.org/assignments/media-types/application/vnd.dir-bi.plate-dl-nosuffix"},{"$f":"IFERROR(__xludf.DUMMYFUNCTION(\"\"\"COMPUTED_VALUE\"\"\"),\"vnd.dir-bi.plate-dl-nosuffix\")","v":"vnd.dir-bi.plate-dl-nosuffix"},{"$f":"IFERROR(__xludf.DUMMYFUNCTION(\"\"\"COMPUTED_VALUE\"\"\"),\"vnd.dir-bi.plate-dl-nosuffix\")","v":"vnd.dir-bi.plate-dl-nosuffix"},{"$f":"IFERROR(__xludf.DUMMYFUNCTION(\"\"\"COMPUTED_VALUE\"\"\"),\"application/vnd.dir-bi.plate-dl-nosuffix\")","v":"application/vnd.dir-bi.plate-dl-nosuffix"},{"$f":"IFERROR(__xludf.DUMMYFUNCTION(\"\"\"COMPUTED_VALUE\"\"\"),\"en\")","v":"en"}]
[{"$f":"IFERROR(__xludf.DUMMYFUNCTION(\"\"\"COMPUTED_VALUE\"\"\"),\"https://www.iana.org/assignments/media-types/application/vnd.dm.delegation+xml\")","v":"https://www.iana.org/assignments/media-types/application/vnd.dm.delegation+xml"},{"$f":"IFERROR(__xludf.DUMMYFUNCTION(\"\"\"COMPUTED_VALUE\"\"\"),\"vnd.dm.delegation+xml\")","v":"vnd.dm.delegation+xml"},{"$f":"IFERROR(__xludf.DUMMYFUNCTION(\"\"\"COMPUTED_VALUE\"\"\"),\"vnd.dm.delegation+xml\")","v":"vnd.dm.delegation+xml"},{"$f":"IFERROR(__xludf.DUMMYFUNCTION(\"\"\"COMPUTED_VALUE\"\"\"),\"application/vnd.dm.delegation+xml\")","v":"application/vnd.dm.delegation+xml"},{"$f":"IFERROR(__xludf.DUMMYFUNCTION(\"\"\"COMPUTED_VALUE\"\"\"),\"en\")","v":"en"}]
[{"$f":"IFERROR(__xludf.DUMMYFUNCTION(\"\"\"COMPUTED_VALUE\"\"\"),\"https://www.iana.org/assignments/media-types/application/vnd.dna\")","v":"https://www.iana.org/assignments/media-types/application/vnd.dna"},{"$f":"IFERROR(__xludf.DUMMYFUNCTION(\"\"\"COMPUTED_VALUE\"\"\"),\"vnd.dna\")","v":"vnd.dna"},{"$f":"IFERROR(__xludf.DUMMYFUNCTION(\"\"\"COMPUTED_VALUE\"\"\"),\"vnd.dna\")","v":"vnd.dna"},{"$f":"IFERROR(__xludf.DUMMYFUNCTION(\"\"\"COMPUTED_VALUE\"\"\"),\"application/vnd.dna\")","v":"application/vnd.dna"},{"$f":"IFERROR(__xludf.DUMMYFUNCTION(\"\"\"COMPUTED_VALUE\"\"\"),\"en\")","v":"en"}]
[{"$f":"IFERROR(__xludf.DUMMYFUNCTION(\"\"\"COMPUTED_VALUE\"\"\"),\"https://www.iana.org/assignments/media-types/application/vnd.document+json\")","v":"https://www.iana.org/assignments/media-types/application/vnd.document+json"},{"$f":"IFERROR(__xludf.DUMMYFUNCTION(\"\"\"COMPUTED_VALUE\"\"\"),\"vnd.document+json\")","v":"vnd.document+json"},{"$f":"IFERROR(__xludf.DUMMYFUNCTION(\"\"\"COMPUTED_VALUE\"\"\"),\"vnd.document+json\")","v":"vnd.document+json"},{"$f":"IFERROR(__xludf.DUMMYFUNCTION(\"\"\"COMPUTED_VALUE\"\"\"),\"application/vnd.document+json\")","v":"application/vnd.document+json"},{"$f":"IFERROR(__xludf.DUMMYFUNCTION(\"\"\"COMPUTED_VALUE\"\"\"),\"en\")","v":"en"}]
[{"$f":"IFERROR(__xludf.DUMMYFUNCTION(\"\"\"COMPUTED_VALUE\"\"\"),\"https://www.iana.org/assignments/media-types/application/vnd.dolby.mobile.1\")","v":"https://www.iana.org/assignments/media-types/application/vnd.dolby.mobile.1"},{"$f":"IFERROR(__xludf.DUMMYFUNCTION(\"\"\"COMPUTED_VALUE\"\"\"),\"vnd.dolby.mobile.1\")","v":"vnd.dolby.mobile.1"},{"$f":"IFERROR(__xludf.DUMMYFUNCTION(\"\"\"COMPUTED_VALUE\"\"\"),\"vnd.dolby.mobile.1\")","v":"vnd.dolby.mobile.1"},{"$f":"IFERROR(__xludf.DUMMYFUNCTION(\"\"\"COMPUTED_VALUE\"\"\"),\"application/vnd.dolby.mobile.1\")","v":"application/vnd.dolby.mobile.1"},{"$f":"IFERROR(__xludf.DUMMYFUNCTION(\"\"\"COMPUTED_VALUE\"\"\"),\"en\")","v":"en"}]
[{"$f":"IFERROR(__xludf.DUMMYFUNCTION(\"\"\"COMPUTED_VALUE\"\"\"),\"https://www.iana.org/assignments/media-types/application/vnd.dolby.mobile.2\")","v":"https://www.iana.org/assignments/media-types/application/vnd.dolby.mobile.2"},{"$f":"IFERROR(__xludf.DUMMYFUNCTION(\"\"\"COMPUTED_VALUE\"\"\"),\"vnd.dolby.mobile.2\")","v":"vnd.dolby.mobile.2"},{"$f":"IFERROR(__xludf.DUMMYFUNCTION(\"\"\"COMPUTED_VALUE\"\"\"),\"vnd.dolby.mobile.2\")","v":"vnd.dolby.mobile.2"},{"$f":"IFERROR(__xludf.DUMMYFUNCTION(\"\"\"COMPUTED_VALUE\"\"\"),\"application/vnd.dolby.mobile.2\")","v":"application/vnd.dolby.mobile.2"},{"$f":"IFERROR(__xludf.DUMMYFUNCTION(\"\"\"COMPUTED_VALUE\"\"\"),\"en\")","v":"en"}]
[{"$f":"IFERROR(__xludf.DUMMYFUNCTION(\"\"\"COMPUTED_VALUE\"\"\"),\"https://www.iana.org/assignments/media-types/application/vnd.doremir.scorecloud-binary-document\")","v":"https://www.iana.org/assignments/media-types/application/vnd.doremir.scorecloud-binary-document"},{"$f":"IFERROR(__xludf.DUMMYFUNCTION(\"\"\"COMPUTED_VALUE\"\"\"),\"vnd.doremir.scorecloud-binary-document\")","v":"vnd.doremir.scorecloud-binary-document"},{"$f":"IFERROR(__xludf.DUMMYFUNCTION(\"\"\"COMPUTED_VALUE\"\"\"),\"vnd.doremir.scorecloud-binary-document\")","v":"vnd.doremir.scorecloud-binary-document"},{"$f":"IFERROR(__xludf.DUMMYFUNCTION(\"\"\"COMPUTED_VALUE\"\"\"),\"application/vnd.doremir.scorecloud-binary-document\")","v":"application/vnd.doremir.scorecloud-binary-document"},{"$f":"IFERROR(__xludf.DUMMYFUNCTION(\"\"\"COMPUTED_VALUE\"\"\"),\"en\")","v":"en"}]
[{"$f":"IFERROR(__xludf.DUMMYFUNCTION(\"\"\"COMPUTED_VALUE\"\"\"),\"https://www.iana.org/assignments/media-types/application/vnd.dpgraph\")","v":"https://www.iana.org/assignments/media-types/application/vnd.dpgraph"},{"$f":"IFERROR(__xludf.DUMMYFUNCTION(\"\"\"COMPUTED_VALUE\"\"\"),\"vnd.dpgraph\")","v":"vnd.dpgraph"},{"$f":"IFERROR(__xludf.DUMMYFUNCTION(\"\"\"COMPUTED_VALUE\"\"\"),\"vnd.dpgraph\")","v":"vnd.dpgraph"},{"$f":"IFERROR(__xludf.DUMMYFUNCTION(\"\"\"COMPUTED_VALUE\"\"\"),\"application/vnd.dpgraph\")","v":"application/vnd.dpgraph"},{"$f":"IFERROR(__xludf.DUMMYFUNCTION(\"\"\"COMPUTED_VALUE\"\"\"),\"en\")","v":"en"}]
[{"$f":"IFERROR(__xludf.DUMMYFUNCTION(\"\"\"COMPUTED_VALUE\"\"\"),\"https://www.iana.org/assignments/media-types/application/vnd.dreamfactory\")","v":"https://www.iana.org/assignments/media-types/application/vnd.dreamfactory"},{"$f":"IFERROR(__xludf.DUMMYFUNCTION(\"\"\"COMPUTED_VALUE\"\"\"),\"vnd.dreamfactory\")","v":"vnd.dreamfactory"},{"$f":"IFERROR(__xludf.DUMMYFUNCTION(\"\"\"COMPUTED_VALUE\"\"\"),\"vnd.dreamfactory\")","v":"vnd.dreamfactory"},{"$f":"IFERROR(__xludf.DUMMYFUNCTION(\"\"\"COMPUTED_VALUE\"\"\"),\"application/vnd.dreamfactory\")","v":"application/vnd.dreamfactory"},{"$f":"IFERROR(__xludf.DUMMYFUNCTION(\"\"\"COMPUTED_VALUE\"\"\"),\"en\")","v":"en"}]
[{"$f":"IFERROR(__xludf.DUMMYFUNCTION(\"\"\"COMPUTED_VALUE\"\"\"),\"https://www.iana.org/assignments/media-types/application/vnd.drive+json\")","v":"https://www.iana.org/assignments/media-types/application/vnd.drive+json"},{"$f":"IFERROR(__xludf.DUMMYFUNCTION(\"\"\"COMPUTED_VALUE\"\"\"),\"vnd.drive+json\")","v":"vnd.drive+json"},{"$f":"IFERROR(__xludf.DUMMYFUNCTION(\"\"\"COMPUTED_VALUE\"\"\"),\"vnd.drive+json\")","v":"vnd.drive+json"},{"$f":"IFERROR(__xludf.DUMMYFUNCTION(\"\"\"COMPUTED_VALUE\"\"\"),\"application/vnd.drive+json\")","v":"application/vnd.drive+json"},{"$f":"IFERROR(__xludf.DUMMYFUNCTION(\"\"\"COMPUTED_VALUE\"\"\"),\"en\")","v":"en"}]
[{"$f":"IFERROR(__xludf.DUMMYFUNCTION(\"\"\"COMPUTED_VALUE\"\"\"),\"https://www.iana.org/assignments/media-types/application/vnd.dtg.local\")","v":"https://www.iana.org/assignments/media-types/application/vnd.dtg.local"},{"$f":"IFERROR(__xludf.DUMMYFUNCTION(\"\"\"COMPUTED_VALUE\"\"\"),\"vnd.dtg.local\")","v":"vnd.dtg.local"},{"$f":"IFERROR(__xludf.DUMMYFUNCTION(\"\"\"COMPUTED_VALUE\"\"\"),\"vnd.dtg.local\")","v":"vnd.dtg.local"},{"$f":"IFERROR(__xludf.DUMMYFUNCTION(\"\"\"COMPUTED_VALUE\"\"\"),\"application/vnd.dtg.local\")","v":"application/vnd.dtg.local"},{"$f":"IFERROR(__xludf.DUMMYFUNCTION(\"\"\"COMPUTED_VALUE\"\"\"),\"en\")","v":"en"}]
[{"$f":"IFERROR(__xludf.DUMMYFUNCTION(\"\"\"COMPUTED_VALUE\"\"\"),\"https://www.iana.org/assignments/media-types/application/vnd.dtg.local.flash\")","v":"https://www.iana.org/assignments/media-types/application/vnd.dtg.local.flash"},{"$f":"IFERROR(__xludf.DUMMYFUNCTION(\"\"\"COMPUTED_VALUE\"\"\"),\"vnd.dtg.local.flash\")","v":"vnd.dtg.local.flash"},{"$f":"IFERROR(__xludf.DUMMYFUNCTION(\"\"\"COMPUTED_VALUE\"\"\"),\"vnd.dtg.local.flash\")","v":"vnd.dtg.local.flash"},{"$f":"IFERROR(__xludf.DUMMYFUNCTION(\"\"\"COMPUTED_VALUE\"\"\"),\"application/vnd.dtg.local.flash\")","v":"application/vnd.dtg.local.flash"},{"$f":"IFERROR(__xludf.DUMMYFUNCTION(\"\"\"COMPUTED_VALUE\"\"\"),\"en\")","v":"en"}]
[{"$f":"IFERROR(__xludf.DUMMYFUNCTION(\"\"\"COMPUTED_VALUE\"\"\"),\"https://www.iana.org/assignments/media-types/application/vnd.dtg.local.html\")","v":"https://www.iana.org/assignments/media-types/application/vnd.dtg.local.html"},{"$f":"IFERROR(__xludf.DUMMYFUNCTION(\"\"\"COMPUTED_VALUE\"\"\"),\"vnd.dtg.local.html\")","v":"vnd.dtg.local.html"},{"$f":"IFERROR(__xludf.DUMMYFUNCTION(\"\"\"COMPUTED_VALUE\"\"\"),\"vnd.dtg.local.html\")","v":"vnd.dtg.local.html"},{"$f":"IFERROR(__xludf.DUMMYFUNCTION(\"\"\"COMPUTED_VALUE\"\"\"),\"application/vnd.dtg.local.html\")","v":"application/vnd.dtg.local.html"},{"$f":"IFERROR(__xludf.DUMMYFUNCTION(\"\"\"COMPUTED_VALUE\"\"\"),\"en\")","v":"en"}]
[{"$f":"IFERROR(__xludf.DUMMYFUNCTION(\"\"\"COMPUTED_VALUE\"\"\"),\"https://www.iana.org/assignments/media-types/application/vnd.dvb.ait\")","v":"https://www.iana.org/assignments/media-types/application/vnd.dvb.ait"},{"$f":"IFERROR(__xludf.DUMMYFUNCTION(\"\"\"COMPUTED_VALUE\"\"\"),\"vnd.dvb.ait\")","v":"vnd.dvb.ait"},{"$f":"IFERROR(__xludf.DUMMYFUNCTION(\"\"\"COMPUTED_VALUE\"\"\"),\"vnd.dvb.ait\")","v":"vnd.dvb.ait"},{"$f":"IFERROR(__xludf.DUMMYFUNCTION(\"\"\"COMPUTED_VALUE\"\"\"),\"application/vnd.dvb.ait\")","v":"application/vnd.dvb.ait"},{"$f":"IFERROR(__xludf.DUMMYFUNCTION(\"\"\"COMPUTED_VALUE\"\"\"),\"en\")","v":"en"}]
[{"$f":"IFERROR(__xludf.DUMMYFUNCTION(\"\"\"COMPUTED_VALUE\"\"\"),\"https://www.iana.org/assignments/media-types/application/vnd.dvb.dvbisl+xml\")","v":"https://www.iana.org/assignments/media-types/application/vnd.dvb.dvbisl+xml"},{"$f":"IFERROR(__xludf.DUMMYFUNCTION(\"\"\"COMPUTED_VALUE\"\"\"),\"vnd.dvb.dvbisl+xml\")","v":"vnd.dvb.dvbisl+xml"},{"$f":"IFERROR(__xludf.DUMMYFUNCTION(\"\"\"COMPUTED_VALUE\"\"\"),\"vnd.dvb.dvbisl+xml\")","v":"vnd.dvb.dvbisl+xml"},{"$f":"IFERROR(__xludf.DUMMYFUNCTION(\"\"\"COMPUTED_VALUE\"\"\"),\"application/vnd.dvb.dvbisl+xml\")","v":"application/vnd.dvb.dvbisl+xml"},{"$f":"IFERROR(__xludf.DUMMYFUNCTION(\"\"\"COMPUTED_VALUE\"\"\"),\"en\")","v":"en"}]
[{"$f":"IFERROR(__xludf.DUMMYFUNCTION(\"\"\"COMPUTED_VALUE\"\"\"),\"https://www.iana.org/assignments/media-types/application/vnd.dvb.dvbj\")","v":"https://www.iana.org/assignments/media-types/application/vnd.dvb.dvbj"},{"$f":"IFERROR(__xludf.DUMMYFUNCTION(\"\"\"COMPUTED_VALUE\"\"\"),\"vnd.dvb.dvbj\")","v":"vnd.dvb.dvbj"},{"$f":"IFERROR(__xludf.DUMMYFUNCTION(\"\"\"COMPUTED_VALUE\"\"\"),\"vnd.dvb.dvbj\")","v":"vnd.dvb.dvbj"},{"$f":"IFERROR(__xludf.DUMMYFUNCTION(\"\"\"COMPUTED_VALUE\"\"\"),\"application/vnd.dvb.dvbj\")","v":"application/vnd.dvb.dvbj"},{"$f":"IFERROR(__xludf.DUMMYFUNCTION(\"\"\"COMPUTED_VALUE\"\"\"),\"en\")","v":"en"}]
[{"$f":"IFERROR(__xludf.DUMMYFUNCTION(\"\"\"COMPUTED_VALUE\"\"\"),\"https://www.iana.org/assignments/media-types/application/vnd.dvb.esgcontainer\")","v":"https://www.iana.org/assignments/media-types/application/vnd.dvb.esgcontainer"},{"$f":"IFERROR(__xludf.DUMMYFUNCTION(\"\"\"COMPUTED_VALUE\"\"\"),\"vnd.dvb.esgcontainer\")","v":"vnd.dvb.esgcontainer"},{"$f":"IFERROR(__xludf.DUMMYFUNCTION(\"\"\"COMPUTED_VALUE\"\"\"),\"vnd.dvb.esgcontainer\")","v":"vnd.dvb.esgcontainer"},{"$f":"IFERROR(__xludf.DUMMYFUNCTION(\"\"\"COMPUTED_VALUE\"\"\"),\"application/vnd.dvb.esgcontainer\")","v":"application/vnd.dvb.esgcontainer"},{"$f":"IFERROR(__xludf.DUMMYFUNCTION(\"\"\"COMPUTED_VALUE\"\"\"),\"en\")","v":"en"}]
[{"$f":"IFERROR(__xludf.DUMMYFUNCTION(\"\"\"COMPUTED_VALUE\"\"\"),\"https://www.iana.org/assignments/media-types/application/vnd.dvb.ipdcdftnotifaccess\")","v":"https://www.iana.org/assignments/media-types/application/vnd.dvb.ipdcdftnotifaccess"},{"$f":"IFERROR(__xludf.DUMMYFUNCTION(\"\"\"COMPUTED_VALUE\"\"\"),\"vnd.dvb.ipdcdftnotifaccess\")","v":"vnd.dvb.ipdcdftnotifaccess"},{"$f":"IFERROR(__xludf.DUMMYFUNCTION(\"\"\"COMPUTED_VALUE\"\"\"),\"vnd.dvb.ipdcdftnotifaccess\")","v":"vnd.dvb.ipdcdftnotifaccess"},{"$f":"IFERROR(__xludf.DUMMYFUNCTION(\"\"\"COMPUTED_VALUE\"\"\"),\"application/vnd.dvb.ipdcdftnotifaccess\")","v":"application/vnd.dvb.ipdcdftnotifaccess"},{"$f":"IFERROR(__xludf.DUMMYFUNCTION(\"\"\"COMPUTED_VALUE\"\"\"),\"en\")","v":"en"}]
[{"$f":"IFERROR(__xludf.DUMMYFUNCTION(\"\"\"COMPUTED_VALUE\"\"\"),\"https://www.iana.org/assignments/media-types/application/vnd.dvb.ipdcesgaccess\")","v":"https://www.iana.org/assignments/media-types/application/vnd.dvb.ipdcesgaccess"},{"$f":"IFERROR(__xludf.DUMMYFUNCTION(\"\"\"COMPUTED_VALUE\"\"\"),\"vnd.dvb.ipdcesgaccess\")","v":"vnd.dvb.ipdcesgaccess"},{"$f":"IFERROR(__xludf.DUMMYFUNCTION(\"\"\"COMPUTED_VALUE\"\"\"),\"vnd.dvb.ipdcesgaccess\")","v":"vnd.dvb.ipdcesgaccess"},{"$f":"IFERROR(__xludf.DUMMYFUNCTION(\"\"\"COMPUTED_VALUE\"\"\"),\"application/vnd.dvb.ipdcesgaccess\")","v":"application/vnd.dvb.ipdcesgaccess"},{"$f":"IFERROR(__xludf.DUMMYFUNCTION(\"\"\"COMPUTED_VALUE\"\"\"),\"en\")","v":"en"}]
[{"$f":"IFERROR(__xludf.DUMMYFUNCTION(\"\"\"COMPUTED_VALUE\"\"\"),\"https://www.iana.org/assignments/media-types/application/vnd.dvb.ipdcesgaccess2\")","v":"https://www.iana.org/assignments/media-types/application/vnd.dvb.ipdcesgaccess2"},{"$f":"IFERROR(__xludf.DUMMYFUNCTION(\"\"\"COMPUTED_VALUE\"\"\"),\"vnd.dvb.ipdcesgaccess2\")","v":"vnd.dvb.ipdcesgaccess2"},{"$f":"IFERROR(__xludf.DUMMYFUNCTION(\"\"\"COMPUTED_VALUE\"\"\"),\"vnd.dvb.ipdcesgaccess2\")","v":"vnd.dvb.ipdcesgaccess2"},{"$f":"IFERROR(__xludf.DUMMYFUNCTION(\"\"\"COMPUTED_VALUE\"\"\"),\"application/vnd.dvb.ipdcesgaccess2\")","v":"application/vnd.dvb.ipdcesgaccess2"},{"$f":"IFERROR(__xludf.DUMMYFUNCTION(\"\"\"COMPUTED_VALUE\"\"\"),\"en\")","v":"en"}]
[{"$f":"IFERROR(__xludf.DUMMYFUNCTION(\"\"\"COMPUTED_VALUE\"\"\"),\"https://www.iana.org/assignments/media-types/application/vnd.dvb.ipdcesgpdd\")","v":"https://www.iana.org/assignments/media-types/application/vnd.dvb.ipdcesgpdd"},{"$f":"IFERROR(__xludf.DUMMYFUNCTION(\"\"\"COMPUTED_VALUE\"\"\"),\"vnd.dvb.ipdcesgpdd\")","v":"vnd.dvb.ipdcesgpdd"},{"$f":"IFERROR(__xludf.DUMMYFUNCTION(\"\"\"COMPUTED_VALUE\"\"\"),\"vnd.dvb.ipdcesgpdd\")","v":"vnd.dvb.ipdcesgpdd"},{"$f":"IFERROR(__xludf.DUMMYFUNCTION(\"\"\"COMPUTED_VALUE\"\"\"),\"application/vnd.dvb.ipdcesgpdd\")","v":"application/vnd.dvb.ipdcesgpdd"},{"$f":"IFERROR(__xludf.DUMMYFUNCTION(\"\"\"COMPUTED_VALUE\"\"\"),\"en\")","v":"en"}]
[{"$f":"IFERROR(__xludf.DUMMYFUNCTION(\"\"\"COMPUTED_VALUE\"\"\"),\"https://www.iana.org/assignments/media-types/application/vnd.dvb.ipdcroaming\")","v":"https://www.iana.org/assignments/media-types/application/vnd.dvb.ipdcroaming"},{"$f":"IFERROR(__xludf.DUMMYFUNCTION(\"\"\"COMPUTED_VALUE\"\"\"),\"vnd.dvb.ipdcroaming\")","v":"vnd.dvb.ipdcroaming"},{"$f":"IFERROR(__xludf.DUMMYFUNCTION(\"\"\"COMPUTED_VALUE\"\"\"),\"vnd.dvb.ipdcroaming\")","v":"vnd.dvb.ipdcroaming"},{"$f":"IFERROR(__xludf.DUMMYFUNCTION(\"\"\"COMPUTED_VALUE\"\"\"),\"application/vnd.dvb.ipdcroaming\")","v":"application/vnd.dvb.ipdcroaming"},{"$f":"IFERROR(__xludf.DUMMYFUNCTION(\"\"\"COMPUTED_VALUE\"\"\"),\"en\")","v":"en"}]
[{"$f":"IFERROR(__xludf.DUMMYFUNCTION(\"\"\"COMPUTED_VALUE\"\"\"),\"https://www.iana.org/assignments/media-types/application/vnd.dvb.iptv.alfec-base\")","v":"https://www.iana.org/assignments/media-types/application/vnd.dvb.iptv.alfec-base"},{"$f":"IFERROR(__xludf.DUMMYFUNCTION(\"\"\"COMPUTED_VALUE\"\"\"),\"vnd.dvb.iptv.alfec-base\")","v":"vnd.dvb.iptv.alfec-base"},{"$f":"IFERROR(__xludf.DUMMYFUNCTION(\"\"\"COMPUTED_VALUE\"\"\"),\"vnd.dvb.iptv.alfec-base\")","v":"vnd.dvb.iptv.alfec-base"},{"$f":"IFERROR(__xludf.DUMMYFUNCTION(\"\"\"COMPUTED_VALUE\"\"\"),\"application/vnd.dvb.iptv.alfec-base\")","v":"application/vnd.dvb.iptv.alfec-base"},{"$f":"IFERROR(__xludf.DUMMYFUNCTION(\"\"\"COMPUTED_VALUE\"\"\"),\"en\")","v":"en"}]
[{"$f":"IFERROR(__xludf.DUMMYFUNCTION(\"\"\"COMPUTED_VALUE\"\"\"),\"https://www.iana.org/assignments/media-types/application/vnd.dvb.iptv.alfec-enhancement\")","v":"https://www.iana.org/assignments/media-types/application/vnd.dvb.iptv.alfec-enhancement"},{"$f":"IFERROR(__xludf.DUMMYFUNCTION(\"\"\"COMPUTED_VALUE\"\"\"),\"vnd.dvb.iptv.alfec-enhancement\")","v":"vnd.dvb.iptv.alfec-enhancement"},{"$f":"IFERROR(__xludf.DUMMYFUNCTION(\"\"\"COMPUTED_VALUE\"\"\"),\"vnd.dvb.iptv.alfec-enhancement\")","v":"vnd.dvb.iptv.alfec-enhancement"},{"$f":"IFERROR(__xludf.DUMMYFUNCTION(\"\"\"COMPUTED_VALUE\"\"\"),\"application/vnd.dvb.iptv.alfec-enhancement\")","v":"application/vnd.dvb.iptv.alfec-enhancement"},{"$f":"IFERROR(__xludf.DUMMYFUNCTION(\"\"\"COMPUTED_VALUE\"\"\"),\"en\")","v":"en"}]
[{"$f":"IFERROR(__xludf.DUMMYFUNCTION(\"\"\"COMPUTED_VALUE\"\"\"),\"https://www.iana.org/assignments/media-types/application/vnd.dvb.notif-aggregate-root+xml\")","v":"https://www.iana.org/assignments/media-types/application/vnd.dvb.notif-aggregate-root+xml"},{"$f":"IFERROR(__xludf.DUMMYFUNCTION(\"\"\"COMPUTED_VALUE\"\"\"),\"vnd.dvb.notif-aggregate-root+xml\")","v":"vnd.dvb.notif-aggregate-root+xml"},{"$f":"IFERROR(__xludf.DUMMYFUNCTION(\"\"\"COMPUTED_VALUE\"\"\"),\"vnd.dvb.notif-aggregate-root+xml\")","v":"vnd.dvb.notif-aggregate-root+xml"},{"$f":"IFERROR(__xludf.DUMMYFUNCTION(\"\"\"COMPUTED_VALUE\"\"\"),\"application/vnd.dvb.notif-aggregate-root+xml\")","v":"application/vnd.dvb.notif-aggregate-root+xml"},{"$f":"IFERROR(__xludf.DUMMYFUNCTION(\"\"\"COMPUTED_VALUE\"\"\"),\"en\")","v":"en"}]
[{"$f":"IFERROR(__xludf.DUMMYFUNCTION(\"\"\"COMPUTED_VALUE\"\"\"),\"https://www.iana.org/assignments/media-types/application/vnd.dvb.notif-container+xml\")","v":"https://www.iana.org/assignments/media-types/application/vnd.dvb.notif-container+xml"},{"$f":"IFERROR(__xludf.DUMMYFUNCTION(\"\"\"COMPUTED_VALUE\"\"\"),\"vnd.dvb.notif-container+xml\")","v":"vnd.dvb.notif-container+xml"},{"$f":"IFERROR(__xludf.DUMMYFUNCTION(\"\"\"COMPUTED_VALUE\"\"\"),\"vnd.dvb.notif-container+xml\")","v":"vnd.dvb.notif-container+xml"},{"$f":"IFERROR(__xludf.DUMMYFUNCTION(\"\"\"COMPUTED_VALUE\"\"\"),\"application/vnd.dvb.notif-container+xml\")","v":"application/vnd.dvb.notif-container+xml"},{"$f":"IFERROR(__xludf.DUMMYFUNCTION(\"\"\"COMPUTED_VALUE\"\"\"),\"en\")","v":"en"}]
[{"$f":"IFERROR(__xludf.DUMMYFUNCTION(\"\"\"COMPUTED_VALUE\"\"\"),\"https://www.iana.org/assignments/media-types/application/vnd.dvb.notif-generic+xml\")","v":"https://www.iana.org/assignments/media-types/application/vnd.dvb.notif-generic+xml"},{"$f":"IFERROR(__xludf.DUMMYFUNCTION(\"\"\"COMPUTED_VALUE\"\"\"),\"vnd.dvb.notif-generic+xml\")","v":"vnd.dvb.notif-generic+xml"},{"$f":"IFERROR(__xludf.DUMMYFUNCTION(\"\"\"COMPUTED_VALUE\"\"\"),\"vnd.dvb.notif-generic+xml\")","v":"vnd.dvb.notif-generic+xml"},{"$f":"IFERROR(__xludf.DUMMYFUNCTION(\"\"\"COMPUTED_VALUE\"\"\"),\"application/vnd.dvb.notif-generic+xml\")","v":"application/vnd.dvb.notif-generic+xml"},{"$f":"IFERROR(__xludf.DUMMYFUNCTION(\"\"\"COMPUTED_VALUE\"\"\"),\"en\")","v":"en"}]
[{"$f":"IFERROR(__xludf.DUMMYFUNCTION(\"\"\"COMPUTED_VALUE\"\"\"),\"https://www.iana.org/assignments/media-types/application/vnd.dvb.notif-ia-msglist+xml\")","v":"https://www.iana.org/assignments/media-types/application/vnd.dvb.notif-ia-msglist+xml"},{"$f":"IFERROR(__xludf.DUMMYFUNCTION(\"\"\"COMPUTED_VALUE\"\"\"),\"vnd.dvb.notif-ia-msglist+xml\")","v":"vnd.dvb.notif-ia-msglist+xml"},{"$f":"IFERROR(__xludf.DUMMYFUNCTION(\"\"\"COMPUTED_VALUE\"\"\"),\"vnd.dvb.notif-ia-msglist+xml\")","v":"vnd.dvb.notif-ia-msglist+xml"},{"$f":"IFERROR(__xludf.DUMMYFUNCTION(\"\"\"COMPUTED_VALUE\"\"\"),\"application/vnd.dvb.notif-ia-msglist+xml\")","v":"application/vnd.dvb.notif-ia-msglist+xml"},{"$f":"IFERROR(__xludf.DUMMYFUNCTION(\"\"\"COMPUTED_VALUE\"\"\"),\"en\")","v":"en"}]
[{"$f":"IFERROR(__xludf.DUMMYFUNCTION(\"\"\"COMPUTED_VALUE\"\"\"),\"https://www.iana.org/assignments/media-types/application/vnd.dvb.notif-ia-registration-request+xml\")","v":"https://www.iana.org/assignments/media-types/application/vnd.dvb.notif-ia-registration-request+xml"},{"$f":"IFERROR(__xludf.DUMMYFUNCTION(\"\"\"COMPUTED_VALUE\"\"\"),\"vnd.dvb.notif-ia-registration-request+xml\")","v":"vnd.dvb.notif-ia-registration-request+xml"},{"$f":"IFERROR(__xludf.DUMMYFUNCTION(\"\"\"COMPUTED_VALUE\"\"\"),\"vnd.dvb.notif-ia-registration-request+xml\")","v":"vnd.dvb.notif-ia-registration-request+xml"},{"$f":"IFERROR(__xludf.DUMMYFUNCTION(\"\"\"COMPUTED_VALUE\"\"\"),\"application/vnd.dvb.notif-ia-registration-request+xml\")","v":"application/vnd.dvb.notif-ia-registration-request+xml"},{"$f":"IFERROR(__xludf.DUMMYFUNCTION(\"\"\"COMPUTED_VALUE\"\"\"),\"en\")","v":"en"}]
[{"$f":"IFERROR(__xludf.DUMMYFUNCTION(\"\"\"COMPUTED_VALUE\"\"\"),\"https://www.iana.org/assignments/media-types/application/vnd.dvb.notif-ia-registration-response+xml\")","v":"https://www.iana.org/assignments/media-types/application/vnd.dvb.notif-ia-registration-response+xml"},{"$f":"IFERROR(__xludf.DUMMYFUNCTION(\"\"\"COMPUTED_VALUE\"\"\"),\"vnd.dvb.notif-ia-registration-response+xml\")","v":"vnd.dvb.notif-ia-registration-response+xml"},{"$f":"IFERROR(__xludf.DUMMYFUNCTION(\"\"\"COMPUTED_VALUE\"\"\"),\"vnd.dvb.notif-ia-registration-response+xml\")","v":"vnd.dvb.notif-ia-registration-response+xml"},{"$f":"IFERROR(__xludf.DUMMYFUNCTION(\"\"\"COMPUTED_VALUE\"\"\"),\"application/vnd.dvb.notif-ia-registration-response+xml\")","v":"application/vnd.dvb.notif-ia-registration-response+xml"},{"$f":"IFERROR(__xludf.DUMMYFUNCTION(\"\"\"COMPUTED_VALUE\"\"\"),\"en\")","v":"en"}]
[{"$f":"IFERROR(__xludf.DUMMYFUNCTION(\"\"\"COMPUTED_VALUE\"\"\"),\"https://www.iana.org/assignments/media-types/application/vnd.dvb.notif-init+xml\")","v":"https://www.iana.org/assignments/media-types/application/vnd.dvb.notif-init+xml"},{"$f":"IFERROR(__xludf.DUMMYFUNCTION(\"\"\"COMPUTED_VALUE\"\"\"),\"vnd.dvb.notif-init+xml\")","v":"vnd.dvb.notif-init+xml"},{"$f":"IFERROR(__xludf.DUMMYFUNCTION(\"\"\"COMPUTED_VALUE\"\"\"),\"vnd.dvb.notif-init+xml\")","v":"vnd.dvb.notif-init+xml"},{"$f":"IFERROR(__xludf.DUMMYFUNCTION(\"\"\"COMPUTED_VALUE\"\"\"),\"application/vnd.dvb.notif-init+xml\")","v":"application/vnd.dvb.notif-init+xml"},{"$f":"IFERROR(__xludf.DUMMYFUNCTION(\"\"\"COMPUTED_VALUE\"\"\"),\"en\")","v":"en"}]
[{"$f":"IFERROR(__xludf.DUMMYFUNCTION(\"\"\"COMPUTED_VALUE\"\"\"),\"https://www.iana.org/assignments/media-types/application/vnd.dvb.pfr\")","v":"https://www.iana.org/assignments/media-types/application/vnd.dvb.pfr"},{"$f":"IFERROR(__xludf.DUMMYFUNCTION(\"\"\"COMPUTED_VALUE\"\"\"),\"vnd.dvb.pfr\")","v":"vnd.dvb.pfr"},{"$f":"IFERROR(__xludf.DUMMYFUNCTION(\"\"\"COMPUTED_VALUE\"\"\"),\"vnd.dvb.pfr\")","v":"vnd.dvb.pfr"},{"$f":"IFERROR(__xludf.DUMMYFUNCTION(\"\"\"COMPUTED_VALUE\"\"\"),\"application/vnd.dvb.pfr\")","v":"application/vnd.dvb.pfr"},{"$f":"IFERROR(__xludf.DUMMYFUNCTION(\"\"\"COMPUTED_VALUE\"\"\"),\"en\")","v":"en"}]
[{"$f":"IFERROR(__xludf.DUMMYFUNCTION(\"\"\"COMPUTED_VALUE\"\"\"),\"https://www.iana.org/assignments/media-types/application/vnd.dvb.service\")","v":"https://www.iana.org/assignments/media-types/application/vnd.dvb.service"},{"$f":"IFERROR(__xludf.DUMMYFUNCTION(\"\"\"COMPUTED_VALUE\"\"\"),\"vnd.dvb.service\")","v":"vnd.dvb.service"},{"$f":"IFERROR(__xludf.DUMMYFUNCTION(\"\"\"COMPUTED_VALUE\"\"\"),\"vnd.dvb.service\")","v":"vnd.dvb.service"},{"$f":"IFERROR(__xludf.DUMMYFUNCTION(\"\"\"COMPUTED_VALUE\"\"\"),\"application/vnd.dvb.service\")","v":"application/vnd.dvb.service"},{"$f":"IFERROR(__xludf.DUMMYFUNCTION(\"\"\"COMPUTED_VALUE\"\"\"),\"en\")","v":"en"}]
[{"$f":"IFERROR(__xludf.DUMMYFUNCTION(\"\"\"COMPUTED_VALUE\"\"\"),\"https://www.iana.org/assignments/media-types/application/vnd.dxr\")","v":"https://www.iana.org/assignments/media-types/application/vnd.dxr"},{"$f":"IFERROR(__xludf.DUMMYFUNCTION(\"\"\"COMPUTED_VALUE\"\"\"),\"vnd.dxr\")","v":"vnd.dxr"},{"$f":"IFERROR(__xludf.DUMMYFUNCTION(\"\"\"COMPUTED_VALUE\"\"\"),\"vnd.dxr\")","v":"vnd.dxr"},{"$f":"IFERROR(__xludf.DUMMYFUNCTION(\"\"\"COMPUTED_VALUE\"\"\"),\"application/vnd.dxr\")","v":"application/vnd.dxr"},{"$f":"IFERROR(__xludf.DUMMYFUNCTION(\"\"\"COMPUTED_VALUE\"\"\"),\"en\")","v":"en"}]
[{"$f":"IFERROR(__xludf.DUMMYFUNCTION(\"\"\"COMPUTED_VALUE\"\"\"),\"https://www.iana.org/assignments/media-types/application/vnd.dynageo\")","v":"https://www.iana.org/assignments/media-types/application/vnd.dynageo"},{"$f":"IFERROR(__xludf.DUMMYFUNCTION(\"\"\"COMPUTED_VALUE\"\"\"),\"vnd.dynageo\")","v":"vnd.dynageo"},{"$f":"IFERROR(__xludf.DUMMYFUNCTION(\"\"\"COMPUTED_VALUE\"\"\"),\"vnd.dynageo\")","v":"vnd.dynageo"},{"$f":"IFERROR(__xludf.DUMMYFUNCTION(\"\"\"COMPUTED_VALUE\"\"\"),\"application/vnd.dynageo\")","v":"application/vnd.dynageo"},{"$f":"IFERROR(__xludf.DUMMYFUNCTION(\"\"\"COMPUTED_VALUE\"\"\"),\"en\")","v":"en"}]
[{"$f":"IFERROR(__xludf.DUMMYFUNCTION(\"\"\"COMPUTED_VALUE\"\"\"),\"https://www.iana.org/assignments/media-types/application/vnd.dzr\")","v":"https://www.iana.org/assignments/media-types/application/vnd.dzr"},{"$f":"IFERROR(__xludf.DUMMYFUNCTION(\"\"\"COMPUTED_VALUE\"\"\"),\"vnd.dzr\")","v":"vnd.dzr"},{"$f":"IFERROR(__xludf.DUMMYFUNCTION(\"\"\"COMPUTED_VALUE\"\"\"),\"vnd.dzr\")","v":"vnd.dzr"},{"$f":"IFERROR(__xludf.DUMMYFUNCTION(\"\"\"COMPUTED_VALUE\"\"\"),\"application/vnd.dzr\")","v":"application/vnd.dzr"},{"$f":"IFERROR(__xludf.DUMMYFUNCTION(\"\"\"COMPUTED_VALUE\"\"\"),\"en\")","v":"en"}]
[{"$f":"IFERROR(__xludf.DUMMYFUNCTION(\"\"\"COMPUTED_VALUE\"\"\"),\"https://www.iana.org/assignments/media-types/application/vnd.easykaraoke.cdgdownload\")","v":"https://www.iana.org/assignments/media-types/application/vnd.easykaraoke.cdgdownload"},{"$f":"IFERROR(__xludf.DUMMYFUNCTION(\"\"\"COMPUTED_VALUE\"\"\"),\"vnd.easykaraoke.cdgdownload\")","v":"vnd.easykaraoke.cdgdownload"},{"$f":"IFERROR(__xludf.DUMMYFUNCTION(\"\"\"COMPUTED_VALUE\"\"\"),\"vnd.easykaraoke.cdgdownload\")","v":"vnd.easykaraoke.cdgdownload"},{"$f":"IFERROR(__xludf.DUMMYFUNCTION(\"\"\"COMPUTED_VALUE\"\"\"),\"application/vnd.easykaraoke.cdgdownload\")","v":"application/vnd.easykaraoke.cdgdownload"},{"$f":"IFERROR(__xludf.DUMMYFUNCTION(\"\"\"COMPUTED_VALUE\"\"\"),\"en\")","v":"en"}]
[{"$f":"IFERROR(__xludf.DUMMYFUNCTION(\"\"\"COMPUTED_VALUE\"\"\"),\"https://www.iana.org/assignments/media-types/application/vnd.ecip.rlp\")","v":"https://www.iana.org/assignments/media-types/application/vnd.ecip.rlp"},{"$f":"IFERROR(__xludf.DUMMYFUNCTION(\"\"\"COMPUTED_VALUE\"\"\"),\"vnd.ecip.rlp\")","v":"vnd.ecip.rlp"},{"$f":"IFERROR(__xludf.DUMMYFUNCTION(\"\"\"COMPUTED_VALUE\"\"\"),\"vnd.ecip.rlp\")","v":"vnd.ecip.rlp"},{"$f":"IFERROR(__xludf.DUMMYFUNCTION(\"\"\"COMPUTED_VALUE\"\"\"),\"application/vnd.ecip.rlp\")","v":"application/vnd.ecip.rlp"},{"$f":"IFERROR(__xludf.DUMMYFUNCTION(\"\"\"COMPUTED_VALUE\"\"\"),\"en\")","v":"en"}]
[{"$f":"IFERROR(__xludf.DUMMYFUNCTION(\"\"\"COMPUTED_VALUE\"\"\"),\"https://www.iana.org/assignments/media-types/application/vnd.ecdis-update\")","v":"https://www.iana.org/assignments/media-types/application/vnd.ecdis-update"},{"$f":"IFERROR(__xludf.DUMMYFUNCTION(\"\"\"COMPUTED_VALUE\"\"\"),\"vnd.ecdis-update\")","v":"vnd.ecdis-update"},{"$f":"IFERROR(__xludf.DUMMYFUNCTION(\"\"\"COMPUTED_VALUE\"\"\"),\"vnd.ecdis-update\")","v":"vnd.ecdis-update"},{"$f":"IFERROR(__xludf.DUMMYFUNCTION(\"\"\"COMPUTED_VALUE\"\"\"),\"application/vnd.ecdis-update\")","v":"application/vnd.ecdis-update"},{"$f":"IFERROR(__xludf.DUMMYFUNCTION(\"\"\"COMPUTED_VALUE\"\"\"),\"en\")","v":"en"}]
[{"$f":"IFERROR(__xludf.DUMMYFUNCTION(\"\"\"COMPUTED_VALUE\"\"\"),\"https://www.iana.org/assignments/media-types/application/vnd.eclipse.ditto+json\")","v":"https://www.iana.org/assignments/media-types/application/vnd.eclipse.ditto+json"},{"$f":"IFERROR(__xludf.DUMMYFUNCTION(\"\"\"COMPUTED_VALUE\"\"\"),\"vnd.eclipse.ditto+json\")","v":"vnd.eclipse.ditto+json"},{"$f":"IFERROR(__xludf.DUMMYFUNCTION(\"\"\"COMPUTED_VALUE\"\"\"),\"vnd.eclipse.ditto+json\")","v":"vnd.eclipse.ditto+json"},{"$f":"IFERROR(__xludf.DUMMYFUNCTION(\"\"\"COMPUTED_VALUE\"\"\"),\"application/vnd.eclipse.ditto+json\")","v":"application/vnd.eclipse.ditto+json"},{"$f":"IFERROR(__xludf.DUMMYFUNCTION(\"\"\"COMPUTED_VALUE\"\"\"),\"en\")","v":"en"}]
[{"$f":"IFERROR(__xludf.DUMMYFUNCTION(\"\"\"COMPUTED_VALUE\"\"\"),\"https://www.iana.org/assignments/media-types/application/vnd.ecowin.chart\")","v":"https://www.iana.org/assignments/media-types/application/vnd.ecowin.chart"},{"$f":"IFERROR(__xludf.DUMMYFUNCTION(\"\"\"COMPUTED_VALUE\"\"\"),\"vnd.ecowin.chart\")","v":"vnd.ecowin.chart"},{"$f":"IFERROR(__xludf.DUMMYFUNCTION(\"\"\"COMPUTED_VALUE\"\"\"),\"vnd.ecowin.chart\")","v":"vnd.ecowin.chart"},{"$f":"IFERROR(__xludf.DUMMYFUNCTION(\"\"\"COMPUTED_VALUE\"\"\"),\"application/vnd.ecowin.chart\")","v":"application/vnd.ecowin.chart"},{"$f":"IFERROR(__xludf.DUMMYFUNCTION(\"\"\"COMPUTED_VALUE\"\"\"),\"en\")","v":"en"}]
[{"$f":"IFERROR(__xludf.DUMMYFUNCTION(\"\"\"COMPUTED_VALUE\"\"\"),\"https://www.iana.org/assignments/media-types/application/vnd.ecowin.filerequest\")","v":"https://www.iana.org/assignments/media-types/application/vnd.ecowin.filerequest"},{"$f":"IFERROR(__xludf.DUMMYFUNCTION(\"\"\"COMPUTED_VALUE\"\"\"),\"vnd.ecowin.filerequest\")","v":"vnd.ecowin.filerequest"},{"$f":"IFERROR(__xludf.DUMMYFUNCTION(\"\"\"COMPUTED_VALUE\"\"\"),\"vnd.ecowin.filerequest\")","v":"vnd.ecowin.filerequest"},{"$f":"IFERROR(__xludf.DUMMYFUNCTION(\"\"\"COMPUTED_VALUE\"\"\"),\"application/vnd.ecowin.filerequest\")","v":"application/vnd.ecowin.filerequest"},{"$f":"IFERROR(__xludf.DUMMYFUNCTION(\"\"\"COMPUTED_VALUE\"\"\"),\"en\")","v":"en"}]
[{"$f":"IFERROR(__xludf.DUMMYFUNCTION(\"\"\"COMPUTED_VALUE\"\"\"),\"https://www.iana.org/assignments/media-types/application/vnd.ecowin.fileupdate\")","v":"https://www.iana.org/assignments/media-types/application/vnd.ecowin.fileupdate"},{"$f":"IFERROR(__xludf.DUMMYFUNCTION(\"\"\"COMPUTED_VALUE\"\"\"),\"vnd.ecowin.fileupdate\")","v":"vnd.ecowin.fileupdate"},{"$f":"IFERROR(__xludf.DUMMYFUNCTION(\"\"\"COMPUTED_VALUE\"\"\"),\"vnd.ecowin.fileupdate\")","v":"vnd.ecowin.fileupdate"},{"$f":"IFERROR(__xludf.DUMMYFUNCTION(\"\"\"COMPUTED_VALUE\"\"\"),\"application/vnd.ecowin.fileupdate\")","v":"application/vnd.ecowin.fileupdate"},{"$f":"IFERROR(__xludf.DUMMYFUNCTION(\"\"\"COMPUTED_VALUE\"\"\"),\"en\")","v":"en"}]
[{"$f":"IFERROR(__xludf.DUMMYFUNCTION(\"\"\"COMPUTED_VALUE\"\"\"),\"https://www.iana.org/assignments/media-types/application/vnd.ecowin.series\")","v":"https://www.iana.org/assignments/media-types/application/vnd.ecowin.series"},{"$f":"IFERROR(__xludf.DUMMYFUNCTION(\"\"\"COMPUTED_VALUE\"\"\"),\"vnd.ecowin.series\")","v":"vnd.ecowin.series"},{"$f":"IFERROR(__xludf.DUMMYFUNCTION(\"\"\"COMPUTED_VALUE\"\"\"),\"vnd.ecowin.series\")","v":"vnd.ecowin.series"},{"$f":"IFERROR(__xludf.DUMMYFUNCTION(\"\"\"COMPUTED_VALUE\"\"\"),\"application/vnd.ecowin.series\")","v":"application/vnd.ecowin.series"},{"$f":"IFERROR(__xludf.DUMMYFUNCTION(\"\"\"COMPUTED_VALUE\"\"\"),\"en\")","v":"en"}]
[{"$f":"IFERROR(__xludf.DUMMYFUNCTION(\"\"\"COMPUTED_VALUE\"\"\"),\"https://www.iana.org/assignments/media-types/application/vnd.ecowin.seriesrequest\")","v":"https://www.iana.org/assignments/media-types/application/vnd.ecowin.seriesrequest"},{"$f":"IFERROR(__xludf.DUMMYFUNCTION(\"\"\"COMPUTED_VALUE\"\"\"),\"vnd.ecowin.seriesrequest\")","v":"vnd.ecowin.seriesrequest"},{"$f":"IFERROR(__xludf.DUMMYFUNCTION(\"\"\"COMPUTED_VALUE\"\"\"),\"vnd.ecowin.seriesrequest\")","v":"vnd.ecowin.seriesrequest"},{"$f":"IFERROR(__xludf.DUMMYFUNCTION(\"\"\"COMPUTED_VALUE\"\"\"),\"application/vnd.ecowin.seriesrequest\")","v":"application/vnd.ecowin.seriesrequest"},{"$f":"IFERROR(__xludf.DUMMYFUNCTION(\"\"\"COMPUTED_VALUE\"\"\"),\"en\")","v":"en"}]
[{"$f":"IFERROR(__xludf.DUMMYFUNCTION(\"\"\"COMPUTED_VALUE\"\"\"),\"https://www.iana.org/assignments/media-types/application/vnd.ecowin.seriesupdate\")","v":"https://www.iana.org/assignments/media-types/application/vnd.ecowin.seriesupdate"},{"$f":"IFERROR(__xludf.DUMMYFUNCTION(\"\"\"COMPUTED_VALUE\"\"\"),\"vnd.ecowin.seriesupdate\")","v":"vnd.ecowin.seriesupdate"},{"$f":"IFERROR(__xludf.DUMMYFUNCTION(\"\"\"COMPUTED_VALUE\"\"\"),\"vnd.ecowin.seriesupdate\")","v":"vnd.ecowin.seriesupdate"},{"$f":"IFERROR(__xludf.DUMMYFUNCTION(\"\"\"COMPUTED_VALUE\"\"\"),\"application/vnd.ecowin.seriesupdate\")","v":"application/vnd.ecowin.seriesupdate"},{"$f":"IFERROR(__xludf.DUMMYFUNCTION(\"\"\"COMPUTED_VALUE\"\"\"),\"en\")","v":"en"}]
[{"$f":"IFERROR(__xludf.DUMMYFUNCTION(\"\"\"COMPUTED_VALUE\"\"\"),\"https://www.iana.org/assignments/media-types/application/vnd.efi.img\")","v":"https://www.iana.org/assignments/media-types/application/vnd.efi.img"},{"$f":"IFERROR(__xludf.DUMMYFUNCTION(\"\"\"COMPUTED_VALUE\"\"\"),\"vnd.efi.img\")","v":"vnd.efi.img"},{"$f":"IFERROR(__xludf.DUMMYFUNCTION(\"\"\"COMPUTED_VALUE\"\"\"),\"vnd.efi.img\")","v":"vnd.efi.img"},{"$f":"IFERROR(__xludf.DUMMYFUNCTION(\"\"\"COMPUTED_VALUE\"\"\"),\"application/vnd.efi.img\")","v":"application/vnd.efi.img"},{"$f":"IFERROR(__xludf.DUMMYFUNCTION(\"\"\"COMPUTED_VALUE\"\"\"),\"en\")","v":"en"}]
[{"$f":"IFERROR(__xludf.DUMMYFUNCTION(\"\"\"COMPUTED_VALUE\"\"\"),\"https://www.iana.org/assignments/media-types/application/vnd.efi.iso\")","v":"https://www.iana.org/assignments/media-types/application/vnd.efi.iso"},{"$f":"IFERROR(__xludf.DUMMYFUNCTION(\"\"\"COMPUTED_VALUE\"\"\"),\"vnd.efi.iso\")","v":"vnd.efi.iso"},{"$f":"IFERROR(__xludf.DUMMYFUNCTION(\"\"\"COMPUTED_VALUE\"\"\"),\"vnd.efi.iso\")","v":"vnd.efi.iso"},{"$f":"IFERROR(__xludf.DUMMYFUNCTION(\"\"\"COMPUTED_VALUE\"\"\"),\"application/vnd.efi.iso\")","v":"application/vnd.efi.iso"},{"$f":"IFERROR(__xludf.DUMMYFUNCTION(\"\"\"COMPUTED_VALUE\"\"\"),\"en\")","v":"en"}]
[{"$f":"IFERROR(__xludf.DUMMYFUNCTION(\"\"\"COMPUTED_VALUE\"\"\"),\"https://www.iana.org/assignments/media-types/application/vnd.eln+zip\")","v":"https://www.iana.org/assignments/media-types/application/vnd.eln+zip"},{"$f":"IFERROR(__xludf.DUMMYFUNCTION(\"\"\"COMPUTED_VALUE\"\"\"),\"vnd.eln+zip\")","v":"vnd.eln+zip"},{"$f":"IFERROR(__xludf.DUMMYFUNCTION(\"\"\"COMPUTED_VALUE\"\"\"),\"vnd.eln+zip\")","v":"vnd.eln+zip"},{"$f":"IFERROR(__xludf.DUMMYFUNCTION(\"\"\"COMPUTED_VALUE\"\"\"),\"application/vnd.eln+zip\")","v":"application/vnd.eln+zip"},{"$f":"IFERROR(__xludf.DUMMYFUNCTION(\"\"\"COMPUTED_VALUE\"\"\"),\"en\")","v":"en"}]
[{"$f":"IFERROR(__xludf.DUMMYFUNCTION(\"\"\"COMPUTED_VALUE\"\"\"),\"https://www.iana.org/assignments/media-types/application/vnd.emclient.accessrequest+xml\")","v":"https://www.iana.org/assignments/media-types/application/vnd.emclient.accessrequest+xml"},{"$f":"IFERROR(__xludf.DUMMYFUNCTION(\"\"\"COMPUTED_VALUE\"\"\"),\"vnd.emclient.accessrequest+xml\")","v":"vnd.emclient.accessrequest+xml"},{"$f":"IFERROR(__xludf.DUMMYFUNCTION(\"\"\"COMPUTED_VALUE\"\"\"),\"vnd.emclient.accessrequest+xml\")","v":"vnd.emclient.accessrequest+xml"},{"$f":"IFERROR(__xludf.DUMMYFUNCTION(\"\"\"COMPUTED_VALUE\"\"\"),\"application/vnd.emclient.accessrequest+xml\")","v":"application/vnd.emclient.accessrequest+xml"},{"$f":"IFERROR(__xludf.DUMMYFUNCTION(\"\"\"COMPUTED_VALUE\"\"\"),\"en\")","v":"en"}]
[{"$f":"IFERROR(__xludf.DUMMYFUNCTION(\"\"\"COMPUTED_VALUE\"\"\"),\"https://www.iana.org/assignments/media-types/application/vnd.enliven\")","v":"https://www.iana.org/assignments/media-types/application/vnd.enliven"},{"$f":"IFERROR(__xludf.DUMMYFUNCTION(\"\"\"COMPUTED_VALUE\"\"\"),\"vnd.enliven\")","v":"vnd.enliven"},{"$f":"IFERROR(__xludf.DUMMYFUNCTION(\"\"\"COMPUTED_VALUE\"\"\"),\"vnd.enliven\")","v":"vnd.enliven"},{"$f":"IFERROR(__xludf.DUMMYFUNCTION(\"\"\"COMPUTED_VALUE\"\"\"),\"application/vnd.enliven\")","v":"application/vnd.enliven"},{"$f":"IFERROR(__xludf.DUMMYFUNCTION(\"\"\"COMPUTED_VALUE\"\"\"),\"en\")","v":"en"}]
[{"$f":"IFERROR(__xludf.DUMMYFUNCTION(\"\"\"COMPUTED_VALUE\"\"\"),\"https://www.iana.org/assignments/media-types/application/vnd.enphase.envoy\")","v":"https://www.iana.org/assignments/media-types/application/vnd.enphase.envoy"},{"$f":"IFERROR(__xludf.DUMMYFUNCTION(\"\"\"COMPUTED_VALUE\"\"\"),\"vnd.enphase.envoy\")","v":"vnd.enphase.envoy"},{"$f":"IFERROR(__xludf.DUMMYFUNCTION(\"\"\"COMPUTED_VALUE\"\"\"),\"vnd.enphase.envoy\")","v":"vnd.enphase.envoy"},{"$f":"IFERROR(__xludf.DUMMYFUNCTION(\"\"\"COMPUTED_VALUE\"\"\"),\"application/vnd.enphase.envoy\")","v":"application/vnd.enphase.envoy"},{"$f":"IFERROR(__xludf.DUMMYFUNCTION(\"\"\"COMPUTED_VALUE\"\"\"),\"en\")","v":"en"}]
[{"$f":"IFERROR(__xludf.DUMMYFUNCTION(\"\"\"COMPUTED_VALUE\"\"\"),\"https://www.iana.org/assignments/media-types/application/vnd.eprints.data+xml\")","v":"https://www.iana.org/assignments/media-types/application/vnd.eprints.data+xml"},{"$f":"IFERROR(__xludf.DUMMYFUNCTION(\"\"\"COMPUTED_VALUE\"\"\"),\"vnd.eprints.data+xml\")","v":"vnd.eprints.data+xml"},{"$f":"IFERROR(__xludf.DUMMYFUNCTION(\"\"\"COMPUTED_VALUE\"\"\"),\"vnd.eprints.data+xml\")","v":"vnd.eprints.data+xml"},{"$f":"IFERROR(__xludf.DUMMYFUNCTION(\"\"\"COMPUTED_VALUE\"\"\"),\"application/vnd.eprints.data+xml\")","v":"application/vnd.eprints.data+xml"},{"$f":"IFERROR(__xludf.DUMMYFUNCTION(\"\"\"COMPUTED_VALUE\"\"\"),\"en\")","v":"en"}]
[{"$f":"IFERROR(__xludf.DUMMYFUNCTION(\"\"\"COMPUTED_VALUE\"\"\"),\"https://www.iana.org/assignments/media-types/application/vnd.epson.esf\")","v":"https://www.iana.org/assignments/media-types/application/vnd.epson.esf"},{"$f":"IFERROR(__xludf.DUMMYFUNCTION(\"\"\"COMPUTED_VALUE\"\"\"),\"vnd.epson.esf\")","v":"vnd.epson.esf"},{"$f":"IFERROR(__xludf.DUMMYFUNCTION(\"\"\"COMPUTED_VALUE\"\"\"),\"vnd.epson.esf\")","v":"vnd.epson.esf"},{"$f":"IFERROR(__xludf.DUMMYFUNCTION(\"\"\"COMPUTED_VALUE\"\"\"),\"application/vnd.epson.esf\")","v":"application/vnd.epson.esf"},{"$f":"IFERROR(__xludf.DUMMYFUNCTION(\"\"\"COMPUTED_VALUE\"\"\"),\"en\")","v":"en"}]
[{"$f":"IFERROR(__xludf.DUMMYFUNCTION(\"\"\"COMPUTED_VALUE\"\"\"),\"https://www.iana.org/assignments/media-types/application/vnd.epson.msf\")","v":"https://www.iana.org/assignments/media-types/application/vnd.epson.msf"},{"$f":"IFERROR(__xludf.DUMMYFUNCTION(\"\"\"COMPUTED_VALUE\"\"\"),\"vnd.epson.msf\")","v":"vnd.epson.msf"},{"$f":"IFERROR(__xludf.DUMMYFUNCTION(\"\"\"COMPUTED_VALUE\"\"\"),\"vnd.epson.msf\")","v":"vnd.epson.msf"},{"$f":"IFERROR(__xludf.DUMMYFUNCTION(\"\"\"COMPUTED_VALUE\"\"\"),\"application/vnd.epson.msf\")","v":"application/vnd.epson.msf"},{"$f":"IFERROR(__xludf.DUMMYFUNCTION(\"\"\"COMPUTED_VALUE\"\"\"),\"en\")","v":"en"}]
[{"$f":"IFERROR(__xludf.DUMMYFUNCTION(\"\"\"COMPUTED_VALUE\"\"\"),\"https://www.iana.org/assignments/media-types/application/vnd.epson.quickanime\")","v":"https://www.iana.org/assignments/media-types/application/vnd.epson.quickanime"},{"$f":"IFERROR(__xludf.DUMMYFUNCTION(\"\"\"COMPUTED_VALUE\"\"\"),\"vnd.epson.quickanime\")","v":"vnd.epson.quickanime"},{"$f":"IFERROR(__xludf.DUMMYFUNCTION(\"\"\"COMPUTED_VALUE\"\"\"),\"vnd.epson.quickanime\")","v":"vnd.epson.quickanime"},{"$f":"IFERROR(__xludf.DUMMYFUNCTION(\"\"\"COMPUTED_VALUE\"\"\"),\"application/vnd.epson.quickanime\")","v":"application/vnd.epson.quickanime"},{"$f":"IFERROR(__xludf.DUMMYFUNCTION(\"\"\"COMPUTED_VALUE\"\"\"),\"en\")","v":"en"}]
[{"$f":"IFERROR(__xludf.DUMMYFUNCTION(\"\"\"COMPUTED_VALUE\"\"\"),\"https://www.iana.org/assignments/media-types/application/vnd.epson.salt\")","v":"https://www.iana.org/assignments/media-types/application/vnd.epson.salt"},{"$f":"IFERROR(__xludf.DUMMYFUNCTION(\"\"\"COMPUTED_VALUE\"\"\"),\"vnd.epson.salt\")","v":"vnd.epson.salt"},{"$f":"IFERROR(__xludf.DUMMYFUNCTION(\"\"\"COMPUTED_VALUE\"\"\"),\"vnd.epson.salt\")","v":"vnd.epson.salt"},{"$f":"IFERROR(__xludf.DUMMYFUNCTION(\"\"\"COMPUTED_VALUE\"\"\"),\"application/vnd.epson.salt\")","v":"application/vnd.epson.salt"},{"$f":"IFERROR(__xludf.DUMMYFUNCTION(\"\"\"COMPUTED_VALUE\"\"\"),\"en\")","v":"en"}]
[{"$f":"IFERROR(__xludf.DUMMYFUNCTION(\"\"\"COMPUTED_VALUE\"\"\"),\"https://www.iana.org/assignments/media-types/application/vnd.epson.ssf\")","v":"https://www.iana.org/assignments/media-types/application/vnd.epson.ssf"},{"$f":"IFERROR(__xludf.DUMMYFUNCTION(\"\"\"COMPUTED_VALUE\"\"\"),\"vnd.epson.ssf\")","v":"vnd.epson.ssf"},{"$f":"IFERROR(__xludf.DUMMYFUNCTION(\"\"\"COMPUTED_VALUE\"\"\"),\"vnd.epson.ssf\")","v":"vnd.epson.ssf"},{"$f":"IFERROR(__xludf.DUMMYFUNCTION(\"\"\"COMPUTED_VALUE\"\"\"),\"application/vnd.epson.ssf\")","v":"application/vnd.epson.ssf"},{"$f":"IFERROR(__xludf.DUMMYFUNCTION(\"\"\"COMPUTED_VALUE\"\"\"),\"en\")","v":"en"}]
[{"$f":"IFERROR(__xludf.DUMMYFUNCTION(\"\"\"COMPUTED_VALUE\"\"\"),\"https://www.iana.org/assignments/media-types/application/vnd.ericsson.quickcall\")","v":"https://www.iana.org/assignments/media-types/application/vnd.ericsson.quickcall"},{"$f":"IFERROR(__xludf.DUMMYFUNCTION(\"\"\"COMPUTED_VALUE\"\"\"),\"vnd.ericsson.quickcall\")","v":"vnd.ericsson.quickcall"},{"$f":"IFERROR(__xludf.DUMMYFUNCTION(\"\"\"COMPUTED_VALUE\"\"\"),\"vnd.ericsson.quickcall\")","v":"vnd.ericsson.quickcall"},{"$f":"IFERROR(__xludf.DUMMYFUNCTION(\"\"\"COMPUTED_VALUE\"\"\"),\"application/vnd.ericsson.quickcall\")","v":"application/vnd.ericsson.quickcall"},{"$f":"IFERROR(__xludf.DUMMYFUNCTION(\"\"\"COMPUTED_VALUE\"\"\"),\"en\")","v":"en"}]
[{"$f":"IFERROR(__xludf.DUMMYFUNCTION(\"\"\"COMPUTED_VALUE\"\"\"),\"https://www.iana.org/assignments/media-types/application/vnd.espass-espass+zip\")","v":"https://www.iana.org/assignments/media-types/application/vnd.espass-espass+zip"},{"$f":"IFERROR(__xludf.DUMMYFUNCTION(\"\"\"COMPUTED_VALUE\"\"\"),\"vnd.espass-espass+zip\")","v":"vnd.espass-espass+zip"},{"$f":"IFERROR(__xludf.DUMMYFUNCTION(\"\"\"COMPUTED_VALUE\"\"\"),\"vnd.espass-espass+zip\")","v":"vnd.espass-espass+zip"},{"$f":"IFERROR(__xludf.DUMMYFUNCTION(\"\"\"COMPUTED_VALUE\"\"\"),\"application/vnd.espass-espass+zip\")","v":"application/vnd.espass-espass+zip"},{"$f":"IFERROR(__xludf.DUMMYFUNCTION(\"\"\"COMPUTED_VALUE\"\"\"),\"en\")","v":"en"}]
[{"$f":"IFERROR(__xludf.DUMMYFUNCTION(\"\"\"COMPUTED_VALUE\"\"\"),\"https://www.iana.org/assignments/media-types/application/vnd.eszigno3+xml\")","v":"https://www.iana.org/assignments/media-types/application/vnd.eszigno3+xml"},{"$f":"IFERROR(__xludf.DUMMYFUNCTION(\"\"\"COMPUTED_VALUE\"\"\"),\"vnd.eszigno3+xml\")","v":"vnd.eszigno3+xml"},{"$f":"IFERROR(__xludf.DUMMYFUNCTION(\"\"\"COMPUTED_VALUE\"\"\"),\"vnd.eszigno3+xml\")","v":"vnd.eszigno3+xml"},{"$f":"IFERROR(__xludf.DUMMYFUNCTION(\"\"\"COMPUTED_VALUE\"\"\"),\"application/vnd.eszigno3+xml\")","v":"application/vnd.eszigno3+xml"},{"$f":"IFERROR(__xludf.DUMMYFUNCTION(\"\"\"COMPUTED_VALUE\"\"\"),\"en\")","v":"en"}]
[{"$f":"IFERROR(__xludf.DUMMYFUNCTION(\"\"\"COMPUTED_VALUE\"\"\"),\"https://www.iana.org/assignments/media-types/application/vnd.etsi.aoc+xml\")","v":"https://www.iana.org/assignments/media-types/application/vnd.etsi.aoc+xml"},{"$f":"IFERROR(__xludf.DUMMYFUNCTION(\"\"\"COMPUTED_VALUE\"\"\"),\"vnd.etsi.aoc+xml\")","v":"vnd.etsi.aoc+xml"},{"$f":"IFERROR(__xludf.DUMMYFUNCTION(\"\"\"COMPUTED_VALUE\"\"\"),\"vnd.etsi.aoc+xml\")","v":"vnd.etsi.aoc+xml"},{"$f":"IFERROR(__xludf.DUMMYFUNCTION(\"\"\"COMPUTED_VALUE\"\"\"),\"application/vnd.etsi.aoc+xml\")","v":"application/vnd.etsi.aoc+xml"},{"$f":"IFERROR(__xludf.DUMMYFUNCTION(\"\"\"COMPUTED_VALUE\"\"\"),\"en\")","v":"en"}]
[{"$f":"IFERROR(__xludf.DUMMYFUNCTION(\"\"\"COMPUTED_VALUE\"\"\"),\"https://www.iana.org/assignments/media-types/application/vnd.etsi.asic-s+zip\")","v":"https://www.iana.org/assignments/media-types/application/vnd.etsi.asic-s+zip"},{"$f":"IFERROR(__xludf.DUMMYFUNCTION(\"\"\"COMPUTED_VALUE\"\"\"),\"vnd.etsi.asic-s+zip\")","v":"vnd.etsi.asic-s+zip"},{"$f":"IFERROR(__xludf.DUMMYFUNCTION(\"\"\"COMPUTED_VALUE\"\"\"),\"vnd.etsi.asic-s+zip\")","v":"vnd.etsi.asic-s+zip"},{"$f":"IFERROR(__xludf.DUMMYFUNCTION(\"\"\"COMPUTED_VALUE\"\"\"),\"application/vnd.etsi.asic-s+zip\")","v":"application/vnd.etsi.asic-s+zip"},{"$f":"IFERROR(__xludf.DUMMYFUNCTION(\"\"\"COMPUTED_VALUE\"\"\"),\"en\")","v":"en"}]
[{"$f":"IFERROR(__xludf.DUMMYFUNCTION(\"\"\"COMPUTED_VALUE\"\"\"),\"https://www.iana.org/assignments/media-types/application/vnd.etsi.asic-e+zip\")","v":"https://www.iana.org/assignments/media-types/application/vnd.etsi.asic-e+zip"},{"$f":"IFERROR(__xludf.DUMMYFUNCTION(\"\"\"COMPUTED_VALUE\"\"\"),\"vnd.etsi.asic-e+zip\")","v":"vnd.etsi.asic-e+zip"},{"$f":"IFERROR(__xludf.DUMMYFUNCTION(\"\"\"COMPUTED_VALUE\"\"\"),\"vnd.etsi.asic-e+zip\")","v":"vnd.etsi.asic-e+zip"},{"$f":"IFERROR(__xludf.DUMMYFUNCTION(\"\"\"COMPUTED_VALUE\"\"\"),\"application/vnd.etsi.asic-e+zip\")","v":"application/vnd.etsi.asic-e+zip"},{"$f":"IFERROR(__xludf.DUMMYFUNCTION(\"\"\"COMPUTED_VALUE\"\"\"),\"en\")","v":"en"}]
[{"$f":"IFERROR(__xludf.DUMMYFUNCTION(\"\"\"COMPUTED_VALUE\"\"\"),\"https://www.iana.org/assignments/media-types/application/vnd.etsi.cug+xml\")","v":"https://www.iana.org/assignments/media-types/application/vnd.etsi.cug+xml"},{"$f":"IFERROR(__xludf.DUMMYFUNCTION(\"\"\"COMPUTED_VALUE\"\"\"),\"vnd.etsi.cug+xml\")","v":"vnd.etsi.cug+xml"},{"$f":"IFERROR(__xludf.DUMMYFUNCTION(\"\"\"COMPUTED_VALUE\"\"\"),\"vnd.etsi.cug+xml\")","v":"vnd.etsi.cug+xml"},{"$f":"IFERROR(__xludf.DUMMYFUNCTION(\"\"\"COMPUTED_VALUE\"\"\"),\"application/vnd.etsi.cug+xml\")","v":"application/vnd.etsi.cug+xml"},{"$f":"IFERROR(__xludf.DUMMYFUNCTION(\"\"\"COMPUTED_VALUE\"\"\"),\"en\")","v":"en"}]
[{"$f":"IFERROR(__xludf.DUMMYFUNCTION(\"\"\"COMPUTED_VALUE\"\"\"),\"https://www.iana.org/assignments/media-types/application/vnd.etsi.iptvcommand+xml\")","v":"https://www.iana.org/assignments/media-types/application/vnd.etsi.iptvcommand+xml"},{"$f":"IFERROR(__xludf.DUMMYFUNCTION(\"\"\"COMPUTED_VALUE\"\"\"),\"vnd.etsi.iptvcommand+xml\")","v":"vnd.etsi.iptvcommand+xml"},{"$f":"IFERROR(__xludf.DUMMYFUNCTION(\"\"\"COMPUTED_VALUE\"\"\"),\"vnd.etsi.iptvcommand+xml\")","v":"vnd.etsi.iptvcommand+xml"},{"$f":"IFERROR(__xludf.DUMMYFUNCTION(\"\"\"COMPUTED_VALUE\"\"\"),\"application/vnd.etsi.iptvcommand+xml\")","v":"application/vnd.etsi.iptvcommand+xml"},{"$f":"IFERROR(__xludf.DUMMYFUNCTION(\"\"\"COMPUTED_VALUE\"\"\"),\"en\")","v":"en"}]
[{"$f":"IFERROR(__xludf.DUMMYFUNCTION(\"\"\"COMPUTED_VALUE\"\"\"),\"https://www.iana.org/assignments/media-types/application/vnd.etsi.iptvdiscovery+xml\")","v":"https://www.iana.org/assignments/media-types/application/vnd.etsi.iptvdiscovery+xml"},{"$f":"IFERROR(__xludf.DUMMYFUNCTION(\"\"\"COMPUTED_VALUE\"\"\"),\"vnd.etsi.iptvdiscovery+xml\")","v":"vnd.etsi.iptvdiscovery+xml"},{"$f":"IFERROR(__xludf.DUMMYFUNCTION(\"\"\"COMPUTED_VALUE\"\"\"),\"vnd.etsi.iptvdiscovery+xml\")","v":"vnd.etsi.iptvdiscovery+xml"},{"$f":"IFERROR(__xludf.DUMMYFUNCTION(\"\"\"COMPUTED_VALUE\"\"\"),\"application/vnd.etsi.iptvdiscovery+xml\")","v":"application/vnd.etsi.iptvdiscovery+xml"},{"$f":"IFERROR(__xludf.DUMMYFUNCTION(\"\"\"COMPUTED_VALUE\"\"\"),\"en\")","v":"en"}]
[{"$f":"IFERROR(__xludf.DUMMYFUNCTION(\"\"\"COMPUTED_VALUE\"\"\"),\"https://www.iana.org/assignments/media-types/application/vnd.etsi.iptvprofile+xml\")","v":"https://www.iana.org/assignments/media-types/application/vnd.etsi.iptvprofile+xml"},{"$f":"IFERROR(__xludf.DUMMYFUNCTION(\"\"\"COMPUTED_VALUE\"\"\"),\"vnd.etsi.iptvprofile+xml\")","v":"vnd.etsi.iptvprofile+xml"},{"$f":"IFERROR(__xludf.DUMMYFUNCTION(\"\"\"COMPUTED_VALUE\"\"\"),\"vnd.etsi.iptvprofile+xml\")","v":"vnd.etsi.iptvprofile+xml"},{"$f":"IFERROR(__xludf.DUMMYFUNCTION(\"\"\"COMPUTED_VALUE\"\"\"),\"application/vnd.etsi.iptvprofile+xml\")","v":"application/vnd.etsi.iptvprofile+xml"},{"$f":"IFERROR(__xludf.DUMMYFUNCTION(\"\"\"COMPUTED_VALUE\"\"\"),\"en\")","v":"en"}]
[{"$f":"IFERROR(__xludf.DUMMYFUNCTION(\"\"\"COMPUTED_VALUE\"\"\"),\"https://www.iana.org/assignments/media-types/application/vnd.etsi.iptvsad-bc+xml\")","v":"https://www.iana.org/assignments/media-types/application/vnd.etsi.iptvsad-bc+xml"},{"$f":"IFERROR(__xludf.DUMMYFUNCTION(\"\"\"COMPUTED_VALUE\"\"\"),\"vnd.etsi.iptvsad-bc+xml\")","v":"vnd.etsi.iptvsad-bc+xml"},{"$f":"IFERROR(__xludf.DUMMYFUNCTION(\"\"\"COMPUTED_VALUE\"\"\"),\"vnd.etsi.iptvsad-bc+xml\")","v":"vnd.etsi.iptvsad-bc+xml"},{"$f":"IFERROR(__xludf.DUMMYFUNCTION(\"\"\"COMPUTED_VALUE\"\"\"),\"application/vnd.etsi.iptvsad-bc+xml\")","v":"application/vnd.etsi.iptvsad-bc+xml"},{"$f":"IFERROR(__xludf.DUMMYFUNCTION(\"\"\"COMPUTED_VALUE\"\"\"),\"en\")","v":"en"}]
[{"$f":"IFERROR(__xludf.DUMMYFUNCTION(\"\"\"COMPUTED_VALUE\"\"\"),\"https://www.iana.org/assignments/media-types/application/vnd.etsi.iptvsad-cod+xml\")","v":"https://www.iana.org/assignments/media-types/application/vnd.etsi.iptvsad-cod+xml"},{"$f":"IFERROR(__xludf.DUMMYFUNCTION(\"\"\"COMPUTED_VALUE\"\"\"),\"vnd.etsi.iptvsad-cod+xml\")","v":"vnd.etsi.iptvsad-cod+xml"},{"$f":"IFERROR(__xludf.DUMMYFUNCTION(\"\"\"COMPUTED_VALUE\"\"\"),\"vnd.etsi.iptvsad-cod+xml\")","v":"vnd.etsi.iptvsad-cod+xml"},{"$f":"IFERROR(__xludf.DUMMYFUNCTION(\"\"\"COMPUTED_VALUE\"\"\"),\"application/vnd.etsi.iptvsad-cod+xml\")","v":"application/vnd.etsi.iptvsad-cod+xml"},{"$f":"IFERROR(__xludf.DUMMYFUNCTION(\"\"\"COMPUTED_VALUE\"\"\"),\"en\")","v":"en"}]
[{"$f":"IFERROR(__xludf.DUMMYFUNCTION(\"\"\"COMPUTED_VALUE\"\"\"),\"https://www.iana.org/assignments/media-types/application/vnd.etsi.iptvsad-npvr+xml\")","v":"https://www.iana.org/assignments/media-types/application/vnd.etsi.iptvsad-npvr+xml"},{"$f":"IFERROR(__xludf.DUMMYFUNCTION(\"\"\"COMPUTED_VALUE\"\"\"),\"vnd.etsi.iptvsad-npvr+xml\")","v":"vnd.etsi.iptvsad-npvr+xml"},{"$f":"IFERROR(__xludf.DUMMYFUNCTION(\"\"\"COMPUTED_VALUE\"\"\"),\"vnd.etsi.iptvsad-npvr+xml\")","v":"vnd.etsi.iptvsad-npvr+xml"},{"$f":"IFERROR(__xludf.DUMMYFUNCTION(\"\"\"COMPUTED_VALUE\"\"\"),\"application/vnd.etsi.iptvsad-npvr+xml\")","v":"application/vnd.etsi.iptvsad-npvr+xml"},{"$f":"IFERROR(__xludf.DUMMYFUNCTION(\"\"\"COMPUTED_VALUE\"\"\"),\"en\")","v":"en"}]
[{"$f":"IFERROR(__xludf.DUMMYFUNCTION(\"\"\"COMPUTED_VALUE\"\"\"),\"https://www.iana.org/assignments/media-types/application/vnd.etsi.iptvservice+xml\")","v":"https://www.iana.org/assignments/media-types/application/vnd.etsi.iptvservice+xml"},{"$f":"IFERROR(__xludf.DUMMYFUNCTION(\"\"\"COMPUTED_VALUE\"\"\"),\"vnd.etsi.iptvservice+xml\")","v":"vnd.etsi.iptvservice+xml"},{"$f":"IFERROR(__xludf.DUMMYFUNCTION(\"\"\"COMPUTED_VALUE\"\"\"),\"vnd.etsi.iptvservice+xml\")","v":"vnd.etsi.iptvservice+xml"},{"$f":"IFERROR(__xludf.DUMMYFUNCTION(\"\"\"COMPUTED_VALUE\"\"\"),\"application/vnd.etsi.iptvservice+xml\")","v":"application/vnd.etsi.iptvservice+xml"},{"$f":"IFERROR(__xludf.DUMMYFUNCTION(\"\"\"COMPUTED_VALUE\"\"\"),\"en\")","v":"en"}]
[{"$f":"IFERROR(__xludf.DUMMYFUNCTION(\"\"\"COMPUTED_VALUE\"\"\"),\"https://www.iana.org/assignments/media-types/application/vnd.etsi.iptvsync+xml\")","v":"https://www.iana.org/assignments/media-types/application/vnd.etsi.iptvsync+xml"},{"$f":"IFERROR(__xludf.DUMMYFUNCTION(\"\"\"COMPUTED_VALUE\"\"\"),\"vnd.etsi.iptvsync+xml\")","v":"vnd.etsi.iptvsync+xml"},{"$f":"IFERROR(__xludf.DUMMYFUNCTION(\"\"\"COMPUTED_VALUE\"\"\"),\"vnd.etsi.iptvsync+xml\")","v":"vnd.etsi.iptvsync+xml"},{"$f":"IFERROR(__xludf.DUMMYFUNCTION(\"\"\"COMPUTED_VALUE\"\"\"),\"application/vnd.etsi.iptvsync+xml\")","v":"application/vnd.etsi.iptvsync+xml"},{"$f":"IFERROR(__xludf.DUMMYFUNCTION(\"\"\"COMPUTED_VALUE\"\"\"),\"en\")","v":"en"}]
[{"$f":"IFERROR(__xludf.DUMMYFUNCTION(\"\"\"COMPUTED_VALUE\"\"\"),\"https://www.iana.org/assignments/media-types/application/vnd.etsi.iptvueprofile+xml\")","v":"https://www.iana.org/assignments/media-types/application/vnd.etsi.iptvueprofile+xml"},{"$f":"IFERROR(__xludf.DUMMYFUNCTION(\"\"\"COMPUTED_VALUE\"\"\"),\"vnd.etsi.iptvueprofile+xml\")","v":"vnd.etsi.iptvueprofile+xml"},{"$f":"IFERROR(__xludf.DUMMYFUNCTION(\"\"\"COMPUTED_VALUE\"\"\"),\"vnd.etsi.iptvueprofile+xml\")","v":"vnd.etsi.iptvueprofile+xml"},{"$f":"IFERROR(__xludf.DUMMYFUNCTION(\"\"\"COMPUTED_VALUE\"\"\"),\"application/vnd.etsi.iptvueprofile+xml\")","v":"application/vnd.etsi.iptvueprofile+xml"},{"$f":"IFERROR(__xludf.DUMMYFUNCTION(\"\"\"COMPUTED_VALUE\"\"\"),\"en\")","v":"en"}]
[{"$f":"IFERROR(__xludf.DUMMYFUNCTION(\"\"\"COMPUTED_VALUE\"\"\"),\"https://www.iana.org/assignments/media-types/application/vnd.etsi.mcid+xml\")","v":"https://www.iana.org/assignments/media-types/application/vnd.etsi.mcid+xml"},{"$f":"IFERROR(__xludf.DUMMYFUNCTION(\"\"\"COMPUTED_VALUE\"\"\"),\"vnd.etsi.mcid+xml\")","v":"vnd.etsi.mcid+xml"},{"$f":"IFERROR(__xludf.DUMMYFUNCTION(\"\"\"COMPUTED_VALUE\"\"\"),\"vnd.etsi.mcid+xml\")","v":"vnd.etsi.mcid+xml"},{"$f":"IFERROR(__xludf.DUMMYFUNCTION(\"\"\"COMPUTED_VALUE\"\"\"),\"application/vnd.etsi.mcid+xml\")","v":"application/vnd.etsi.mcid+xml"},{"$f":"IFERROR(__xludf.DUMMYFUNCTION(\"\"\"COMPUTED_VALUE\"\"\"),\"en\")","v":"en"}]
[{"$f":"IFERROR(__xludf.DUMMYFUNCTION(\"\"\"COMPUTED_VALUE\"\"\"),\"https://www.iana.org/assignments/media-types/application/vnd.etsi.mheg5\")","v":"https://www.iana.org/assignments/media-types/application/vnd.etsi.mheg5"},{"$f":"IFERROR(__xludf.DUMMYFUNCTION(\"\"\"COMPUTED_VALUE\"\"\"),\"vnd.etsi.mheg5\")","v":"vnd.etsi.mheg5"},{"$f":"IFERROR(__xludf.DUMMYFUNCTION(\"\"\"COMPUTED_VALUE\"\"\"),\"vnd.etsi.mheg5\")","v":"vnd.etsi.mheg5"},{"$f":"IFERROR(__xludf.DUMMYFUNCTION(\"\"\"COMPUTED_VALUE\"\"\"),\"application/vnd.etsi.mheg5\")","v":"application/vnd.etsi.mheg5"},{"$f":"IFERROR(__xludf.DUMMYFUNCTION(\"\"\"COMPUTED_VALUE\"\"\"),\"en\")","v":"en"}]
[{"$f":"IFERROR(__xludf.DUMMYFUNCTION(\"\"\"COMPUTED_VALUE\"\"\"),\"https://www.iana.org/assignments/media-types/application/vnd.etsi.overload-control-policy-dataset+xml\")","v":"https://www.iana.org/assignments/media-types/application/vnd.etsi.overload-control-policy-dataset+xml"},{"$f":"IFERROR(__xludf.DUMMYFUNCTION(\"\"\"COMPUTED_VALUE\"\"\"),\"vnd.etsi.overload-control-policy-dataset+xml\")","v":"vnd.etsi.overload-control-policy-dataset+xml"},{"$f":"IFERROR(__xludf.DUMMYFUNCTION(\"\"\"COMPUTED_VALUE\"\"\"),\"vnd.etsi.overload-control-policy-dataset+xml\")","v":"vnd.etsi.overload-control-policy-dataset+xml"},{"$f":"IFERROR(__xludf.DUMMYFUNCTION(\"\"\"COMPUTED_VALUE\"\"\"),\"application/vnd.etsi.overload-control-policy-dataset+xml\")","v":"application/vnd.etsi.overload-control-policy-dataset+xml"},{"$f":"IFERROR(__xludf.DUMMYFUNCTION(\"\"\"COMPUTED_VALUE\"\"\"),\"en\")","v":"en"}]
[{"$f":"IFERROR(__xludf.DUMMYFUNCTION(\"\"\"COMPUTED_VALUE\"\"\"),\"https://www.iana.org/assignments/media-types/application/vnd.etsi.pstn+xml\")","v":"https://www.iana.org/assignments/media-types/application/vnd.etsi.pstn+xml"},{"$f":"IFERROR(__xludf.DUMMYFUNCTION(\"\"\"COMPUTED_VALUE\"\"\"),\"vnd.etsi.pstn+xml\")","v":"vnd.etsi.pstn+xml"},{"$f":"IFERROR(__xludf.DUMMYFUNCTION(\"\"\"COMPUTED_VALUE\"\"\"),\"vnd.etsi.pstn+xml\")","v":"vnd.etsi.pstn+xml"},{"$f":"IFERROR(__xludf.DUMMYFUNCTION(\"\"\"COMPUTED_VALUE\"\"\"),\"application/vnd.etsi.pstn+xml\")","v":"application/vnd.etsi.pstn+xml"},{"$f":"IFERROR(__xludf.DUMMYFUNCTION(\"\"\"COMPUTED_VALUE\"\"\"),\"en\")","v":"en"}]
[{"$f":"IFERROR(__xludf.DUMMYFUNCTION(\"\"\"COMPUTED_VALUE\"\"\"),\"https://www.iana.org/assignments/media-types/application/vnd.etsi.sci+xml\")","v":"https://www.iana.org/assignments/media-types/application/vnd.etsi.sci+xml"},{"$f":"IFERROR(__xludf.DUMMYFUNCTION(\"\"\"COMPUTED_VALUE\"\"\"),\"vnd.etsi.sci+xml\")","v":"vnd.etsi.sci+xml"},{"$f":"IFERROR(__xludf.DUMMYFUNCTION(\"\"\"COMPUTED_VALUE\"\"\"),\"vnd.etsi.sci+xml\")","v":"vnd.etsi.sci+xml"},{"$f":"IFERROR(__xludf.DUMMYFUNCTION(\"\"\"COMPUTED_VALUE\"\"\"),\"application/vnd.etsi.sci+xml\")","v":"application/vnd.etsi.sci+xml"},{"$f":"IFERROR(__xludf.DUMMYFUNCTION(\"\"\"COMPUTED_VALUE\"\"\"),\"en\")","v":"en"}]
[{"$f":"IFERROR(__xludf.DUMMYFUNCTION(\"\"\"COMPUTED_VALUE\"\"\"),\"https://www.iana.org/assignments/media-types/application/vnd.etsi.simservs+xml\")","v":"https://www.iana.org/assignments/media-types/application/vnd.etsi.simservs+xml"},{"$f":"IFERROR(__xludf.DUMMYFUNCTION(\"\"\"COMPUTED_VALUE\"\"\"),\"vnd.etsi.simservs+xml\")","v":"vnd.etsi.simservs+xml"},{"$f":"IFERROR(__xludf.DUMMYFUNCTION(\"\"\"COMPUTED_VALUE\"\"\"),\"vnd.etsi.simservs+xml\")","v":"vnd.etsi.simservs+xml"},{"$f":"IFERROR(__xludf.DUMMYFUNCTION(\"\"\"COMPUTED_VALUE\"\"\"),\"application/vnd.etsi.simservs+xml\")","v":"application/vnd.etsi.simservs+xml"},{"$f":"IFERROR(__xludf.DUMMYFUNCTION(\"\"\"COMPUTED_VALUE\"\"\"),\"en\")","v":"en"}]
[{"$f":"IFERROR(__xludf.DUMMYFUNCTION(\"\"\"COMPUTED_VALUE\"\"\"),\"https://www.iana.org/assignments/media-types/application/vnd.etsi.timestamp-token\")","v":"https://www.iana.org/assignments/media-types/application/vnd.etsi.timestamp-token"},{"$f":"IFERROR(__xludf.DUMMYFUNCTION(\"\"\"COMPUTED_VALUE\"\"\"),\"vnd.etsi.timestamp-token\")","v":"vnd.etsi.timestamp-token"},{"$f":"IFERROR(__xludf.DUMMYFUNCTION(\"\"\"COMPUTED_VALUE\"\"\"),\"vnd.etsi.timestamp-token\")","v":"vnd.etsi.timestamp-token"},{"$f":"IFERROR(__xludf.DUMMYFUNCTION(\"\"\"COMPUTED_VALUE\"\"\"),\"application/vnd.etsi.timestamp-token\")","v":"application/vnd.etsi.timestamp-token"},{"$f":"IFERROR(__xludf.DUMMYFUNCTION(\"\"\"COMPUTED_VALUE\"\"\"),\"en\")","v":"en"}]
[{"$f":"IFERROR(__xludf.DUMMYFUNCTION(\"\"\"COMPUTED_VALUE\"\"\"),\"https://www.iana.org/assignments/media-types/application/vnd.etsi.tsl+xml\")","v":"https://www.iana.org/assignments/media-types/application/vnd.etsi.tsl+xml"},{"$f":"IFERROR(__xludf.DUMMYFUNCTION(\"\"\"COMPUTED_VALUE\"\"\"),\"vnd.etsi.tsl+xml\")","v":"vnd.etsi.tsl+xml"},{"$f":"IFERROR(__xludf.DUMMYFUNCTION(\"\"\"COMPUTED_VALUE\"\"\"),\"vnd.etsi.tsl+xml\")","v":"vnd.etsi.tsl+xml"},{"$f":"IFERROR(__xludf.DUMMYFUNCTION(\"\"\"COMPUTED_VALUE\"\"\"),\"application/vnd.etsi.tsl+xml\")","v":"application/vnd.etsi.tsl+xml"},{"$f":"IFERROR(__xludf.DUMMYFUNCTION(\"\"\"COMPUTED_VALUE\"\"\"),\"en\")","v":"en"}]
[{"$f":"IFERROR(__xludf.DUMMYFUNCTION(\"\"\"COMPUTED_VALUE\"\"\"),\"https://www.iana.org/assignments/media-types/application/vnd.etsi.tsl.der\")","v":"https://www.iana.org/assignments/media-types/application/vnd.etsi.tsl.der"},{"$f":"IFERROR(__xludf.DUMMYFUNCTION(\"\"\"COMPUTED_VALUE\"\"\"),\"vnd.etsi.tsl.der\")","v":"vnd.etsi.tsl.der"},{"$f":"IFERROR(__xludf.DUMMYFUNCTION(\"\"\"COMPUTED_VALUE\"\"\"),\"vnd.etsi.tsl.der\")","v":"vnd.etsi.tsl.der"},{"$f":"IFERROR(__xludf.DUMMYFUNCTION(\"\"\"COMPUTED_VALUE\"\"\"),\"application/vnd.etsi.tsl.der\")","v":"application/vnd.etsi.tsl.der"},{"$f":"IFERROR(__xludf.DUMMYFUNCTION(\"\"\"COMPUTED_VALUE\"\"\"),\"en\")","v":"en"}]
[{"$f":"IFERROR(__xludf.DUMMYFUNCTION(\"\"\"COMPUTED_VALUE\"\"\"),\"https://www.iana.org/assignments/media-types/application/vnd.eu.kasparian.car+json\")","v":"https://www.iana.org/assignments/media-types/application/vnd.eu.kasparian.car+json"},{"$f":"IFERROR(__xludf.DUMMYFUNCTION(\"\"\"COMPUTED_VALUE\"\"\"),\"vnd.eu.kasparian.car+json\")","v":"vnd.eu.kasparian.car+json"},{"$f":"IFERROR(__xludf.DUMMYFUNCTION(\"\"\"COMPUTED_VALUE\"\"\"),\"vnd.eu.kasparian.car+json\")","v":"vnd.eu.kasparian.car+json"},{"$f":"IFERROR(__xludf.DUMMYFUNCTION(\"\"\"COMPUTED_VALUE\"\"\"),\"application/vnd.eu.kasparian.car+json\")","v":"application/vnd.eu.kasparian.car+json"},{"$f":"IFERROR(__xludf.DUMMYFUNCTION(\"\"\"COMPUTED_VALUE\"\"\"),\"en\")","v":"en"}]
[{"$f":"IFERROR(__xludf.DUMMYFUNCTION(\"\"\"COMPUTED_VALUE\"\"\"),\"https://www.iana.org/assignments/media-types/application/vnd.eudora.data\")","v":"https://www.iana.org/assignments/media-types/application/vnd.eudora.data"},{"$f":"IFERROR(__xludf.DUMMYFUNCTION(\"\"\"COMPUTED_VALUE\"\"\"),\"vnd.eudora.data\")","v":"vnd.eudora.data"},{"$f":"IFERROR(__xludf.DUMMYFUNCTION(\"\"\"COMPUTED_VALUE\"\"\"),\"vnd.eudora.data\")","v":"vnd.eudora.data"},{"$f":"IFERROR(__xludf.DUMMYFUNCTION(\"\"\"COMPUTED_VALUE\"\"\"),\"application/vnd.eudora.data\")","v":"application/vnd.eudora.data"},{"$f":"IFERROR(__xludf.DUMMYFUNCTION(\"\"\"COMPUTED_VALUE\"\"\"),\"en\")","v":"en"}]
[{"$f":"IFERROR(__xludf.DUMMYFUNCTION(\"\"\"COMPUTED_VALUE\"\"\"),\"https://www.iana.org/assignments/media-types/application/vnd.evolv.ecig.profile\")","v":"https://www.iana.org/assignments/media-types/application/vnd.evolv.ecig.profile"},{"$f":"IFERROR(__xludf.DUMMYFUNCTION(\"\"\"COMPUTED_VALUE\"\"\"),\"vnd.evolv.ecig.profile\")","v":"vnd.evolv.ecig.profile"},{"$f":"IFERROR(__xludf.DUMMYFUNCTION(\"\"\"COMPUTED_VALUE\"\"\"),\"vnd.evolv.ecig.profile\")","v":"vnd.evolv.ecig.profile"},{"$f":"IFERROR(__xludf.DUMMYFUNCTION(\"\"\"COMPUTED_VALUE\"\"\"),\"application/vnd.evolv.ecig.profile\")","v":"application/vnd.evolv.ecig.profile"},{"$f":"IFERROR(__xludf.DUMMYFUNCTION(\"\"\"COMPUTED_VALUE\"\"\"),\"en\")","v":"en"}]
[{"$f":"IFERROR(__xludf.DUMMYFUNCTION(\"\"\"COMPUTED_VALUE\"\"\"),\"https://www.iana.org/assignments/media-types/application/vnd.evolv.ecig.settings\")","v":"https://www.iana.org/assignments/media-types/application/vnd.evolv.ecig.settings"},{"$f":"IFERROR(__xludf.DUMMYFUNCTION(\"\"\"COMPUTED_VALUE\"\"\"),\"vnd.evolv.ecig.settings\")","v":"vnd.evolv.ecig.settings"},{"$f":"IFERROR(__xludf.DUMMYFUNCTION(\"\"\"COMPUTED_VALUE\"\"\"),\"vnd.evolv.ecig.settings\")","v":"vnd.evolv.ecig.settings"},{"$f":"IFERROR(__xludf.DUMMYFUNCTION(\"\"\"COMPUTED_VALUE\"\"\"),\"application/vnd.evolv.ecig.settings\")","v":"application/vnd.evolv.ecig.settings"},{"$f":"IFERROR(__xludf.DUMMYFUNCTION(\"\"\"COMPUTED_VALUE\"\"\"),\"en\")","v":"en"}]
[{"$f":"IFERROR(__xludf.DUMMYFUNCTION(\"\"\"COMPUTED_VALUE\"\"\"),\"https://www.iana.org/assignments/media-types/application/vnd.evolv.ecig.theme\")","v":"https://www.iana.org/assignments/media-types/application/vnd.evolv.ecig.theme"},{"$f":"IFERROR(__xludf.DUMMYFUNCTION(\"\"\"COMPUTED_VALUE\"\"\"),\"vnd.evolv.ecig.theme\")","v":"vnd.evolv.ecig.theme"},{"$f":"IFERROR(__xludf.DUMMYFUNCTION(\"\"\"COMPUTED_VALUE\"\"\"),\"vnd.evolv.ecig.theme\")","v":"vnd.evolv.ecig.theme"},{"$f":"IFERROR(__xludf.DUMMYFUNCTION(\"\"\"COMPUTED_VALUE\"\"\"),\"application/vnd.evolv.ecig.theme\")","v":"application/vnd.evolv.ecig.theme"},{"$f":"IFERROR(__xludf.DUMMYFUNCTION(\"\"\"COMPUTED_VALUE\"\"\"),\"en\")","v":"en"}]
[{"$f":"IFERROR(__xludf.DUMMYFUNCTION(\"\"\"COMPUTED_VALUE\"\"\"),\"https://www.iana.org/assignments/media-types/application/vnd.exstream-empower+zip\")","v":"https://www.iana.org/assignments/media-types/application/vnd.exstream-empower+zip"},{"$f":"IFERROR(__xludf.DUMMYFUNCTION(\"\"\"COMPUTED_VALUE\"\"\"),\"vnd.exstream-empower+zip\")","v":"vnd.exstream-empower+zip"},{"$f":"IFERROR(__xludf.DUMMYFUNCTION(\"\"\"COMPUTED_VALUE\"\"\"),\"vnd.exstream-empower+zip\")","v":"vnd.exstream-empower+zip"},{"$f":"IFERROR(__xludf.DUMMYFUNCTION(\"\"\"COMPUTED_VALUE\"\"\"),\"application/vnd.exstream-empower+zip\")","v":"application/vnd.exstream-empower+zip"},{"$f":"IFERROR(__xludf.DUMMYFUNCTION(\"\"\"COMPUTED_VALUE\"\"\"),\"en\")","v":"en"}]
[{"$f":"IFERROR(__xludf.DUMMYFUNCTION(\"\"\"COMPUTED_VALUE\"\"\"),\"https://www.iana.org/assignments/media-types/application/vnd.exstream-package\")","v":"https://www.iana.org/assignments/media-types/application/vnd.exstream-package"},{"$f":"IFERROR(__xludf.DUMMYFUNCTION(\"\"\"COMPUTED_VALUE\"\"\"),\"vnd.exstream-package\")","v":"vnd.exstream-package"},{"$f":"IFERROR(__xludf.DUMMYFUNCTION(\"\"\"COMPUTED_VALUE\"\"\"),\"vnd.exstream-package\")","v":"vnd.exstream-package"},{"$f":"IFERROR(__xludf.DUMMYFUNCTION(\"\"\"COMPUTED_VALUE\"\"\"),\"application/vnd.exstream-package\")","v":"application/vnd.exstream-package"},{"$f":"IFERROR(__xludf.DUMMYFUNCTION(\"\"\"COMPUTED_VALUE\"\"\"),\"en\")","v":"en"}]
[{"$f":"IFERROR(__xludf.DUMMYFUNCTION(\"\"\"COMPUTED_VALUE\"\"\"),\"https://www.iana.org/assignments/media-types/application/vnd.ezpix-album\")","v":"https://www.iana.org/assignments/media-types/application/vnd.ezpix-album"},{"$f":"IFERROR(__xludf.DUMMYFUNCTION(\"\"\"COMPUTED_VALUE\"\"\"),\"vnd.ezpix-album\")","v":"vnd.ezpix-album"},{"$f":"IFERROR(__xludf.DUMMYFUNCTION(\"\"\"COMPUTED_VALUE\"\"\"),\"vnd.ezpix-album\")","v":"vnd.ezpix-album"},{"$f":"IFERROR(__xludf.DUMMYFUNCTION(\"\"\"COMPUTED_VALUE\"\"\"),\"application/vnd.ezpix-album\")","v":"application/vnd.ezpix-album"},{"$f":"IFERROR(__xludf.DUMMYFUNCTION(\"\"\"COMPUTED_VALUE\"\"\"),\"en\")","v":"en"}]
[{"$f":"IFERROR(__xludf.DUMMYFUNCTION(\"\"\"COMPUTED_VALUE\"\"\"),\"https://www.iana.org/assignments/media-types/application/vnd.ezpix-package\")","v":"https://www.iana.org/assignments/media-types/application/vnd.ezpix-package"},{"$f":"IFERROR(__xludf.DUMMYFUNCTION(\"\"\"COMPUTED_VALUE\"\"\"),\"vnd.ezpix-package\")","v":"vnd.ezpix-package"},{"$f":"IFERROR(__xludf.DUMMYFUNCTION(\"\"\"COMPUTED_VALUE\"\"\"),\"vnd.ezpix-package\")","v":"vnd.ezpix-package"},{"$f":"IFERROR(__xludf.DUMMYFUNCTION(\"\"\"COMPUTED_VALUE\"\"\"),\"application/vnd.ezpix-package\")","v":"application/vnd.ezpix-package"},{"$f":"IFERROR(__xludf.DUMMYFUNCTION(\"\"\"COMPUTED_VALUE\"\"\"),\"en\")","v":"en"}]
[{"$f":"IFERROR(__xludf.DUMMYFUNCTION(\"\"\"COMPUTED_VALUE\"\"\"),\"https://www.iana.org/assignments/media-types/application/vnd.f-secure.mobile\")","v":"https://www.iana.org/assignments/media-types/application/vnd.f-secure.mobile"},{"$f":"IFERROR(__xludf.DUMMYFUNCTION(\"\"\"COMPUTED_VALUE\"\"\"),\"vnd.f-secure.mobile\")","v":"vnd.f-secure.mobile"},{"$f":"IFERROR(__xludf.DUMMYFUNCTION(\"\"\"COMPUTED_VALUE\"\"\"),\"vnd.f-secure.mobile\")","v":"vnd.f-secure.mobile"},{"$f":"IFERROR(__xludf.DUMMYFUNCTION(\"\"\"COMPUTED_VALUE\"\"\"),\"application/vnd.f-secure.mobile\")","v":"application/vnd.f-secure.mobile"},{"$f":"IFERROR(__xludf.DUMMYFUNCTION(\"\"\"COMPUTED_VALUE\"\"\"),\"en\")","v":"en"}]
[{"$f":"IFERROR(__xludf.DUMMYFUNCTION(\"\"\"COMPUTED_VALUE\"\"\"),\"https://www.iana.org/assignments/media-types/application/vnd.fastcopy-disk-image\")","v":"https://www.iana.org/assignments/media-types/application/vnd.fastcopy-disk-image"},{"$f":"IFERROR(__xludf.DUMMYFUNCTION(\"\"\"COMPUTED_VALUE\"\"\"),\"vnd.fastcopy-disk-image\")","v":"vnd.fastcopy-disk-image"},{"$f":"IFERROR(__xludf.DUMMYFUNCTION(\"\"\"COMPUTED_VALUE\"\"\"),\"vnd.fastcopy-disk-image\")","v":"vnd.fastcopy-disk-image"},{"$f":"IFERROR(__xludf.DUMMYFUNCTION(\"\"\"COMPUTED_VALUE\"\"\"),\"application/vnd.fastcopy-disk-image\")","v":"application/vnd.fastcopy-disk-image"},{"$f":"IFERROR(__xludf.DUMMYFUNCTION(\"\"\"COMPUTED_VALUE\"\"\"),\"en\")","v":"en"}]
[{"$f":"IFERROR(__xludf.DUMMYFUNCTION(\"\"\"COMPUTED_VALUE\"\"\"),\"https://www.iana.org/assignments/media-types/application/vnd.familysearch.gedcom+zip\")","v":"https://www.iana.org/assignments/media-types/application/vnd.familysearch.gedcom+zip"},{"$f":"IFERROR(__xludf.DUMMYFUNCTION(\"\"\"COMPUTED_VALUE\"\"\"),\"vnd.familysearch.gedcom+zip\")","v":"vnd.familysearch.gedcom+zip"},{"$f":"IFERROR(__xludf.DUMMYFUNCTION(\"\"\"COMPUTED_VALUE\"\"\"),\"vnd.familysearch.gedcom+zip\")","v":"vnd.familysearch.gedcom+zip"},{"$f":"IFERROR(__xludf.DUMMYFUNCTION(\"\"\"COMPUTED_VALUE\"\"\"),\"application/vnd.familysearch.gedcom+zip\")","v":"application/vnd.familysearch.gedcom+zip"},{"$f":"IFERROR(__xludf.DUMMYFUNCTION(\"\"\"COMPUTED_VALUE\"\"\"),\"en\")","v":"en"}]
[{"$f":"IFERROR(__xludf.DUMMYFUNCTION(\"\"\"COMPUTED_VALUE\"\"\"),\"https://www.iana.org/assignments/media-types/application/vnd.fdsn.mseed\")","v":"https://www.iana.org/assignments/media-types/application/vnd.fdsn.mseed"},{"$f":"IFERROR(__xludf.DUMMYFUNCTION(\"\"\"COMPUTED_VALUE\"\"\"),\"vnd.fdsn.mseed\")","v":"vnd.fdsn.mseed"},{"$f":"IFERROR(__xludf.DUMMYFUNCTION(\"\"\"COMPUTED_VALUE\"\"\"),\"vnd.fdsn.mseed\")","v":"vnd.fdsn.mseed"},{"$f":"IFERROR(__xludf.DUMMYFUNCTION(\"\"\"COMPUTED_VALUE\"\"\"),\"application/vnd.fdsn.mseed\")","v":"application/vnd.fdsn.mseed"},{"$f":"IFERROR(__xludf.DUMMYFUNCTION(\"\"\"COMPUTED_VALUE\"\"\"),\"en\")","v":"en"}]
[{"$f":"IFERROR(__xludf.DUMMYFUNCTION(\"\"\"COMPUTED_VALUE\"\"\"),\"https://www.iana.org/assignments/media-types/application/vnd.fdsn.seed\")","v":"https://www.iana.org/assignments/media-types/application/vnd.fdsn.seed"},{"$f":"IFERROR(__xludf.DUMMYFUNCTION(\"\"\"COMPUTED_VALUE\"\"\"),\"vnd.fdsn.seed\")","v":"vnd.fdsn.seed"},{"$f":"IFERROR(__xludf.DUMMYFUNCTION(\"\"\"COMPUTED_VALUE\"\"\"),\"vnd.fdsn.seed\")","v":"vnd.fdsn.seed"},{"$f":"IFERROR(__xludf.DUMMYFUNCTION(\"\"\"COMPUTED_VALUE\"\"\"),\"application/vnd.fdsn.seed\")","v":"application/vnd.fdsn.seed"},{"$f":"IFERROR(__xludf.DUMMYFUNCTION(\"\"\"COMPUTED_VALUE\"\"\"),\"en\")","v":"en"}]
[{"$f":"IFERROR(__xludf.DUMMYFUNCTION(\"\"\"COMPUTED_VALUE\"\"\"),\"https://www.iana.org/assignments/media-types/application/vnd.ffsns\")","v":"https://www.iana.org/assignments/media-types/application/vnd.ffsns"},{"$f":"IFERROR(__xludf.DUMMYFUNCTION(\"\"\"COMPUTED_VALUE\"\"\"),\"vnd.ffsns\")","v":"vnd.ffsns"},{"$f":"IFERROR(__xludf.DUMMYFUNCTION(\"\"\"COMPUTED_VALUE\"\"\"),\"vnd.ffsns\")","v":"vnd.ffsns"},{"$f":"IFERROR(__xludf.DUMMYFUNCTION(\"\"\"COMPUTED_VALUE\"\"\"),\"application/vnd.ffsns\")","v":"application/vnd.ffsns"},{"$f":"IFERROR(__xludf.DUMMYFUNCTION(\"\"\"COMPUTED_VALUE\"\"\"),\"en\")","v":"en"}]
[{"$f":"IFERROR(__xludf.DUMMYFUNCTION(\"\"\"COMPUTED_VALUE\"\"\"),\"https://www.iana.org/assignments/media-types/application/vnd.ficlab.flb+zip\")","v":"https://www.iana.org/assignments/media-types/application/vnd.ficlab.flb+zip"},{"$f":"IFERROR(__xludf.DUMMYFUNCTION(\"\"\"COMPUTED_VALUE\"\"\"),\"vnd.ficlab.flb+zip\")","v":"vnd.ficlab.flb+zip"},{"$f":"IFERROR(__xludf.DUMMYFUNCTION(\"\"\"COMPUTED_VALUE\"\"\"),\"vnd.ficlab.flb+zip\")","v":"vnd.ficlab.flb+zip"},{"$f":"IFERROR(__xludf.DUMMYFUNCTION(\"\"\"COMPUTED_VALUE\"\"\"),\"application/vnd.ficlab.flb+zip\")","v":"application/vnd.ficlab.flb+zip"},{"$f":"IFERROR(__xludf.DUMMYFUNCTION(\"\"\"COMPUTED_VALUE\"\"\"),\"en\")","v":"en"}]
[{"$f":"IFERROR(__xludf.DUMMYFUNCTION(\"\"\"COMPUTED_VALUE\"\"\"),\"https://www.iana.org/assignments/media-types/application/vnd.filmit.zfc\")","v":"https://www.iana.org/assignments/media-types/application/vnd.filmit.zfc"},{"$f":"IFERROR(__xludf.DUMMYFUNCTION(\"\"\"COMPUTED_VALUE\"\"\"),\"vnd.filmit.zfc\")","v":"vnd.filmit.zfc"},{"$f":"IFERROR(__xludf.DUMMYFUNCTION(\"\"\"COMPUTED_VALUE\"\"\"),\"vnd.filmit.zfc\")","v":"vnd.filmit.zfc"},{"$f":"IFERROR(__xludf.DUMMYFUNCTION(\"\"\"COMPUTED_VALUE\"\"\"),\"application/vnd.filmit.zfc\")","v":"application/vnd.filmit.zfc"},{"$f":"IFERROR(__xludf.DUMMYFUNCTION(\"\"\"COMPUTED_VALUE\"\"\"),\"en\")","v":"en"}]
[{"$f":"IFERROR(__xludf.DUMMYFUNCTION(\"\"\"COMPUTED_VALUE\"\"\"),\"https://www.iana.org/assignments/media-types/application/vnd.fints\")","v":"https://www.iana.org/assignments/media-types/application/vnd.fints"},{"$f":"IFERROR(__xludf.DUMMYFUNCTION(\"\"\"COMPUTED_VALUE\"\"\"),\"vnd.fints\")","v":"vnd.fints"},{"$f":"IFERROR(__xludf.DUMMYFUNCTION(\"\"\"COMPUTED_VALUE\"\"\"),\"vnd.fints\")","v":"vnd.fints"},{"$f":"IFERROR(__xludf.DUMMYFUNCTION(\"\"\"COMPUTED_VALUE\"\"\"),\"application/vnd.fints\")","v":"application/vnd.fints"},{"$f":"IFERROR(__xludf.DUMMYFUNCTION(\"\"\"COMPUTED_VALUE\"\"\"),\"en\")","v":"en"}]
[{"$f":"IFERROR(__xludf.DUMMYFUNCTION(\"\"\"COMPUTED_VALUE\"\"\"),\"https://www.iana.org/assignments/media-types/application/vnd.firemonkeys.cloudcell\")","v":"https://www.iana.org/assignments/media-types/application/vnd.firemonkeys.cloudcell"},{"$f":"IFERROR(__xludf.DUMMYFUNCTION(\"\"\"COMPUTED_VALUE\"\"\"),\"vnd.firemonkeys.cloudcell\")","v":"vnd.firemonkeys.cloudcell"},{"$f":"IFERROR(__xludf.DUMMYFUNCTION(\"\"\"COMPUTED_VALUE\"\"\"),\"vnd.firemonkeys.cloudcell\")","v":"vnd.firemonkeys.cloudcell"},{"$f":"IFERROR(__xludf.DUMMYFUNCTION(\"\"\"COMPUTED_VALUE\"\"\"),\"application/vnd.firemonkeys.cloudcell\")","v":"application/vnd.firemonkeys.cloudcell"},{"$f":"IFERROR(__xludf.DUMMYFUNCTION(\"\"\"COMPUTED_VALUE\"\"\"),\"en\")","v":"en"}]
[{"$f":"IFERROR(__xludf.DUMMYFUNCTION(\"\"\"COMPUTED_VALUE\"\"\"),\"https://www.iana.org/assignments/media-types/application/vnd.FloGraphIt\")","v":"https://www.iana.org/assignments/media-types/application/vnd.FloGraphIt"},{"$f":"IFERROR(__xludf.DUMMYFUNCTION(\"\"\"COMPUTED_VALUE\"\"\"),\"vnd.FloGraphIt\")","v":"vnd.FloGraphIt"},{"$f":"IFERROR(__xludf.DUMMYFUNCTION(\"\"\"COMPUTED_VALUE\"\"\"),\"vnd.FloGraphIt\")","v":"vnd.FloGraphIt"},{"$f":"IFERROR(__xludf.DUMMYFUNCTION(\"\"\"COMPUTED_VALUE\"\"\"),\"application/vnd.FloGraphIt\")","v":"application/vnd.FloGraphIt"},{"$f":"IFERROR(__xludf.DUMMYFUNCTION(\"\"\"COMPUTED_VALUE\"\"\"),\"en\")","v":"en"}]
[{"$f":"IFERROR(__xludf.DUMMYFUNCTION(\"\"\"COMPUTED_VALUE\"\"\"),\"https://www.iana.org/assignments/media-types/application/vnd.fluxtime.clip\")","v":"https://www.iana.org/assignments/media-types/application/vnd.fluxtime.clip"},{"$f":"IFERROR(__xludf.DUMMYFUNCTION(\"\"\"COMPUTED_VALUE\"\"\"),\"vnd.fluxtime.clip\")","v":"vnd.fluxtime.clip"},{"$f":"IFERROR(__xludf.DUMMYFUNCTION(\"\"\"COMPUTED_VALUE\"\"\"),\"vnd.fluxtime.clip\")","v":"vnd.fluxtime.clip"},{"$f":"IFERROR(__xludf.DUMMYFUNCTION(\"\"\"COMPUTED_VALUE\"\"\"),\"application/vnd.fluxtime.clip\")","v":"application/vnd.fluxtime.clip"},{"$f":"IFERROR(__xludf.DUMMYFUNCTION(\"\"\"COMPUTED_VALUE\"\"\"),\"en\")","v":"en"}]
[{"$f":"IFERROR(__xludf.DUMMYFUNCTION(\"\"\"COMPUTED_VALUE\"\"\"),\"https://www.iana.org/assignments/media-types/application/vnd.font-fontforge-sfd\")","v":"https://www.iana.org/assignments/media-types/application/vnd.font-fontforge-sfd"},{"$f":"IFERROR(__xludf.DUMMYFUNCTION(\"\"\"COMPUTED_VALUE\"\"\"),\"vnd.font-fontforge-sfd\")","v":"vnd.font-fontforge-sfd"},{"$f":"IFERROR(__xludf.DUMMYFUNCTION(\"\"\"COMPUTED_VALUE\"\"\"),\"vnd.font-fontforge-sfd\")","v":"vnd.font-fontforge-sfd"},{"$f":"IFERROR(__xludf.DUMMYFUNCTION(\"\"\"COMPUTED_VALUE\"\"\"),\"application/vnd.font-fontforge-sfd\")","v":"application/vnd.font-fontforge-sfd"},{"$f":"IFERROR(__xludf.DUMMYFUNCTION(\"\"\"COMPUTED_VALUE\"\"\"),\"en\")","v":"en"}]
[{"$f":"IFERROR(__xludf.DUMMYFUNCTION(\"\"\"COMPUTED_VALUE\"\"\"),\"https://www.iana.org/assignments/media-types/application/vnd.framemaker\")","v":"https://www.iana.org/assignments/media-types/application/vnd.framemaker"},{"$f":"IFERROR(__xludf.DUMMYFUNCTION(\"\"\"COMPUTED_VALUE\"\"\"),\"vnd.framemaker\")","v":"vnd.framemaker"},{"$f":"IFERROR(__xludf.DUMMYFUNCTION(\"\"\"COMPUTED_VALUE\"\"\"),\"vnd.framemaker\")","v":"vnd.framemaker"},{"$f":"IFERROR(__xludf.DUMMYFUNCTION(\"\"\"COMPUTED_VALUE\"\"\"),\"application/vnd.framemaker\")","v":"application/vnd.framemaker"},{"$f":"IFERROR(__xludf.DUMMYFUNCTION(\"\"\"COMPUTED_VALUE\"\"\"),\"en\")","v":"en"}]
[{"$f":"IFERROR(__xludf.DUMMYFUNCTION(\"\"\"COMPUTED_VALUE\"\"\"),\"https://www.iana.org/assignments/media-types/application/vnd.frogans.fnc\")","v":"https://www.iana.org/assignments/media-types/application/vnd.frogans.fnc"},{"$f":"IFERROR(__xludf.DUMMYFUNCTION(\"\"\"COMPUTED_VALUE\"\"\"),\"vnd.frogans.fnc (OBSOLETE)\")","v":"vnd.frogans.fnc (OBSOLETE)"},{"$f":"IFERROR(__xludf.DUMMYFUNCTION(\"\"\"COMPUTED_VALUE\"\"\"),\"vnd.frogans.fnc (OBSOLETE)\")","v":"vnd.frogans.fnc (OBSOLETE)"},{"$f":"IFERROR(__xludf.DUMMYFUNCTION(\"\"\"COMPUTED_VALUE\"\"\"),\"application/vnd.frogans.fnc\")","v":"application/vnd.frogans.fnc"},{"$f":"IFERROR(__xludf.DUMMYFUNCTION(\"\"\"COMPUTED_VALUE\"\"\"),\"en\")","v":"en"}]
[{"$f":"IFERROR(__xludf.DUMMYFUNCTION(\"\"\"COMPUTED_VALUE\"\"\"),\"https://www.iana.org/assignments/media-types/application/vnd.frogans.ltf\")","v":"https://www.iana.org/assignments/media-types/application/vnd.frogans.ltf"},{"$f":"IFERROR(__xludf.DUMMYFUNCTION(\"\"\"COMPUTED_VALUE\"\"\"),\"vnd.frogans.ltf (OBSOLETE)\")","v":"vnd.frogans.ltf (OBSOLETE)"},{"$f":"IFERROR(__xludf.DUMMYFUNCTION(\"\"\"COMPUTED_VALUE\"\"\"),\"vnd.frogans.ltf (OBSOLETE)\")","v":"vnd.frogans.ltf (OBSOLETE)"},{"$f":"IFERROR(__xludf.DUMMYFUNCTION(\"\"\"COMPUTED_VALUE\"\"\"),\"application/vnd.frogans.ltf\")","v":"application/vnd.frogans.ltf"},{"$f":"IFERROR(__xludf.DUMMYFUNCTION(\"\"\"COMPUTED_VALUE\"\"\"),\"en\")","v":"en"}]
[{"$f":"IFERROR(__xludf.DUMMYFUNCTION(\"\"\"COMPUTED_VALUE\"\"\"),\"https://www.iana.org/assignments/media-types/application/vnd.fsc.weblaunch\")","v":"https://www.iana.org/assignments/media-types/application/vnd.fsc.weblaunch"},{"$f":"IFERROR(__xludf.DUMMYFUNCTION(\"\"\"COMPUTED_VALUE\"\"\"),\"vnd.fsc.weblaunch\")","v":"vnd.fsc.weblaunch"},{"$f":"IFERROR(__xludf.DUMMYFUNCTION(\"\"\"COMPUTED_VALUE\"\"\"),\"vnd.fsc.weblaunch\")","v":"vnd.fsc.weblaunch"},{"$f":"IFERROR(__xludf.DUMMYFUNCTION(\"\"\"COMPUTED_VALUE\"\"\"),\"application/vnd.fsc.weblaunch\")","v":"application/vnd.fsc.weblaunch"},{"$f":"IFERROR(__xludf.DUMMYFUNCTION(\"\"\"COMPUTED_VALUE\"\"\"),\"en\")","v":"en"}]
[{"$f":"IFERROR(__xludf.DUMMYFUNCTION(\"\"\"COMPUTED_VALUE\"\"\"),\"https://www.iana.org/assignments/media-types/application/vnd.fujifilm.fb.docuworks\")","v":"https://www.iana.org/assignments/media-types/application/vnd.fujifilm.fb.docuworks"},{"$f":"IFERROR(__xludf.DUMMYFUNCTION(\"\"\"COMPUTED_VALUE\"\"\"),\"vnd.fujifilm.fb.docuworks\")","v":"vnd.fujifilm.fb.docuworks"},{"$f":"IFERROR(__xludf.DUMMYFUNCTION(\"\"\"COMPUTED_VALUE\"\"\"),\"vnd.fujifilm.fb.docuworks\")","v":"vnd.fujifilm.fb.docuworks"},{"$f":"IFERROR(__xludf.DUMMYFUNCTION(\"\"\"COMPUTED_VALUE\"\"\"),\"application/vnd.fujifilm.fb.docuworks\")","v":"application/vnd.fujifilm.fb.docuworks"},{"$f":"IFERROR(__xludf.DUMMYFUNCTION(\"\"\"COMPUTED_VALUE\"\"\"),\"en\")","v":"en"}]
[{"$f":"IFERROR(__xludf.DUMMYFUNCTION(\"\"\"COMPUTED_VALUE\"\"\"),\"https://www.iana.org/assignments/media-types/application/vnd.fujifilm.fb.docuworks.binder\")","v":"https://www.iana.org/assignments/media-types/application/vnd.fujifilm.fb.docuworks.binder"},{"$f":"IFERROR(__xludf.DUMMYFUNCTION(\"\"\"COMPUTED_VALUE\"\"\"),\"vnd.fujifilm.fb.docuworks.binder\")","v":"vnd.fujifilm.fb.docuworks.binder"},{"$f":"IFERROR(__xludf.DUMMYFUNCTION(\"\"\"COMPUTED_VALUE\"\"\"),\"vnd.fujifilm.fb.docuworks.binder\")","v":"vnd.fujifilm.fb.docuworks.binder"},{"$f":"IFERROR(__xludf.DUMMYFUNCTION(\"\"\"COMPUTED_VALUE\"\"\"),\"application/vnd.fujifilm.fb.docuworks.binder\")","v":"application/vnd.fujifilm.fb.docuworks.binder"},{"$f":"IFERROR(__xludf.DUMMYFUNCTION(\"\"\"COMPUTED_VALUE\"\"\"),\"en\")","v":"en"}]
[{"$f":"IFERROR(__xludf.DUMMYFUNCTION(\"\"\"COMPUTED_VALUE\"\"\"),\"https://www.iana.org/assignments/media-types/application/vnd.fujifilm.fb.docuworks.container\")","v":"https://www.iana.org/assignments/media-types/application/vnd.fujifilm.fb.docuworks.container"},{"$f":"IFERROR(__xludf.DUMMYFUNCTION(\"\"\"COMPUTED_VALUE\"\"\"),\"vnd.fujifilm.fb.docuworks.container\")","v":"vnd.fujifilm.fb.docuworks.container"},{"$f":"IFERROR(__xludf.DUMMYFUNCTION(\"\"\"COMPUTED_VALUE\"\"\"),\"vnd.fujifilm.fb.docuworks.container\")","v":"vnd.fujifilm.fb.docuworks.container"},{"$f":"IFERROR(__xludf.DUMMYFUNCTION(\"\"\"COMPUTED_VALUE\"\"\"),\"application/vnd.fujifilm.fb.docuworks.container\")","v":"application/vnd.fujifilm.fb.docuworks.container"},{"$f":"IFERROR(__xludf.DUMMYFUNCTION(\"\"\"COMPUTED_VALUE\"\"\"),\"en\")","v":"en"}]
[{"$f":"IFERROR(__xludf.DUMMYFUNCTION(\"\"\"COMPUTED_VALUE\"\"\"),\"https://www.iana.org/assignments/media-types/application/vnd.fujifilm.fb.jfi+xml\")","v":"https://www.iana.org/assignments/media-types/application/vnd.fujifilm.fb.jfi+xml"},{"$f":"IFERROR(__xludf.DUMMYFUNCTION(\"\"\"COMPUTED_VALUE\"\"\"),\"vnd.fujifilm.fb.jfi+xml\")","v":"vnd.fujifilm.fb.jfi+xml"},{"$f":"IFERROR(__xludf.DUMMYFUNCTION(\"\"\"COMPUTED_VALUE\"\"\"),\"vnd.fujifilm.fb.jfi+xml\")","v":"vnd.fujifilm.fb.jfi+xml"},{"$f":"IFERROR(__xludf.DUMMYFUNCTION(\"\"\"COMPUTED_VALUE\"\"\"),\"application/vnd.fujifilm.fb.jfi+xml\")","v":"application/vnd.fujifilm.fb.jfi+xml"},{"$f":"IFERROR(__xludf.DUMMYFUNCTION(\"\"\"COMPUTED_VALUE\"\"\"),\"en\")","v":"en"}]
[{"$f":"IFERROR(__xludf.DUMMYFUNCTION(\"\"\"COMPUTED_VALUE\"\"\"),\"https://www.iana.org/assignments/media-types/application/vnd.fujitsu.oasys\")","v":"https://www.iana.org/assignments/media-types/application/vnd.fujitsu.oasys"},{"$f":"IFERROR(__xludf.DUMMYFUNCTION(\"\"\"COMPUTED_VALUE\"\"\"),\"vnd.fujitsu.oasys\")","v":"vnd.fujitsu.oasys"},{"$f":"IFERROR(__xludf.DUMMYFUNCTION(\"\"\"COMPUTED_VALUE\"\"\"),\"vnd.fujitsu.oasys\")","v":"vnd.fujitsu.oasys"},{"$f":"IFERROR(__xludf.DUMMYFUNCTION(\"\"\"COMPUTED_VALUE\"\"\"),\"application/vnd.fujitsu.oasys\")","v":"application/vnd.fujitsu.oasys"},{"$f":"IFERROR(__xludf.DUMMYFUNCTION(\"\"\"COMPUTED_VALUE\"\"\"),\"en\")","v":"en"}]
[{"$f":"IFERROR(__xludf.DUMMYFUNCTION(\"\"\"COMPUTED_VALUE\"\"\"),\"https://www.iana.org/assignments/media-types/application/vnd.fujitsu.oasys2\")","v":"https://www.iana.org/assignments/media-types/application/vnd.fujitsu.oasys2"},{"$f":"IFERROR(__xludf.DUMMYFUNCTION(\"\"\"COMPUTED_VALUE\"\"\"),\"vnd.fujitsu.oasys2\")","v":"vnd.fujitsu.oasys2"},{"$f":"IFERROR(__xludf.DUMMYFUNCTION(\"\"\"COMPUTED_VALUE\"\"\"),\"vnd.fujitsu.oasys2\")","v":"vnd.fujitsu.oasys2"},{"$f":"IFERROR(__xludf.DUMMYFUNCTION(\"\"\"COMPUTED_VALUE\"\"\"),\"application/vnd.fujitsu.oasys2\")","v":"application/vnd.fujitsu.oasys2"},{"$f":"IFERROR(__xludf.DUMMYFUNCTION(\"\"\"COMPUTED_VALUE\"\"\"),\"en\")","v":"en"}]
[{"$f":"IFERROR(__xludf.DUMMYFUNCTION(\"\"\"COMPUTED_VALUE\"\"\"),\"https://www.iana.org/assignments/media-types/application/vnd.fujitsu.oasys3\")","v":"https://www.iana.org/assignments/media-types/application/vnd.fujitsu.oasys3"},{"$f":"IFERROR(__xludf.DUMMYFUNCTION(\"\"\"COMPUTED_VALUE\"\"\"),\"vnd.fujitsu.oasys3\")","v":"vnd.fujitsu.oasys3"},{"$f":"IFERROR(__xludf.DUMMYFUNCTION(\"\"\"COMPUTED_VALUE\"\"\"),\"vnd.fujitsu.oasys3\")","v":"vnd.fujitsu.oasys3"},{"$f":"IFERROR(__xludf.DUMMYFUNCTION(\"\"\"COMPUTED_VALUE\"\"\"),\"application/vnd.fujitsu.oasys3\")","v":"application/vnd.fujitsu.oasys3"},{"$f":"IFERROR(__xludf.DUMMYFUNCTION(\"\"\"COMPUTED_VALUE\"\"\"),\"en\")","v":"en"}]
[{"$f":"IFERROR(__xludf.DUMMYFUNCTION(\"\"\"COMPUTED_VALUE\"\"\"),\"https://www.iana.org/assignments/media-types/application/vnd.fujitsu.oasysgp\")","v":"https://www.iana.org/assignments/media-types/application/vnd.fujitsu.oasysgp"},{"$f":"IFERROR(__xludf.DUMMYFUNCTION(\"\"\"COMPUTED_VALUE\"\"\"),\"vnd.fujitsu.oasysgp\")","v":"vnd.fujitsu.oasysgp"},{"$f":"IFERROR(__xludf.DUMMYFUNCTION(\"\"\"COMPUTED_VALUE\"\"\"),\"vnd.fujitsu.oasysgp\")","v":"vnd.fujitsu.oasysgp"},{"$f":"IFERROR(__xludf.DUMMYFUNCTION(\"\"\"COMPUTED_VALUE\"\"\"),\"application/vnd.fujitsu.oasysgp\")","v":"application/vnd.fujitsu.oasysgp"},{"$f":"IFERROR(__xludf.DUMMYFUNCTION(\"\"\"COMPUTED_VALUE\"\"\"),\"en\")","v":"en"}]
[{"$f":"IFERROR(__xludf.DUMMYFUNCTION(\"\"\"COMPUTED_VALUE\"\"\"),\"https://www.iana.org/assignments/media-types/application/vnd.fujitsu.oasysprs\")","v":"https://www.iana.org/assignments/media-types/application/vnd.fujitsu.oasysprs"},{"$f":"IFERROR(__xludf.DUMMYFUNCTION(\"\"\"COMPUTED_VALUE\"\"\"),\"vnd.fujitsu.oasysprs\")","v":"vnd.fujitsu.oasysprs"},{"$f":"IFERROR(__xludf.DUMMYFUNCTION(\"\"\"COMPUTED_VALUE\"\"\"),\"vnd.fujitsu.oasysprs\")","v":"vnd.fujitsu.oasysprs"},{"$f":"IFERROR(__xludf.DUMMYFUNCTION(\"\"\"COMPUTED_VALUE\"\"\"),\"application/vnd.fujitsu.oasysprs\")","v":"application/vnd.fujitsu.oasysprs"},{"$f":"IFERROR(__xludf.DUMMYFUNCTION(\"\"\"COMPUTED_VALUE\"\"\"),\"en\")","v":"en"}]
[{"$f":"IFERROR(__xludf.DUMMYFUNCTION(\"\"\"COMPUTED_VALUE\"\"\"),\"https://www.iana.org/assignments/media-types/application/vnd.fujixerox.ART4\")","v":"https://www.iana.org/assignments/media-types/application/vnd.fujixerox.ART4"},{"$f":"IFERROR(__xludf.DUMMYFUNCTION(\"\"\"COMPUTED_VALUE\"\"\"),\"vnd.fujixerox.ART4\")","v":"vnd.fujixerox.ART4"},{"$f":"IFERROR(__xludf.DUMMYFUNCTION(\"\"\"COMPUTED_VALUE\"\"\"),\"vnd.fujixerox.ART4\")","v":"vnd.fujixerox.ART4"},{"$f":"IFERROR(__xludf.DUMMYFUNCTION(\"\"\"COMPUTED_VALUE\"\"\"),\"application/vnd.fujixerox.ART4\")","v":"application/vnd.fujixerox.ART4"},{"$f":"IFERROR(__xludf.DUMMYFUNCTION(\"\"\"COMPUTED_VALUE\"\"\"),\"en\")","v":"en"}]
[{"$f":"IFERROR(__xludf.DUMMYFUNCTION(\"\"\"COMPUTED_VALUE\"\"\"),\"https://www.iana.org/assignments/media-types/application/vnd.fujixerox.ART-EX\")","v":"https://www.iana.org/assignments/media-types/application/vnd.fujixerox.ART-EX"},{"$f":"IFERROR(__xludf.DUMMYFUNCTION(\"\"\"COMPUTED_VALUE\"\"\"),\"vnd.fujixerox.ART-EX\")","v":"vnd.fujixerox.ART-EX"},{"$f":"IFERROR(__xludf.DUMMYFUNCTION(\"\"\"COMPUTED_VALUE\"\"\"),\"vnd.fujixerox.ART-EX\")","v":"vnd.fujixerox.ART-EX"},{"$f":"IFERROR(__xludf.DUMMYFUNCTION(\"\"\"COMPUTED_VALUE\"\"\"),\"application/vnd.fujixerox.ART-EX\")","v":"application/vnd.fujixerox.ART-EX"},{"$f":"IFERROR(__xludf.DUMMYFUNCTION(\"\"\"COMPUTED_VALUE\"\"\"),\"en\")","v":"en"}]
[{"$f":"IFERROR(__xludf.DUMMYFUNCTION(\"\"\"COMPUTED_VALUE\"\"\"),\"https://www.iana.org/assignments/media-types/application/vnd.fujixerox.ddd\")","v":"https://www.iana.org/assignments/media-types/application/vnd.fujixerox.ddd"},{"$f":"IFERROR(__xludf.DUMMYFUNCTION(\"\"\"COMPUTED_VALUE\"\"\"),\"vnd.fujixerox.ddd\")","v":"vnd.fujixerox.ddd"},{"$f":"IFERROR(__xludf.DUMMYFUNCTION(\"\"\"COMPUTED_VALUE\"\"\"),\"vnd.fujixerox.ddd\")","v":"vnd.fujixerox.ddd"},{"$f":"IFERROR(__xludf.DUMMYFUNCTION(\"\"\"COMPUTED_VALUE\"\"\"),\"application/vnd.fujixerox.ddd\")","v":"application/vnd.fujixerox.ddd"},{"$f":"IFERROR(__xludf.DUMMYFUNCTION(\"\"\"COMPUTED_VALUE\"\"\"),\"en\")","v":"en"}]
[{"$f":"IFERROR(__xludf.DUMMYFUNCTION(\"\"\"COMPUTED_VALUE\"\"\"),\"https://www.iana.org/assignments/media-types/application/vnd.fujixerox.docuworks\")","v":"https://www.iana.org/assignments/media-types/application/vnd.fujixerox.docuworks"},{"$f":"IFERROR(__xludf.DUMMYFUNCTION(\"\"\"COMPUTED_VALUE\"\"\"),\"vnd.fujixerox.docuworks\")","v":"vnd.fujixerox.docuworks"},{"$f":"IFERROR(__xludf.DUMMYFUNCTION(\"\"\"COMPUTED_VALUE\"\"\"),\"vnd.fujixerox.docuworks\")","v":"vnd.fujixerox.docuworks"},{"$f":"IFERROR(__xludf.DUMMYFUNCTION(\"\"\"COMPUTED_VALUE\"\"\"),\"application/vnd.fujixerox.docuworks\")","v":"application/vnd.fujixerox.docuworks"},{"$f":"IFERROR(__xludf.DUMMYFUNCTION(\"\"\"COMPUTED_VALUE\"\"\"),\"en\")","v":"en"}]
[{"$f":"IFERROR(__xludf.DUMMYFUNCTION(\"\"\"COMPUTED_VALUE\"\"\"),\"https://www.iana.org/assignments/media-types/application/vnd.fujixerox.docuworks.binder\")","v":"https://www.iana.org/assignments/media-types/application/vnd.fujixerox.docuworks.binder"},{"$f":"IFERROR(__xludf.DUMMYFUNCTION(\"\"\"COMPUTED_VALUE\"\"\"),\"vnd.fujixerox.docuworks.binder\")","v":"vnd.fujixerox.docuworks.binder"},{"$f":"IFERROR(__xludf.DUMMYFUNCTION(\"\"\"COMPUTED_VALUE\"\"\"),\"vnd.fujixerox.docuworks.binder\")","v":"vnd.fujixerox.docuworks.binder"},{"$f":"IFERROR(__xludf.DUMMYFUNCTION(\"\"\"COMPUTED_VALUE\"\"\"),\"application/vnd.fujixerox.docuworks.binder\")","v":"application/vnd.fujixerox.docuworks.binder"},{"$f":"IFERROR(__xludf.DUMMYFUNCTION(\"\"\"COMPUTED_VALUE\"\"\"),\"en\")","v":"en"}]
[{"$f":"IFERROR(__xludf.DUMMYFUNCTION(\"\"\"COMPUTED_VALUE\"\"\"),\"https://www.iana.org/assignments/media-types/application/vnd.fujixerox.docuworks.container\")","v":"https://www.iana.org/assignments/media-types/application/vnd.fujixerox.docuworks.container"},{"$f":"IFERROR(__xludf.DUMMYFUNCTION(\"\"\"COMPUTED_VALUE\"\"\"),\"vnd.fujixerox.docuworks.container\")","v":"vnd.fujixerox.docuworks.container"},{"$f":"IFERROR(__xludf.DUMMYFUNCTION(\"\"\"COMPUTED_VALUE\"\"\"),\"vnd.fujixerox.docuworks.container\")","v":"vnd.fujixerox.docuworks.container"},{"$f":"IFERROR(__xludf.DUMMYFUNCTION(\"\"\"COMPUTED_VALUE\"\"\"),\"application/vnd.fujixerox.docuworks.container\")","v":"application/vnd.fujixerox.docuworks.container"},{"$f":"IFERROR(__xludf.DUMMYFUNCTION(\"\"\"COMPUTED_VALUE\"\"\"),\"en\")","v":"en"}]
[{"$f":"IFERROR(__xludf.DUMMYFUNCTION(\"\"\"COMPUTED_VALUE\"\"\"),\"https://www.iana.org/assignments/media-types/application/vnd.fujixerox.HBPL\")","v":"https://www.iana.org/assignments/media-types/application/vnd.fujixerox.HBPL"},{"$f":"IFERROR(__xludf.DUMMYFUNCTION(\"\"\"COMPUTED_VALUE\"\"\"),\"vnd.fujixerox.HBPL\")","v":"vnd.fujixerox.HBPL"},{"$f":"IFERROR(__xludf.DUMMYFUNCTION(\"\"\"COMPUTED_VALUE\"\"\"),\"vnd.fujixerox.HBPL\")","v":"vnd.fujixerox.HBPL"},{"$f":"IFERROR(__xludf.DUMMYFUNCTION(\"\"\"COMPUTED_VALUE\"\"\"),\"application/vnd.fujixerox.HBPL\")","v":"application/vnd.fujixerox.HBPL"},{"$f":"IFERROR(__xludf.DUMMYFUNCTION(\"\"\"COMPUTED_VALUE\"\"\"),\"en\")","v":"en"}]
[{"$f":"IFERROR(__xludf.DUMMYFUNCTION(\"\"\"COMPUTED_VALUE\"\"\"),\"https://www.iana.org/assignments/media-types/application/vnd.fut-misnet\")","v":"https://www.iana.org/assignments/media-types/application/vnd.fut-misnet"},{"$f":"IFERROR(__xludf.DUMMYFUNCTION(\"\"\"COMPUTED_VALUE\"\"\"),\"vnd.fut-misnet\")","v":"vnd.fut-misnet"},{"$f":"IFERROR(__xludf.DUMMYFUNCTION(\"\"\"COMPUTED_VALUE\"\"\"),\"vnd.fut-misnet\")","v":"vnd.fut-misnet"},{"$f":"IFERROR(__xludf.DUMMYFUNCTION(\"\"\"COMPUTED_VALUE\"\"\"),\"application/vnd.fut-misnet\")","v":"application/vnd.fut-misnet"},{"$f":"IFERROR(__xludf.DUMMYFUNCTION(\"\"\"COMPUTED_VALUE\"\"\"),\"en\")","v":"en"}]
[{"$f":"IFERROR(__xludf.DUMMYFUNCTION(\"\"\"COMPUTED_VALUE\"\"\"),\"https://www.iana.org/assignments/media-types/application/vnd.futoin+cbor\")","v":"https://www.iana.org/assignments/media-types/application/vnd.futoin+cbor"},{"$f":"IFERROR(__xludf.DUMMYFUNCTION(\"\"\"COMPUTED_VALUE\"\"\"),\"vnd.futoin+cbor\")","v":"vnd.futoin+cbor"},{"$f":"IFERROR(__xludf.DUMMYFUNCTION(\"\"\"COMPUTED_VALUE\"\"\"),\"vnd.futoin+cbor\")","v":"vnd.futoin+cbor"},{"$f":"IFERROR(__xludf.DUMMYFUNCTION(\"\"\"COMPUTED_VALUE\"\"\"),\"application/vnd.futoin+cbor\")","v":"application/vnd.futoin+cbor"},{"$f":"IFERROR(__xludf.DUMMYFUNCTION(\"\"\"COMPUTED_VALUE\"\"\"),\"en\")","v":"en"}]
[{"$f":"IFERROR(__xludf.DUMMYFUNCTION(\"\"\"COMPUTED_VALUE\"\"\"),\"https://www.iana.org/assignments/media-types/application/vnd.futoin+json\")","v":"https://www.iana.org/assignments/media-types/application/vnd.futoin+json"},{"$f":"IFERROR(__xludf.DUMMYFUNCTION(\"\"\"COMPUTED_VALUE\"\"\"),\"vnd.futoin+json\")","v":"vnd.futoin+json"},{"$f":"IFERROR(__xludf.DUMMYFUNCTION(\"\"\"COMPUTED_VALUE\"\"\"),\"vnd.futoin+json\")","v":"vnd.futoin+json"},{"$f":"IFERROR(__xludf.DUMMYFUNCTION(\"\"\"COMPUTED_VALUE\"\"\"),\"application/vnd.futoin+json\")","v":"application/vnd.futoin+json"},{"$f":"IFERROR(__xludf.DUMMYFUNCTION(\"\"\"COMPUTED_VALUE\"\"\"),\"en\")","v":"en"}]
[{"$f":"IFERROR(__xludf.DUMMYFUNCTION(\"\"\"COMPUTED_VALUE\"\"\"),\"https://www.iana.org/assignments/media-types/application/vnd.fuzzysheet\")","v":"https://www.iana.org/assignments/media-types/application/vnd.fuzzysheet"},{"$f":"IFERROR(__xludf.DUMMYFUNCTION(\"\"\"COMPUTED_VALUE\"\"\"),\"vnd.fuzzysheet\")","v":"vnd.fuzzysheet"},{"$f":"IFERROR(__xludf.DUMMYFUNCTION(\"\"\"COMPUTED_VALUE\"\"\"),\"vnd.fuzzysheet\")","v":"vnd.fuzzysheet"},{"$f":"IFERROR(__xludf.DUMMYFUNCTION(\"\"\"COMPUTED_VALUE\"\"\"),\"application/vnd.fuzzysheet\")","v":"application/vnd.fuzzysheet"},{"$f":"IFERROR(__xludf.DUMMYFUNCTION(\"\"\"COMPUTED_VALUE\"\"\"),\"en\")","v":"en"}]
[{"$f":"IFERROR(__xludf.DUMMYFUNCTION(\"\"\"COMPUTED_VALUE\"\"\"),\"https://www.iana.org/assignments/media-types/application/vnd.genomatix.tuxedo\")","v":"https://www.iana.org/assignments/media-types/application/vnd.genomatix.tuxedo"},{"$f":"IFERROR(__xludf.DUMMYFUNCTION(\"\"\"COMPUTED_VALUE\"\"\"),\"vnd.genomatix.tuxedo\")","v":"vnd.genomatix.tuxedo"},{"$f":"IFERROR(__xludf.DUMMYFUNCTION(\"\"\"COMPUTED_VALUE\"\"\"),\"vnd.genomatix.tuxedo\")","v":"vnd.genomatix.tuxedo"},{"$f":"IFERROR(__xludf.DUMMYFUNCTION(\"\"\"COMPUTED_VALUE\"\"\"),\"application/vnd.genomatix.tuxedo\")","v":"application/vnd.genomatix.tuxedo"},{"$f":"IFERROR(__xludf.DUMMYFUNCTION(\"\"\"COMPUTED_VALUE\"\"\"),\"en\")","v":"en"}]
[{"$f":"IFERROR(__xludf.DUMMYFUNCTION(\"\"\"COMPUTED_VALUE\"\"\"),\"https://www.iana.org/assignments/media-types/application/vnd.genozip\")","v":"https://www.iana.org/assignments/media-types/application/vnd.genozip"},{"$f":"IFERROR(__xludf.DUMMYFUNCTION(\"\"\"COMPUTED_VALUE\"\"\"),\"vnd.genozip\")","v":"vnd.genozip"},{"$f":"IFERROR(__xludf.DUMMYFUNCTION(\"\"\"COMPUTED_VALUE\"\"\"),\"vnd.genozip\")","v":"vnd.genozip"},{"$f":"IFERROR(__xludf.DUMMYFUNCTION(\"\"\"COMPUTED_VALUE\"\"\"),\"application/vnd.genozip\")","v":"application/vnd.genozip"},{"$f":"IFERROR(__xludf.DUMMYFUNCTION(\"\"\"COMPUTED_VALUE\"\"\"),\"en\")","v":"en"}]
[{"$f":"IFERROR(__xludf.DUMMYFUNCTION(\"\"\"COMPUTED_VALUE\"\"\"),\"https://www.iana.org/assignments/media-types/application/vnd.gentics.grd+json\")","v":"https://www.iana.org/assignments/media-types/application/vnd.gentics.grd+json"},{"$f":"IFERROR(__xludf.DUMMYFUNCTION(\"\"\"COMPUTED_VALUE\"\"\"),\"vnd.gentics.grd+json\")","v":"vnd.gentics.grd+json"},{"$f":"IFERROR(__xludf.DUMMYFUNCTION(\"\"\"COMPUTED_VALUE\"\"\"),\"vnd.gentics.grd+json\")","v":"vnd.gentics.grd+json"},{"$f":"IFERROR(__xludf.DUMMYFUNCTION(\"\"\"COMPUTED_VALUE\"\"\"),\"application/vnd.gentics.grd+json\")","v":"application/vnd.gentics.grd+json"},{"$f":"IFERROR(__xludf.DUMMYFUNCTION(\"\"\"COMPUTED_VALUE\"\"\"),\"en\")","v":"en"}]
[{"$f":"IFERROR(__xludf.DUMMYFUNCTION(\"\"\"COMPUTED_VALUE\"\"\"),\"https://www.iana.org/assignments/media-types/application/vnd.gentoo.catmetadata+xml\")","v":"https://www.iana.org/assignments/media-types/application/vnd.gentoo.catmetadata+xml"},{"$f":"IFERROR(__xludf.DUMMYFUNCTION(\"\"\"COMPUTED_VALUE\"\"\"),\"vnd.gentoo.catmetadata+xml\")","v":"vnd.gentoo.catmetadata+xml"},{"$f":"IFERROR(__xludf.DUMMYFUNCTION(\"\"\"COMPUTED_VALUE\"\"\"),\"vnd.gentoo.catmetadata+xml\")","v":"vnd.gentoo.catmetadata+xml"},{"$f":"IFERROR(__xludf.DUMMYFUNCTION(\"\"\"COMPUTED_VALUE\"\"\"),\"application/vnd.gentoo.catmetadata+xml\")","v":"application/vnd.gentoo.catmetadata+xml"},{"$f":"IFERROR(__xludf.DUMMYFUNCTION(\"\"\"COMPUTED_VALUE\"\"\"),\"en\")","v":"en"}]
[{"$f":"IFERROR(__xludf.DUMMYFUNCTION(\"\"\"COMPUTED_VALUE\"\"\"),\"https://www.iana.org/assignments/media-types/application/vnd.gentoo.ebuild\")","v":"https://www.iana.org/assignments/media-types/application/vnd.gentoo.ebuild"},{"$f":"IFERROR(__xludf.DUMMYFUNCTION(\"\"\"COMPUTED_VALUE\"\"\"),\"vnd.gentoo.ebuild\")","v":"vnd.gentoo.ebuild"},{"$f":"IFERROR(__xludf.DUMMYFUNCTION(\"\"\"COMPUTED_VALUE\"\"\"),\"vnd.gentoo.ebuild\")","v":"vnd.gentoo.ebuild"},{"$f":"IFERROR(__xludf.DUMMYFUNCTION(\"\"\"COMPUTED_VALUE\"\"\"),\"application/vnd.gentoo.ebuild\")","v":"application/vnd.gentoo.ebuild"},{"$f":"IFERROR(__xludf.DUMMYFUNCTION(\"\"\"COMPUTED_VALUE\"\"\"),\"en\")","v":"en"}]
[{"$f":"IFERROR(__xludf.DUMMYFUNCTION(\"\"\"COMPUTED_VALUE\"\"\"),\"https://www.iana.org/assignments/media-types/application/vnd.gentoo.eclass\")","v":"https://www.iana.org/assignments/media-types/application/vnd.gentoo.eclass"},{"$f":"IFERROR(__xludf.DUMMYFUNCTION(\"\"\"COMPUTED_VALUE\"\"\"),\"vnd.gentoo.eclass\")","v":"vnd.gentoo.eclass"},{"$f":"IFERROR(__xludf.DUMMYFUNCTION(\"\"\"COMPUTED_VALUE\"\"\"),\"vnd.gentoo.eclass\")","v":"vnd.gentoo.eclass"},{"$f":"IFERROR(__xludf.DUMMYFUNCTION(\"\"\"COMPUTED_VALUE\"\"\"),\"application/vnd.gentoo.eclass\")","v":"application/vnd.gentoo.eclass"},{"$f":"IFERROR(__xludf.DUMMYFUNCTION(\"\"\"COMPUTED_VALUE\"\"\"),\"en\")","v":"en"}]
[{"$f":"IFERROR(__xludf.DUMMYFUNCTION(\"\"\"COMPUTED_VALUE\"\"\"),\"https://www.iana.org/assignments/media-types/application/vnd.gentoo.gpkg\")","v":"https://www.iana.org/assignments/media-types/application/vnd.gentoo.gpkg"},{"$f":"IFERROR(__xludf.DUMMYFUNCTION(\"\"\"COMPUTED_VALUE\"\"\"),\"vnd.gentoo.gpkg\")","v":"vnd.gentoo.gpkg"},{"$f":"IFERROR(__xludf.DUMMYFUNCTION(\"\"\"COMPUTED_VALUE\"\"\"),\"vnd.gentoo.gpkg\")","v":"vnd.gentoo.gpkg"},{"$f":"IFERROR(__xludf.DUMMYFUNCTION(\"\"\"COMPUTED_VALUE\"\"\"),\"application/vnd.gentoo.gpkg\")","v":"application/vnd.gentoo.gpkg"},{"$f":"IFERROR(__xludf.DUMMYFUNCTION(\"\"\"COMPUTED_VALUE\"\"\"),\"en\")","v":"en"}]
[{"$f":"IFERROR(__xludf.DUMMYFUNCTION(\"\"\"COMPUTED_VALUE\"\"\"),\"https://www.iana.org/assignments/media-types/application/vnd.gentoo.manifest\")","v":"https://www.iana.org/assignments/media-types/application/vnd.gentoo.manifest"},{"$f":"IFERROR(__xludf.DUMMYFUNCTION(\"\"\"COMPUTED_VALUE\"\"\"),\"vnd.gentoo.manifest\")","v":"vnd.gentoo.manifest"},{"$f":"IFERROR(__xludf.DUMMYFUNCTION(\"\"\"COMPUTED_VALUE\"\"\"),\"vnd.gentoo.manifest\")","v":"vnd.gentoo.manifest"},{"$f":"IFERROR(__xludf.DUMMYFUNCTION(\"\"\"COMPUTED_VALUE\"\"\"),\"application/vnd.gentoo.manifest\")","v":"application/vnd.gentoo.manifest"},{"$f":"IFERROR(__xludf.DUMMYFUNCTION(\"\"\"COMPUTED_VALUE\"\"\"),\"en\")","v":"en"}]
[{"$f":"IFERROR(__xludf.DUMMYFUNCTION(\"\"\"COMPUTED_VALUE\"\"\"),\"https://www.iana.org/assignments/media-types/application/vnd.gentoo.xpak\")","v":"https://www.iana.org/assignments/media-types/application/vnd.gentoo.xpak"},{"$f":"IFERROR(__xludf.DUMMYFUNCTION(\"\"\"COMPUTED_VALUE\"\"\"),\"vnd.gentoo.xpak\")","v":"vnd.gentoo.xpak"},{"$f":"IFERROR(__xludf.DUMMYFUNCTION(\"\"\"COMPUTED_VALUE\"\"\"),\"vnd.gentoo.xpak\")","v":"vnd.gentoo.xpak"},{"$f":"IFERROR(__xludf.DUMMYFUNCTION(\"\"\"COMPUTED_VALUE\"\"\"),\"application/vnd.gentoo.xpak\")","v":"application/vnd.gentoo.xpak"},{"$f":"IFERROR(__xludf.DUMMYFUNCTION(\"\"\"COMPUTED_VALUE\"\"\"),\"en\")","v":"en"}]
[{"$f":"IFERROR(__xludf.DUMMYFUNCTION(\"\"\"COMPUTED_VALUE\"\"\"),\"https://www.iana.org/assignments/media-types/application/vnd.gentoo.pkgmetadata+xml\")","v":"https://www.iana.org/assignments/media-types/application/vnd.gentoo.pkgmetadata+xml"},{"$f":"IFERROR(__xludf.DUMMYFUNCTION(\"\"\"COMPUTED_VALUE\"\"\"),\"vnd.gentoo.pkgmetadata+xml\")","v":"vnd.gentoo.pkgmetadata+xml"},{"$f":"IFERROR(__xludf.DUMMYFUNCTION(\"\"\"COMPUTED_VALUE\"\"\"),\"vnd.gentoo.pkgmetadata+xml\")","v":"vnd.gentoo.pkgmetadata+xml"},{"$f":"IFERROR(__xludf.DUMMYFUNCTION(\"\"\"COMPUTED_VALUE\"\"\"),\"application/vnd.gentoo.pkgmetadata+xml\")","v":"application/vnd.gentoo.pkgmetadata+xml"},{"$f":"IFERROR(__xludf.DUMMYFUNCTION(\"\"\"COMPUTED_VALUE\"\"\"),\"en\")","v":"en"}]
[{"$f":"IFERROR(__xludf.DUMMYFUNCTION(\"\"\"COMPUTED_VALUE\"\"\"),\"https://www.iana.org/assignments/media-types/application/vnd.geo+json\")","v":"https://www.iana.org/assignments/media-types/application/vnd.geo+json"},{"$f":"IFERROR(__xludf.DUMMYFUNCTION(\"\"\"COMPUTED_VALUE\"\"\"),\"vnd.geo+json (OBSOLETED by [RFC7946] in favor of application/geo+json)\")","v":"vnd.geo+json (OBSOLETED by [RFC7946] in favor of application/geo+json)"},{"$f":"IFERROR(__xludf.DUMMYFUNCTION(\"\"\"COMPUTED_VALUE\"\"\"),\"vnd.geo+json (OBSOLETED by [RFC7946] in favor of application/geo+json)\")","v":"vnd.geo+json (OBSOLETED by [RFC7946] in favor of application/geo+json)"},{"$f":"IFERROR(__xludf.DUMMYFUNCTION(\"\"\"COMPUTED_VALUE\"\"\"),\"application/vnd.geo+json\")","v":"application/vnd.geo+json"},{"$f":"IFERROR(__xludf.DUMMYFUNCTION(\"\"\"COMPUTED_VALUE\"\"\"),\"en\")","v":"en"}]
[{"$f":"IFERROR(__xludf.DUMMYFUNCTION(\"\"\"COMPUTED_VALUE\"\"\"),\"https://www.iana.org/assignments/media-types/application/vnd.geocube+xml\")","v":"https://www.iana.org/assignments/media-types/application/vnd.geocube+xml"},{"$f":"IFERROR(__xludf.DUMMYFUNCTION(\"\"\"COMPUTED_VALUE\"\"\"),\"vnd.geocube+xml (OBSOLETED by request)\")","v":"vnd.geocube+xml (OBSOLETED by request)"},{"$f":"IFERROR(__xludf.DUMMYFUNCTION(\"\"\"COMPUTED_VALUE\"\"\"),\"vnd.geocube+xml (OBSOLETED by request)\")","v":"vnd.geocube+xml (OBSOLETED by request)"},{"$f":"IFERROR(__xludf.DUMMYFUNCTION(\"\"\"COMPUTED_VALUE\"\"\"),\"application/vnd.geocube+xml\")","v":"application/vnd.geocube+xml"},{"$f":"IFERROR(__xludf.DUMMYFUNCTION(\"\"\"COMPUTED_VALUE\"\"\"),\"en\")","v":"en"}]
[{"$f":"IFERROR(__xludf.DUMMYFUNCTION(\"\"\"COMPUTED_VALUE\"\"\"),\"https://www.iana.org/assignments/media-types/application/vnd.geogebra.file\")","v":"https://www.iana.org/assignments/media-types/application/vnd.geogebra.file"},{"$f":"IFERROR(__xludf.DUMMYFUNCTION(\"\"\"COMPUTED_VALUE\"\"\"),\"vnd.geogebra.file\")","v":"vnd.geogebra.file"},{"$f":"IFERROR(__xludf.DUMMYFUNCTION(\"\"\"COMPUTED_VALUE\"\"\"),\"vnd.geogebra.file\")","v":"vnd.geogebra.file"},{"$f":"IFERROR(__xludf.DUMMYFUNCTION(\"\"\"COMPUTED_VALUE\"\"\"),\"application/vnd.geogebra.file\")","v":"application/vnd.geogebra.file"},{"$f":"IFERROR(__xludf.DUMMYFUNCTION(\"\"\"COMPUTED_VALUE\"\"\"),\"en\")","v":"en"}]
[{"$f":"IFERROR(__xludf.DUMMYFUNCTION(\"\"\"COMPUTED_VALUE\"\"\"),\"https://www.iana.org/assignments/media-types/application/vnd.geogebra.slides\")","v":"https://www.iana.org/assignments/media-types/application/vnd.geogebra.slides"},{"$f":"IFERROR(__xludf.DUMMYFUNCTION(\"\"\"COMPUTED_VALUE\"\"\"),\"vnd.geogebra.slides\")","v":"vnd.geogebra.slides"},{"$f":"IFERROR(__xludf.DUMMYFUNCTION(\"\"\"COMPUTED_VALUE\"\"\"),\"vnd.geogebra.slides\")","v":"vnd.geogebra.slides"},{"$f":"IFERROR(__xludf.DUMMYFUNCTION(\"\"\"COMPUTED_VALUE\"\"\"),\"application/vnd.geogebra.slides\")","v":"application/vnd.geogebra.slides"},{"$f":"IFERROR(__xludf.DUMMYFUNCTION(\"\"\"COMPUTED_VALUE\"\"\"),\"en\")","v":"en"}]
[{"$f":"IFERROR(__xludf.DUMMYFUNCTION(\"\"\"COMPUTED_VALUE\"\"\"),\"https://www.iana.org/assignments/media-types/application/vnd.geogebra.tool\")","v":"https://www.iana.org/assignments/media-types/application/vnd.geogebra.tool"},{"$f":"IFERROR(__xludf.DUMMYFUNCTION(\"\"\"COMPUTED_VALUE\"\"\"),\"vnd.geogebra.tool\")","v":"vnd.geogebra.tool"},{"$f":"IFERROR(__xludf.DUMMYFUNCTION(\"\"\"COMPUTED_VALUE\"\"\"),\"vnd.geogebra.tool\")","v":"vnd.geogebra.tool"},{"$f":"IFERROR(__xludf.DUMMYFUNCTION(\"\"\"COMPUTED_VALUE\"\"\"),\"application/vnd.geogebra.tool\")","v":"application/vnd.geogebra.tool"},{"$f":"IFERROR(__xludf.DUMMYFUNCTION(\"\"\"COMPUTED_VALUE\"\"\"),\"en\")","v":"en"}]
[{"$f":"IFERROR(__xludf.DUMMYFUNCTION(\"\"\"COMPUTED_VALUE\"\"\"),\"https://www.iana.org/assignments/media-types/application/vnd.geometry-explorer\")","v":"https://www.iana.org/assignments/media-types/application/vnd.geometry-explorer"},{"$f":"IFERROR(__xludf.DUMMYFUNCTION(\"\"\"COMPUTED_VALUE\"\"\"),\"vnd.geometry-explorer\")","v":"vnd.geometry-explorer"},{"$f":"IFERROR(__xludf.DUMMYFUNCTION(\"\"\"COMPUTED_VALUE\"\"\"),\"vnd.geometry-explorer\")","v":"vnd.geometry-explorer"},{"$f":"IFERROR(__xludf.DUMMYFUNCTION(\"\"\"COMPUTED_VALUE\"\"\"),\"application/vnd.geometry-explorer\")","v":"application/vnd.geometry-explorer"},{"$f":"IFERROR(__xludf.DUMMYFUNCTION(\"\"\"COMPUTED_VALUE\"\"\"),\"en\")","v":"en"}]
[{"$f":"IFERROR(__xludf.DUMMYFUNCTION(\"\"\"COMPUTED_VALUE\"\"\"),\"https://www.iana.org/assignments/media-types/application/vnd.geonext\")","v":"https://www.iana.org/assignments/media-types/application/vnd.geonext"},{"$f":"IFERROR(__xludf.DUMMYFUNCTION(\"\"\"COMPUTED_VALUE\"\"\"),\"vnd.geonext\")","v":"vnd.geonext"},{"$f":"IFERROR(__xludf.DUMMYFUNCTION(\"\"\"COMPUTED_VALUE\"\"\"),\"vnd.geonext\")","v":"vnd.geonext"},{"$f":"IFERROR(__xludf.DUMMYFUNCTION(\"\"\"COMPUTED_VALUE\"\"\"),\"application/vnd.geonext\")","v":"application/vnd.geonext"},{"$f":"IFERROR(__xludf.DUMMYFUNCTION(\"\"\"COMPUTED_VALUE\"\"\"),\"en\")","v":"en"}]
[{"$f":"IFERROR(__xludf.DUMMYFUNCTION(\"\"\"COMPUTED_VALUE\"\"\"),\"https://www.iana.org/assignments/media-types/application/vnd.geoplan\")","v":"https://www.iana.org/assignments/media-types/application/vnd.geoplan"},{"$f":"IFERROR(__xludf.DUMMYFUNCTION(\"\"\"COMPUTED_VALUE\"\"\"),\"vnd.geoplan\")","v":"vnd.geoplan"},{"$f":"IFERROR(__xludf.DUMMYFUNCTION(\"\"\"COMPUTED_VALUE\"\"\"),\"vnd.geoplan\")","v":"vnd.geoplan"},{"$f":"IFERROR(__xludf.DUMMYFUNCTION(\"\"\"COMPUTED_VALUE\"\"\"),\"application/vnd.geoplan\")","v":"application/vnd.geoplan"},{"$f":"IFERROR(__xludf.DUMMYFUNCTION(\"\"\"COMPUTED_VALUE\"\"\"),\"en\")","v":"en"}]
[{"$f":"IFERROR(__xludf.DUMMYFUNCTION(\"\"\"COMPUTED_VALUE\"\"\"),\"https://www.iana.org/assignments/media-types/application/vnd.geospace\")","v":"https://www.iana.org/assignments/media-types/application/vnd.geospace"},{"$f":"IFERROR(__xludf.DUMMYFUNCTION(\"\"\"COMPUTED_VALUE\"\"\"),\"vnd.geospace\")","v":"vnd.geospace"},{"$f":"IFERROR(__xludf.DUMMYFUNCTION(\"\"\"COMPUTED_VALUE\"\"\"),\"vnd.geospace\")","v":"vnd.geospace"},{"$f":"IFERROR(__xludf.DUMMYFUNCTION(\"\"\"COMPUTED_VALUE\"\"\"),\"application/vnd.geospace\")","v":"application/vnd.geospace"},{"$f":"IFERROR(__xludf.DUMMYFUNCTION(\"\"\"COMPUTED_VALUE\"\"\"),\"en\")","v":"en"}]
[{"$f":"IFERROR(__xludf.DUMMYFUNCTION(\"\"\"COMPUTED_VALUE\"\"\"),\"https://www.iana.org/assignments/media-types/application/vnd.gerber\")","v":"https://www.iana.org/assignments/media-types/application/vnd.gerber"},{"$f":"IFERROR(__xludf.DUMMYFUNCTION(\"\"\"COMPUTED_VALUE\"\"\"),\"vnd.gerber\")","v":"vnd.gerber"},{"$f":"IFERROR(__xludf.DUMMYFUNCTION(\"\"\"COMPUTED_VALUE\"\"\"),\"vnd.gerber\")","v":"vnd.gerber"},{"$f":"IFERROR(__xludf.DUMMYFUNCTION(\"\"\"COMPUTED_VALUE\"\"\"),\"application/vnd.gerber\")","v":"application/vnd.gerber"},{"$f":"IFERROR(__xludf.DUMMYFUNCTION(\"\"\"COMPUTED_VALUE\"\"\"),\"en\")","v":"en"}]
[{"$f":"IFERROR(__xludf.DUMMYFUNCTION(\"\"\"COMPUTED_VALUE\"\"\"),\"https://www.iana.org/assignments/media-types/application/vnd.globalplatform.card-content-mgt\")","v":"https://www.iana.org/assignments/media-types/application/vnd.globalplatform.card-content-mgt"},{"$f":"IFERROR(__xludf.DUMMYFUNCTION(\"\"\"COMPUTED_VALUE\"\"\"),\"vnd.globalplatform.card-content-mgt\")","v":"vnd.globalplatform.card-content-mgt"},{"$f":"IFERROR(__xludf.DUMMYFUNCTION(\"\"\"COMPUTED_VALUE\"\"\"),\"vnd.globalplatform.card-content-mgt\")","v":"vnd.globalplatform.card-content-mgt"},{"$f":"IFERROR(__xludf.DUMMYFUNCTION(\"\"\"COMPUTED_VALUE\"\"\"),\"application/vnd.globalplatform.card-content-mgt\")","v":"application/vnd.globalplatform.card-content-mgt"},{"$f":"IFERROR(__xludf.DUMMYFUNCTION(\"\"\"COMPUTED_VALUE\"\"\"),\"en\")","v":"en"}]
[{"$f":"IFERROR(__xludf.DUMMYFUNCTION(\"\"\"COMPUTED_VALUE\"\"\"),\"https://www.iana.org/assignments/media-types/application/vnd.globalplatform.card-content-mgt-response\")","v":"https://www.iana.org/assignments/media-types/application/vnd.globalplatform.card-content-mgt-response"},{"$f":"IFERROR(__xludf.DUMMYFUNCTION(\"\"\"COMPUTED_VALUE\"\"\"),\"vnd.globalplatform.card-content-mgt-response\")","v":"vnd.globalplatform.card-content-mgt-response"},{"$f":"IFERROR(__xludf.DUMMYFUNCTION(\"\"\"COMPUTED_VALUE\"\"\"),\"vnd.globalplatform.card-content-mgt-response\")","v":"vnd.globalplatform.card-content-mgt-response"},{"$f":"IFERROR(__xludf.DUMMYFUNCTION(\"\"\"COMPUTED_VALUE\"\"\"),\"application/vnd.globalplatform.card-content-mgt-response\")","v":"application/vnd.globalplatform.card-content-mgt-response"},{"$f":"IFERROR(__xludf.DUMMYFUNCTION(\"\"\"COMPUTED_VALUE\"\"\"),\"en\")","v":"en"}]
[{"$f":"IFERROR(__xludf.DUMMYFUNCTION(\"\"\"COMPUTED_VALUE\"\"\"),\"https://www.iana.org/assignments/media-types/application/vnd.gmx\")","v":"https://www.iana.org/assignments/media-types/application/vnd.gmx"},{"$f":"IFERROR(__xludf.DUMMYFUNCTION(\"\"\"COMPUTED_VALUE\"\"\"),\"vnd.gmx - DEPRECATED\")","v":"vnd.gmx - DEPRECATED"},{"$f":"IFERROR(__xludf.DUMMYFUNCTION(\"\"\"COMPUTED_VALUE\"\"\"),\"vnd.gmx - DEPRECATED\")","v":"vnd.gmx - DEPRECATED"},{"$f":"IFERROR(__xludf.DUMMYFUNCTION(\"\"\"COMPUTED_VALUE\"\"\"),\"application/vnd.gmx\")","v":"application/vnd.gmx"},{"$f":"IFERROR(__xludf.DUMMYFUNCTION(\"\"\"COMPUTED_VALUE\"\"\"),\"en\")","v":"en"}]
[{"$f":"IFERROR(__xludf.DUMMYFUNCTION(\"\"\"COMPUTED_VALUE\"\"\"),\"https://www.iana.org/assignments/media-types/application/vnd.gnu.taler.exchange+json\")","v":"https://www.iana.org/assignments/media-types/application/vnd.gnu.taler.exchange+json"},{"$f":"IFERROR(__xludf.DUMMYFUNCTION(\"\"\"COMPUTED_VALUE\"\"\"),\"vnd.gnu.taler.exchange+json\")","v":"vnd.gnu.taler.exchange+json"},{"$f":"IFERROR(__xludf.DUMMYFUNCTION(\"\"\"COMPUTED_VALUE\"\"\"),\"vnd.gnu.taler.exchange+json\")","v":"vnd.gnu.taler.exchange+json"},{"$f":"IFERROR(__xludf.DUMMYFUNCTION(\"\"\"COMPUTED_VALUE\"\"\"),\"application/vnd.gnu.taler.exchange+json\")","v":"application/vnd.gnu.taler.exchange+json"},{"$f":"IFERROR(__xludf.DUMMYFUNCTION(\"\"\"COMPUTED_VALUE\"\"\"),\"en\")","v":"en"}]
[{"$f":"IFERROR(__xludf.DUMMYFUNCTION(\"\"\"COMPUTED_VALUE\"\"\"),\"https://www.iana.org/assignments/media-types/application/vnd.gnu.taler.merchant+json\")","v":"https://www.iana.org/assignments/media-types/application/vnd.gnu.taler.merchant+json"},{"$f":"IFERROR(__xludf.DUMMYFUNCTION(\"\"\"COMPUTED_VALUE\"\"\"),\"vnd.gnu.taler.merchant+json\")","v":"vnd.gnu.taler.merchant+json"},{"$f":"IFERROR(__xludf.DUMMYFUNCTION(\"\"\"COMPUTED_VALUE\"\"\"),\"vnd.gnu.taler.merchant+json\")","v":"vnd.gnu.taler.merchant+json"},{"$f":"IFERROR(__xludf.DUMMYFUNCTION(\"\"\"COMPUTED_VALUE\"\"\"),\"application/vnd.gnu.taler.merchant+json\")","v":"application/vnd.gnu.taler.merchant+json"},{"$f":"IFERROR(__xludf.DUMMYFUNCTION(\"\"\"COMPUTED_VALUE\"\"\"),\"en\")","v":"en"}]
[{"$f":"IFERROR(__xludf.DUMMYFUNCTION(\"\"\"COMPUTED_VALUE\"\"\"),\"https://www.iana.org/assignments/media-types/application/vnd.google-earth.kml+xml\")","v":"https://www.iana.org/assignments/media-types/application/vnd.google-earth.kml+xml"},{"$f":"IFERROR(__xludf.DUMMYFUNCTION(\"\"\"COMPUTED_VALUE\"\"\"),\"vnd.google-earth.kml+xml\")","v":"vnd.google-earth.kml+xml"},{"$f":"IFERROR(__xludf.DUMMYFUNCTION(\"\"\"COMPUTED_VALUE\"\"\"),\"vnd.google-earth.kml+xml\")","v":"vnd.google-earth.kml+xml"},{"$f":"IFERROR(__xludf.DUMMYFUNCTION(\"\"\"COMPUTED_VALUE\"\"\"),\"application/vnd.google-earth.kml+xml\")","v":"application/vnd.google-earth.kml+xml"},{"$f":"IFERROR(__xludf.DUMMYFUNCTION(\"\"\"COMPUTED_VALUE\"\"\"),\"en\")","v":"en"}]
[{"$f":"IFERROR(__xludf.DUMMYFUNCTION(\"\"\"COMPUTED_VALUE\"\"\"),\"https://www.iana.org/assignments/media-types/application/vnd.google-earth.kmz\")","v":"https://www.iana.org/assignments/media-types/application/vnd.google-earth.kmz"},{"$f":"IFERROR(__xludf.DUMMYFUNCTION(\"\"\"COMPUTED_VALUE\"\"\"),\"vnd.google-earth.kmz\")","v":"vnd.google-earth.kmz"},{"$f":"IFERROR(__xludf.DUMMYFUNCTION(\"\"\"COMPUTED_VALUE\"\"\"),\"vnd.google-earth.kmz\")","v":"vnd.google-earth.kmz"},{"$f":"IFERROR(__xludf.DUMMYFUNCTION(\"\"\"COMPUTED_VALUE\"\"\"),\"application/vnd.google-earth.kmz\")","v":"application/vnd.google-earth.kmz"},{"$f":"IFERROR(__xludf.DUMMYFUNCTION(\"\"\"COMPUTED_VALUE\"\"\"),\"en\")","v":"en"}]
[{"$f":"IFERROR(__xludf.DUMMYFUNCTION(\"\"\"COMPUTED_VALUE\"\"\"),\"https://www.iana.org/assignments/media-types/application/vnd.gov.sk.e-form+xml\")","v":"https://www.iana.org/assignments/media-types/application/vnd.gov.sk.e-form+xml"},{"$f":"IFERROR(__xludf.DUMMYFUNCTION(\"\"\"COMPUTED_VALUE\"\"\"),\"vnd.gov.sk.e-form+xml\")","v":"vnd.gov.sk.e-form+xml"},{"$f":"IFERROR(__xludf.DUMMYFUNCTION(\"\"\"COMPUTED_VALUE\"\"\"),\"vnd.gov.sk.e-form+xml\")","v":"vnd.gov.sk.e-form+xml"},{"$f":"IFERROR(__xludf.DUMMYFUNCTION(\"\"\"COMPUTED_VALUE\"\"\"),\"application/vnd.gov.sk.e-form+xml\")","v":"application/vnd.gov.sk.e-form+xml"},{"$f":"IFERROR(__xludf.DUMMYFUNCTION(\"\"\"COMPUTED_VALUE\"\"\"),\"en\")","v":"en"}]
[{"$f":"IFERROR(__xludf.DUMMYFUNCTION(\"\"\"COMPUTED_VALUE\"\"\"),\"https://www.iana.org/assignments/media-types/application/vnd.gov.sk.e-form+zip\")","v":"https://www.iana.org/assignments/media-types/application/vnd.gov.sk.e-form+zip"},{"$f":"IFERROR(__xludf.DUMMYFUNCTION(\"\"\"COMPUTED_VALUE\"\"\"),\"vnd.gov.sk.e-form+zip\")","v":"vnd.gov.sk.e-form+zip"},{"$f":"IFERROR(__xludf.DUMMYFUNCTION(\"\"\"COMPUTED_VALUE\"\"\"),\"vnd.gov.sk.e-form+zip\")","v":"vnd.gov.sk.e-form+zip"},{"$f":"IFERROR(__xludf.DUMMYFUNCTION(\"\"\"COMPUTED_VALUE\"\"\"),\"application/vnd.gov.sk.e-form+zip\")","v":"application/vnd.gov.sk.e-form+zip"},{"$f":"IFERROR(__xludf.DUMMYFUNCTION(\"\"\"COMPUTED_VALUE\"\"\"),\"en\")","v":"en"}]
[{"$f":"IFERROR(__xludf.DUMMYFUNCTION(\"\"\"COMPUTED_VALUE\"\"\"),\"https://www.iana.org/assignments/media-types/application/vnd.gov.sk.xmldatacontainer+xml\")","v":"https://www.iana.org/assignments/media-types/application/vnd.gov.sk.xmldatacontainer+xml"},{"$f":"IFERROR(__xludf.DUMMYFUNCTION(\"\"\"COMPUTED_VALUE\"\"\"),\"vnd.gov.sk.xmldatacontainer+xml\")","v":"vnd.gov.sk.xmldatacontainer+xml"},{"$f":"IFERROR(__xludf.DUMMYFUNCTION(\"\"\"COMPUTED_VALUE\"\"\"),\"vnd.gov.sk.xmldatacontainer+xml\")","v":"vnd.gov.sk.xmldatacontainer+xml"},{"$f":"IFERROR(__xludf.DUMMYFUNCTION(\"\"\"COMPUTED_VALUE\"\"\"),\"application/vnd.gov.sk.xmldatacontainer+xml\")","v":"application/vnd.gov.sk.xmldatacontainer+xml"},{"$f":"IFERROR(__xludf.DUMMYFUNCTION(\"\"\"COMPUTED_VALUE\"\"\"),\"en\")","v":"en"}]
[{"$f":"IFERROR(__xludf.DUMMYFUNCTION(\"\"\"COMPUTED_VALUE\"\"\"),\"https://www.iana.org/assignments/media-types/application/vnd.gpxsee.map+xml\")","v":"https://www.iana.org/assignments/media-types/application/vnd.gpxsee.map+xml"},{"$f":"IFERROR(__xludf.DUMMYFUNCTION(\"\"\"COMPUTED_VALUE\"\"\"),\"vnd.gpxsee.map+xml\")","v":"vnd.gpxsee.map+xml"},{"$f":"IFERROR(__xludf.DUMMYFUNCTION(\"\"\"COMPUTED_VALUE\"\"\"),\"vnd.gpxsee.map+xml\")","v":"vnd.gpxsee.map+xml"},{"$f":"IFERROR(__xludf.DUMMYFUNCTION(\"\"\"COMPUTED_VALUE\"\"\"),\"application/vnd.gpxsee.map+xml\")","v":"application/vnd.gpxsee.map+xml"},{"$f":"IFERROR(__xludf.DUMMYFUNCTION(\"\"\"COMPUTED_VALUE\"\"\"),\"en\")","v":"en"}]
[{"$f":"IFERROR(__xludf.DUMMYFUNCTION(\"\"\"COMPUTED_VALUE\"\"\"),\"https://www.iana.org/assignments/media-types/application/vnd.grafeq\")","v":"https://www.iana.org/assignments/media-types/application/vnd.grafeq"},{"$f":"IFERROR(__xludf.DUMMYFUNCTION(\"\"\"COMPUTED_VALUE\"\"\"),\"vnd.grafeq\")","v":"vnd.grafeq"},{"$f":"IFERROR(__xludf.DUMMYFUNCTION(\"\"\"COMPUTED_VALUE\"\"\"),\"vnd.grafeq\")","v":"vnd.grafeq"},{"$f":"IFERROR(__xludf.DUMMYFUNCTION(\"\"\"COMPUTED_VALUE\"\"\"),\"application/vnd.grafeq\")","v":"application/vnd.grafeq"},{"$f":"IFERROR(__xludf.DUMMYFUNCTION(\"\"\"COMPUTED_VALUE\"\"\"),\"en\")","v":"en"}]
[{"$f":"IFERROR(__xludf.DUMMYFUNCTION(\"\"\"COMPUTED_VALUE\"\"\"),\"https://www.iana.org/assignments/media-types/application/vnd.gridmp\")","v":"https://www.iana.org/assignments/media-types/application/vnd.gridmp"},{"$f":"IFERROR(__xludf.DUMMYFUNCTION(\"\"\"COMPUTED_VALUE\"\"\"),\"vnd.gridmp\")","v":"vnd.gridmp"},{"$f":"IFERROR(__xludf.DUMMYFUNCTION(\"\"\"COMPUTED_VALUE\"\"\"),\"vnd.gridmp\")","v":"vnd.gridmp"},{"$f":"IFERROR(__xludf.DUMMYFUNCTION(\"\"\"COMPUTED_VALUE\"\"\"),\"application/vnd.gridmp\")","v":"application/vnd.gridmp"},{"$f":"IFERROR(__xludf.DUMMYFUNCTION(\"\"\"COMPUTED_VALUE\"\"\"),\"en\")","v":"en"}]
[{"$f":"IFERROR(__xludf.DUMMYFUNCTION(\"\"\"COMPUTED_VALUE\"\"\"),\"https://www.iana.org/assignments/media-types/application/vnd.groove-account\")","v":"https://www.iana.org/assignments/media-types/application/vnd.groove-account"},{"$f":"IFERROR(__xludf.DUMMYFUNCTION(\"\"\"COMPUTED_VALUE\"\"\"),\"vnd.groove-account\")","v":"vnd.groove-account"},{"$f":"IFERROR(__xludf.DUMMYFUNCTION(\"\"\"COMPUTED_VALUE\"\"\"),\"vnd.groove-account\")","v":"vnd.groove-account"},{"$f":"IFERROR(__xludf.DUMMYFUNCTION(\"\"\"COMPUTED_VALUE\"\"\"),\"application/vnd.groove-account\")","v":"application/vnd.groove-account"},{"$f":"IFERROR(__xludf.DUMMYFUNCTION(\"\"\"COMPUTED_VALUE\"\"\"),\"en\")","v":"en"}]
[{"$f":"IFERROR(__xludf.DUMMYFUNCTION(\"\"\"COMPUTED_VALUE\"\"\"),\"https://www.iana.org/assignments/media-types/application/vnd.groove-help\")","v":"https://www.iana.org/assignments/media-types/application/vnd.groove-help"},{"$f":"IFERROR(__xludf.DUMMYFUNCTION(\"\"\"COMPUTED_VALUE\"\"\"),\"vnd.groove-help\")","v":"vnd.groove-help"},{"$f":"IFERROR(__xludf.DUMMYFUNCTION(\"\"\"COMPUTED_VALUE\"\"\"),\"vnd.groove-help\")","v":"vnd.groove-help"},{"$f":"IFERROR(__xludf.DUMMYFUNCTION(\"\"\"COMPUTED_VALUE\"\"\"),\"application/vnd.groove-help\")","v":"application/vnd.groove-help"},{"$f":"IFERROR(__xludf.DUMMYFUNCTION(\"\"\"COMPUTED_VALUE\"\"\"),\"en\")","v":"en"}]
[{"$f":"IFERROR(__xludf.DUMMYFUNCTION(\"\"\"COMPUTED_VALUE\"\"\"),\"https://www.iana.org/assignments/media-types/application/vnd.groove-identity-message\")","v":"https://www.iana.org/assignments/media-types/application/vnd.groove-identity-message"},{"$f":"IFERROR(__xludf.DUMMYFUNCTION(\"\"\"COMPUTED_VALUE\"\"\"),\"vnd.groove-identity-message\")","v":"vnd.groove-identity-message"},{"$f":"IFERROR(__xludf.DUMMYFUNCTION(\"\"\"COMPUTED_VALUE\"\"\"),\"vnd.groove-identity-message\")","v":"vnd.groove-identity-message"},{"$f":"IFERROR(__xludf.DUMMYFUNCTION(\"\"\"COMPUTED_VALUE\"\"\"),\"application/vnd.groove-identity-message\")","v":"application/vnd.groove-identity-message"},{"$f":"IFERROR(__xludf.DUMMYFUNCTION(\"\"\"COMPUTED_VALUE\"\"\"),\"en\")","v":"en"}]
[{"$f":"IFERROR(__xludf.DUMMYFUNCTION(\"\"\"COMPUTED_VALUE\"\"\"),\"https://www.iana.org/assignments/media-types/application/vnd.groove-injector\")","v":"https://www.iana.org/assignments/media-types/application/vnd.groove-injector"},{"$f":"IFERROR(__xludf.DUMMYFUNCTION(\"\"\"COMPUTED_VALUE\"\"\"),\"vnd.groove-injector\")","v":"vnd.groove-injector"},{"$f":"IFERROR(__xludf.DUMMYFUNCTION(\"\"\"COMPUTED_VALUE\"\"\"),\"vnd.groove-injector\")","v":"vnd.groove-injector"},{"$f":"IFERROR(__xludf.DUMMYFUNCTION(\"\"\"COMPUTED_VALUE\"\"\"),\"application/vnd.groove-injector\")","v":"application/vnd.groove-injector"},{"$f":"IFERROR(__xludf.DUMMYFUNCTION(\"\"\"COMPUTED_VALUE\"\"\"),\"en\")","v":"en"}]
[{"$f":"IFERROR(__xludf.DUMMYFUNCTION(\"\"\"COMPUTED_VALUE\"\"\"),\"https://www.iana.org/assignments/media-types/application/vnd.groove-tool-message\")","v":"https://www.iana.org/assignments/media-types/application/vnd.groove-tool-message"},{"$f":"IFERROR(__xludf.DUMMYFUNCTION(\"\"\"COMPUTED_VALUE\"\"\"),\"vnd.groove-tool-message\")","v":"vnd.groove-tool-message"},{"$f":"IFERROR(__xludf.DUMMYFUNCTION(\"\"\"COMPUTED_VALUE\"\"\"),\"vnd.groove-tool-message\")","v":"vnd.groove-tool-message"},{"$f":"IFERROR(__xludf.DUMMYFUNCTION(\"\"\"COMPUTED_VALUE\"\"\"),\"application/vnd.groove-tool-message\")","v":"application/vnd.groove-tool-message"},{"$f":"IFERROR(__xludf.DUMMYFUNCTION(\"\"\"COMPUTED_VALUE\"\"\"),\"en\")","v":"en"}]
[{"$f":"IFERROR(__xludf.DUMMYFUNCTION(\"\"\"COMPUTED_VALUE\"\"\"),\"https://www.iana.org/assignments/media-types/application/vnd.groove-tool-template\")","v":"https://www.iana.org/assignments/media-types/application/vnd.groove-tool-template"},{"$f":"IFERROR(__xludf.DUMMYFUNCTION(\"\"\"COMPUTED_VALUE\"\"\"),\"vnd.groove-tool-template\")","v":"vnd.groove-tool-template"},{"$f":"IFERROR(__xludf.DUMMYFUNCTION(\"\"\"COMPUTED_VALUE\"\"\"),\"vnd.groove-tool-template\")","v":"vnd.groove-tool-template"},{"$f":"IFERROR(__xludf.DUMMYFUNCTION(\"\"\"COMPUTED_VALUE\"\"\"),\"application/vnd.groove-tool-template\")","v":"application/vnd.groove-tool-template"},{"$f":"IFERROR(__xludf.DUMMYFUNCTION(\"\"\"COMPUTED_VALUE\"\"\"),\"en\")","v":"en"}]
[{"$f":"IFERROR(__xludf.DUMMYFUNCTION(\"\"\"COMPUTED_VALUE\"\"\"),\"https://www.iana.org/assignments/media-types/application/vnd.groove-vcard\")","v":"https://www.iana.org/assignments/media-types/application/vnd.groove-vcard"},{"$f":"IFERROR(__xludf.DUMMYFUNCTION(\"\"\"COMPUTED_VALUE\"\"\"),\"vnd.groove-vcard\")","v":"vnd.groove-vcard"},{"$f":"IFERROR(__xludf.DUMMYFUNCTION(\"\"\"COMPUTED_VALUE\"\"\"),\"vnd.groove-vcard\")","v":"vnd.groove-vcard"},{"$f":"IFERROR(__xludf.DUMMYFUNCTION(\"\"\"COMPUTED_VALUE\"\"\"),\"application/vnd.groove-vcard\")","v":"application/vnd.groove-vcard"},{"$f":"IFERROR(__xludf.DUMMYFUNCTION(\"\"\"COMPUTED_VALUE\"\"\"),\"en\")","v":"en"}]
[{"$f":"IFERROR(__xludf.DUMMYFUNCTION(\"\"\"COMPUTED_VALUE\"\"\"),\"https://www.iana.org/assignments/media-types/application/vnd.hal+json\")","v":"https://www.iana.org/assignments/media-types/application/vnd.hal+json"},{"$f":"IFERROR(__xludf.DUMMYFUNCTION(\"\"\"COMPUTED_VALUE\"\"\"),\"vnd.hal+json\")","v":"vnd.hal+json"},{"$f":"IFERROR(__xludf.DUMMYFUNCTION(\"\"\"COMPUTED_VALUE\"\"\"),\"vnd.hal+json\")","v":"vnd.hal+json"},{"$f":"IFERROR(__xludf.DUMMYFUNCTION(\"\"\"COMPUTED_VALUE\"\"\"),\"application/vnd.hal+json\")","v":"application/vnd.hal+json"},{"$f":"IFERROR(__xludf.DUMMYFUNCTION(\"\"\"COMPUTED_VALUE\"\"\"),\"en\")","v":"en"}]
[{"$f":"IFERROR(__xludf.DUMMYFUNCTION(\"\"\"COMPUTED_VALUE\"\"\"),\"https://www.iana.org/assignments/media-types/application/vnd.hal+xml\")","v":"https://www.iana.org/assignments/media-types/application/vnd.hal+xml"},{"$f":"IFERROR(__xludf.DUMMYFUNCTION(\"\"\"COMPUTED_VALUE\"\"\"),\"vnd.hal+xml\")","v":"vnd.hal+xml"},{"$f":"IFERROR(__xludf.DUMMYFUNCTION(\"\"\"COMPUTED_VALUE\"\"\"),\"vnd.hal+xml\")","v":"vnd.hal+xml"},{"$f":"IFERROR(__xludf.DUMMYFUNCTION(\"\"\"COMPUTED_VALUE\"\"\"),\"application/vnd.hal+xml\")","v":"application/vnd.hal+xml"},{"$f":"IFERROR(__xludf.DUMMYFUNCTION(\"\"\"COMPUTED_VALUE\"\"\"),\"en\")","v":"en"}]
[{"$f":"IFERROR(__xludf.DUMMYFUNCTION(\"\"\"COMPUTED_VALUE\"\"\"),\"https://www.iana.org/assignments/media-types/application/vnd.HandHeld-Entertainment+xml\")","v":"https://www.iana.org/assignments/media-types/application/vnd.HandHeld-Entertainment+xml"},{"$f":"IFERROR(__xludf.DUMMYFUNCTION(\"\"\"COMPUTED_VALUE\"\"\"),\"vnd.HandHeld-Entertainment+xml\")","v":"vnd.HandHeld-Entertainment+xml"},{"$f":"IFERROR(__xludf.DUMMYFUNCTION(\"\"\"COMPUTED_VALUE\"\"\"),\"vnd.HandHeld-Entertainment+xml\")","v":"vnd.HandHeld-Entertainment+xml"},{"$f":"IFERROR(__xludf.DUMMYFUNCTION(\"\"\"COMPUTED_VALUE\"\"\"),\"application/vnd.HandHeld-Entertainment+xml\")","v":"application/vnd.HandHeld-Entertainment+xml"},{"$f":"IFERROR(__xludf.DUMMYFUNCTION(\"\"\"COMPUTED_VALUE\"\"\"),\"en\")","v":"en"}]
[{"$f":"IFERROR(__xludf.DUMMYFUNCTION(\"\"\"COMPUTED_VALUE\"\"\"),\"https://www.iana.org/assignments/media-types/application/vnd.hbci\")","v":"https://www.iana.org/assignments/media-types/application/vnd.hbci"},{"$f":"IFERROR(__xludf.DUMMYFUNCTION(\"\"\"COMPUTED_VALUE\"\"\"),\"vnd.hbci\")","v":"vnd.hbci"},{"$f":"IFERROR(__xludf.DUMMYFUNCTION(\"\"\"COMPUTED_VALUE\"\"\"),\"vnd.hbci\")","v":"vnd.hbci"},{"$f":"IFERROR(__xludf.DUMMYFUNCTION(\"\"\"COMPUTED_VALUE\"\"\"),\"application/vnd.hbci\")","v":"application/vnd.hbci"},{"$f":"IFERROR(__xludf.DUMMYFUNCTION(\"\"\"COMPUTED_VALUE\"\"\"),\"en\")","v":"en"}]
[{"$f":"IFERROR(__xludf.DUMMYFUNCTION(\"\"\"COMPUTED_VALUE\"\"\"),\"https://www.iana.org/assignments/media-types/application/vnd.hc+json\")","v":"https://www.iana.org/assignments/media-types/application/vnd.hc+json"},{"$f":"IFERROR(__xludf.DUMMYFUNCTION(\"\"\"COMPUTED_VALUE\"\"\"),\"vnd.hc+json\")","v":"vnd.hc+json"},{"$f":"IFERROR(__xludf.DUMMYFUNCTION(\"\"\"COMPUTED_VALUE\"\"\"),\"vnd.hc+json\")","v":"vnd.hc+json"},{"$f":"IFERROR(__xludf.DUMMYFUNCTION(\"\"\"COMPUTED_VALUE\"\"\"),\"application/vnd.hc+json\")","v":"application/vnd.hc+json"},{"$f":"IFERROR(__xludf.DUMMYFUNCTION(\"\"\"COMPUTED_VALUE\"\"\"),\"en\")","v":"en"}]
[{"$f":"IFERROR(__xludf.DUMMYFUNCTION(\"\"\"COMPUTED_VALUE\"\"\"),\"https://www.iana.org/assignments/media-types/application/vnd.hcl-bireports\")","v":"https://www.iana.org/assignments/media-types/application/vnd.hcl-bireports"},{"$f":"IFERROR(__xludf.DUMMYFUNCTION(\"\"\"COMPUTED_VALUE\"\"\"),\"vnd.hcl-bireports\")","v":"vnd.hcl-bireports"},{"$f":"IFERROR(__xludf.DUMMYFUNCTION(\"\"\"COMPUTED_VALUE\"\"\"),\"vnd.hcl-bireports\")","v":"vnd.hcl-bireports"},{"$f":"IFERROR(__xludf.DUMMYFUNCTION(\"\"\"COMPUTED_VALUE\"\"\"),\"application/vnd.hcl-bireports\")","v":"application/vnd.hcl-bireports"},{"$f":"IFERROR(__xludf.DUMMYFUNCTION(\"\"\"COMPUTED_VALUE\"\"\"),\"en\")","v":"en"}]
[{"$f":"IFERROR(__xludf.DUMMYFUNCTION(\"\"\"COMPUTED_VALUE\"\"\"),\"https://www.iana.org/assignments/media-types/application/vnd.hdt\")","v":"https://www.iana.org/assignments/media-types/application/vnd.hdt"},{"$f":"IFERROR(__xludf.DUMMYFUNCTION(\"\"\"COMPUTED_VALUE\"\"\"),\"vnd.hdt\")","v":"vnd.hdt"},{"$f":"IFERROR(__xludf.DUMMYFUNCTION(\"\"\"COMPUTED_VALUE\"\"\"),\"vnd.hdt\")","v":"vnd.hdt"},{"$f":"IFERROR(__xludf.DUMMYFUNCTION(\"\"\"COMPUTED_VALUE\"\"\"),\"application/vnd.hdt\")","v":"application/vnd.hdt"},{"$f":"IFERROR(__xludf.DUMMYFUNCTION(\"\"\"COMPUTED_VALUE\"\"\"),\"en\")","v":"en"}]
[{"$f":"IFERROR(__xludf.DUMMYFUNCTION(\"\"\"COMPUTED_VALUE\"\"\"),\"https://www.iana.org/assignments/media-types/application/vnd.heroku+json\")","v":"https://www.iana.org/assignments/media-types/application/vnd.heroku+json"},{"$f":"IFERROR(__xludf.DUMMYFUNCTION(\"\"\"COMPUTED_VALUE\"\"\"),\"vnd.heroku+json\")","v":"vnd.heroku+json"},{"$f":"IFERROR(__xludf.DUMMYFUNCTION(\"\"\"COMPUTED_VALUE\"\"\"),\"vnd.heroku+json\")","v":"vnd.heroku+json"},{"$f":"IFERROR(__xludf.DUMMYFUNCTION(\"\"\"COMPUTED_VALUE\"\"\"),\"application/vnd.heroku+json\")","v":"application/vnd.heroku+json"},{"$f":"IFERROR(__xludf.DUMMYFUNCTION(\"\"\"COMPUTED_VALUE\"\"\"),\"en\")","v":"en"}]
[{"$f":"IFERROR(__xludf.DUMMYFUNCTION(\"\"\"COMPUTED_VALUE\"\"\"),\"https://www.iana.org/assignments/media-types/application/vnd.hhe.lesson-player\")","v":"https://www.iana.org/assignments/media-types/application/vnd.hhe.lesson-player"},{"$f":"IFERROR(__xludf.DUMMYFUNCTION(\"\"\"COMPUTED_VALUE\"\"\"),\"vnd.hhe.lesson-player\")","v":"vnd.hhe.lesson-player"},{"$f":"IFERROR(__xludf.DUMMYFUNCTION(\"\"\"COMPUTED_VALUE\"\"\"),\"vnd.hhe.lesson-player\")","v":"vnd.hhe.lesson-player"},{"$f":"IFERROR(__xludf.DUMMYFUNCTION(\"\"\"COMPUTED_VALUE\"\"\"),\"application/vnd.hhe.lesson-player\")","v":"application/vnd.hhe.lesson-player"},{"$f":"IFERROR(__xludf.DUMMYFUNCTION(\"\"\"COMPUTED_VALUE\"\"\"),\"en\")","v":"en"}]
[{"$f":"IFERROR(__xludf.DUMMYFUNCTION(\"\"\"COMPUTED_VALUE\"\"\"),\"https://www.iana.org/assignments/media-types/application/vnd.hp-HPGL\")","v":"https://www.iana.org/assignments/media-types/application/vnd.hp-HPGL"},{"$f":"IFERROR(__xludf.DUMMYFUNCTION(\"\"\"COMPUTED_VALUE\"\"\"),\"vnd.hp-HPGL\")","v":"vnd.hp-HPGL"},{"$f":"IFERROR(__xludf.DUMMYFUNCTION(\"\"\"COMPUTED_VALUE\"\"\"),\"vnd.hp-HPGL\")","v":"vnd.hp-HPGL"},{"$f":"IFERROR(__xludf.DUMMYFUNCTION(\"\"\"COMPUTED_VALUE\"\"\"),\"application/vnd.hp-HPGL\")","v":"application/vnd.hp-HPGL"},{"$f":"IFERROR(__xludf.DUMMYFUNCTION(\"\"\"COMPUTED_VALUE\"\"\"),\"en\")","v":"en"}]
[{"$f":"IFERROR(__xludf.DUMMYFUNCTION(\"\"\"COMPUTED_VALUE\"\"\"),\"https://www.iana.org/assignments/media-types/application/vnd.hp-hpid\")","v":"https://www.iana.org/assignments/media-types/application/vnd.hp-hpid"},{"$f":"IFERROR(__xludf.DUMMYFUNCTION(\"\"\"COMPUTED_VALUE\"\"\"),\"vnd.hp-hpid\")","v":"vnd.hp-hpid"},{"$f":"IFERROR(__xludf.DUMMYFUNCTION(\"\"\"COMPUTED_VALUE\"\"\"),\"vnd.hp-hpid\")","v":"vnd.hp-hpid"},{"$f":"IFERROR(__xludf.DUMMYFUNCTION(\"\"\"COMPUTED_VALUE\"\"\"),\"application/vnd.hp-hpid\")","v":"application/vnd.hp-hpid"},{"$f":"IFERROR(__xludf.DUMMYFUNCTION(\"\"\"COMPUTED_VALUE\"\"\"),\"en\")","v":"en"}]
[{"$f":"IFERROR(__xludf.DUMMYFUNCTION(\"\"\"COMPUTED_VALUE\"\"\"),\"https://www.iana.org/assignments/media-types/application/vnd.hp-hps\")","v":"https://www.iana.org/assignments/media-types/application/vnd.hp-hps"},{"$f":"IFERROR(__xludf.DUMMYFUNCTION(\"\"\"COMPUTED_VALUE\"\"\"),\"vnd.hp-hps\")","v":"vnd.hp-hps"},{"$f":"IFERROR(__xludf.DUMMYFUNCTION(\"\"\"COMPUTED_VALUE\"\"\"),\"vnd.hp-hps\")","v":"vnd.hp-hps"},{"$f":"IFERROR(__xludf.DUMMYFUNCTION(\"\"\"COMPUTED_VALUE\"\"\"),\"application/vnd.hp-hps\")","v":"application/vnd.hp-hps"},{"$f":"IFERROR(__xludf.DUMMYFUNCTION(\"\"\"COMPUTED_VALUE\"\"\"),\"en\")","v":"en"}]
[{"$f":"IFERROR(__xludf.DUMMYFUNCTION(\"\"\"COMPUTED_VALUE\"\"\"),\"https://www.iana.org/assignments/media-types/application/vnd.hp-jlyt\")","v":"https://www.iana.org/assignments/media-types/application/vnd.hp-jlyt"},{"$f":"IFERROR(__xludf.DUMMYFUNCTION(\"\"\"COMPUTED_VALUE\"\"\"),\"vnd.hp-jlyt\")","v":"vnd.hp-jlyt"},{"$f":"IFERROR(__xludf.DUMMYFUNCTION(\"\"\"COMPUTED_VALUE\"\"\"),\"vnd.hp-jlyt\")","v":"vnd.hp-jlyt"},{"$f":"IFERROR(__xludf.DUMMYFUNCTION(\"\"\"COMPUTED_VALUE\"\"\"),\"application/vnd.hp-jlyt\")","v":"application/vnd.hp-jlyt"},{"$f":"IFERROR(__xludf.DUMMYFUNCTION(\"\"\"COMPUTED_VALUE\"\"\"),\"en\")","v":"en"}]
[{"$f":"IFERROR(__xludf.DUMMYFUNCTION(\"\"\"COMPUTED_VALUE\"\"\"),\"https://www.iana.org/assignments/media-types/application/vnd.hp-PCL\")","v":"https://www.iana.org/assignments/media-types/application/vnd.hp-PCL"},{"$f":"IFERROR(__xludf.DUMMYFUNCTION(\"\"\"COMPUTED_VALUE\"\"\"),\"vnd.hp-PCL\")","v":"vnd.hp-PCL"},{"$f":"IFERROR(__xludf.DUMMYFUNCTION(\"\"\"COMPUTED_VALUE\"\"\"),\"vnd.hp-PCL\")","v":"vnd.hp-PCL"},{"$f":"IFERROR(__xludf.DUMMYFUNCTION(\"\"\"COMPUTED_VALUE\"\"\"),\"application/vnd.hp-PCL\")","v":"application/vnd.hp-PCL"},{"$f":"IFERROR(__xludf.DUMMYFUNCTION(\"\"\"COMPUTED_VALUE\"\"\"),\"en\")","v":"en"}]
[{"$f":"IFERROR(__xludf.DUMMYFUNCTION(\"\"\"COMPUTED_VALUE\"\"\"),\"https://www.iana.org/assignments/media-types/application/vnd.hp-PCLXL\")","v":"https://www.iana.org/assignments/media-types/application/vnd.hp-PCLXL"},{"$f":"IFERROR(__xludf.DUMMYFUNCTION(\"\"\"COMPUTED_VALUE\"\"\"),\"vnd.hp-PCLXL\")","v":"vnd.hp-PCLXL"},{"$f":"IFERROR(__xludf.DUMMYFUNCTION(\"\"\"COMPUTED_VALUE\"\"\"),\"vnd.hp-PCLXL\")","v":"vnd.hp-PCLXL"},{"$f":"IFERROR(__xludf.DUMMYFUNCTION(\"\"\"COMPUTED_VALUE\"\"\"),\"application/vnd.hp-PCLXL\")","v":"application/vnd.hp-PCLXL"},{"$f":"IFERROR(__xludf.DUMMYFUNCTION(\"\"\"COMPUTED_VALUE\"\"\"),\"en\")","v":"en"}]
[{"$f":"IFERROR(__xludf.DUMMYFUNCTION(\"\"\"COMPUTED_VALUE\"\"\"),\"https://www.iana.org/assignments/media-types/application/vnd.hsl\")","v":"https://www.iana.org/assignments/media-types/application/vnd.hsl"},{"$f":"IFERROR(__xludf.DUMMYFUNCTION(\"\"\"COMPUTED_VALUE\"\"\"),\"vnd.hsl\")","v":"vnd.hsl"},{"$f":"IFERROR(__xludf.DUMMYFUNCTION(\"\"\"COMPUTED_VALUE\"\"\"),\"vnd.hsl\")","v":"vnd.hsl"},{"$f":"IFERROR(__xludf.DUMMYFUNCTION(\"\"\"COMPUTED_VALUE\"\"\"),\"application/vnd.hsl\")","v":"application/vnd.hsl"},{"$f":"IFERROR(__xludf.DUMMYFUNCTION(\"\"\"COMPUTED_VALUE\"\"\"),\"en\")","v":"en"}]
[{"$f":"IFERROR(__xludf.DUMMYFUNCTION(\"\"\"COMPUTED_VALUE\"\"\"),\"https://www.iana.org/assignments/media-types/application/vnd.httphone\")","v":"https://www.iana.org/assignments/media-types/application/vnd.httphone"},{"$f":"IFERROR(__xludf.DUMMYFUNCTION(\"\"\"COMPUTED_VALUE\"\"\"),\"vnd.httphone\")","v":"vnd.httphone"},{"$f":"IFERROR(__xludf.DUMMYFUNCTION(\"\"\"COMPUTED_VALUE\"\"\"),\"vnd.httphone\")","v":"vnd.httphone"},{"$f":"IFERROR(__xludf.DUMMYFUNCTION(\"\"\"COMPUTED_VALUE\"\"\"),\"application/vnd.httphone\")","v":"application/vnd.httphone"},{"$f":"IFERROR(__xludf.DUMMYFUNCTION(\"\"\"COMPUTED_VALUE\"\"\"),\"en\")","v":"en"}]
[{"$f":"IFERROR(__xludf.DUMMYFUNCTION(\"\"\"COMPUTED_VALUE\"\"\"),\"https://www.iana.org/assignments/media-types/application/vnd.hydrostatix.sof-data\")","v":"https://www.iana.org/assignments/media-types/application/vnd.hydrostatix.sof-data"},{"$f":"IFERROR(__xludf.DUMMYFUNCTION(\"\"\"COMPUTED_VALUE\"\"\"),\"vnd.hydrostatix.sof-data\")","v":"vnd.hydrostatix.sof-data"},{"$f":"IFERROR(__xludf.DUMMYFUNCTION(\"\"\"COMPUTED_VALUE\"\"\"),\"vnd.hydrostatix.sof-data\")","v":"vnd.hydrostatix.sof-data"},{"$f":"IFERROR(__xludf.DUMMYFUNCTION(\"\"\"COMPUTED_VALUE\"\"\"),\"application/vnd.hydrostatix.sof-data\")","v":"application/vnd.hydrostatix.sof-data"},{"$f":"IFERROR(__xludf.DUMMYFUNCTION(\"\"\"COMPUTED_VALUE\"\"\"),\"en\")","v":"en"}]
[{"$f":"IFERROR(__xludf.DUMMYFUNCTION(\"\"\"COMPUTED_VALUE\"\"\"),\"https://www.iana.org/assignments/media-types/application/vnd.hyper-item+json\")","v":"https://www.iana.org/assignments/media-types/application/vnd.hyper-item+json"},{"$f":"IFERROR(__xludf.DUMMYFUNCTION(\"\"\"COMPUTED_VALUE\"\"\"),\"vnd.hyper-item+json\")","v":"vnd.hyper-item+json"},{"$f":"IFERROR(__xludf.DUMMYFUNCTION(\"\"\"COMPUTED_VALUE\"\"\"),\"vnd.hyper-item+json\")","v":"vnd.hyper-item+json"},{"$f":"IFERROR(__xludf.DUMMYFUNCTION(\"\"\"COMPUTED_VALUE\"\"\"),\"application/vnd.hyper-item+json\")","v":"application/vnd.hyper-item+json"},{"$f":"IFERROR(__xludf.DUMMYFUNCTION(\"\"\"COMPUTED_VALUE\"\"\"),\"en\")","v":"en"}]
[{"$f":"IFERROR(__xludf.DUMMYFUNCTION(\"\"\"COMPUTED_VALUE\"\"\"),\"https://www.iana.org/assignments/media-types/application/vnd.hyper+json\")","v":"https://www.iana.org/assignments/media-types/application/vnd.hyper+json"},{"$f":"IFERROR(__xludf.DUMMYFUNCTION(\"\"\"COMPUTED_VALUE\"\"\"),\"vnd.hyper+json\")","v":"vnd.hyper+json"},{"$f":"IFERROR(__xludf.DUMMYFUNCTION(\"\"\"COMPUTED_VALUE\"\"\"),\"vnd.hyper+json\")","v":"vnd.hyper+json"},{"$f":"IFERROR(__xludf.DUMMYFUNCTION(\"\"\"COMPUTED_VALUE\"\"\"),\"application/vnd.hyper+json\")","v":"application/vnd.hyper+json"},{"$f":"IFERROR(__xludf.DUMMYFUNCTION(\"\"\"COMPUTED_VALUE\"\"\"),\"en\")","v":"en"}]
[{"$f":"IFERROR(__xludf.DUMMYFUNCTION(\"\"\"COMPUTED_VALUE\"\"\"),\"https://www.iana.org/assignments/media-types/application/vnd.hyperdrive+json\")","v":"https://www.iana.org/assignments/media-types/application/vnd.hyperdrive+json"},{"$f":"IFERROR(__xludf.DUMMYFUNCTION(\"\"\"COMPUTED_VALUE\"\"\"),\"vnd.hyperdrive+json\")","v":"vnd.hyperdrive+json"},{"$f":"IFERROR(__xludf.DUMMYFUNCTION(\"\"\"COMPUTED_VALUE\"\"\"),\"vnd.hyperdrive+json\")","v":"vnd.hyperdrive+json"},{"$f":"IFERROR(__xludf.DUMMYFUNCTION(\"\"\"COMPUTED_VALUE\"\"\"),\"application/vnd.hyperdrive+json\")","v":"application/vnd.hyperdrive+json"},{"$f":"IFERROR(__xludf.DUMMYFUNCTION(\"\"\"COMPUTED_VALUE\"\"\"),\"en\")","v":"en"}]
[{"$f":"IFERROR(__xludf.DUMMYFUNCTION(\"\"\"COMPUTED_VALUE\"\"\"),\"https://www.iana.org/assignments/media-types/application/vnd.hzn-3d-crossword\")","v":"https://www.iana.org/assignments/media-types/application/vnd.hzn-3d-crossword"},{"$f":"IFERROR(__xludf.DUMMYFUNCTION(\"\"\"COMPUTED_VALUE\"\"\"),\"vnd.hzn-3d-crossword\")","v":"vnd.hzn-3d-crossword"},{"$f":"IFERROR(__xludf.DUMMYFUNCTION(\"\"\"COMPUTED_VALUE\"\"\"),\"vnd.hzn-3d-crossword\")","v":"vnd.hzn-3d-crossword"},{"$f":"IFERROR(__xludf.DUMMYFUNCTION(\"\"\"COMPUTED_VALUE\"\"\"),\"application/vnd.hzn-3d-crossword\")","v":"application/vnd.hzn-3d-crossword"},{"$f":"IFERROR(__xludf.DUMMYFUNCTION(\"\"\"COMPUTED_VALUE\"\"\"),\"en\")","v":"en"}]
[{"$f":"IFERROR(__xludf.DUMMYFUNCTION(\"\"\"COMPUTED_VALUE\"\"\"),\"https://www.iana.org/assignments/media-types/application/vnd.ibm.afplinedata\")","v":"https://www.iana.org/assignments/media-types/application/vnd.ibm.afplinedata"},{"$f":"IFERROR(__xludf.DUMMYFUNCTION(\"\"\"COMPUTED_VALUE\"\"\"),\"vnd.ibm.afplinedata (OBSOLETED in favor of vnd.afpc.afplinedata)\")","v":"vnd.ibm.afplinedata (OBSOLETED in favor of vnd.afpc.afplinedata)"},{"$f":"IFERROR(__xludf.DUMMYFUNCTION(\"\"\"COMPUTED_VALUE\"\"\"),\"vnd.ibm.afplinedata (OBSOLETED in favor of vnd.afpc.afplinedata)\")","v":"vnd.ibm.afplinedata (OBSOLETED in favor of vnd.afpc.afplinedata)"},{"$f":"IFERROR(__xludf.DUMMYFUNCTION(\"\"\"COMPUTED_VALUE\"\"\"),\"application/vnd.ibm.afplinedata\")","v":"application/vnd.ibm.afplinedata"},{"$f":"IFERROR(__xludf.DUMMYFUNCTION(\"\"\"COMPUTED_VALUE\"\"\"),\"en\")","v":"en"}]
[{"$f":"IFERROR(__xludf.DUMMYFUNCTION(\"\"\"COMPUTED_VALUE\"\"\"),\"https://www.iana.org/assignments/media-types/application/vnd.ibm.electronic-media\")","v":"https://www.iana.org/assignments/media-types/application/vnd.ibm.electronic-media"},{"$f":"IFERROR(__xludf.DUMMYFUNCTION(\"\"\"COMPUTED_VALUE\"\"\"),\"vnd.ibm.electronic-media\")","v":"vnd.ibm.electronic-media"},{"$f":"IFERROR(__xludf.DUMMYFUNCTION(\"\"\"COMPUTED_VALUE\"\"\"),\"vnd.ibm.electronic-media\")","v":"vnd.ibm.electronic-media"},{"$f":"IFERROR(__xludf.DUMMYFUNCTION(\"\"\"COMPUTED_VALUE\"\"\"),\"application/vnd.ibm.electronic-media\")","v":"application/vnd.ibm.electronic-media"},{"$f":"IFERROR(__xludf.DUMMYFUNCTION(\"\"\"COMPUTED_VALUE\"\"\"),\"en\")","v":"en"}]
[{"$f":"IFERROR(__xludf.DUMMYFUNCTION(\"\"\"COMPUTED_VALUE\"\"\"),\"https://www.iana.org/assignments/media-types/application/vnd.ibm.MiniPay\")","v":"https://www.iana.org/assignments/media-types/application/vnd.ibm.MiniPay"},{"$f":"IFERROR(__xludf.DUMMYFUNCTION(\"\"\"COMPUTED_VALUE\"\"\"),\"vnd.ibm.MiniPay\")","v":"vnd.ibm.MiniPay"},{"$f":"IFERROR(__xludf.DUMMYFUNCTION(\"\"\"COMPUTED_VALUE\"\"\"),\"vnd.ibm.MiniPay\")","v":"vnd.ibm.MiniPay"},{"$f":"IFERROR(__xludf.DUMMYFUNCTION(\"\"\"COMPUTED_VALUE\"\"\"),\"application/vnd.ibm.MiniPay\")","v":"application/vnd.ibm.MiniPay"},{"$f":"IFERROR(__xludf.DUMMYFUNCTION(\"\"\"COMPUTED_VALUE\"\"\"),\"en\")","v":"en"}]
[{"$f":"IFERROR(__xludf.DUMMYFUNCTION(\"\"\"COMPUTED_VALUE\"\"\"),\"https://www.iana.org/assignments/media-types/application/vnd.ibm.modcap\")","v":"https://www.iana.org/assignments/media-types/application/vnd.ibm.modcap"},{"$f":"IFERROR(__xludf.DUMMYFUNCTION(\"\"\"COMPUTED_VALUE\"\"\"),\"vnd.ibm.modcap (OBSOLETED in favor of application/vnd.afpc.modca)\")","v":"vnd.ibm.modcap (OBSOLETED in favor of application/vnd.afpc.modca)"},{"$f":"IFERROR(__xludf.DUMMYFUNCTION(\"\"\"COMPUTED_VALUE\"\"\"),\"vnd.ibm.modcap (OBSOLETED in favor of application/vnd.afpc.modca)\")","v":"vnd.ibm.modcap (OBSOLETED in favor of application/vnd.afpc.modca)"},{"$f":"IFERROR(__xludf.DUMMYFUNCTION(\"\"\"COMPUTED_VALUE\"\"\"),\"application/vnd.ibm.modcap\")","v":"application/vnd.ibm.modcap"},{"$f":"IFERROR(__xludf.DUMMYFUNCTION(\"\"\"COMPUTED_VALUE\"\"\"),\"en\")","v":"en"}]
[{"$f":"IFERROR(__xludf.DUMMYFUNCTION(\"\"\"COMPUTED_VALUE\"\"\"),\"https://www.iana.org/assignments/media-types/application/vnd.ibm.rights-management\")","v":"https://www.iana.org/assignments/media-types/application/vnd.ibm.rights-management"},{"$f":"IFERROR(__xludf.DUMMYFUNCTION(\"\"\"COMPUTED_VALUE\"\"\"),\"vnd.ibm.rights-management\")","v":"vnd.ibm.rights-management"},{"$f":"IFERROR(__xludf.DUMMYFUNCTION(\"\"\"COMPUTED_VALUE\"\"\"),\"vnd.ibm.rights-management\")","v":"vnd.ibm.rights-management"},{"$f":"IFERROR(__xludf.DUMMYFUNCTION(\"\"\"COMPUTED_VALUE\"\"\"),\"application/vnd.ibm.rights-management\")","v":"application/vnd.ibm.rights-management"},{"$f":"IFERROR(__xludf.DUMMYFUNCTION(\"\"\"COMPUTED_VALUE\"\"\"),\"en\")","v":"en"}]
[{"$f":"IFERROR(__xludf.DUMMYFUNCTION(\"\"\"COMPUTED_VALUE\"\"\"),\"https://www.iana.org/assignments/media-types/application/vnd.ibm.secure-container\")","v":"https://www.iana.org/assignments/media-types/application/vnd.ibm.secure-container"},{"$f":"IFERROR(__xludf.DUMMYFUNCTION(\"\"\"COMPUTED_VALUE\"\"\"),\"vnd.ibm.secure-container\")","v":"vnd.ibm.secure-container"},{"$f":"IFERROR(__xludf.DUMMYFUNCTION(\"\"\"COMPUTED_VALUE\"\"\"),\"vnd.ibm.secure-container\")","v":"vnd.ibm.secure-container"},{"$f":"IFERROR(__xludf.DUMMYFUNCTION(\"\"\"COMPUTED_VALUE\"\"\"),\"application/vnd.ibm.secure-container\")","v":"application/vnd.ibm.secure-container"},{"$f":"IFERROR(__xludf.DUMMYFUNCTION(\"\"\"COMPUTED_VALUE\"\"\"),\"en\")","v":"en"}]
[{"$f":"IFERROR(__xludf.DUMMYFUNCTION(\"\"\"COMPUTED_VALUE\"\"\"),\"https://www.iana.org/assignments/media-types/application/vnd.iccprofile\")","v":"https://www.iana.org/assignments/media-types/application/vnd.iccprofile"},{"$f":"IFERROR(__xludf.DUMMYFUNCTION(\"\"\"COMPUTED_VALUE\"\"\"),\"vnd.iccprofile\")","v":"vnd.iccprofile"},{"$f":"IFERROR(__xludf.DUMMYFUNCTION(\"\"\"COMPUTED_VALUE\"\"\"),\"vnd.iccprofile\")","v":"vnd.iccprofile"},{"$f":"IFERROR(__xludf.DUMMYFUNCTION(\"\"\"COMPUTED_VALUE\"\"\"),\"application/vnd.iccprofile\")","v":"application/vnd.iccprofile"},{"$f":"IFERROR(__xludf.DUMMYFUNCTION(\"\"\"COMPUTED_VALUE\"\"\"),\"en\")","v":"en"}]
[{"$f":"IFERROR(__xludf.DUMMYFUNCTION(\"\"\"COMPUTED_VALUE\"\"\"),\"https://www.iana.org/assignments/media-types/application/vnd.ieee.1905\")","v":"https://www.iana.org/assignments/media-types/application/vnd.ieee.1905"},{"$f":"IFERROR(__xludf.DUMMYFUNCTION(\"\"\"COMPUTED_VALUE\"\"\"),\"vnd.ieee.1905\")","v":"vnd.ieee.1905"},{"$f":"IFERROR(__xludf.DUMMYFUNCTION(\"\"\"COMPUTED_VALUE\"\"\"),\"vnd.ieee.1905\")","v":"vnd.ieee.1905"},{"$f":"IFERROR(__xludf.DUMMYFUNCTION(\"\"\"COMPUTED_VALUE\"\"\"),\"application/vnd.ieee.1905\")","v":"application/vnd.ieee.1905"},{"$f":"IFERROR(__xludf.DUMMYFUNCTION(\"\"\"COMPUTED_VALUE\"\"\"),\"en\")","v":"en"}]
[{"$f":"IFERROR(__xludf.DUMMYFUNCTION(\"\"\"COMPUTED_VALUE\"\"\"),\"https://www.iana.org/assignments/media-types/application/vnd.igloader\")","v":"https://www.iana.org/assignments/media-types/application/vnd.igloader"},{"$f":"IFERROR(__xludf.DUMMYFUNCTION(\"\"\"COMPUTED_VALUE\"\"\"),\"vnd.igloader\")","v":"vnd.igloader"},{"$f":"IFERROR(__xludf.DUMMYFUNCTION(\"\"\"COMPUTED_VALUE\"\"\"),\"vnd.igloader\")","v":"vnd.igloader"},{"$f":"IFERROR(__xludf.DUMMYFUNCTION(\"\"\"COMPUTED_VALUE\"\"\"),\"application/vnd.igloader\")","v":"application/vnd.igloader"},{"$f":"IFERROR(__xludf.DUMMYFUNCTION(\"\"\"COMPUTED_VALUE\"\"\"),\"en\")","v":"en"}]
[{"$f":"IFERROR(__xludf.DUMMYFUNCTION(\"\"\"COMPUTED_VALUE\"\"\"),\"https://www.iana.org/assignments/media-types/application/vnd.imagemeter.folder+zip\")","v":"https://www.iana.org/assignments/media-types/application/vnd.imagemeter.folder+zip"},{"$f":"IFERROR(__xludf.DUMMYFUNCTION(\"\"\"COMPUTED_VALUE\"\"\"),\"vnd.imagemeter.folder+zip\")","v":"vnd.imagemeter.folder+zip"},{"$f":"IFERROR(__xludf.DUMMYFUNCTION(\"\"\"COMPUTED_VALUE\"\"\"),\"vnd.imagemeter.folder+zip\")","v":"vnd.imagemeter.folder+zip"},{"$f":"IFERROR(__xludf.DUMMYFUNCTION(\"\"\"COMPUTED_VALUE\"\"\"),\"application/vnd.imagemeter.folder+zip\")","v":"application/vnd.imagemeter.folder+zip"},{"$f":"IFERROR(__xludf.DUMMYFUNCTION(\"\"\"COMPUTED_VALUE\"\"\"),\"en\")","v":"en"}]
[{"$f":"IFERROR(__xludf.DUMMYFUNCTION(\"\"\"COMPUTED_VALUE\"\"\"),\"https://www.iana.org/assignments/media-types/application/vnd.imagemeter.image+zip\")","v":"https://www.iana.org/assignments/media-types/application/vnd.imagemeter.image+zip"},{"$f":"IFERROR(__xludf.DUMMYFUNCTION(\"\"\"COMPUTED_VALUE\"\"\"),\"vnd.imagemeter.image+zip\")","v":"vnd.imagemeter.image+zip"},{"$f":"IFERROR(__xludf.DUMMYFUNCTION(\"\"\"COMPUTED_VALUE\"\"\"),\"vnd.imagemeter.image+zip\")","v":"vnd.imagemeter.image+zip"},{"$f":"IFERROR(__xludf.DUMMYFUNCTION(\"\"\"COMPUTED_VALUE\"\"\"),\"application/vnd.imagemeter.image+zip\")","v":"application/vnd.imagemeter.image+zip"},{"$f":"IFERROR(__xludf.DUMMYFUNCTION(\"\"\"COMPUTED_VALUE\"\"\"),\"en\")","v":"en"}]
[{"$f":"IFERROR(__xludf.DUMMYFUNCTION(\"\"\"COMPUTED_VALUE\"\"\"),\"https://www.iana.org/assignments/media-types/application/vnd.immervision-ivp\")","v":"https://www.iana.org/assignments/media-types/application/vnd.immervision-ivp"},{"$f":"IFERROR(__xludf.DUMMYFUNCTION(\"\"\"COMPUTED_VALUE\"\"\"),\"vnd.immervision-ivp\")","v":"vnd.immervision-ivp"},{"$f":"IFERROR(__xludf.DUMMYFUNCTION(\"\"\"COMPUTED_VALUE\"\"\"),\"vnd.immervision-ivp\")","v":"vnd.immervision-ivp"},{"$f":"IFERROR(__xludf.DUMMYFUNCTION(\"\"\"COMPUTED_VALUE\"\"\"),\"application/vnd.immervision-ivp\")","v":"application/vnd.immervision-ivp"},{"$f":"IFERROR(__xludf.DUMMYFUNCTION(\"\"\"COMPUTED_VALUE\"\"\"),\"en\")","v":"en"}]
[{"$f":"IFERROR(__xludf.DUMMYFUNCTION(\"\"\"COMPUTED_VALUE\"\"\"),\"https://www.iana.org/assignments/media-types/application/vnd.immervision-ivu\")","v":"https://www.iana.org/assignments/media-types/application/vnd.immervision-ivu"},{"$f":"IFERROR(__xludf.DUMMYFUNCTION(\"\"\"COMPUTED_VALUE\"\"\"),\"vnd.immervision-ivu\")","v":"vnd.immervision-ivu"},{"$f":"IFERROR(__xludf.DUMMYFUNCTION(\"\"\"COMPUTED_VALUE\"\"\"),\"vnd.immervision-ivu\")","v":"vnd.immervision-ivu"},{"$f":"IFERROR(__xludf.DUMMYFUNCTION(\"\"\"COMPUTED_VALUE\"\"\"),\"application/vnd.immervision-ivu\")","v":"application/vnd.immervision-ivu"},{"$f":"IFERROR(__xludf.DUMMYFUNCTION(\"\"\"COMPUTED_VALUE\"\"\"),\"en\")","v":"en"}]
[{"$f":"IFERROR(__xludf.DUMMYFUNCTION(\"\"\"COMPUTED_VALUE\"\"\"),\"https://www.iana.org/assignments/media-types/application/vnd.ims.imsccv1p1\")","v":"https://www.iana.org/assignments/media-types/application/vnd.ims.imsccv1p1"},{"$f":"IFERROR(__xludf.DUMMYFUNCTION(\"\"\"COMPUTED_VALUE\"\"\"),\"vnd.ims.imsccv1p1\")","v":"vnd.ims.imsccv1p1"},{"$f":"IFERROR(__xludf.DUMMYFUNCTION(\"\"\"COMPUTED_VALUE\"\"\"),\"vnd.ims.imsccv1p1\")","v":"vnd.ims.imsccv1p1"},{"$f":"IFERROR(__xludf.DUMMYFUNCTION(\"\"\"COMPUTED_VALUE\"\"\"),\"application/vnd.ims.imsccv1p1\")","v":"application/vnd.ims.imsccv1p1"},{"$f":"IFERROR(__xludf.DUMMYFUNCTION(\"\"\"COMPUTED_VALUE\"\"\"),\"en\")","v":"en"}]
[{"$f":"IFERROR(__xludf.DUMMYFUNCTION(\"\"\"COMPUTED_VALUE\"\"\"),\"https://www.iana.org/assignments/media-types/application/vnd.ims.imsccv1p2\")","v":"https://www.iana.org/assignments/media-types/application/vnd.ims.imsccv1p2"},{"$f":"IFERROR(__xludf.DUMMYFUNCTION(\"\"\"COMPUTED_VALUE\"\"\"),\"vnd.ims.imsccv1p2\")","v":"vnd.ims.imsccv1p2"},{"$f":"IFERROR(__xludf.DUMMYFUNCTION(\"\"\"COMPUTED_VALUE\"\"\"),\"vnd.ims.imsccv1p2\")","v":"vnd.ims.imsccv1p2"},{"$f":"IFERROR(__xludf.DUMMYFUNCTION(\"\"\"COMPUTED_VALUE\"\"\"),\"application/vnd.ims.imsccv1p2\")","v":"application/vnd.ims.imsccv1p2"},{"$f":"IFERROR(__xludf.DUMMYFUNCTION(\"\"\"COMPUTED_VALUE\"\"\"),\"en\")","v":"en"}]
[{"$f":"IFERROR(__xludf.DUMMYFUNCTION(\"\"\"COMPUTED_VALUE\"\"\"),\"https://www.iana.org/assignments/media-types/application/vnd.ims.imsccv1p3\")","v":"https://www.iana.org/assignments/media-types/application/vnd.ims.imsccv1p3"},{"$f":"IFERROR(__xludf.DUMMYFUNCTION(\"\"\"COMPUTED_VALUE\"\"\"),\"vnd.ims.imsccv1p3\")","v":"vnd.ims.imsccv1p3"},{"$f":"IFERROR(__xludf.DUMMYFUNCTION(\"\"\"COMPUTED_VALUE\"\"\"),\"vnd.ims.imsccv1p3\")","v":"vnd.ims.imsccv1p3"},{"$f":"IFERROR(__xludf.DUMMYFUNCTION(\"\"\"COMPUTED_VALUE\"\"\"),\"application/vnd.ims.imsccv1p3\")","v":"application/vnd.ims.imsccv1p3"},{"$f":"IFERROR(__xludf.DUMMYFUNCTION(\"\"\"COMPUTED_VALUE\"\"\"),\"en\")","v":"en"}]
[{"$f":"IFERROR(__xludf.DUMMYFUNCTION(\"\"\"COMPUTED_VALUE\"\"\"),\"https://www.iana.org/assignments/media-types/application/vnd.ims.lis.v2.result+json\")","v":"https://www.iana.org/assignments/media-types/application/vnd.ims.lis.v2.result+json"},{"$f":"IFERROR(__xludf.DUMMYFUNCTION(\"\"\"COMPUTED_VALUE\"\"\"),\"vnd.ims.lis.v2.result+json\")","v":"vnd.ims.lis.v2.result+json"},{"$f":"IFERROR(__xludf.DUMMYFUNCTION(\"\"\"COMPUTED_VALUE\"\"\"),\"vnd.ims.lis.v2.result+json\")","v":"vnd.ims.lis.v2.result+json"},{"$f":"IFERROR(__xludf.DUMMYFUNCTION(\"\"\"COMPUTED_VALUE\"\"\"),\"application/vnd.ims.lis.v2.result+json\")","v":"application/vnd.ims.lis.v2.result+json"},{"$f":"IFERROR(__xludf.DUMMYFUNCTION(\"\"\"COMPUTED_VALUE\"\"\"),\"en\")","v":"en"}]
[{"$f":"IFERROR(__xludf.DUMMYFUNCTION(\"\"\"COMPUTED_VALUE\"\"\"),\"https://www.iana.org/assignments/media-types/application/vnd.ims.lti.v2.toolconsumerprofile+json\")","v":"https://www.iana.org/assignments/media-types/application/vnd.ims.lti.v2.toolconsumerprofile+json"},{"$f":"IFERROR(__xludf.DUMMYFUNCTION(\"\"\"COMPUTED_VALUE\"\"\"),\"vnd.ims.lti.v2.toolconsumerprofile+json\")","v":"vnd.ims.lti.v2.toolconsumerprofile+json"},{"$f":"IFERROR(__xludf.DUMMYFUNCTION(\"\"\"COMPUTED_VALUE\"\"\"),\"vnd.ims.lti.v2.toolconsumerprofile+json\")","v":"vnd.ims.lti.v2.toolconsumerprofile+json"},{"$f":"IFERROR(__xludf.DUMMYFUNCTION(\"\"\"COMPUTED_VALUE\"\"\"),\"application/vnd.ims.lti.v2.toolconsumerprofile+json\")","v":"application/vnd.ims.lti.v2.toolconsumerprofile+json"},{"$f":"IFERROR(__xludf.DUMMYFUNCTION(\"\"\"COMPUTED_VALUE\"\"\"),\"en\")","v":"en"}]
[{"$f":"IFERROR(__xludf.DUMMYFUNCTION(\"\"\"COMPUTED_VALUE\"\"\"),\"https://www.iana.org/assignments/media-types/application/vnd.ims.lti.v2.toolproxy.id+json\")","v":"https://www.iana.org/assignments/media-types/application/vnd.ims.lti.v2.toolproxy.id+json"},{"$f":"IFERROR(__xludf.DUMMYFUNCTION(\"\"\"COMPUTED_VALUE\"\"\"),\"vnd.ims.lti.v2.toolproxy.id+json\")","v":"vnd.ims.lti.v2.toolproxy.id+json"},{"$f":"IFERROR(__xludf.DUMMYFUNCTION(\"\"\"COMPUTED_VALUE\"\"\"),\"vnd.ims.lti.v2.toolproxy.id+json\")","v":"vnd.ims.lti.v2.toolproxy.id+json"},{"$f":"IFERROR(__xludf.DUMMYFUNCTION(\"\"\"COMPUTED_VALUE\"\"\"),\"application/vnd.ims.lti.v2.toolproxy.id+json\")","v":"application/vnd.ims.lti.v2.toolproxy.id+json"},{"$f":"IFERROR(__xludf.DUMMYFUNCTION(\"\"\"COMPUTED_VALUE\"\"\"),\"en\")","v":"en"}]
[{"$f":"IFERROR(__xludf.DUMMYFUNCTION(\"\"\"COMPUTED_VALUE\"\"\"),\"https://www.iana.org/assignments/media-types/application/vnd.ims.lti.v2.toolproxy+json\")","v":"https://www.iana.org/assignments/media-types/application/vnd.ims.lti.v2.toolproxy+json"},{"$f":"IFERROR(__xludf.DUMMYFUNCTION(\"\"\"COMPUTED_VALUE\"\"\"),\"vnd.ims.lti.v2.toolproxy+json\")","v":"vnd.ims.lti.v2.toolproxy+json"},{"$f":"IFERROR(__xludf.DUMMYFUNCTION(\"\"\"COMPUTED_VALUE\"\"\"),\"vnd.ims.lti.v2.toolproxy+json\")","v":"vnd.ims.lti.v2.toolproxy+json"},{"$f":"IFERROR(__xludf.DUMMYFUNCTION(\"\"\"COMPUTED_VALUE\"\"\"),\"application/vnd.ims.lti.v2.toolproxy+json\")","v":"application/vnd.ims.lti.v2.toolproxy+json"},{"$f":"IFERROR(__xludf.DUMMYFUNCTION(\"\"\"COMPUTED_VALUE\"\"\"),\"en\")","v":"en"}]
[{"$f":"IFERROR(__xludf.DUMMYFUNCTION(\"\"\"COMPUTED_VALUE\"\"\"),\"https://www.iana.org/assignments/media-types/application/vnd.ims.lti.v2.toolsettings+json\")","v":"https://www.iana.org/assignments/media-types/application/vnd.ims.lti.v2.toolsettings+json"},{"$f":"IFERROR(__xludf.DUMMYFUNCTION(\"\"\"COMPUTED_VALUE\"\"\"),\"vnd.ims.lti.v2.toolsettings+json\")","v":"vnd.ims.lti.v2.toolsettings+json"},{"$f":"IFERROR(__xludf.DUMMYFUNCTION(\"\"\"COMPUTED_VALUE\"\"\"),\"vnd.ims.lti.v2.toolsettings+json\")","v":"vnd.ims.lti.v2.toolsettings+json"},{"$f":"IFERROR(__xludf.DUMMYFUNCTION(\"\"\"COMPUTED_VALUE\"\"\"),\"application/vnd.ims.lti.v2.toolsettings+json\")","v":"application/vnd.ims.lti.v2.toolsettings+json"},{"$f":"IFERROR(__xludf.DUMMYFUNCTION(\"\"\"COMPUTED_VALUE\"\"\"),\"en\")","v":"en"}]
[{"$f":"IFERROR(__xludf.DUMMYFUNCTION(\"\"\"COMPUTED_VALUE\"\"\"),\"https://www.iana.org/assignments/media-types/application/vnd.ims.lti.v2.toolsettings.simple+json\")","v":"https://www.iana.org/assignments/media-types/application/vnd.ims.lti.v2.toolsettings.simple+json"},{"$f":"IFERROR(__xludf.DUMMYFUNCTION(\"\"\"COMPUTED_VALUE\"\"\"),\"vnd.ims.lti.v2.toolsettings.simple+json\")","v":"vnd.ims.lti.v2.toolsettings.simple+json"},{"$f":"IFERROR(__xludf.DUMMYFUNCTION(\"\"\"COMPUTED_VALUE\"\"\"),\"vnd.ims.lti.v2.toolsettings.simple+json\")","v":"vnd.ims.lti.v2.toolsettings.simple+json"},{"$f":"IFERROR(__xludf.DUMMYFUNCTION(\"\"\"COMPUTED_VALUE\"\"\"),\"application/vnd.ims.lti.v2.toolsettings.simple+json\")","v":"application/vnd.ims.lti.v2.toolsettings.simple+json"},{"$f":"IFERROR(__xludf.DUMMYFUNCTION(\"\"\"COMPUTED_VALUE\"\"\"),\"en\")","v":"en"}]
[{"$f":"IFERROR(__xludf.DUMMYFUNCTION(\"\"\"COMPUTED_VALUE\"\"\"),\"https://www.iana.org/assignments/media-types/application/vnd.informedcontrol.rms+xml\")","v":"https://www.iana.org/assignments/media-types/application/vnd.informedcontrol.rms+xml"},{"$f":"IFERROR(__xludf.DUMMYFUNCTION(\"\"\"COMPUTED_VALUE\"\"\"),\"vnd.informedcontrol.rms+xml\")","v":"vnd.informedcontrol.rms+xml"},{"$f":"IFERROR(__xludf.DUMMYFUNCTION(\"\"\"COMPUTED_VALUE\"\"\"),\"vnd.informedcontrol.rms+xml\")","v":"vnd.informedcontrol.rms+xml"},{"$f":"IFERROR(__xludf.DUMMYFUNCTION(\"\"\"COMPUTED_VALUE\"\"\"),\"application/vnd.informedcontrol.rms+xml\")","v":"application/vnd.informedcontrol.rms+xml"},{"$f":"IFERROR(__xludf.DUMMYFUNCTION(\"\"\"COMPUTED_VALUE\"\"\"),\"en\")","v":"en"}]
[{"$f":"IFERROR(__xludf.DUMMYFUNCTION(\"\"\"COMPUTED_VALUE\"\"\"),\"https://www.iana.org/assignments/media-types/application/vnd.infotech.project\")","v":"https://www.iana.org/assignments/media-types/application/vnd.infotech.project"},{"$f":"IFERROR(__xludf.DUMMYFUNCTION(\"\"\"COMPUTED_VALUE\"\"\"),\"vnd.infotech.project\")","v":"vnd.infotech.project"},{"$f":"IFERROR(__xludf.DUMMYFUNCTION(\"\"\"COMPUTED_VALUE\"\"\"),\"vnd.infotech.project\")","v":"vnd.infotech.project"},{"$f":"IFERROR(__xludf.DUMMYFUNCTION(\"\"\"COMPUTED_VALUE\"\"\"),\"application/vnd.infotech.project\")","v":"application/vnd.infotech.project"},{"$f":"IFERROR(__xludf.DUMMYFUNCTION(\"\"\"COMPUTED_VALUE\"\"\"),\"en\")","v":"en"}]
[{"$f":"IFERROR(__xludf.DUMMYFUNCTION(\"\"\"COMPUTED_VALUE\"\"\"),\"https://www.iana.org/assignments/media-types/application/vnd.infotech.project+xml\")","v":"https://www.iana.org/assignments/media-types/application/vnd.infotech.project+xml"},{"$f":"IFERROR(__xludf.DUMMYFUNCTION(\"\"\"COMPUTED_VALUE\"\"\"),\"vnd.infotech.project+xml\")","v":"vnd.infotech.project+xml"},{"$f":"IFERROR(__xludf.DUMMYFUNCTION(\"\"\"COMPUTED_VALUE\"\"\"),\"vnd.infotech.project+xml\")","v":"vnd.infotech.project+xml"},{"$f":"IFERROR(__xludf.DUMMYFUNCTION(\"\"\"COMPUTED_VALUE\"\"\"),\"application/vnd.infotech.project+xml\")","v":"application/vnd.infotech.project+xml"},{"$f":"IFERROR(__xludf.DUMMYFUNCTION(\"\"\"COMPUTED_VALUE\"\"\"),\"en\")","v":"en"}]
[{"$f":"IFERROR(__xludf.DUMMYFUNCTION(\"\"\"COMPUTED_VALUE\"\"\"),\"https://www.iana.org/assignments/media-types/application/vnd.informix-visionary\")","v":"https://www.iana.org/assignments/media-types/application/vnd.informix-visionary"},{"$f":"IFERROR(__xludf.DUMMYFUNCTION(\"\"\"COMPUTED_VALUE\"\"\"),\"vnd.informix-visionary (OBSOLETED in favor of application/vnd.visionary)\")","v":"vnd.informix-visionary (OBSOLETED in favor of application/vnd.visionary)"},{"$f":"IFERROR(__xludf.DUMMYFUNCTION(\"\"\"COMPUTED_VALUE\"\"\"),\"vnd.informix-visionary (OBSOLETED in favor of application/vnd.visionary)\")","v":"vnd.informix-visionary (OBSOLETED in favor of application/vnd.visionary)"},{"$f":"IFERROR(__xludf.DUMMYFUNCTION(\"\"\"COMPUTED_VALUE\"\"\"),\"application/vnd.informix-visionary\")","v":"application/vnd.informix-visionary"},{"$f":"IFERROR(__xludf.DUMMYFUNCTION(\"\"\"COMPUTED_VALUE\"\"\"),\"en\")","v":"en"}]
[{"$f":"IFERROR(__xludf.DUMMYFUNCTION(\"\"\"COMPUTED_VALUE\"\"\"),\"https://www.iana.org/assignments/media-types/application/vnd.innopath.wamp.notification\")","v":"https://www.iana.org/assignments/media-types/application/vnd.innopath.wamp.notification"},{"$f":"IFERROR(__xludf.DUMMYFUNCTION(\"\"\"COMPUTED_VALUE\"\"\"),\"vnd.innopath.wamp.notification\")","v":"vnd.innopath.wamp.notification"},{"$f":"IFERROR(__xludf.DUMMYFUNCTION(\"\"\"COMPUTED_VALUE\"\"\"),\"vnd.innopath.wamp.notification\")","v":"vnd.innopath.wamp.notification"},{"$f":"IFERROR(__xludf.DUMMYFUNCTION(\"\"\"COMPUTED_VALUE\"\"\"),\"application/vnd.innopath.wamp.notification\")","v":"application/vnd.innopath.wamp.notification"},{"$f":"IFERROR(__xludf.DUMMYFUNCTION(\"\"\"COMPUTED_VALUE\"\"\"),\"en\")","v":"en"}]
[{"$f":"IFERROR(__xludf.DUMMYFUNCTION(\"\"\"COMPUTED_VALUE\"\"\"),\"https://www.iana.org/assignments/media-types/application/vnd.insors.igm\")","v":"https://www.iana.org/assignments/media-types/application/vnd.insors.igm"},{"$f":"IFERROR(__xludf.DUMMYFUNCTION(\"\"\"COMPUTED_VALUE\"\"\"),\"vnd.insors.igm\")","v":"vnd.insors.igm"},{"$f":"IFERROR(__xludf.DUMMYFUNCTION(\"\"\"COMPUTED_VALUE\"\"\"),\"vnd.insors.igm\")","v":"vnd.insors.igm"},{"$f":"IFERROR(__xludf.DUMMYFUNCTION(\"\"\"COMPUTED_VALUE\"\"\"),\"application/vnd.insors.igm\")","v":"application/vnd.insors.igm"},{"$f":"IFERROR(__xludf.DUMMYFUNCTION(\"\"\"COMPUTED_VALUE\"\"\"),\"en\")","v":"en"}]
[{"$f":"IFERROR(__xludf.DUMMYFUNCTION(\"\"\"COMPUTED_VALUE\"\"\"),\"https://www.iana.org/assignments/media-types/application/vnd.intercon.formnet\")","v":"https://www.iana.org/assignments/media-types/application/vnd.intercon.formnet"},{"$f":"IFERROR(__xludf.DUMMYFUNCTION(\"\"\"COMPUTED_VALUE\"\"\"),\"vnd.intercon.formnet\")","v":"vnd.intercon.formnet"},{"$f":"IFERROR(__xludf.DUMMYFUNCTION(\"\"\"COMPUTED_VALUE\"\"\"),\"vnd.intercon.formnet\")","v":"vnd.intercon.formnet"},{"$f":"IFERROR(__xludf.DUMMYFUNCTION(\"\"\"COMPUTED_VALUE\"\"\"),\"application/vnd.intercon.formnet\")","v":"application/vnd.intercon.formnet"},{"$f":"IFERROR(__xludf.DUMMYFUNCTION(\"\"\"COMPUTED_VALUE\"\"\"),\"en\")","v":"en"}]
[{"$f":"IFERROR(__xludf.DUMMYFUNCTION(\"\"\"COMPUTED_VALUE\"\"\"),\"https://www.iana.org/assignments/media-types/application/vnd.intergeo\")","v":"https://www.iana.org/assignments/media-types/application/vnd.intergeo"},{"$f":"IFERROR(__xludf.DUMMYFUNCTION(\"\"\"COMPUTED_VALUE\"\"\"),\"vnd.intergeo\")","v":"vnd.intergeo"},{"$f":"IFERROR(__xludf.DUMMYFUNCTION(\"\"\"COMPUTED_VALUE\"\"\"),\"vnd.intergeo\")","v":"vnd.intergeo"},{"$f":"IFERROR(__xludf.DUMMYFUNCTION(\"\"\"COMPUTED_VALUE\"\"\"),\"application/vnd.intergeo\")","v":"application/vnd.intergeo"},{"$f":"IFERROR(__xludf.DUMMYFUNCTION(\"\"\"COMPUTED_VALUE\"\"\"),\"en\")","v":"en"}]
[{"$f":"IFERROR(__xludf.DUMMYFUNCTION(\"\"\"COMPUTED_VALUE\"\"\"),\"https://www.iana.org/assignments/media-types/application/vnd.intertrust.digibox\")","v":"https://www.iana.org/assignments/media-types/application/vnd.intertrust.digibox"},{"$f":"IFERROR(__xludf.DUMMYFUNCTION(\"\"\"COMPUTED_VALUE\"\"\"),\"vnd.intertrust.digibox\")","v":"vnd.intertrust.digibox"},{"$f":"IFERROR(__xludf.DUMMYFUNCTION(\"\"\"COMPUTED_VALUE\"\"\"),\"vnd.intertrust.digibox\")","v":"vnd.intertrust.digibox"},{"$f":"IFERROR(__xludf.DUMMYFUNCTION(\"\"\"COMPUTED_VALUE\"\"\"),\"application/vnd.intertrust.digibox\")","v":"application/vnd.intertrust.digibox"},{"$f":"IFERROR(__xludf.DUMMYFUNCTION(\"\"\"COMPUTED_VALUE\"\"\"),\"en\")","v":"en"}]
[{"$f":"IFERROR(__xludf.DUMMYFUNCTION(\"\"\"COMPUTED_VALUE\"\"\"),\"https://www.iana.org/assignments/media-types/application/vnd.intertrust.nncp\")","v":"https://www.iana.org/assignments/media-types/application/vnd.intertrust.nncp"},{"$f":"IFERROR(__xludf.DUMMYFUNCTION(\"\"\"COMPUTED_VALUE\"\"\"),\"vnd.intertrust.nncp\")","v":"vnd.intertrust.nncp"},{"$f":"IFERROR(__xludf.DUMMYFUNCTION(\"\"\"COMPUTED_VALUE\"\"\"),\"vnd.intertrust.nncp\")","v":"vnd.intertrust.nncp"},{"$f":"IFERROR(__xludf.DUMMYFUNCTION(\"\"\"COMPUTED_VALUE\"\"\"),\"application/vnd.intertrust.nncp\")","v":"application/vnd.intertrust.nncp"},{"$f":"IFERROR(__xludf.DUMMYFUNCTION(\"\"\"COMPUTED_VALUE\"\"\"),\"en\")","v":"en"}]
[{"$f":"IFERROR(__xludf.DUMMYFUNCTION(\"\"\"COMPUTED_VALUE\"\"\"),\"https://www.iana.org/assignments/media-types/application/vnd.intu.qbo\")","v":"https://www.iana.org/assignments/media-types/application/vnd.intu.qbo"},{"$f":"IFERROR(__xludf.DUMMYFUNCTION(\"\"\"COMPUTED_VALUE\"\"\"),\"vnd.intu.qbo\")","v":"vnd.intu.qbo"},{"$f":"IFERROR(__xludf.DUMMYFUNCTION(\"\"\"COMPUTED_VALUE\"\"\"),\"vnd.intu.qbo\")","v":"vnd.intu.qbo"},{"$f":"IFERROR(__xludf.DUMMYFUNCTION(\"\"\"COMPUTED_VALUE\"\"\"),\"application/vnd.intu.qbo\")","v":"application/vnd.intu.qbo"},{"$f":"IFERROR(__xludf.DUMMYFUNCTION(\"\"\"COMPUTED_VALUE\"\"\"),\"en\")","v":"en"}]
[{"$f":"IFERROR(__xludf.DUMMYFUNCTION(\"\"\"COMPUTED_VALUE\"\"\"),\"https://www.iana.org/assignments/media-types/application/vnd.intu.qfx\")","v":"https://www.iana.org/assignments/media-types/application/vnd.intu.qfx"},{"$f":"IFERROR(__xludf.DUMMYFUNCTION(\"\"\"COMPUTED_VALUE\"\"\"),\"vnd.intu.qfx\")","v":"vnd.intu.qfx"},{"$f":"IFERROR(__xludf.DUMMYFUNCTION(\"\"\"COMPUTED_VALUE\"\"\"),\"vnd.intu.qfx\")","v":"vnd.intu.qfx"},{"$f":"IFERROR(__xludf.DUMMYFUNCTION(\"\"\"COMPUTED_VALUE\"\"\"),\"application/vnd.intu.qfx\")","v":"application/vnd.intu.qfx"},{"$f":"IFERROR(__xludf.DUMMYFUNCTION(\"\"\"COMPUTED_VALUE\"\"\"),\"en\")","v":"en"}]
[{"$f":"IFERROR(__xludf.DUMMYFUNCTION(\"\"\"COMPUTED_VALUE\"\"\"),\"https://www.iana.org/assignments/media-types/application/vnd.ipld.car\")","v":"https://www.iana.org/assignments/media-types/application/vnd.ipld.car"},{"$f":"IFERROR(__xludf.DUMMYFUNCTION(\"\"\"COMPUTED_VALUE\"\"\"),\"vnd.ipld.car\")","v":"vnd.ipld.car"},{"$f":"IFERROR(__xludf.DUMMYFUNCTION(\"\"\"COMPUTED_VALUE\"\"\"),\"vnd.ipld.car\")","v":"vnd.ipld.car"},{"$f":"IFERROR(__xludf.DUMMYFUNCTION(\"\"\"COMPUTED_VALUE\"\"\"),\"application/vnd.ipld.car\")","v":"application/vnd.ipld.car"},{"$f":"IFERROR(__xludf.DUMMYFUNCTION(\"\"\"COMPUTED_VALUE\"\"\"),\"en\")","v":"en"}]
[{"$f":"IFERROR(__xludf.DUMMYFUNCTION(\"\"\"COMPUTED_VALUE\"\"\"),\"https://www.iana.org/assignments/media-types/application/vnd.ipld.dag-cbor\")","v":"https://www.iana.org/assignments/media-types/application/vnd.ipld.dag-cbor"},{"$f":"IFERROR(__xludf.DUMMYFUNCTION(\"\"\"COMPUTED_VALUE\"\"\"),\"vnd.ipld.dag-cbor\")","v":"vnd.ipld.dag-cbor"},{"$f":"IFERROR(__xludf.DUMMYFUNCTION(\"\"\"COMPUTED_VALUE\"\"\"),\"vnd.ipld.dag-cbor\")","v":"vnd.ipld.dag-cbor"},{"$f":"IFERROR(__xludf.DUMMYFUNCTION(\"\"\"COMPUTED_VALUE\"\"\"),\"application/vnd.ipld.dag-cbor\")","v":"application/vnd.ipld.dag-cbor"},{"$f":"IFERROR(__xludf.DUMMYFUNCTION(\"\"\"COMPUTED_VALUE\"\"\"),\"en\")","v":"en"}]
[{"$f":"IFERROR(__xludf.DUMMYFUNCTION(\"\"\"COMPUTED_VALUE\"\"\"),\"https://www.iana.org/assignments/media-types/application/vnd.ipld.dag-json\")","v":"https://www.iana.org/assignments/media-types/application/vnd.ipld.dag-json"},{"$f":"IFERROR(__xludf.DUMMYFUNCTION(\"\"\"COMPUTED_VALUE\"\"\"),\"vnd.ipld.dag-json\")","v":"vnd.ipld.dag-json"},{"$f":"IFERROR(__xludf.DUMMYFUNCTION(\"\"\"COMPUTED_VALUE\"\"\"),\"vnd.ipld.dag-json\")","v":"vnd.ipld.dag-json"},{"$f":"IFERROR(__xludf.DUMMYFUNCTION(\"\"\"COMPUTED_VALUE\"\"\"),\"application/vnd.ipld.dag-json\")","v":"application/vnd.ipld.dag-json"},{"$f":"IFERROR(__xludf.DUMMYFUNCTION(\"\"\"COMPUTED_VALUE\"\"\"),\"en\")","v":"en"}]
[{"$f":"IFERROR(__xludf.DUMMYFUNCTION(\"\"\"COMPUTED_VALUE\"\"\"),\"https://www.iana.org/assignments/media-types/application/vnd.ipld.raw\")","v":"https://www.iana.org/assignments/media-types/application/vnd.ipld.raw"},{"$f":"IFERROR(__xludf.DUMMYFUNCTION(\"\"\"COMPUTED_VALUE\"\"\"),\"vnd.ipld.raw\")","v":"vnd.ipld.raw"},{"$f":"IFERROR(__xludf.DUMMYFUNCTION(\"\"\"COMPUTED_VALUE\"\"\"),\"vnd.ipld.raw\")","v":"vnd.ipld.raw"},{"$f":"IFERROR(__xludf.DUMMYFUNCTION(\"\"\"COMPUTED_VALUE\"\"\"),\"application/vnd.ipld.raw\")","v":"application/vnd.ipld.raw"},{"$f":"IFERROR(__xludf.DUMMYFUNCTION(\"\"\"COMPUTED_VALUE\"\"\"),\"en\")","v":"en"}]
[{"$f":"IFERROR(__xludf.DUMMYFUNCTION(\"\"\"COMPUTED_VALUE\"\"\"),\"https://www.iana.org/assignments/media-types/application/vnd.iptc.g2.catalogitem+xml\")","v":"https://www.iana.org/assignments/media-types/application/vnd.iptc.g2.catalogitem+xml"},{"$f":"IFERROR(__xludf.DUMMYFUNCTION(\"\"\"COMPUTED_VALUE\"\"\"),\"vnd.iptc.g2.catalogitem+xml\")","v":"vnd.iptc.g2.catalogitem+xml"},{"$f":"IFERROR(__xludf.DUMMYFUNCTION(\"\"\"COMPUTED_VALUE\"\"\"),\"vnd.iptc.g2.catalogitem+xml\")","v":"vnd.iptc.g2.catalogitem+xml"},{"$f":"IFERROR(__xludf.DUMMYFUNCTION(\"\"\"COMPUTED_VALUE\"\"\"),\"application/vnd.iptc.g2.catalogitem+xml\")","v":"application/vnd.iptc.g2.catalogitem+xml"},{"$f":"IFERROR(__xludf.DUMMYFUNCTION(\"\"\"COMPUTED_VALUE\"\"\"),\"en\")","v":"en"}]
[{"$f":"IFERROR(__xludf.DUMMYFUNCTION(\"\"\"COMPUTED_VALUE\"\"\"),\"https://www.iana.org/assignments/media-types/application/vnd.iptc.g2.conceptitem+xml\")","v":"https://www.iana.org/assignments/media-types/application/vnd.iptc.g2.conceptitem+xml"},{"$f":"IFERROR(__xludf.DUMMYFUNCTION(\"\"\"COMPUTED_VALUE\"\"\"),\"vnd.iptc.g2.conceptitem+xml\")","v":"vnd.iptc.g2.conceptitem+xml"},{"$f":"IFERROR(__xludf.DUMMYFUNCTION(\"\"\"COMPUTED_VALUE\"\"\"),\"vnd.iptc.g2.conceptitem+xml\")","v":"vnd.iptc.g2.conceptitem+xml"},{"$f":"IFERROR(__xludf.DUMMYFUNCTION(\"\"\"COMPUTED_VALUE\"\"\"),\"application/vnd.iptc.g2.conceptitem+xml\")","v":"application/vnd.iptc.g2.conceptitem+xml"},{"$f":"IFERROR(__xludf.DUMMYFUNCTION(\"\"\"COMPUTED_VALUE\"\"\"),\"en\")","v":"en"}]
[{"$f":"IFERROR(__xludf.DUMMYFUNCTION(\"\"\"COMPUTED_VALUE\"\"\"),\"https://www.iana.org/assignments/media-types/application/vnd.iptc.g2.knowledgeitem+xml\")","v":"https://www.iana.org/assignments/media-types/application/vnd.iptc.g2.knowledgeitem+xml"},{"$f":"IFERROR(__xludf.DUMMYFUNCTION(\"\"\"COMPUTED_VALUE\"\"\"),\"vnd.iptc.g2.knowledgeitem+xml\")","v":"vnd.iptc.g2.knowledgeitem+xml"},{"$f":"IFERROR(__xludf.DUMMYFUNCTION(\"\"\"COMPUTED_VALUE\"\"\"),\"vnd.iptc.g2.knowledgeitem+xml\")","v":"vnd.iptc.g2.knowledgeitem+xml"},{"$f":"IFERROR(__xludf.DUMMYFUNCTION(\"\"\"COMPUTED_VALUE\"\"\"),\"application/vnd.iptc.g2.knowledgeitem+xml\")","v":"application/vnd.iptc.g2.knowledgeitem+xml"},{"$f":"IFERROR(__xludf.DUMMYFUNCTION(\"\"\"COMPUTED_VALUE\"\"\"),\"en\")","v":"en"}]
[{"$f":"IFERROR(__xludf.DUMMYFUNCTION(\"\"\"COMPUTED_VALUE\"\"\"),\"https://www.iana.org/assignments/media-types/application/vnd.iptc.g2.newsitem+xml\")","v":"https://www.iana.org/assignments/media-types/application/vnd.iptc.g2.newsitem+xml"},{"$f":"IFERROR(__xludf.DUMMYFUNCTION(\"\"\"COMPUTED_VALUE\"\"\"),\"vnd.iptc.g2.newsitem+xml\")","v":"vnd.iptc.g2.newsitem+xml"},{"$f":"IFERROR(__xludf.DUMMYFUNCTION(\"\"\"COMPUTED_VALUE\"\"\"),\"vnd.iptc.g2.newsitem+xml\")","v":"vnd.iptc.g2.newsitem+xml"},{"$f":"IFERROR(__xludf.DUMMYFUNCTION(\"\"\"COMPUTED_VALUE\"\"\"),\"application/vnd.iptc.g2.newsitem+xml\")","v":"application/vnd.iptc.g2.newsitem+xml"},{"$f":"IFERROR(__xludf.DUMMYFUNCTION(\"\"\"COMPUTED_VALUE\"\"\"),\"en\")","v":"en"}]
[{"$f":"IFERROR(__xludf.DUMMYFUNCTION(\"\"\"COMPUTED_VALUE\"\"\"),\"https://www.iana.org/assignments/media-types/application/vnd.iptc.g2.newsmessage+xml\")","v":"https://www.iana.org/assignments/media-types/application/vnd.iptc.g2.newsmessage+xml"},{"$f":"IFERROR(__xludf.DUMMYFUNCTION(\"\"\"COMPUTED_VALUE\"\"\"),\"vnd.iptc.g2.newsmessage+xml\")","v":"vnd.iptc.g2.newsmessage+xml"},{"$f":"IFERROR(__xludf.DUMMYFUNCTION(\"\"\"COMPUTED_VALUE\"\"\"),\"vnd.iptc.g2.newsmessage+xml\")","v":"vnd.iptc.g2.newsmessage+xml"},{"$f":"IFERROR(__xludf.DUMMYFUNCTION(\"\"\"COMPUTED_VALUE\"\"\"),\"application/vnd.iptc.g2.newsmessage+xml\")","v":"application/vnd.iptc.g2.newsmessage+xml"},{"$f":"IFERROR(__xludf.DUMMYFUNCTION(\"\"\"COMPUTED_VALUE\"\"\"),\"en\")","v":"en"}]
[{"$f":"IFERROR(__xludf.DUMMYFUNCTION(\"\"\"COMPUTED_VALUE\"\"\"),\"https://www.iana.org/assignments/media-types/application/vnd.iptc.g2.packageitem+xml\")","v":"https://www.iana.org/assignments/media-types/application/vnd.iptc.g2.packageitem+xml"},{"$f":"IFERROR(__xludf.DUMMYFUNCTION(\"\"\"COMPUTED_VALUE\"\"\"),\"vnd.iptc.g2.packageitem+xml\")","v":"vnd.iptc.g2.packageitem+xml"},{"$f":"IFERROR(__xludf.DUMMYFUNCTION(\"\"\"COMPUTED_VALUE\"\"\"),\"vnd.iptc.g2.packageitem+xml\")","v":"vnd.iptc.g2.packageitem+xml"},{"$f":"IFERROR(__xludf.DUMMYFUNCTION(\"\"\"COMPUTED_VALUE\"\"\"),\"application/vnd.iptc.g2.packageitem+xml\")","v":"application/vnd.iptc.g2.packageitem+xml"},{"$f":"IFERROR(__xludf.DUMMYFUNCTION(\"\"\"COMPUTED_VALUE\"\"\"),\"en\")","v":"en"}]
[{"$f":"IFERROR(__xludf.DUMMYFUNCTION(\"\"\"COMPUTED_VALUE\"\"\"),\"https://www.iana.org/assignments/media-types/application/vnd.iptc.g2.planningitem+xml\")","v":"https://www.iana.org/assignments/media-types/application/vnd.iptc.g2.planningitem+xml"},{"$f":"IFERROR(__xludf.DUMMYFUNCTION(\"\"\"COMPUTED_VALUE\"\"\"),\"vnd.iptc.g2.planningitem+xml\")","v":"vnd.iptc.g2.planningitem+xml"},{"$f":"IFERROR(__xludf.DUMMYFUNCTION(\"\"\"COMPUTED_VALUE\"\"\"),\"vnd.iptc.g2.planningitem+xml\")","v":"vnd.iptc.g2.planningitem+xml"},{"$f":"IFERROR(__xludf.DUMMYFUNCTION(\"\"\"COMPUTED_VALUE\"\"\"),\"application/vnd.iptc.g2.planningitem+xml\")","v":"application/vnd.iptc.g2.planningitem+xml"},{"$f":"IFERROR(__xludf.DUMMYFUNCTION(\"\"\"COMPUTED_VALUE\"\"\"),\"en\")","v":"en"}]
[{"$f":"IFERROR(__xludf.DUMMYFUNCTION(\"\"\"COMPUTED_VALUE\"\"\"),\"https://www.iana.org/assignments/media-types/application/vnd.ipunplugged.rcprofile\")","v":"https://www.iana.org/assignments/media-types/application/vnd.ipunplugged.rcprofile"},{"$f":"IFERROR(__xludf.DUMMYFUNCTION(\"\"\"COMPUTED_VALUE\"\"\"),\"vnd.ipunplugged.rcprofile\")","v":"vnd.ipunplugged.rcprofile"},{"$f":"IFERROR(__xludf.DUMMYFUNCTION(\"\"\"COMPUTED_VALUE\"\"\"),\"vnd.ipunplugged.rcprofile\")","v":"vnd.ipunplugged.rcprofile"},{"$f":"IFERROR(__xludf.DUMMYFUNCTION(\"\"\"COMPUTED_VALUE\"\"\"),\"application/vnd.ipunplugged.rcprofile\")","v":"application/vnd.ipunplugged.rcprofile"},{"$f":"IFERROR(__xludf.DUMMYFUNCTION(\"\"\"COMPUTED_VALUE\"\"\"),\"en\")","v":"en"}]
[{"$f":"IFERROR(__xludf.DUMMYFUNCTION(\"\"\"COMPUTED_VALUE\"\"\"),\"https://www.iana.org/assignments/media-types/application/vnd.irepository.package+xml\")","v":"https://www.iana.org/assignments/media-types/application/vnd.irepository.package+xml"},{"$f":"IFERROR(__xludf.DUMMYFUNCTION(\"\"\"COMPUTED_VALUE\"\"\"),\"vnd.irepository.package+xml\")","v":"vnd.irepository.package+xml"},{"$f":"IFERROR(__xludf.DUMMYFUNCTION(\"\"\"COMPUTED_VALUE\"\"\"),\"vnd.irepository.package+xml\")","v":"vnd.irepository.package+xml"},{"$f":"IFERROR(__xludf.DUMMYFUNCTION(\"\"\"COMPUTED_VALUE\"\"\"),\"application/vnd.irepository.package+xml\")","v":"application/vnd.irepository.package+xml"},{"$f":"IFERROR(__xludf.DUMMYFUNCTION(\"\"\"COMPUTED_VALUE\"\"\"),\"en\")","v":"en"}]
[{"$f":"IFERROR(__xludf.DUMMYFUNCTION(\"\"\"COMPUTED_VALUE\"\"\"),\"https://www.iana.org/assignments/media-types/application/vnd.is-xpr\")","v":"https://www.iana.org/assignments/media-types/application/vnd.is-xpr"},{"$f":"IFERROR(__xludf.DUMMYFUNCTION(\"\"\"COMPUTED_VALUE\"\"\"),\"vnd.is-xpr\")","v":"vnd.is-xpr"},{"$f":"IFERROR(__xludf.DUMMYFUNCTION(\"\"\"COMPUTED_VALUE\"\"\"),\"vnd.is-xpr\")","v":"vnd.is-xpr"},{"$f":"IFERROR(__xludf.DUMMYFUNCTION(\"\"\"COMPUTED_VALUE\"\"\"),\"application/vnd.is-xpr\")","v":"application/vnd.is-xpr"},{"$f":"IFERROR(__xludf.DUMMYFUNCTION(\"\"\"COMPUTED_VALUE\"\"\"),\"en\")","v":"en"}]
[{"$f":"IFERROR(__xludf.DUMMYFUNCTION(\"\"\"COMPUTED_VALUE\"\"\"),\"https://www.iana.org/assignments/media-types/application/vnd.isac.fcs\")","v":"https://www.iana.org/assignments/media-types/application/vnd.isac.fcs"},{"$f":"IFERROR(__xludf.DUMMYFUNCTION(\"\"\"COMPUTED_VALUE\"\"\"),\"vnd.isac.fcs\")","v":"vnd.isac.fcs"},{"$f":"IFERROR(__xludf.DUMMYFUNCTION(\"\"\"COMPUTED_VALUE\"\"\"),\"vnd.isac.fcs\")","v":"vnd.isac.fcs"},{"$f":"IFERROR(__xludf.DUMMYFUNCTION(\"\"\"COMPUTED_VALUE\"\"\"),\"application/vnd.isac.fcs\")","v":"application/vnd.isac.fcs"},{"$f":"IFERROR(__xludf.DUMMYFUNCTION(\"\"\"COMPUTED_VALUE\"\"\"),\"en\")","v":"en"}]
[{"$f":"IFERROR(__xludf.DUMMYFUNCTION(\"\"\"COMPUTED_VALUE\"\"\"),\"https://www.iana.org/assignments/media-types/application/vnd.jam\")","v":"https://www.iana.org/assignments/media-types/application/vnd.jam"},{"$f":"IFERROR(__xludf.DUMMYFUNCTION(\"\"\"COMPUTED_VALUE\"\"\"),\"vnd.jam\")","v":"vnd.jam"},{"$f":"IFERROR(__xludf.DUMMYFUNCTION(\"\"\"COMPUTED_VALUE\"\"\"),\"vnd.jam\")","v":"vnd.jam"},{"$f":"IFERROR(__xludf.DUMMYFUNCTION(\"\"\"COMPUTED_VALUE\"\"\"),\"application/vnd.jam\")","v":"application/vnd.jam"},{"$f":"IFERROR(__xludf.DUMMYFUNCTION(\"\"\"COMPUTED_VALUE\"\"\"),\"en\")","v":"en"}]
[{"$f":"IFERROR(__xludf.DUMMYFUNCTION(\"\"\"COMPUTED_VALUE\"\"\"),\"https://www.iana.org/assignments/media-types/application/vnd.iso11783-10+zip\")","v":"https://www.iana.org/assignments/media-types/application/vnd.iso11783-10+zip"},{"$f":"IFERROR(__xludf.DUMMYFUNCTION(\"\"\"COMPUTED_VALUE\"\"\"),\"vnd.iso11783-10+zip\")","v":"vnd.iso11783-10+zip"},{"$f":"IFERROR(__xludf.DUMMYFUNCTION(\"\"\"COMPUTED_VALUE\"\"\"),\"vnd.iso11783-10+zip\")","v":"vnd.iso11783-10+zip"},{"$f":"IFERROR(__xludf.DUMMYFUNCTION(\"\"\"COMPUTED_VALUE\"\"\"),\"application/vnd.iso11783-10+zip\")","v":"application/vnd.iso11783-10+zip"},{"$f":"IFERROR(__xludf.DUMMYFUNCTION(\"\"\"COMPUTED_VALUE\"\"\"),\"en\")","v":"en"}]
[{"$f":"IFERROR(__xludf.DUMMYFUNCTION(\"\"\"COMPUTED_VALUE\"\"\"),\"https://www.iana.org/assignments/media-types/application/vnd.japannet-directory-service\")","v":"https://www.iana.org/assignments/media-types/application/vnd.japannet-directory-service"},{"$f":"IFERROR(__xludf.DUMMYFUNCTION(\"\"\"COMPUTED_VALUE\"\"\"),\"vnd.japannet-directory-service\")","v":"vnd.japannet-directory-service"},{"$f":"IFERROR(__xludf.DUMMYFUNCTION(\"\"\"COMPUTED_VALUE\"\"\"),\"vnd.japannet-directory-service\")","v":"vnd.japannet-directory-service"},{"$f":"IFERROR(__xludf.DUMMYFUNCTION(\"\"\"COMPUTED_VALUE\"\"\"),\"application/vnd.japannet-directory-service\")","v":"application/vnd.japannet-directory-service"},{"$f":"IFERROR(__xludf.DUMMYFUNCTION(\"\"\"COMPUTED_VALUE\"\"\"),\"en\")","v":"en"}]
[{"$f":"IFERROR(__xludf.DUMMYFUNCTION(\"\"\"COMPUTED_VALUE\"\"\"),\"https://www.iana.org/assignments/media-types/application/vnd.japannet-jpnstore-wakeup\")","v":"https://www.iana.org/assignments/media-types/application/vnd.japannet-jpnstore-wakeup"},{"$f":"IFERROR(__xludf.DUMMYFUNCTION(\"\"\"COMPUTED_VALUE\"\"\"),\"vnd.japannet-jpnstore-wakeup\")","v":"vnd.japannet-jpnstore-wakeup"},{"$f":"IFERROR(__xludf.DUMMYFUNCTION(\"\"\"COMPUTED_VALUE\"\"\"),\"vnd.japannet-jpnstore-wakeup\")","v":"vnd.japannet-jpnstore-wakeup"},{"$f":"IFERROR(__xludf.DUMMYFUNCTION(\"\"\"COMPUTED_VALUE\"\"\"),\"application/vnd.japannet-jpnstore-wakeup\")","v":"application/vnd.japannet-jpnstore-wakeup"},{"$f":"IFERROR(__xludf.DUMMYFUNCTION(\"\"\"COMPUTED_VALUE\"\"\"),\"en\")","v":"en"}]
[{"$f":"IFERROR(__xludf.DUMMYFUNCTION(\"\"\"COMPUTED_VALUE\"\"\"),\"https://www.iana.org/assignments/media-types/application/vnd.japannet-payment-wakeup\")","v":"https://www.iana.org/assignments/media-types/application/vnd.japannet-payment-wakeup"},{"$f":"IFERROR(__xludf.DUMMYFUNCTION(\"\"\"COMPUTED_VALUE\"\"\"),\"vnd.japannet-payment-wakeup\")","v":"vnd.japannet-payment-wakeup"},{"$f":"IFERROR(__xludf.DUMMYFUNCTION(\"\"\"COMPUTED_VALUE\"\"\"),\"vnd.japannet-payment-wakeup\")","v":"vnd.japannet-payment-wakeup"},{"$f":"IFERROR(__xludf.DUMMYFUNCTION(\"\"\"COMPUTED_VALUE\"\"\"),\"application/vnd.japannet-payment-wakeup\")","v":"application/vnd.japannet-payment-wakeup"},{"$f":"IFERROR(__xludf.DUMMYFUNCTION(\"\"\"COMPUTED_VALUE\"\"\"),\"en\")","v":"en"}]
[{"$f":"IFERROR(__xludf.DUMMYFUNCTION(\"\"\"COMPUTED_VALUE\"\"\"),\"https://www.iana.org/assignments/media-types/application/vnd.japannet-registration\")","v":"https://www.iana.org/assignments/media-types/application/vnd.japannet-registration"},{"$f":"IFERROR(__xludf.DUMMYFUNCTION(\"\"\"COMPUTED_VALUE\"\"\"),\"vnd.japannet-registration\")","v":"vnd.japannet-registration"},{"$f":"IFERROR(__xludf.DUMMYFUNCTION(\"\"\"COMPUTED_VALUE\"\"\"),\"vnd.japannet-registration\")","v":"vnd.japannet-registration"},{"$f":"IFERROR(__xludf.DUMMYFUNCTION(\"\"\"COMPUTED_VALUE\"\"\"),\"application/vnd.japannet-registration\")","v":"application/vnd.japannet-registration"},{"$f":"IFERROR(__xludf.DUMMYFUNCTION(\"\"\"COMPUTED_VALUE\"\"\"),\"en\")","v":"en"}]
[{"$f":"IFERROR(__xludf.DUMMYFUNCTION(\"\"\"COMPUTED_VALUE\"\"\"),\"https://www.iana.org/assignments/media-types/application/vnd.japannet-registration-wakeup\")","v":"https://www.iana.org/assignments/media-types/application/vnd.japannet-registration-wakeup"},{"$f":"IFERROR(__xludf.DUMMYFUNCTION(\"\"\"COMPUTED_VALUE\"\"\"),\"vnd.japannet-registration-wakeup\")","v":"vnd.japannet-registration-wakeup"},{"$f":"IFERROR(__xludf.DUMMYFUNCTION(\"\"\"COMPUTED_VALUE\"\"\"),\"vnd.japannet-registration-wakeup\")","v":"vnd.japannet-registration-wakeup"},{"$f":"IFERROR(__xludf.DUMMYFUNCTION(\"\"\"COMPUTED_VALUE\"\"\"),\"application/vnd.japannet-registration-wakeup\")","v":"application/vnd.japannet-registration-wakeup"},{"$f":"IFERROR(__xludf.DUMMYFUNCTION(\"\"\"COMPUTED_VALUE\"\"\"),\"en\")","v":"en"}]
[{"$f":"IFERROR(__xludf.DUMMYFUNCTION(\"\"\"COMPUTED_VALUE\"\"\"),\"https://www.iana.org/assignments/media-types/application/vnd.japannet-setstore-wakeup\")","v":"https://www.iana.org/assignments/media-types/application/vnd.japannet-setstore-wakeup"},{"$f":"IFERROR(__xludf.DUMMYFUNCTION(\"\"\"COMPUTED_VALUE\"\"\"),\"vnd.japannet-setstore-wakeup\")","v":"vnd.japannet-setstore-wakeup"},{"$f":"IFERROR(__xludf.DUMMYFUNCTION(\"\"\"COMPUTED_VALUE\"\"\"),\"vnd.japannet-setstore-wakeup\")","v":"vnd.japannet-setstore-wakeup"},{"$f":"IFERROR(__xludf.DUMMYFUNCTION(\"\"\"COMPUTED_VALUE\"\"\"),\"application/vnd.japannet-setstore-wakeup\")","v":"application/vnd.japannet-setstore-wakeup"},{"$f":"IFERROR(__xludf.DUMMYFUNCTION(\"\"\"COMPUTED_VALUE\"\"\"),\"en\")","v":"en"}]
[{"$f":"IFERROR(__xludf.DUMMYFUNCTION(\"\"\"COMPUTED_VALUE\"\"\"),\"https://www.iana.org/assignments/media-types/application/vnd.japannet-verification\")","v":"https://www.iana.org/assignments/media-types/application/vnd.japannet-verification"},{"$f":"IFERROR(__xludf.DUMMYFUNCTION(\"\"\"COMPUTED_VALUE\"\"\"),\"vnd.japannet-verification\")","v":"vnd.japannet-verification"},{"$f":"IFERROR(__xludf.DUMMYFUNCTION(\"\"\"COMPUTED_VALUE\"\"\"),\"vnd.japannet-verification\")","v":"vnd.japannet-verification"},{"$f":"IFERROR(__xludf.DUMMYFUNCTION(\"\"\"COMPUTED_VALUE\"\"\"),\"application/vnd.japannet-verification\")","v":"application/vnd.japannet-verification"},{"$f":"IFERROR(__xludf.DUMMYFUNCTION(\"\"\"COMPUTED_VALUE\"\"\"),\"en\")","v":"en"}]
[{"$f":"IFERROR(__xludf.DUMMYFUNCTION(\"\"\"COMPUTED_VALUE\"\"\"),\"https://www.iana.org/assignments/media-types/application/vnd.japannet-verification-wakeup\")","v":"https://www.iana.org/assignments/media-types/application/vnd.japannet-verification-wakeup"},{"$f":"IFERROR(__xludf.DUMMYFUNCTION(\"\"\"COMPUTED_VALUE\"\"\"),\"vnd.japannet-verification-wakeup\")","v":"vnd.japannet-verification-wakeup"},{"$f":"IFERROR(__xludf.DUMMYFUNCTION(\"\"\"COMPUTED_VALUE\"\"\"),\"vnd.japannet-verification-wakeup\")","v":"vnd.japannet-verification-wakeup"},{"$f":"IFERROR(__xludf.DUMMYFUNCTION(\"\"\"COMPUTED_VALUE\"\"\"),\"application/vnd.japannet-verification-wakeup\")","v":"application/vnd.japannet-verification-wakeup"},{"$f":"IFERROR(__xludf.DUMMYFUNCTION(\"\"\"COMPUTED_VALUE\"\"\"),\"en\")","v":"en"}]
[{"$f":"IFERROR(__xludf.DUMMYFUNCTION(\"\"\"COMPUTED_VALUE\"\"\"),\"https://www.iana.org/assignments/media-types/application/vnd.jcp.javame.midlet-rms\")","v":"https://www.iana.org/assignments/media-types/application/vnd.jcp.javame.midlet-rms"},{"$f":"IFERROR(__xludf.DUMMYFUNCTION(\"\"\"COMPUTED_VALUE\"\"\"),\"vnd.jcp.javame.midlet-rms\")","v":"vnd.jcp.javame.midlet-rms"},{"$f":"IFERROR(__xludf.DUMMYFUNCTION(\"\"\"COMPUTED_VALUE\"\"\"),\"vnd.jcp.javame.midlet-rms\")","v":"vnd.jcp.javame.midlet-rms"},{"$f":"IFERROR(__xludf.DUMMYFUNCTION(\"\"\"COMPUTED_VALUE\"\"\"),\"application/vnd.jcp.javame.midlet-rms\")","v":"application/vnd.jcp.javame.midlet-rms"},{"$f":"IFERROR(__xludf.DUMMYFUNCTION(\"\"\"COMPUTED_VALUE\"\"\"),\"en\")","v":"en"}]
[{"$f":"IFERROR(__xludf.DUMMYFUNCTION(\"\"\"COMPUTED_VALUE\"\"\"),\"https://www.iana.org/assignments/media-types/application/vnd.jisp\")","v":"https://www.iana.org/assignments/media-types/application/vnd.jisp"},{"$f":"IFERROR(__xludf.DUMMYFUNCTION(\"\"\"COMPUTED_VALUE\"\"\"),\"vnd.jisp\")","v":"vnd.jisp"},{"$f":"IFERROR(__xludf.DUMMYFUNCTION(\"\"\"COMPUTED_VALUE\"\"\"),\"vnd.jisp\")","v":"vnd.jisp"},{"$f":"IFERROR(__xludf.DUMMYFUNCTION(\"\"\"COMPUTED_VALUE\"\"\"),\"application/vnd.jisp\")","v":"application/vnd.jisp"},{"$f":"IFERROR(__xludf.DUMMYFUNCTION(\"\"\"COMPUTED_VALUE\"\"\"),\"en\")","v":"en"}]
[{"$f":"IFERROR(__xludf.DUMMYFUNCTION(\"\"\"COMPUTED_VALUE\"\"\"),\"https://www.iana.org/assignments/media-types/application/vnd.joost.joda-archive\")","v":"https://www.iana.org/assignments/media-types/application/vnd.joost.joda-archive"},{"$f":"IFERROR(__xludf.DUMMYFUNCTION(\"\"\"COMPUTED_VALUE\"\"\"),\"vnd.joost.joda-archive\")","v":"vnd.joost.joda-archive"},{"$f":"IFERROR(__xludf.DUMMYFUNCTION(\"\"\"COMPUTED_VALUE\"\"\"),\"vnd.joost.joda-archive\")","v":"vnd.joost.joda-archive"},{"$f":"IFERROR(__xludf.DUMMYFUNCTION(\"\"\"COMPUTED_VALUE\"\"\"),\"application/vnd.joost.joda-archive\")","v":"application/vnd.joost.joda-archive"},{"$f":"IFERROR(__xludf.DUMMYFUNCTION(\"\"\"COMPUTED_VALUE\"\"\"),\"en\")","v":"en"}]
[{"$f":"IFERROR(__xludf.DUMMYFUNCTION(\"\"\"COMPUTED_VALUE\"\"\"),\"https://www.iana.org/assignments/media-types/application/vnd.jsk.isdn-ngn\")","v":"https://www.iana.org/assignments/media-types/application/vnd.jsk.isdn-ngn"},{"$f":"IFERROR(__xludf.DUMMYFUNCTION(\"\"\"COMPUTED_VALUE\"\"\"),\"vnd.jsk.isdn-ngn\")","v":"vnd.jsk.isdn-ngn"},{"$f":"IFERROR(__xludf.DUMMYFUNCTION(\"\"\"COMPUTED_VALUE\"\"\"),\"vnd.jsk.isdn-ngn\")","v":"vnd.jsk.isdn-ngn"},{"$f":"IFERROR(__xludf.DUMMYFUNCTION(\"\"\"COMPUTED_VALUE\"\"\"),\"application/vnd.jsk.isdn-ngn\")","v":"application/vnd.jsk.isdn-ngn"},{"$f":"IFERROR(__xludf.DUMMYFUNCTION(\"\"\"COMPUTED_VALUE\"\"\"),\"en\")","v":"en"}]
[{"$f":"IFERROR(__xludf.DUMMYFUNCTION(\"\"\"COMPUTED_VALUE\"\"\"),\"https://www.iana.org/assignments/media-types/application/vnd.kahootz\")","v":"https://www.iana.org/assignments/media-types/application/vnd.kahootz"},{"$f":"IFERROR(__xludf.DUMMYFUNCTION(\"\"\"COMPUTED_VALUE\"\"\"),\"vnd.kahootz\")","v":"vnd.kahootz"},{"$f":"IFERROR(__xludf.DUMMYFUNCTION(\"\"\"COMPUTED_VALUE\"\"\"),\"vnd.kahootz\")","v":"vnd.kahootz"},{"$f":"IFERROR(__xludf.DUMMYFUNCTION(\"\"\"COMPUTED_VALUE\"\"\"),\"application/vnd.kahootz\")","v":"application/vnd.kahootz"},{"$f":"IFERROR(__xludf.DUMMYFUNCTION(\"\"\"COMPUTED_VALUE\"\"\"),\"en\")","v":"en"}]
[{"$f":"IFERROR(__xludf.DUMMYFUNCTION(\"\"\"COMPUTED_VALUE\"\"\"),\"https://www.iana.org/assignments/media-types/application/vnd.kde.karbon\")","v":"https://www.iana.org/assignments/media-types/application/vnd.kde.karbon"},{"$f":"IFERROR(__xludf.DUMMYFUNCTION(\"\"\"COMPUTED_VALUE\"\"\"),\"vnd.kde.karbon\")","v":"vnd.kde.karbon"},{"$f":"IFERROR(__xludf.DUMMYFUNCTION(\"\"\"COMPUTED_VALUE\"\"\"),\"vnd.kde.karbon\")","v":"vnd.kde.karbon"},{"$f":"IFERROR(__xludf.DUMMYFUNCTION(\"\"\"COMPUTED_VALUE\"\"\"),\"application/vnd.kde.karbon\")","v":"application/vnd.kde.karbon"},{"$f":"IFERROR(__xludf.DUMMYFUNCTION(\"\"\"COMPUTED_VALUE\"\"\"),\"en\")","v":"en"}]
[{"$f":"IFERROR(__xludf.DUMMYFUNCTION(\"\"\"COMPUTED_VALUE\"\"\"),\"https://www.iana.org/assignments/media-types/application/vnd.kde.kchart\")","v":"https://www.iana.org/assignments/media-types/application/vnd.kde.kchart"},{"$f":"IFERROR(__xludf.DUMMYFUNCTION(\"\"\"COMPUTED_VALUE\"\"\"),\"vnd.kde.kchart\")","v":"vnd.kde.kchart"},{"$f":"IFERROR(__xludf.DUMMYFUNCTION(\"\"\"COMPUTED_VALUE\"\"\"),\"vnd.kde.kchart\")","v":"vnd.kde.kchart"},{"$f":"IFERROR(__xludf.DUMMYFUNCTION(\"\"\"COMPUTED_VALUE\"\"\"),\"application/vnd.kde.kchart\")","v":"application/vnd.kde.kchart"},{"$f":"IFERROR(__xludf.DUMMYFUNCTION(\"\"\"COMPUTED_VALUE\"\"\"),\"en\")","v":"en"}]
[{"$f":"IFERROR(__xludf.DUMMYFUNCTION(\"\"\"COMPUTED_VALUE\"\"\"),\"https://www.iana.org/assignments/media-types/application/vnd.kde.kformula\")","v":"https://www.iana.org/assignments/media-types/application/vnd.kde.kformula"},{"$f":"IFERROR(__xludf.DUMMYFUNCTION(\"\"\"COMPUTED_VALUE\"\"\"),\"vnd.kde.kformula\")","v":"vnd.kde.kformula"},{"$f":"IFERROR(__xludf.DUMMYFUNCTION(\"\"\"COMPUTED_VALUE\"\"\"),\"vnd.kde.kformula\")","v":"vnd.kde.kformula"},{"$f":"IFERROR(__xludf.DUMMYFUNCTION(\"\"\"COMPUTED_VALUE\"\"\"),\"application/vnd.kde.kformula\")","v":"application/vnd.kde.kformula"},{"$f":"IFERROR(__xludf.DUMMYFUNCTION(\"\"\"COMPUTED_VALUE\"\"\"),\"en\")","v":"en"}]
[{"$f":"IFERROR(__xludf.DUMMYFUNCTION(\"\"\"COMPUTED_VALUE\"\"\"),\"https://www.iana.org/assignments/media-types/application/vnd.kde.kivio\")","v":"https://www.iana.org/assignments/media-types/application/vnd.kde.kivio"},{"$f":"IFERROR(__xludf.DUMMYFUNCTION(\"\"\"COMPUTED_VALUE\"\"\"),\"vnd.kde.kivio\")","v":"vnd.kde.kivio"},{"$f":"IFERROR(__xludf.DUMMYFUNCTION(\"\"\"COMPUTED_VALUE\"\"\"),\"vnd.kde.kivio\")","v":"vnd.kde.kivio"},{"$f":"IFERROR(__xludf.DUMMYFUNCTION(\"\"\"COMPUTED_VALUE\"\"\"),\"application/vnd.kde.kivio\")","v":"application/vnd.kde.kivio"},{"$f":"IFERROR(__xludf.DUMMYFUNCTION(\"\"\"COMPUTED_VALUE\"\"\"),\"en\")","v":"en"}]
[{"$f":"IFERROR(__xludf.DUMMYFUNCTION(\"\"\"COMPUTED_VALUE\"\"\"),\"https://www.iana.org/assignments/media-types/application/vnd.kde.kontour\")","v":"https://www.iana.org/assignments/media-types/application/vnd.kde.kontour"},{"$f":"IFERROR(__xludf.DUMMYFUNCTION(\"\"\"COMPUTED_VALUE\"\"\"),\"vnd.kde.kontour\")","v":"vnd.kde.kontour"},{"$f":"IFERROR(__xludf.DUMMYFUNCTION(\"\"\"COMPUTED_VALUE\"\"\"),\"vnd.kde.kontour\")","v":"vnd.kde.kontour"},{"$f":"IFERROR(__xludf.DUMMYFUNCTION(\"\"\"COMPUTED_VALUE\"\"\"),\"application/vnd.kde.kontour\")","v":"application/vnd.kde.kontour"},{"$f":"IFERROR(__xludf.DUMMYFUNCTION(\"\"\"COMPUTED_VALUE\"\"\"),\"en\")","v":"en"}]
[{"$f":"IFERROR(__xludf.DUMMYFUNCTION(\"\"\"COMPUTED_VALUE\"\"\"),\"https://www.iana.org/assignments/media-types/application/vnd.kde.kpresenter\")","v":"https://www.iana.org/assignments/media-types/application/vnd.kde.kpresenter"},{"$f":"IFERROR(__xludf.DUMMYFUNCTION(\"\"\"COMPUTED_VALUE\"\"\"),\"vnd.kde.kpresenter\")","v":"vnd.kde.kpresenter"},{"$f":"IFERROR(__xludf.DUMMYFUNCTION(\"\"\"COMPUTED_VALUE\"\"\"),\"vnd.kde.kpresenter\")","v":"vnd.kde.kpresenter"},{"$f":"IFERROR(__xludf.DUMMYFUNCTION(\"\"\"COMPUTED_VALUE\"\"\"),\"application/vnd.kde.kpresenter\")","v":"application/vnd.kde.kpresenter"},{"$f":"IFERROR(__xludf.DUMMYFUNCTION(\"\"\"COMPUTED_VALUE\"\"\"),\"en\")","v":"en"}]
[{"$f":"IFERROR(__xludf.DUMMYFUNCTION(\"\"\"COMPUTED_VALUE\"\"\"),\"https://www.iana.org/assignments/media-types/application/vnd.kde.kspread\")","v":"https://www.iana.org/assignments/media-types/application/vnd.kde.kspread"},{"$f":"IFERROR(__xludf.DUMMYFUNCTION(\"\"\"COMPUTED_VALUE\"\"\"),\"vnd.kde.kspread\")","v":"vnd.kde.kspread"},{"$f":"IFERROR(__xludf.DUMMYFUNCTION(\"\"\"COMPUTED_VALUE\"\"\"),\"vnd.kde.kspread\")","v":"vnd.kde.kspread"},{"$f":"IFERROR(__xludf.DUMMYFUNCTION(\"\"\"COMPUTED_VALUE\"\"\"),\"application/vnd.kde.kspread\")","v":"application/vnd.kde.kspread"},{"$f":"IFERROR(__xludf.DUMMYFUNCTION(\"\"\"COMPUTED_VALUE\"\"\"),\"en\")","v":"en"}]
[{"$f":"IFERROR(__xludf.DUMMYFUNCTION(\"\"\"COMPUTED_VALUE\"\"\"),\"https://www.iana.org/assignments/media-types/application/vnd.kde.kword\")","v":"https://www.iana.org/assignments/media-types/application/vnd.kde.kword"},{"$f":"IFERROR(__xludf.DUMMYFUNCTION(\"\"\"COMPUTED_VALUE\"\"\"),\"vnd.kde.kword\")","v":"vnd.kde.kword"},{"$f":"IFERROR(__xludf.DUMMYFUNCTION(\"\"\"COMPUTED_VALUE\"\"\"),\"vnd.kde.kword\")","v":"vnd.kde.kword"},{"$f":"IFERROR(__xludf.DUMMYFUNCTION(\"\"\"COMPUTED_VALUE\"\"\"),\"application/vnd.kde.kword\")","v":"application/vnd.kde.kword"},{"$f":"IFERROR(__xludf.DUMMYFUNCTION(\"\"\"COMPUTED_VALUE\"\"\"),\"en\")","v":"en"}]
[{"$f":"IFERROR(__xludf.DUMMYFUNCTION(\"\"\"COMPUTED_VALUE\"\"\"),\"https://www.iana.org/assignments/media-types/application/vnd.kenameaapp\")","v":"https://www.iana.org/assignments/media-types/application/vnd.kenameaapp"},{"$f":"IFERROR(__xludf.DUMMYFUNCTION(\"\"\"COMPUTED_VALUE\"\"\"),\"vnd.kenameaapp\")","v":"vnd.kenameaapp"},{"$f":"IFERROR(__xludf.DUMMYFUNCTION(\"\"\"COMPUTED_VALUE\"\"\"),\"vnd.kenameaapp\")","v":"vnd.kenameaapp"},{"$f":"IFERROR(__xludf.DUMMYFUNCTION(\"\"\"COMPUTED_VALUE\"\"\"),\"application/vnd.kenameaapp\")","v":"application/vnd.kenameaapp"},{"$f":"IFERROR(__xludf.DUMMYFUNCTION(\"\"\"COMPUTED_VALUE\"\"\"),\"en\")","v":"en"}]
[{"$f":"IFERROR(__xludf.DUMMYFUNCTION(\"\"\"COMPUTED_VALUE\"\"\"),\"https://www.iana.org/assignments/media-types/application/vnd.kidspiration\")","v":"https://www.iana.org/assignments/media-types/application/vnd.kidspiration"},{"$f":"IFERROR(__xludf.DUMMYFUNCTION(\"\"\"COMPUTED_VALUE\"\"\"),\"vnd.kidspiration\")","v":"vnd.kidspiration"},{"$f":"IFERROR(__xludf.DUMMYFUNCTION(\"\"\"COMPUTED_VALUE\"\"\"),\"vnd.kidspiration\")","v":"vnd.kidspiration"},{"$f":"IFERROR(__xludf.DUMMYFUNCTION(\"\"\"COMPUTED_VALUE\"\"\"),\"application/vnd.kidspiration\")","v":"application/vnd.kidspiration"},{"$f":"IFERROR(__xludf.DUMMYFUNCTION(\"\"\"COMPUTED_VALUE\"\"\"),\"en\")","v":"en"}]
[{"$f":"IFERROR(__xludf.DUMMYFUNCTION(\"\"\"COMPUTED_VALUE\"\"\"),\"https://www.iana.org/assignments/media-types/application/vnd.Kinar\")","v":"https://www.iana.org/assignments/media-types/application/vnd.Kinar"},{"$f":"IFERROR(__xludf.DUMMYFUNCTION(\"\"\"COMPUTED_VALUE\"\"\"),\"vnd.Kinar\")","v":"vnd.Kinar"},{"$f":"IFERROR(__xludf.DUMMYFUNCTION(\"\"\"COMPUTED_VALUE\"\"\"),\"vnd.Kinar\")","v":"vnd.Kinar"},{"$f":"IFERROR(__xludf.DUMMYFUNCTION(\"\"\"COMPUTED_VALUE\"\"\"),\"application/vnd.Kinar\")","v":"application/vnd.Kinar"},{"$f":"IFERROR(__xludf.DUMMYFUNCTION(\"\"\"COMPUTED_VALUE\"\"\"),\"en\")","v":"en"}]
[{"$f":"IFERROR(__xludf.DUMMYFUNCTION(\"\"\"COMPUTED_VALUE\"\"\"),\"https://www.iana.org/assignments/media-types/application/vnd.koan\")","v":"https://www.iana.org/assignments/media-types/application/vnd.koan"},{"$f":"IFERROR(__xludf.DUMMYFUNCTION(\"\"\"COMPUTED_VALUE\"\"\"),\"vnd.koan\")","v":"vnd.koan"},{"$f":"IFERROR(__xludf.DUMMYFUNCTION(\"\"\"COMPUTED_VALUE\"\"\"),\"vnd.koan\")","v":"vnd.koan"},{"$f":"IFERROR(__xludf.DUMMYFUNCTION(\"\"\"COMPUTED_VALUE\"\"\"),\"application/vnd.koan\")","v":"application/vnd.koan"},{"$f":"IFERROR(__xludf.DUMMYFUNCTION(\"\"\"COMPUTED_VALUE\"\"\"),\"en\")","v":"en"}]
[{"$f":"IFERROR(__xludf.DUMMYFUNCTION(\"\"\"COMPUTED_VALUE\"\"\"),\"https://www.iana.org/assignments/media-types/application/vnd.kodak-descriptor\")","v":"https://www.iana.org/assignments/media-types/application/vnd.kodak-descriptor"},{"$f":"IFERROR(__xludf.DUMMYFUNCTION(\"\"\"COMPUTED_VALUE\"\"\"),\"vnd.kodak-descriptor\")","v":"vnd.kodak-descriptor"},{"$f":"IFERROR(__xludf.DUMMYFUNCTION(\"\"\"COMPUTED_VALUE\"\"\"),\"vnd.kodak-descriptor\")","v":"vnd.kodak-descriptor"},{"$f":"IFERROR(__xludf.DUMMYFUNCTION(\"\"\"COMPUTED_VALUE\"\"\"),\"application/vnd.kodak-descriptor\")","v":"application/vnd.kodak-descriptor"},{"$f":"IFERROR(__xludf.DUMMYFUNCTION(\"\"\"COMPUTED_VALUE\"\"\"),\"en\")","v":"en"}]
[{"$f":"IFERROR(__xludf.DUMMYFUNCTION(\"\"\"COMPUTED_VALUE\"\"\"),\"https://www.iana.org/assignments/media-types/application/vnd.las\")","v":"https://www.iana.org/assignments/media-types/application/vnd.las"},{"$f":"IFERROR(__xludf.DUMMYFUNCTION(\"\"\"COMPUTED_VALUE\"\"\"),\"vnd.las\")","v":"vnd.las"},{"$f":"IFERROR(__xludf.DUMMYFUNCTION(\"\"\"COMPUTED_VALUE\"\"\"),\"vnd.las\")","v":"vnd.las"},{"$f":"IFERROR(__xludf.DUMMYFUNCTION(\"\"\"COMPUTED_VALUE\"\"\"),\"application/vnd.las\")","v":"application/vnd.las"},{"$f":"IFERROR(__xludf.DUMMYFUNCTION(\"\"\"COMPUTED_VALUE\"\"\"),\"en\")","v":"en"}]
[{"$f":"IFERROR(__xludf.DUMMYFUNCTION(\"\"\"COMPUTED_VALUE\"\"\"),\"https://www.iana.org/assignments/media-types/application/vnd.las.las+json\")","v":"https://www.iana.org/assignments/media-types/application/vnd.las.las+json"},{"$f":"IFERROR(__xludf.DUMMYFUNCTION(\"\"\"COMPUTED_VALUE\"\"\"),\"vnd.las.las+json\")","v":"vnd.las.las+json"},{"$f":"IFERROR(__xludf.DUMMYFUNCTION(\"\"\"COMPUTED_VALUE\"\"\"),\"vnd.las.las+json\")","v":"vnd.las.las+json"},{"$f":"IFERROR(__xludf.DUMMYFUNCTION(\"\"\"COMPUTED_VALUE\"\"\"),\"application/vnd.las.las+json\")","v":"application/vnd.las.las+json"},{"$f":"IFERROR(__xludf.DUMMYFUNCTION(\"\"\"COMPUTED_VALUE\"\"\"),\"en\")","v":"en"}]
[{"$f":"IFERROR(__xludf.DUMMYFUNCTION(\"\"\"COMPUTED_VALUE\"\"\"),\"https://www.iana.org/assignments/media-types/application/vnd.las.las+xml\")","v":"https://www.iana.org/assignments/media-types/application/vnd.las.las+xml"},{"$f":"IFERROR(__xludf.DUMMYFUNCTION(\"\"\"COMPUTED_VALUE\"\"\"),\"vnd.las.las+xml\")","v":"vnd.las.las+xml"},{"$f":"IFERROR(__xludf.DUMMYFUNCTION(\"\"\"COMPUTED_VALUE\"\"\"),\"vnd.las.las+xml\")","v":"vnd.las.las+xml"},{"$f":"IFERROR(__xludf.DUMMYFUNCTION(\"\"\"COMPUTED_VALUE\"\"\"),\"application/vnd.las.las+xml\")","v":"application/vnd.las.las+xml"},{"$f":"IFERROR(__xludf.DUMMYFUNCTION(\"\"\"COMPUTED_VALUE\"\"\"),\"en\")","v":"en"}]
[{"$f":"IFERROR(__xludf.DUMMYFUNCTION(\"\"\"COMPUTED_VALUE\"\"\"),\"https://www.iana.org/assignments/media-types/application/vnd.laszip\")","v":"https://www.iana.org/assignments/media-types/application/vnd.laszip"},{"$f":"IFERROR(__xludf.DUMMYFUNCTION(\"\"\"COMPUTED_VALUE\"\"\"),\"vnd.laszip\")","v":"vnd.laszip"},{"$f":"IFERROR(__xludf.DUMMYFUNCTION(\"\"\"COMPUTED_VALUE\"\"\"),\"vnd.laszip\")","v":"vnd.laszip"},{"$f":"IFERROR(__xludf.DUMMYFUNCTION(\"\"\"COMPUTED_VALUE\"\"\"),\"application/vnd.laszip\")","v":"application/vnd.laszip"},{"$f":"IFERROR(__xludf.DUMMYFUNCTION(\"\"\"COMPUTED_VALUE\"\"\"),\"en\")","v":"en"}]
[{"$f":"IFERROR(__xludf.DUMMYFUNCTION(\"\"\"COMPUTED_VALUE\"\"\"),\"https://www.iana.org/assignments/media-types/application/vnd.leap+json\")","v":"https://www.iana.org/assignments/media-types/application/vnd.leap+json"},{"$f":"IFERROR(__xludf.DUMMYFUNCTION(\"\"\"COMPUTED_VALUE\"\"\"),\"vnd.leap+json\")","v":"vnd.leap+json"},{"$f":"IFERROR(__xludf.DUMMYFUNCTION(\"\"\"COMPUTED_VALUE\"\"\"),\"vnd.leap+json\")","v":"vnd.leap+json"},{"$f":"IFERROR(__xludf.DUMMYFUNCTION(\"\"\"COMPUTED_VALUE\"\"\"),\"application/vnd.leap+json\")","v":"application/vnd.leap+json"},{"$f":"IFERROR(__xludf.DUMMYFUNCTION(\"\"\"COMPUTED_VALUE\"\"\"),\"en\")","v":"en"}]
[{"$f":"IFERROR(__xludf.DUMMYFUNCTION(\"\"\"COMPUTED_VALUE\"\"\"),\"https://www.iana.org/assignments/media-types/application/vnd.liberty-request+xml\")","v":"https://www.iana.org/assignments/media-types/application/vnd.liberty-request+xml"},{"$f":"IFERROR(__xludf.DUMMYFUNCTION(\"\"\"COMPUTED_VALUE\"\"\"),\"vnd.liberty-request+xml\")","v":"vnd.liberty-request+xml"},{"$f":"IFERROR(__xludf.DUMMYFUNCTION(\"\"\"COMPUTED_VALUE\"\"\"),\"vnd.liberty-request+xml\")","v":"vnd.liberty-request+xml"},{"$f":"IFERROR(__xludf.DUMMYFUNCTION(\"\"\"COMPUTED_VALUE\"\"\"),\"application/vnd.liberty-request+xml\")","v":"application/vnd.liberty-request+xml"},{"$f":"IFERROR(__xludf.DUMMYFUNCTION(\"\"\"COMPUTED_VALUE\"\"\"),\"en\")","v":"en"}]
[{"$f":"IFERROR(__xludf.DUMMYFUNCTION(\"\"\"COMPUTED_VALUE\"\"\"),\"https://www.iana.org/assignments/media-types/application/vnd.llamagraphics.life-balance.desktop\")","v":"https://www.iana.org/assignments/media-types/application/vnd.llamagraphics.life-balance.desktop"},{"$f":"IFERROR(__xludf.DUMMYFUNCTION(\"\"\"COMPUTED_VALUE\"\"\"),\"vnd.llamagraphics.life-balance.desktop\")","v":"vnd.llamagraphics.life-balance.desktop"},{"$f":"IFERROR(__xludf.DUMMYFUNCTION(\"\"\"COMPUTED_VALUE\"\"\"),\"vnd.llamagraphics.life-balance.desktop\")","v":"vnd.llamagraphics.life-balance.desktop"},{"$f":"IFERROR(__xludf.DUMMYFUNCTION(\"\"\"COMPUTED_VALUE\"\"\"),\"application/vnd.llamagraphics.life-balance.desktop\")","v":"application/vnd.llamagraphics.life-balance.desktop"},{"$f":"IFERROR(__xludf.DUMMYFUNCTION(\"\"\"COMPUTED_VALUE\"\"\"),\"en\")","v":"en"}]
[{"$f":"IFERROR(__xludf.DUMMYFUNCTION(\"\"\"COMPUTED_VALUE\"\"\"),\"https://www.iana.org/assignments/media-types/application/vnd.llamagraphics.life-balance.exchange+xml\")","v":"https://www.iana.org/assignments/media-types/application/vnd.llamagraphics.life-balance.exchange+xml"},{"$f":"IFERROR(__xludf.DUMMYFUNCTION(\"\"\"COMPUTED_VALUE\"\"\"),\"vnd.llamagraphics.life-balance.exchange+xml\")","v":"vnd.llamagraphics.life-balance.exchange+xml"},{"$f":"IFERROR(__xludf.DUMMYFUNCTION(\"\"\"COMPUTED_VALUE\"\"\"),\"vnd.llamagraphics.life-balance.exchange+xml\")","v":"vnd.llamagraphics.life-balance.exchange+xml"},{"$f":"IFERROR(__xludf.DUMMYFUNCTION(\"\"\"COMPUTED_VALUE\"\"\"),\"application/vnd.llamagraphics.life-balance.exchange+xml\")","v":"application/vnd.llamagraphics.life-balance.exchange+xml"},{"$f":"IFERROR(__xludf.DUMMYFUNCTION(\"\"\"COMPUTED_VALUE\"\"\"),\"en\")","v":"en"}]
[{"$f":"IFERROR(__xludf.DUMMYFUNCTION(\"\"\"COMPUTED_VALUE\"\"\"),\"https://www.iana.org/assignments/media-types/application/vnd.logipipe.circuit+zip\")","v":"https://www.iana.org/assignments/media-types/application/vnd.logipipe.circuit+zip"},{"$f":"IFERROR(__xludf.DUMMYFUNCTION(\"\"\"COMPUTED_VALUE\"\"\"),\"vnd.logipipe.circuit+zip\")","v":"vnd.logipipe.circuit+zip"},{"$f":"IFERROR(__xludf.DUMMYFUNCTION(\"\"\"COMPUTED_VALUE\"\"\"),\"vnd.logipipe.circuit+zip\")","v":"vnd.logipipe.circuit+zip"},{"$f":"IFERROR(__xludf.DUMMYFUNCTION(\"\"\"COMPUTED_VALUE\"\"\"),\"application/vnd.logipipe.circuit+zip\")","v":"application/vnd.logipipe.circuit+zip"},{"$f":"IFERROR(__xludf.DUMMYFUNCTION(\"\"\"COMPUTED_VALUE\"\"\"),\"en\")","v":"en"}]
[{"$f":"IFERROR(__xludf.DUMMYFUNCTION(\"\"\"COMPUTED_VALUE\"\"\"),\"https://www.iana.org/assignments/media-types/application/vnd.loom\")","v":"https://www.iana.org/assignments/media-types/application/vnd.loom"},{"$f":"IFERROR(__xludf.DUMMYFUNCTION(\"\"\"COMPUTED_VALUE\"\"\"),\"vnd.loom\")","v":"vnd.loom"},{"$f":"IFERROR(__xludf.DUMMYFUNCTION(\"\"\"COMPUTED_VALUE\"\"\"),\"vnd.loom\")","v":"vnd.loom"},{"$f":"IFERROR(__xludf.DUMMYFUNCTION(\"\"\"COMPUTED_VALUE\"\"\"),\"application/vnd.loom\")","v":"application/vnd.loom"},{"$f":"IFERROR(__xludf.DUMMYFUNCTION(\"\"\"COMPUTED_VALUE\"\"\"),\"en\")","v":"en"}]
[{"$f":"IFERROR(__xludf.DUMMYFUNCTION(\"\"\"COMPUTED_VALUE\"\"\"),\"https://www.iana.org/assignments/media-types/application/vnd.lotus-1-2-3\")","v":"https://www.iana.org/assignments/media-types/application/vnd.lotus-1-2-3"},{"$f":"IFERROR(__xludf.DUMMYFUNCTION(\"\"\"COMPUTED_VALUE\"\"\"),\"vnd.lotus-1-2-3\")","v":"vnd.lotus-1-2-3"},{"$f":"IFERROR(__xludf.DUMMYFUNCTION(\"\"\"COMPUTED_VALUE\"\"\"),\"vnd.lotus-1-2-3\")","v":"vnd.lotus-1-2-3"},{"$f":"IFERROR(__xludf.DUMMYFUNCTION(\"\"\"COMPUTED_VALUE\"\"\"),\"application/vnd.lotus-1-2-3\")","v":"application/vnd.lotus-1-2-3"},{"$f":"IFERROR(__xludf.DUMMYFUNCTION(\"\"\"COMPUTED_VALUE\"\"\"),\"en\")","v":"en"}]
[{"$f":"IFERROR(__xludf.DUMMYFUNCTION(\"\"\"COMPUTED_VALUE\"\"\"),\"https://www.iana.org/assignments/media-types/application/vnd.lotus-approach\")","v":"https://www.iana.org/assignments/media-types/application/vnd.lotus-approach"},{"$f":"IFERROR(__xludf.DUMMYFUNCTION(\"\"\"COMPUTED_VALUE\"\"\"),\"vnd.lotus-approach\")","v":"vnd.lotus-approach"},{"$f":"IFERROR(__xludf.DUMMYFUNCTION(\"\"\"COMPUTED_VALUE\"\"\"),\"vnd.lotus-approach\")","v":"vnd.lotus-approach"},{"$f":"IFERROR(__xludf.DUMMYFUNCTION(\"\"\"COMPUTED_VALUE\"\"\"),\"application/vnd.lotus-approach\")","v":"application/vnd.lotus-approach"},{"$f":"IFERROR(__xludf.DUMMYFUNCTION(\"\"\"COMPUTED_VALUE\"\"\"),\"en\")","v":"en"}]
[{"$f":"IFERROR(__xludf.DUMMYFUNCTION(\"\"\"COMPUTED_VALUE\"\"\"),\"https://www.iana.org/assignments/media-types/application/vnd.lotus-freelance\")","v":"https://www.iana.org/assignments/media-types/application/vnd.lotus-freelance"},{"$f":"IFERROR(__xludf.DUMMYFUNCTION(\"\"\"COMPUTED_VALUE\"\"\"),\"vnd.lotus-freelance\")","v":"vnd.lotus-freelance"},{"$f":"IFERROR(__xludf.DUMMYFUNCTION(\"\"\"COMPUTED_VALUE\"\"\"),\"vnd.lotus-freelance\")","v":"vnd.lotus-freelance"},{"$f":"IFERROR(__xludf.DUMMYFUNCTION(\"\"\"COMPUTED_VALUE\"\"\"),\"application/vnd.lotus-freelance\")","v":"application/vnd.lotus-freelance"},{"$f":"IFERROR(__xludf.DUMMYFUNCTION(\"\"\"COMPUTED_VALUE\"\"\"),\"en\")","v":"en"}]
[{"$f":"IFERROR(__xludf.DUMMYFUNCTION(\"\"\"COMPUTED_VALUE\"\"\"),\"https://www.iana.org/assignments/media-types/application/vnd.lotus-notes\")","v":"https://www.iana.org/assignments/media-types/application/vnd.lotus-notes"},{"$f":"IFERROR(__xludf.DUMMYFUNCTION(\"\"\"COMPUTED_VALUE\"\"\"),\"vnd.lotus-notes\")","v":"vnd.lotus-notes"},{"$f":"IFERROR(__xludf.DUMMYFUNCTION(\"\"\"COMPUTED_VALUE\"\"\"),\"vnd.lotus-notes\")","v":"vnd.lotus-notes"},{"$f":"IFERROR(__xludf.DUMMYFUNCTION(\"\"\"COMPUTED_VALUE\"\"\"),\"application/vnd.lotus-notes\")","v":"application/vnd.lotus-notes"},{"$f":"IFERROR(__xludf.DUMMYFUNCTION(\"\"\"COMPUTED_VALUE\"\"\"),\"en\")","v":"en"}]
[{"$f":"IFERROR(__xludf.DUMMYFUNCTION(\"\"\"COMPUTED_VALUE\"\"\"),\"https://www.iana.org/assignments/media-types/application/vnd.lotus-organizer\")","v":"https://www.iana.org/assignments/media-types/application/vnd.lotus-organizer"},{"$f":"IFERROR(__xludf.DUMMYFUNCTION(\"\"\"COMPUTED_VALUE\"\"\"),\"vnd.lotus-organizer\")","v":"vnd.lotus-organizer"},{"$f":"IFERROR(__xludf.DUMMYFUNCTION(\"\"\"COMPUTED_VALUE\"\"\"),\"vnd.lotus-organizer\")","v":"vnd.lotus-organizer"},{"$f":"IFERROR(__xludf.DUMMYFUNCTION(\"\"\"COMPUTED_VALUE\"\"\"),\"application/vnd.lotus-organizer\")","v":"application/vnd.lotus-organizer"},{"$f":"IFERROR(__xludf.DUMMYFUNCTION(\"\"\"COMPUTED_VALUE\"\"\"),\"en\")","v":"en"}]
[{"$f":"IFERROR(__xludf.DUMMYFUNCTION(\"\"\"COMPUTED_VALUE\"\"\"),\"https://www.iana.org/assignments/media-types/application/vnd.lotus-screencam\")","v":"https://www.iana.org/assignments/media-types/application/vnd.lotus-screencam"},{"$f":"IFERROR(__xludf.DUMMYFUNCTION(\"\"\"COMPUTED_VALUE\"\"\"),\"vnd.lotus-screencam\")","v":"vnd.lotus-screencam"},{"$f":"IFERROR(__xludf.DUMMYFUNCTION(\"\"\"COMPUTED_VALUE\"\"\"),\"vnd.lotus-screencam\")","v":"vnd.lotus-screencam"},{"$f":"IFERROR(__xludf.DUMMYFUNCTION(\"\"\"COMPUTED_VALUE\"\"\"),\"application/vnd.lotus-screencam\")","v":"application/vnd.lotus-screencam"},{"$f":"IFERROR(__xludf.DUMMYFUNCTION(\"\"\"COMPUTED_VALUE\"\"\"),\"en\")","v":"en"}]
[{"$f":"IFERROR(__xludf.DUMMYFUNCTION(\"\"\"COMPUTED_VALUE\"\"\"),\"https://www.iana.org/assignments/media-types/application/vnd.lotus-wordpro\")","v":"https://www.iana.org/assignments/media-types/application/vnd.lotus-wordpro"},{"$f":"IFERROR(__xludf.DUMMYFUNCTION(\"\"\"COMPUTED_VALUE\"\"\"),\"vnd.lotus-wordpro\")","v":"vnd.lotus-wordpro"},{"$f":"IFERROR(__xludf.DUMMYFUNCTION(\"\"\"COMPUTED_VALUE\"\"\"),\"vnd.lotus-wordpro\")","v":"vnd.lotus-wordpro"},{"$f":"IFERROR(__xludf.DUMMYFUNCTION(\"\"\"COMPUTED_VALUE\"\"\"),\"application/vnd.lotus-wordpro\")","v":"application/vnd.lotus-wordpro"},{"$f":"IFERROR(__xludf.DUMMYFUNCTION(\"\"\"COMPUTED_VALUE\"\"\"),\"en\")","v":"en"}]
[{"$f":"IFERROR(__xludf.DUMMYFUNCTION(\"\"\"COMPUTED_VALUE\"\"\"),\"https://www.iana.org/assignments/media-types/application/vnd.macports.portpkg\")","v":"https://www.iana.org/assignments/media-types/application/vnd.macports.portpkg"},{"$f":"IFERROR(__xludf.DUMMYFUNCTION(\"\"\"COMPUTED_VALUE\"\"\"),\"vnd.macports.portpkg\")","v":"vnd.macports.portpkg"},{"$f":"IFERROR(__xludf.DUMMYFUNCTION(\"\"\"COMPUTED_VALUE\"\"\"),\"vnd.macports.portpkg\")","v":"vnd.macports.portpkg"},{"$f":"IFERROR(__xludf.DUMMYFUNCTION(\"\"\"COMPUTED_VALUE\"\"\"),\"application/vnd.macports.portpkg\")","v":"application/vnd.macports.portpkg"},{"$f":"IFERROR(__xludf.DUMMYFUNCTION(\"\"\"COMPUTED_VALUE\"\"\"),\"en\")","v":"en"}]
[{"$f":"IFERROR(__xludf.DUMMYFUNCTION(\"\"\"COMPUTED_VALUE\"\"\"),\"https://www.iana.org/assignments/media-types/application/vnd.mapbox-vector-tile\")","v":"https://www.iana.org/assignments/media-types/application/vnd.mapbox-vector-tile"},{"$f":"IFERROR(__xludf.DUMMYFUNCTION(\"\"\"COMPUTED_VALUE\"\"\"),\"vnd.mapbox-vector-tile\")","v":"vnd.mapbox-vector-tile"},{"$f":"IFERROR(__xludf.DUMMYFUNCTION(\"\"\"COMPUTED_VALUE\"\"\"),\"vnd.mapbox-vector-tile\")","v":"vnd.mapbox-vector-tile"},{"$f":"IFERROR(__xludf.DUMMYFUNCTION(\"\"\"COMPUTED_VALUE\"\"\"),\"application/vnd.mapbox-vector-tile\")","v":"application/vnd.mapbox-vector-tile"},{"$f":"IFERROR(__xludf.DUMMYFUNCTION(\"\"\"COMPUTED_VALUE\"\"\"),\"en\")","v":"en"}]
[{"$f":"IFERROR(__xludf.DUMMYFUNCTION(\"\"\"COMPUTED_VALUE\"\"\"),\"https://www.iana.org/assignments/media-types/application/vnd.marlin.drm.actiontoken+xml\")","v":"https://www.iana.org/assignments/media-types/application/vnd.marlin.drm.actiontoken+xml"},{"$f":"IFERROR(__xludf.DUMMYFUNCTION(\"\"\"COMPUTED_VALUE\"\"\"),\"vnd.marlin.drm.actiontoken+xml\")","v":"vnd.marlin.drm.actiontoken+xml"},{"$f":"IFERROR(__xludf.DUMMYFUNCTION(\"\"\"COMPUTED_VALUE\"\"\"),\"vnd.marlin.drm.actiontoken+xml\")","v":"vnd.marlin.drm.actiontoken+xml"},{"$f":"IFERROR(__xludf.DUMMYFUNCTION(\"\"\"COMPUTED_VALUE\"\"\"),\"application/vnd.marlin.drm.actiontoken+xml\")","v":"application/vnd.marlin.drm.actiontoken+xml"},{"$f":"IFERROR(__xludf.DUMMYFUNCTION(\"\"\"COMPUTED_VALUE\"\"\"),\"en\")","v":"en"}]
[{"$f":"IFERROR(__xludf.DUMMYFUNCTION(\"\"\"COMPUTED_VALUE\"\"\"),\"https://www.iana.org/assignments/media-types/application/vnd.marlin.drm.conftoken+xml\")","v":"https://www.iana.org/assignments/media-types/application/vnd.marlin.drm.conftoken+xml"},{"$f":"IFERROR(__xludf.DUMMYFUNCTION(\"\"\"COMPUTED_VALUE\"\"\"),\"vnd.marlin.drm.conftoken+xml\")","v":"vnd.marlin.drm.conftoken+xml"},{"$f":"IFERROR(__xludf.DUMMYFUNCTION(\"\"\"COMPUTED_VALUE\"\"\"),\"vnd.marlin.drm.conftoken+xml\")","v":"vnd.marlin.drm.conftoken+xml"},{"$f":"IFERROR(__xludf.DUMMYFUNCTION(\"\"\"COMPUTED_VALUE\"\"\"),\"application/vnd.marlin.drm.conftoken+xml\")","v":"application/vnd.marlin.drm.conftoken+xml"},{"$f":"IFERROR(__xludf.DUMMYFUNCTION(\"\"\"COMPUTED_VALUE\"\"\"),\"en\")","v":"en"}]
[{"$f":"IFERROR(__xludf.DUMMYFUNCTION(\"\"\"COMPUTED_VALUE\"\"\"),\"https://www.iana.org/assignments/media-types/application/vnd.marlin.drm.license+xml\")","v":"https://www.iana.org/assignments/media-types/application/vnd.marlin.drm.license+xml"},{"$f":"IFERROR(__xludf.DUMMYFUNCTION(\"\"\"COMPUTED_VALUE\"\"\"),\"vnd.marlin.drm.license+xml\")","v":"vnd.marlin.drm.license+xml"},{"$f":"IFERROR(__xludf.DUMMYFUNCTION(\"\"\"COMPUTED_VALUE\"\"\"),\"vnd.marlin.drm.license+xml\")","v":"vnd.marlin.drm.license+xml"},{"$f":"IFERROR(__xludf.DUMMYFUNCTION(\"\"\"COMPUTED_VALUE\"\"\"),\"application/vnd.marlin.drm.license+xml\")","v":"application/vnd.marlin.drm.license+xml"},{"$f":"IFERROR(__xludf.DUMMYFUNCTION(\"\"\"COMPUTED_VALUE\"\"\"),\"en\")","v":"en"}]
[{"$f":"IFERROR(__xludf.DUMMYFUNCTION(\"\"\"COMPUTED_VALUE\"\"\"),\"https://www.iana.org/assignments/media-types/application/vnd.marlin.drm.mdcf\")","v":"https://www.iana.org/assignments/media-types/application/vnd.marlin.drm.mdcf"},{"$f":"IFERROR(__xludf.DUMMYFUNCTION(\"\"\"COMPUTED_VALUE\"\"\"),\"vnd.marlin.drm.mdcf\")","v":"vnd.marlin.drm.mdcf"},{"$f":"IFERROR(__xludf.DUMMYFUNCTION(\"\"\"COMPUTED_VALUE\"\"\"),\"vnd.marlin.drm.mdcf\")","v":"vnd.marlin.drm.mdcf"},{"$f":"IFERROR(__xludf.DUMMYFUNCTION(\"\"\"COMPUTED_VALUE\"\"\"),\"application/vnd.marlin.drm.mdcf\")","v":"application/vnd.marlin.drm.mdcf"},{"$f":"IFERROR(__xludf.DUMMYFUNCTION(\"\"\"COMPUTED_VALUE\"\"\"),\"en\")","v":"en"}]
[{"$f":"IFERROR(__xludf.DUMMYFUNCTION(\"\"\"COMPUTED_VALUE\"\"\"),\"https://www.iana.org/assignments/media-types/application/vnd.mason+json\")","v":"https://www.iana.org/assignments/media-types/application/vnd.mason+json"},{"$f":"IFERROR(__xludf.DUMMYFUNCTION(\"\"\"COMPUTED_VALUE\"\"\"),\"vnd.mason+json\")","v":"vnd.mason+json"},{"$f":"IFERROR(__xludf.DUMMYFUNCTION(\"\"\"COMPUTED_VALUE\"\"\"),\"vnd.mason+json\")","v":"vnd.mason+json"},{"$f":"IFERROR(__xludf.DUMMYFUNCTION(\"\"\"COMPUTED_VALUE\"\"\"),\"application/vnd.mason+json\")","v":"application/vnd.mason+json"},{"$f":"IFERROR(__xludf.DUMMYFUNCTION(\"\"\"COMPUTED_VALUE\"\"\"),\"en\")","v":"en"}]
[{"$f":"IFERROR(__xludf.DUMMYFUNCTION(\"\"\"COMPUTED_VALUE\"\"\"),\"https://www.iana.org/assignments/media-types/application/vnd.maxar.archive.3tz+zip\")","v":"https://www.iana.org/assignments/media-types/application/vnd.maxar.archive.3tz+zip"},{"$f":"IFERROR(__xludf.DUMMYFUNCTION(\"\"\"COMPUTED_VALUE\"\"\"),\"vnd.maxar.archive.3tz+zip\")","v":"vnd.maxar.archive.3tz+zip"},{"$f":"IFERROR(__xludf.DUMMYFUNCTION(\"\"\"COMPUTED_VALUE\"\"\"),\"vnd.maxar.archive.3tz+zip\")","v":"vnd.maxar.archive.3tz+zip"},{"$f":"IFERROR(__xludf.DUMMYFUNCTION(\"\"\"COMPUTED_VALUE\"\"\"),\"application/vnd.maxar.archive.3tz+zip\")","v":"application/vnd.maxar.archive.3tz+zip"},{"$f":"IFERROR(__xludf.DUMMYFUNCTION(\"\"\"COMPUTED_VALUE\"\"\"),\"en\")","v":"en"}]
[{"$f":"IFERROR(__xludf.DUMMYFUNCTION(\"\"\"COMPUTED_VALUE\"\"\"),\"https://www.iana.org/assignments/media-types/application/vnd.maxmind.maxmind-db\")","v":"https://www.iana.org/assignments/media-types/application/vnd.maxmind.maxmind-db"},{"$f":"IFERROR(__xludf.DUMMYFUNCTION(\"\"\"COMPUTED_VALUE\"\"\"),\"vnd.maxmind.maxmind-db\")","v":"vnd.maxmind.maxmind-db"},{"$f":"IFERROR(__xludf.DUMMYFUNCTION(\"\"\"COMPUTED_VALUE\"\"\"),\"vnd.maxmind.maxmind-db\")","v":"vnd.maxmind.maxmind-db"},{"$f":"IFERROR(__xludf.DUMMYFUNCTION(\"\"\"COMPUTED_VALUE\"\"\"),\"application/vnd.maxmind.maxmind-db\")","v":"application/vnd.maxmind.maxmind-db"},{"$f":"IFERROR(__xludf.DUMMYFUNCTION(\"\"\"COMPUTED_VALUE\"\"\"),\"en\")","v":"en"}]
[{"$f":"IFERROR(__xludf.DUMMYFUNCTION(\"\"\"COMPUTED_VALUE\"\"\"),\"https://www.iana.org/assignments/media-types/application/vnd.mcd\")","v":"https://www.iana.org/assignments/media-types/application/vnd.mcd"},{"$f":"IFERROR(__xludf.DUMMYFUNCTION(\"\"\"COMPUTED_VALUE\"\"\"),\"vnd.mcd\")","v":"vnd.mcd"},{"$f":"IFERROR(__xludf.DUMMYFUNCTION(\"\"\"COMPUTED_VALUE\"\"\"),\"vnd.mcd\")","v":"vnd.mcd"},{"$f":"IFERROR(__xludf.DUMMYFUNCTION(\"\"\"COMPUTED_VALUE\"\"\"),\"application/vnd.mcd\")","v":"application/vnd.mcd"},{"$f":"IFERROR(__xludf.DUMMYFUNCTION(\"\"\"COMPUTED_VALUE\"\"\"),\"en\")","v":"en"}]
[{"$f":"IFERROR(__xludf.DUMMYFUNCTION(\"\"\"COMPUTED_VALUE\"\"\"),\"https://www.iana.org/assignments/media-types/application/vnd.medcalcdata\")","v":"https://www.iana.org/assignments/media-types/application/vnd.medcalcdata"},{"$f":"IFERROR(__xludf.DUMMYFUNCTION(\"\"\"COMPUTED_VALUE\"\"\"),\"vnd.medcalcdata\")","v":"vnd.medcalcdata"},{"$f":"IFERROR(__xludf.DUMMYFUNCTION(\"\"\"COMPUTED_VALUE\"\"\"),\"vnd.medcalcdata\")","v":"vnd.medcalcdata"},{"$f":"IFERROR(__xludf.DUMMYFUNCTION(\"\"\"COMPUTED_VALUE\"\"\"),\"application/vnd.medcalcdata\")","v":"application/vnd.medcalcdata"},{"$f":"IFERROR(__xludf.DUMMYFUNCTION(\"\"\"COMPUTED_VALUE\"\"\"),\"en\")","v":"en"}]
[{"$f":"IFERROR(__xludf.DUMMYFUNCTION(\"\"\"COMPUTED_VALUE\"\"\"),\"https://www.iana.org/assignments/media-types/application/vnd.mediastation.cdkey\")","v":"https://www.iana.org/assignments/media-types/application/vnd.mediastation.cdkey"},{"$f":"IFERROR(__xludf.DUMMYFUNCTION(\"\"\"COMPUTED_VALUE\"\"\"),\"vnd.mediastation.cdkey\")","v":"vnd.mediastation.cdkey"},{"$f":"IFERROR(__xludf.DUMMYFUNCTION(\"\"\"COMPUTED_VALUE\"\"\"),\"vnd.mediastation.cdkey\")","v":"vnd.mediastation.cdkey"},{"$f":"IFERROR(__xludf.DUMMYFUNCTION(\"\"\"COMPUTED_VALUE\"\"\"),\"application/vnd.mediastation.cdkey\")","v":"application/vnd.mediastation.cdkey"},{"$f":"IFERROR(__xludf.DUMMYFUNCTION(\"\"\"COMPUTED_VALUE\"\"\"),\"en\")","v":"en"}]
[{"$f":"IFERROR(__xludf.DUMMYFUNCTION(\"\"\"COMPUTED_VALUE\"\"\"),\"https://www.iana.org/assignments/media-types/application/vnd.medicalholodeck.recordxr\")","v":"https://www.iana.org/assignments/media-types/application/vnd.medicalholodeck.recordxr"},{"$f":"IFERROR(__xludf.DUMMYFUNCTION(\"\"\"COMPUTED_VALUE\"\"\"),\"vnd.medicalholodeck.recordxr\")","v":"vnd.medicalholodeck.recordxr"},{"$f":"IFERROR(__xludf.DUMMYFUNCTION(\"\"\"COMPUTED_VALUE\"\"\"),\"vnd.medicalholodeck.recordxr\")","v":"vnd.medicalholodeck.recordxr"},{"$f":"IFERROR(__xludf.DUMMYFUNCTION(\"\"\"COMPUTED_VALUE\"\"\"),\"application/vnd.medicalholodeck.recordxr\")","v":"application/vnd.medicalholodeck.recordxr"},{"$f":"IFERROR(__xludf.DUMMYFUNCTION(\"\"\"COMPUTED_VALUE\"\"\"),\"en\")","v":"en"}]
[{"$f":"IFERROR(__xludf.DUMMYFUNCTION(\"\"\"COMPUTED_VALUE\"\"\"),\"https://www.iana.org/assignments/media-types/application/vnd.meridian-slingshot\")","v":"https://www.iana.org/assignments/media-types/application/vnd.meridian-slingshot"},{"$f":"IFERROR(__xludf.DUMMYFUNCTION(\"\"\"COMPUTED_VALUE\"\"\"),\"vnd.meridian-slingshot\")","v":"vnd.meridian-slingshot"},{"$f":"IFERROR(__xludf.DUMMYFUNCTION(\"\"\"COMPUTED_VALUE\"\"\"),\"vnd.meridian-slingshot\")","v":"vnd.meridian-slingshot"},{"$f":"IFERROR(__xludf.DUMMYFUNCTION(\"\"\"COMPUTED_VALUE\"\"\"),\"application/vnd.meridian-slingshot\")","v":"application/vnd.meridian-slingshot"},{"$f":"IFERROR(__xludf.DUMMYFUNCTION(\"\"\"COMPUTED_VALUE\"\"\"),\"en\")","v":"en"}]
[{"$f":"IFERROR(__xludf.DUMMYFUNCTION(\"\"\"COMPUTED_VALUE\"\"\"),\"https://www.iana.org/assignments/media-types/application/vnd.MFER\")","v":"https://www.iana.org/assignments/media-types/application/vnd.MFER"},{"$f":"IFERROR(__xludf.DUMMYFUNCTION(\"\"\"COMPUTED_VALUE\"\"\"),\"vnd.MFER\")","v":"vnd.MFER"},{"$f":"IFERROR(__xludf.DUMMYFUNCTION(\"\"\"COMPUTED_VALUE\"\"\"),\"vnd.MFER\")","v":"vnd.MFER"},{"$f":"IFERROR(__xludf.DUMMYFUNCTION(\"\"\"COMPUTED_VALUE\"\"\"),\"application/vnd.MFER\")","v":"application/vnd.MFER"},{"$f":"IFERROR(__xludf.DUMMYFUNCTION(\"\"\"COMPUTED_VALUE\"\"\"),\"en\")","v":"en"}]
[{"$f":"IFERROR(__xludf.DUMMYFUNCTION(\"\"\"COMPUTED_VALUE\"\"\"),\"https://www.iana.org/assignments/media-types/application/vnd.mfmp\")","v":"https://www.iana.org/assignments/media-types/application/vnd.mfmp"},{"$f":"IFERROR(__xludf.DUMMYFUNCTION(\"\"\"COMPUTED_VALUE\"\"\"),\"vnd.mfmp\")","v":"vnd.mfmp"},{"$f":"IFERROR(__xludf.DUMMYFUNCTION(\"\"\"COMPUTED_VALUE\"\"\"),\"vnd.mfmp\")","v":"vnd.mfmp"},{"$f":"IFERROR(__xludf.DUMMYFUNCTION(\"\"\"COMPUTED_VALUE\"\"\"),\"application/vnd.mfmp\")","v":"application/vnd.mfmp"},{"$f":"IFERROR(__xludf.DUMMYFUNCTION(\"\"\"COMPUTED_VALUE\"\"\"),\"en\")","v":"en"}]
[{"$f":"IFERROR(__xludf.DUMMYFUNCTION(\"\"\"COMPUTED_VALUE\"\"\"),\"https://www.iana.org/assignments/media-types/application/vnd.micro+json\")","v":"https://www.iana.org/assignments/media-types/application/vnd.micro+json"},{"$f":"IFERROR(__xludf.DUMMYFUNCTION(\"\"\"COMPUTED_VALUE\"\"\"),\"vnd.micro+json\")","v":"vnd.micro+json"},{"$f":"IFERROR(__xludf.DUMMYFUNCTION(\"\"\"COMPUTED_VALUE\"\"\"),\"vnd.micro+json\")","v":"vnd.micro+json"},{"$f":"IFERROR(__xludf.DUMMYFUNCTION(\"\"\"COMPUTED_VALUE\"\"\"),\"application/vnd.micro+json\")","v":"application/vnd.micro+json"},{"$f":"IFERROR(__xludf.DUMMYFUNCTION(\"\"\"COMPUTED_VALUE\"\"\"),\"en\")","v":"en"}]
[{"$f":"IFERROR(__xludf.DUMMYFUNCTION(\"\"\"COMPUTED_VALUE\"\"\"),\"https://www.iana.org/assignments/media-types/application/vnd.micrografx.flo\")","v":"https://www.iana.org/assignments/media-types/application/vnd.micrografx.flo"},{"$f":"IFERROR(__xludf.DUMMYFUNCTION(\"\"\"COMPUTED_VALUE\"\"\"),\"vnd.micrografx.flo\")","v":"vnd.micrografx.flo"},{"$f":"IFERROR(__xludf.DUMMYFUNCTION(\"\"\"COMPUTED_VALUE\"\"\"),\"vnd.micrografx.flo\")","v":"vnd.micrografx.flo"},{"$f":"IFERROR(__xludf.DUMMYFUNCTION(\"\"\"COMPUTED_VALUE\"\"\"),\"application/vnd.micrografx.flo\")","v":"application/vnd.micrografx.flo"},{"$f":"IFERROR(__xludf.DUMMYFUNCTION(\"\"\"COMPUTED_VALUE\"\"\"),\"en\")","v":"en"}]
[{"$f":"IFERROR(__xludf.DUMMYFUNCTION(\"\"\"COMPUTED_VALUE\"\"\"),\"https://www.iana.org/assignments/media-types/application/vnd.micrografx.igx\")","v":"https://www.iana.org/assignments/media-types/application/vnd.micrografx.igx"},{"$f":"IFERROR(__xludf.DUMMYFUNCTION(\"\"\"COMPUTED_VALUE\"\"\"),\"vnd.micrografx.igx\")","v":"vnd.micrografx.igx"},{"$f":"IFERROR(__xludf.DUMMYFUNCTION(\"\"\"COMPUTED_VALUE\"\"\"),\"vnd.micrografx.igx\")","v":"vnd.micrografx.igx"},{"$f":"IFERROR(__xludf.DUMMYFUNCTION(\"\"\"COMPUTED_VALUE\"\"\"),\"application/vnd.micrografx.igx\")","v":"application/vnd.micrografx.igx"},{"$f":"IFERROR(__xludf.DUMMYFUNCTION(\"\"\"COMPUTED_VALUE\"\"\"),\"en\")","v":"en"}]
[{"$f":"IFERROR(__xludf.DUMMYFUNCTION(\"\"\"COMPUTED_VALUE\"\"\"),\"https://www.iana.org/assignments/media-types/application/vnd.microsoft.portable-executable\")","v":"https://www.iana.org/assignments/media-types/application/vnd.microsoft.portable-executable"},{"$f":"IFERROR(__xludf.DUMMYFUNCTION(\"\"\"COMPUTED_VALUE\"\"\"),\"vnd.microsoft.portable-executable\")","v":"vnd.microsoft.portable-executable"},{"$f":"IFERROR(__xludf.DUMMYFUNCTION(\"\"\"COMPUTED_VALUE\"\"\"),\"vnd.microsoft.portable-executable\")","v":"vnd.microsoft.portable-executable"},{"$f":"IFERROR(__xludf.DUMMYFUNCTION(\"\"\"COMPUTED_VALUE\"\"\"),\"application/vnd.microsoft.portable-executable\")","v":"application/vnd.microsoft.portable-executable"},{"$f":"IFERROR(__xludf.DUMMYFUNCTION(\"\"\"COMPUTED_VALUE\"\"\"),\"en\")","v":"en"}]
[{"$f":"IFERROR(__xludf.DUMMYFUNCTION(\"\"\"COMPUTED_VALUE\"\"\"),\"https://www.iana.org/assignments/media-types/application/vnd.microsoft.windows.thumbnail-cache\")","v":"https://www.iana.org/assignments/media-types/application/vnd.microsoft.windows.thumbnail-cache"},{"$f":"IFERROR(__xludf.DUMMYFUNCTION(\"\"\"COMPUTED_VALUE\"\"\"),\"vnd.microsoft.windows.thumbnail-cache\")","v":"vnd.microsoft.windows.thumbnail-cache"},{"$f":"IFERROR(__xludf.DUMMYFUNCTION(\"\"\"COMPUTED_VALUE\"\"\"),\"vnd.microsoft.windows.thumbnail-cache\")","v":"vnd.microsoft.windows.thumbnail-cache"},{"$f":"IFERROR(__xludf.DUMMYFUNCTION(\"\"\"COMPUTED_VALUE\"\"\"),\"application/vnd.microsoft.windows.thumbnail-cache\")","v":"application/vnd.microsoft.windows.thumbnail-cache"},{"$f":"IFERROR(__xludf.DUMMYFUNCTION(\"\"\"COMPUTED_VALUE\"\"\"),\"en\")","v":"en"}]
[{"$f":"IFERROR(__xludf.DUMMYFUNCTION(\"\"\"COMPUTED_VALUE\"\"\"),\"https://www.iana.org/assignments/media-types/application/vnd.miele+json\")","v":"https://www.iana.org/assignments/media-types/application/vnd.miele+json"},{"$f":"IFERROR(__xludf.DUMMYFUNCTION(\"\"\"COMPUTED_VALUE\"\"\"),\"vnd.miele+json\")","v":"vnd.miele+json"},{"$f":"IFERROR(__xludf.DUMMYFUNCTION(\"\"\"COMPUTED_VALUE\"\"\"),\"vnd.miele+json\")","v":"vnd.miele+json"},{"$f":"IFERROR(__xludf.DUMMYFUNCTION(\"\"\"COMPUTED_VALUE\"\"\"),\"application/vnd.miele+json\")","v":"application/vnd.miele+json"},{"$f":"IFERROR(__xludf.DUMMYFUNCTION(\"\"\"COMPUTED_VALUE\"\"\"),\"en\")","v":"en"}]
[{"$f":"IFERROR(__xludf.DUMMYFUNCTION(\"\"\"COMPUTED_VALUE\"\"\"),\"https://www.iana.org/assignments/media-types/application/vnd.mif\")","v":"https://www.iana.org/assignments/media-types/application/vnd.mif"},{"$f":"IFERROR(__xludf.DUMMYFUNCTION(\"\"\"COMPUTED_VALUE\"\"\"),\"vnd.mif\")","v":"vnd.mif"},{"$f":"IFERROR(__xludf.DUMMYFUNCTION(\"\"\"COMPUTED_VALUE\"\"\"),\"vnd.mif\")","v":"vnd.mif"},{"$f":"IFERROR(__xludf.DUMMYFUNCTION(\"\"\"COMPUTED_VALUE\"\"\"),\"application/vnd.mif\")","v":"application/vnd.mif"},{"$f":"IFERROR(__xludf.DUMMYFUNCTION(\"\"\"COMPUTED_VALUE\"\"\"),\"en\")","v":"en"}]
[{"$f":"IFERROR(__xludf.DUMMYFUNCTION(\"\"\"COMPUTED_VALUE\"\"\"),\"https://www.iana.org/assignments/media-types/application/vnd.minisoft-hp3000-save\")","v":"https://www.iana.org/assignments/media-types/application/vnd.minisoft-hp3000-save"},{"$f":"IFERROR(__xludf.DUMMYFUNCTION(\"\"\"COMPUTED_VALUE\"\"\"),\"vnd.minisoft-hp3000-save\")","v":"vnd.minisoft-hp3000-save"},{"$f":"IFERROR(__xludf.DUMMYFUNCTION(\"\"\"COMPUTED_VALUE\"\"\"),\"vnd.minisoft-hp3000-save\")","v":"vnd.minisoft-hp3000-save"},{"$f":"IFERROR(__xludf.DUMMYFUNCTION(\"\"\"COMPUTED_VALUE\"\"\"),\"application/vnd.minisoft-hp3000-save\")","v":"application/vnd.minisoft-hp3000-save"},{"$f":"IFERROR(__xludf.DUMMYFUNCTION(\"\"\"COMPUTED_VALUE\"\"\"),\"en\")","v":"en"}]
[{"$f":"IFERROR(__xludf.DUMMYFUNCTION(\"\"\"COMPUTED_VALUE\"\"\"),\"https://www.iana.org/assignments/media-types/application/vnd.mitsubishi.misty-guard.trustweb\")","v":"https://www.iana.org/assignments/media-types/application/vnd.mitsubishi.misty-guard.trustweb"},{"$f":"IFERROR(__xludf.DUMMYFUNCTION(\"\"\"COMPUTED_VALUE\"\"\"),\"vnd.mitsubishi.misty-guard.trustweb\")","v":"vnd.mitsubishi.misty-guard.trustweb"},{"$f":"IFERROR(__xludf.DUMMYFUNCTION(\"\"\"COMPUTED_VALUE\"\"\"),\"vnd.mitsubishi.misty-guard.trustweb\")","v":"vnd.mitsubishi.misty-guard.trustweb"},{"$f":"IFERROR(__xludf.DUMMYFUNCTION(\"\"\"COMPUTED_VALUE\"\"\"),\"application/vnd.mitsubishi.misty-guard.trustweb\")","v":"application/vnd.mitsubishi.misty-guard.trustweb"},{"$f":"IFERROR(__xludf.DUMMYFUNCTION(\"\"\"COMPUTED_VALUE\"\"\"),\"en\")","v":"en"}]
[{"$f":"IFERROR(__xludf.DUMMYFUNCTION(\"\"\"COMPUTED_VALUE\"\"\"),\"https://www.iana.org/assignments/media-types/application/vnd.Mobius.DAF\")","v":"https://www.iana.org/assignments/media-types/application/vnd.Mobius.DAF"},{"$f":"IFERROR(__xludf.DUMMYFUNCTION(\"\"\"COMPUTED_VALUE\"\"\"),\"vnd.Mobius.DAF\")","v":"vnd.Mobius.DAF"},{"$f":"IFERROR(__xludf.DUMMYFUNCTION(\"\"\"COMPUTED_VALUE\"\"\"),\"vnd.Mobius.DAF\")","v":"vnd.Mobius.DAF"},{"$f":"IFERROR(__xludf.DUMMYFUNCTION(\"\"\"COMPUTED_VALUE\"\"\"),\"application/vnd.Mobius.DAF\")","v":"application/vnd.Mobius.DAF"},{"$f":"IFERROR(__xludf.DUMMYFUNCTION(\"\"\"COMPUTED_VALUE\"\"\"),\"en\")","v":"en"}]
[{"$f":"IFERROR(__xludf.DUMMYFUNCTION(\"\"\"COMPUTED_VALUE\"\"\"),\"https://www.iana.org/assignments/media-types/application/vnd.Mobius.DIS\")","v":"https://www.iana.org/assignments/media-types/application/vnd.Mobius.DIS"},{"$f":"IFERROR(__xludf.DUMMYFUNCTION(\"\"\"COMPUTED_VALUE\"\"\"),\"vnd.Mobius.DIS\")","v":"vnd.Mobius.DIS"},{"$f":"IFERROR(__xludf.DUMMYFUNCTION(\"\"\"COMPUTED_VALUE\"\"\"),\"vnd.Mobius.DIS\")","v":"vnd.Mobius.DIS"},{"$f":"IFERROR(__xludf.DUMMYFUNCTION(\"\"\"COMPUTED_VALUE\"\"\"),\"application/vnd.Mobius.DIS\")","v":"application/vnd.Mobius.DIS"},{"$f":"IFERROR(__xludf.DUMMYFUNCTION(\"\"\"COMPUTED_VALUE\"\"\"),\"en\")","v":"en"}]
[{"$f":"IFERROR(__xludf.DUMMYFUNCTION(\"\"\"COMPUTED_VALUE\"\"\"),\"https://www.iana.org/assignments/media-types/application/vnd.Mobius.MBK\")","v":"https://www.iana.org/assignments/media-types/application/vnd.Mobius.MBK"},{"$f":"IFERROR(__xludf.DUMMYFUNCTION(\"\"\"COMPUTED_VALUE\"\"\"),\"vnd.Mobius.MBK\")","v":"vnd.Mobius.MBK"},{"$f":"IFERROR(__xludf.DUMMYFUNCTION(\"\"\"COMPUTED_VALUE\"\"\"),\"vnd.Mobius.MBK\")","v":"vnd.Mobius.MBK"},{"$f":"IFERROR(__xludf.DUMMYFUNCTION(\"\"\"COMPUTED_VALUE\"\"\"),\"application/vnd.Mobius.MBK\")","v":"application/vnd.Mobius.MBK"},{"$f":"IFERROR(__xludf.DUMMYFUNCTION(\"\"\"COMPUTED_VALUE\"\"\"),\"en\")","v":"en"}]
[{"$f":"IFERROR(__xludf.DUMMYFUNCTION(\"\"\"COMPUTED_VALUE\"\"\"),\"https://www.iana.org/assignments/media-types/application/vnd.Mobius.MQY\")","v":"https://www.iana.org/assignments/media-types/application/vnd.Mobius.MQY"},{"$f":"IFERROR(__xludf.DUMMYFUNCTION(\"\"\"COMPUTED_VALUE\"\"\"),\"vnd.Mobius.MQY\")","v":"vnd.Mobius.MQY"},{"$f":"IFERROR(__xludf.DUMMYFUNCTION(\"\"\"COMPUTED_VALUE\"\"\"),\"vnd.Mobius.MQY\")","v":"vnd.Mobius.MQY"},{"$f":"IFERROR(__xludf.DUMMYFUNCTION(\"\"\"COMPUTED_VALUE\"\"\"),\"application/vnd.Mobius.MQY\")","v":"application/vnd.Mobius.MQY"},{"$f":"IFERROR(__xludf.DUMMYFUNCTION(\"\"\"COMPUTED_VALUE\"\"\"),\"en\")","v":"en"}]
[{"$f":"IFERROR(__xludf.DUMMYFUNCTION(\"\"\"COMPUTED_VALUE\"\"\"),\"https://www.iana.org/assignments/media-types/application/vnd.Mobius.MSL\")","v":"https://www.iana.org/assignments/media-types/application/vnd.Mobius.MSL"},{"$f":"IFERROR(__xludf.DUMMYFUNCTION(\"\"\"COMPUTED_VALUE\"\"\"),\"vnd.Mobius.MSL\")","v":"vnd.Mobius.MSL"},{"$f":"IFERROR(__xludf.DUMMYFUNCTION(\"\"\"COMPUTED_VALUE\"\"\"),\"vnd.Mobius.MSL\")","v":"vnd.Mobius.MSL"},{"$f":"IFERROR(__xludf.DUMMYFUNCTION(\"\"\"COMPUTED_VALUE\"\"\"),\"application/vnd.Mobius.MSL\")","v":"application/vnd.Mobius.MSL"},{"$f":"IFERROR(__xludf.DUMMYFUNCTION(\"\"\"COMPUTED_VALUE\"\"\"),\"en\")","v":"en"}]
[{"$f":"IFERROR(__xludf.DUMMYFUNCTION(\"\"\"COMPUTED_VALUE\"\"\"),\"https://www.iana.org/assignments/media-types/application/vnd.Mobius.PLC\")","v":"https://www.iana.org/assignments/media-types/application/vnd.Mobius.PLC"},{"$f":"IFERROR(__xludf.DUMMYFUNCTION(\"\"\"COMPUTED_VALUE\"\"\"),\"vnd.Mobius.PLC\")","v":"vnd.Mobius.PLC"},{"$f":"IFERROR(__xludf.DUMMYFUNCTION(\"\"\"COMPUTED_VALUE\"\"\"),\"vnd.Mobius.PLC\")","v":"vnd.Mobius.PLC"},{"$f":"IFERROR(__xludf.DUMMYFUNCTION(\"\"\"COMPUTED_VALUE\"\"\"),\"application/vnd.Mobius.PLC\")","v":"application/vnd.Mobius.PLC"},{"$f":"IFERROR(__xludf.DUMMYFUNCTION(\"\"\"COMPUTED_VALUE\"\"\"),\"en\")","v":"en"}]
[{"$f":"IFERROR(__xludf.DUMMYFUNCTION(\"\"\"COMPUTED_VALUE\"\"\"),\"https://www.iana.org/assignments/media-types/application/vnd.Mobius.TXF\")","v":"https://www.iana.org/assignments/media-types/application/vnd.Mobius.TXF"},{"$f":"IFERROR(__xludf.DUMMYFUNCTION(\"\"\"COMPUTED_VALUE\"\"\"),\"vnd.Mobius.TXF\")","v":"vnd.Mobius.TXF"},{"$f":"IFERROR(__xludf.DUMMYFUNCTION(\"\"\"COMPUTED_VALUE\"\"\"),\"vnd.Mobius.TXF\")","v":"vnd.Mobius.TXF"},{"$f":"IFERROR(__xludf.DUMMYFUNCTION(\"\"\"COMPUTED_VALUE\"\"\"),\"application/vnd.Mobius.TXF\")","v":"application/vnd.Mobius.TXF"},{"$f":"IFERROR(__xludf.DUMMYFUNCTION(\"\"\"COMPUTED_VALUE\"\"\"),\"en\")","v":"en"}]
[{"$f":"IFERROR(__xludf.DUMMYFUNCTION(\"\"\"COMPUTED_VALUE\"\"\"),\"https://www.iana.org/assignments/media-types/application/vnd.mophun.application\")","v":"https://www.iana.org/assignments/media-types/application/vnd.mophun.application"},{"$f":"IFERROR(__xludf.DUMMYFUNCTION(\"\"\"COMPUTED_VALUE\"\"\"),\"vnd.mophun.application\")","v":"vnd.mophun.application"},{"$f":"IFERROR(__xludf.DUMMYFUNCTION(\"\"\"COMPUTED_VALUE\"\"\"),\"vnd.mophun.application\")","v":"vnd.mophun.application"},{"$f":"IFERROR(__xludf.DUMMYFUNCTION(\"\"\"COMPUTED_VALUE\"\"\"),\"application/vnd.mophun.application\")","v":"application/vnd.mophun.application"},{"$f":"IFERROR(__xludf.DUMMYFUNCTION(\"\"\"COMPUTED_VALUE\"\"\"),\"en\")","v":"en"}]
[{"$f":"IFERROR(__xludf.DUMMYFUNCTION(\"\"\"COMPUTED_VALUE\"\"\"),\"https://www.iana.org/assignments/media-types/application/vnd.mophun.certificate\")","v":"https://www.iana.org/assignments/media-types/application/vnd.mophun.certificate"},{"$f":"IFERROR(__xludf.DUMMYFUNCTION(\"\"\"COMPUTED_VALUE\"\"\"),\"vnd.mophun.certificate\")","v":"vnd.mophun.certificate"},{"$f":"IFERROR(__xludf.DUMMYFUNCTION(\"\"\"COMPUTED_VALUE\"\"\"),\"vnd.mophun.certificate\")","v":"vnd.mophun.certificate"},{"$f":"IFERROR(__xludf.DUMMYFUNCTION(\"\"\"COMPUTED_VALUE\"\"\"),\"application/vnd.mophun.certificate\")","v":"application/vnd.mophun.certificate"},{"$f":"IFERROR(__xludf.DUMMYFUNCTION(\"\"\"COMPUTED_VALUE\"\"\"),\"en\")","v":"en"}]
[{"$f":"IFERROR(__xludf.DUMMYFUNCTION(\"\"\"COMPUTED_VALUE\"\"\"),\"https://www.iana.org/assignments/media-types/application/vnd.motorola.flexsuite\")","v":"https://www.iana.org/assignments/media-types/application/vnd.motorola.flexsuite"},{"$f":"IFERROR(__xludf.DUMMYFUNCTION(\"\"\"COMPUTED_VALUE\"\"\"),\"vnd.motorola.flexsuite\")","v":"vnd.motorola.flexsuite"},{"$f":"IFERROR(__xludf.DUMMYFUNCTION(\"\"\"COMPUTED_VALUE\"\"\"),\"vnd.motorola.flexsuite\")","v":"vnd.motorola.flexsuite"},{"$f":"IFERROR(__xludf.DUMMYFUNCTION(\"\"\"COMPUTED_VALUE\"\"\"),\"application/vnd.motorola.flexsuite\")","v":"application/vnd.motorola.flexsuite"},{"$f":"IFERROR(__xludf.DUMMYFUNCTION(\"\"\"COMPUTED_VALUE\"\"\"),\"en\")","v":"en"}]
[{"$f":"IFERROR(__xludf.DUMMYFUNCTION(\"\"\"COMPUTED_VALUE\"\"\"),\"https://www.iana.org/assignments/media-types/application/vnd.motorola.flexsuite.adsi\")","v":"https://www.iana.org/assignments/media-types/application/vnd.motorola.flexsuite.adsi"},{"$f":"IFERROR(__xludf.DUMMYFUNCTION(\"\"\"COMPUTED_VALUE\"\"\"),\"vnd.motorola.flexsuite.adsi\")","v":"vnd.motorola.flexsuite.adsi"},{"$f":"IFERROR(__xludf.DUMMYFUNCTION(\"\"\"COMPUTED_VALUE\"\"\"),\"vnd.motorola.flexsuite.adsi\")","v":"vnd.motorola.flexsuite.adsi"},{"$f":"IFERROR(__xludf.DUMMYFUNCTION(\"\"\"COMPUTED_VALUE\"\"\"),\"application/vnd.motorola.flexsuite.adsi\")","v":"application/vnd.motorola.flexsuite.adsi"},{"$f":"IFERROR(__xludf.DUMMYFUNCTION(\"\"\"COMPUTED_VALUE\"\"\"),\"en\")","v":"en"}]
[{"$f":"IFERROR(__xludf.DUMMYFUNCTION(\"\"\"COMPUTED_VALUE\"\"\"),\"https://www.iana.org/assignments/media-types/application/vnd.motorola.flexsuite.fis\")","v":"https://www.iana.org/assignments/media-types/application/vnd.motorola.flexsuite.fis"},{"$f":"IFERROR(__xludf.DUMMYFUNCTION(\"\"\"COMPUTED_VALUE\"\"\"),\"vnd.motorola.flexsuite.fis\")","v":"vnd.motorola.flexsuite.fis"},{"$f":"IFERROR(__xludf.DUMMYFUNCTION(\"\"\"COMPUTED_VALUE\"\"\"),\"vnd.motorola.flexsuite.fis\")","v":"vnd.motorola.flexsuite.fis"},{"$f":"IFERROR(__xludf.DUMMYFUNCTION(\"\"\"COMPUTED_VALUE\"\"\"),\"application/vnd.motorola.flexsuite.fis\")","v":"application/vnd.motorola.flexsuite.fis"},{"$f":"IFERROR(__xludf.DUMMYFUNCTION(\"\"\"COMPUTED_VALUE\"\"\"),\"en\")","v":"en"}]
[{"$f":"IFERROR(__xludf.DUMMYFUNCTION(\"\"\"COMPUTED_VALUE\"\"\"),\"https://www.iana.org/assignments/media-types/application/vnd.motorola.flexsuite.gotap\")","v":"https://www.iana.org/assignments/media-types/application/vnd.motorola.flexsuite.gotap"},{"$f":"IFERROR(__xludf.DUMMYFUNCTION(\"\"\"COMPUTED_VALUE\"\"\"),\"vnd.motorola.flexsuite.gotap\")","v":"vnd.motorola.flexsuite.gotap"},{"$f":"IFERROR(__xludf.DUMMYFUNCTION(\"\"\"COMPUTED_VALUE\"\"\"),\"vnd.motorola.flexsuite.gotap\")","v":"vnd.motorola.flexsuite.gotap"},{"$f":"IFERROR(__xludf.DUMMYFUNCTION(\"\"\"COMPUTED_VALUE\"\"\"),\"application/vnd.motorola.flexsuite.gotap\")","v":"application/vnd.motorola.flexsuite.gotap"},{"$f":"IFERROR(__xludf.DUMMYFUNCTION(\"\"\"COMPUTED_VALUE\"\"\"),\"en\")","v":"en"}]
[{"$f":"IFERROR(__xludf.DUMMYFUNCTION(\"\"\"COMPUTED_VALUE\"\"\"),\"https://www.iana.org/assignments/media-types/application/vnd.motorola.flexsuite.kmr\")","v":"https://www.iana.org/assignments/media-types/application/vnd.motorola.flexsuite.kmr"},{"$f":"IFERROR(__xludf.DUMMYFUNCTION(\"\"\"COMPUTED_VALUE\"\"\"),\"vnd.motorola.flexsuite.kmr\")","v":"vnd.motorola.flexsuite.kmr"},{"$f":"IFERROR(__xludf.DUMMYFUNCTION(\"\"\"COMPUTED_VALUE\"\"\"),\"vnd.motorola.flexsuite.kmr\")","v":"vnd.motorola.flexsuite.kmr"},{"$f":"IFERROR(__xludf.DUMMYFUNCTION(\"\"\"COMPUTED_VALUE\"\"\"),\"application/vnd.motorola.flexsuite.kmr\")","v":"application/vnd.motorola.flexsuite.kmr"},{"$f":"IFERROR(__xludf.DUMMYFUNCTION(\"\"\"COMPUTED_VALUE\"\"\"),\"en\")","v":"en"}]
[{"$f":"IFERROR(__xludf.DUMMYFUNCTION(\"\"\"COMPUTED_VALUE\"\"\"),\"https://www.iana.org/assignments/media-types/application/vnd.motorola.flexsuite.ttc\")","v":"https://www.iana.org/assignments/media-types/application/vnd.motorola.flexsuite.ttc"},{"$f":"IFERROR(__xludf.DUMMYFUNCTION(\"\"\"COMPUTED_VALUE\"\"\"),\"vnd.motorola.flexsuite.ttc\")","v":"vnd.motorola.flexsuite.ttc"},{"$f":"IFERROR(__xludf.DUMMYFUNCTION(\"\"\"COMPUTED_VALUE\"\"\"),\"vnd.motorola.flexsuite.ttc\")","v":"vnd.motorola.flexsuite.ttc"},{"$f":"IFERROR(__xludf.DUMMYFUNCTION(\"\"\"COMPUTED_VALUE\"\"\"),\"application/vnd.motorola.flexsuite.ttc\")","v":"application/vnd.motorola.flexsuite.ttc"},{"$f":"IFERROR(__xludf.DUMMYFUNCTION(\"\"\"COMPUTED_VALUE\"\"\"),\"en\")","v":"en"}]
[{"$f":"IFERROR(__xludf.DUMMYFUNCTION(\"\"\"COMPUTED_VALUE\"\"\"),\"https://www.iana.org/assignments/media-types/application/vnd.motorola.flexsuite.wem\")","v":"https://www.iana.org/assignments/media-types/application/vnd.motorola.flexsuite.wem"},{"$f":"IFERROR(__xludf.DUMMYFUNCTION(\"\"\"COMPUTED_VALUE\"\"\"),\"vnd.motorola.flexsuite.wem\")","v":"vnd.motorola.flexsuite.wem"},{"$f":"IFERROR(__xludf.DUMMYFUNCTION(\"\"\"COMPUTED_VALUE\"\"\"),\"vnd.motorola.flexsuite.wem\")","v":"vnd.motorola.flexsuite.wem"},{"$f":"IFERROR(__xludf.DUMMYFUNCTION(\"\"\"COMPUTED_VALUE\"\"\"),\"application/vnd.motorola.flexsuite.wem\")","v":"application/vnd.motorola.flexsuite.wem"},{"$f":"IFERROR(__xludf.DUMMYFUNCTION(\"\"\"COMPUTED_VALUE\"\"\"),\"en\")","v":"en"}]
[{"$f":"IFERROR(__xludf.DUMMYFUNCTION(\"\"\"COMPUTED_VALUE\"\"\"),\"https://www.iana.org/assignments/media-types/application/vnd.motorola.iprm\")","v":"https://www.iana.org/assignments/media-types/application/vnd.motorola.iprm"},{"$f":"IFERROR(__xludf.DUMMYFUNCTION(\"\"\"COMPUTED_VALUE\"\"\"),\"vnd.motorola.iprm\")","v":"vnd.motorola.iprm"},{"$f":"IFERROR(__xludf.DUMMYFUNCTION(\"\"\"COMPUTED_VALUE\"\"\"),\"vnd.motorola.iprm\")","v":"vnd.motorola.iprm"},{"$f":"IFERROR(__xludf.DUMMYFUNCTION(\"\"\"COMPUTED_VALUE\"\"\"),\"application/vnd.motorola.iprm\")","v":"application/vnd.motorola.iprm"},{"$f":"IFERROR(__xludf.DUMMYFUNCTION(\"\"\"COMPUTED_VALUE\"\"\"),\"en\")","v":"en"}]
[{"$f":"IFERROR(__xludf.DUMMYFUNCTION(\"\"\"COMPUTED_VALUE\"\"\"),\"https://www.iana.org/assignments/media-types/application/vnd.mozilla.xul+xml\")","v":"https://www.iana.org/assignments/media-types/application/vnd.mozilla.xul+xml"},{"$f":"IFERROR(__xludf.DUMMYFUNCTION(\"\"\"COMPUTED_VALUE\"\"\"),\"vnd.mozilla.xul+xml\")","v":"vnd.mozilla.xul+xml"},{"$f":"IFERROR(__xludf.DUMMYFUNCTION(\"\"\"COMPUTED_VALUE\"\"\"),\"vnd.mozilla.xul+xml\")","v":"vnd.mozilla.xul+xml"},{"$f":"IFERROR(__xludf.DUMMYFUNCTION(\"\"\"COMPUTED_VALUE\"\"\"),\"application/vnd.mozilla.xul+xml\")","v":"application/vnd.mozilla.xul+xml"},{"$f":"IFERROR(__xludf.DUMMYFUNCTION(\"\"\"COMPUTED_VALUE\"\"\"),\"en\")","v":"en"}]
[{"$f":"IFERROR(__xludf.DUMMYFUNCTION(\"\"\"COMPUTED_VALUE\"\"\"),\"https://www.iana.org/assignments/media-types/application/vnd.ms-artgalry\")","v":"https://www.iana.org/assignments/media-types/application/vnd.ms-artgalry"},{"$f":"IFERROR(__xludf.DUMMYFUNCTION(\"\"\"COMPUTED_VALUE\"\"\"),\"vnd.ms-artgalry\")","v":"vnd.ms-artgalry"},{"$f":"IFERROR(__xludf.DUMMYFUNCTION(\"\"\"COMPUTED_VALUE\"\"\"),\"vnd.ms-artgalry\")","v":"vnd.ms-artgalry"},{"$f":"IFERROR(__xludf.DUMMYFUNCTION(\"\"\"COMPUTED_VALUE\"\"\"),\"application/vnd.ms-artgalry\")","v":"application/vnd.ms-artgalry"},{"$f":"IFERROR(__xludf.DUMMYFUNCTION(\"\"\"COMPUTED_VALUE\"\"\"),\"en\")","v":"en"}]
[{"$f":"IFERROR(__xludf.DUMMYFUNCTION(\"\"\"COMPUTED_VALUE\"\"\"),\"https://www.iana.org/assignments/media-types/application/vnd.ms-asf\")","v":"https://www.iana.org/assignments/media-types/application/vnd.ms-asf"},{"$f":"IFERROR(__xludf.DUMMYFUNCTION(\"\"\"COMPUTED_VALUE\"\"\"),\"vnd.ms-asf\")","v":"vnd.ms-asf"},{"$f":"IFERROR(__xludf.DUMMYFUNCTION(\"\"\"COMPUTED_VALUE\"\"\"),\"vnd.ms-asf\")","v":"vnd.ms-asf"},{"$f":"IFERROR(__xludf.DUMMYFUNCTION(\"\"\"COMPUTED_VALUE\"\"\"),\"application/vnd.ms-asf\")","v":"application/vnd.ms-asf"},{"$f":"IFERROR(__xludf.DUMMYFUNCTION(\"\"\"COMPUTED_VALUE\"\"\"),\"en\")","v":"en"}]
[{"$f":"IFERROR(__xludf.DUMMYFUNCTION(\"\"\"COMPUTED_VALUE\"\"\"),\"https://www.iana.org/assignments/media-types/application/vnd.ms-cab-compressed\")","v":"https://www.iana.org/assignments/media-types/application/vnd.ms-cab-compressed"},{"$f":"IFERROR(__xludf.DUMMYFUNCTION(\"\"\"COMPUTED_VALUE\"\"\"),\"vnd.ms-cab-compressed\")","v":"vnd.ms-cab-compressed"},{"$f":"IFERROR(__xludf.DUMMYFUNCTION(\"\"\"COMPUTED_VALUE\"\"\"),\"vnd.ms-cab-compressed\")","v":"vnd.ms-cab-compressed"},{"$f":"IFERROR(__xludf.DUMMYFUNCTION(\"\"\"COMPUTED_VALUE\"\"\"),\"application/vnd.ms-cab-compressed\")","v":"application/vnd.ms-cab-compressed"},{"$f":"IFERROR(__xludf.DUMMYFUNCTION(\"\"\"COMPUTED_VALUE\"\"\"),\"en\")","v":"en"}]
[{"$f":"IFERROR(__xludf.DUMMYFUNCTION(\"\"\"COMPUTED_VALUE\"\"\"),\"https://www.iana.org/assignments/media-types/application/vnd.ms-3mfdocument\")","v":"https://www.iana.org/assignments/media-types/application/vnd.ms-3mfdocument"},{"$f":"IFERROR(__xludf.DUMMYFUNCTION(\"\"\"COMPUTED_VALUE\"\"\"),\"vnd.ms-3mfdocument\")","v":"vnd.ms-3mfdocument"},{"$f":"IFERROR(__xludf.DUMMYFUNCTION(\"\"\"COMPUTED_VALUE\"\"\"),\"vnd.ms-3mfdocument\")","v":"vnd.ms-3mfdocument"},{"$f":"IFERROR(__xludf.DUMMYFUNCTION(\"\"\"COMPUTED_VALUE\"\"\"),\"application/vnd.ms-3mfdocument\")","v":"application/vnd.ms-3mfdocument"},{"$f":"IFERROR(__xludf.DUMMYFUNCTION(\"\"\"COMPUTED_VALUE\"\"\"),\"en\")","v":"en"}]
[{"$f":"IFERROR(__xludf.DUMMYFUNCTION(\"\"\"COMPUTED_VALUE\"\"\"),\"https://www.iana.org/assignments/media-types/application/vnd.ms-excel\")","v":"https://www.iana.org/assignments/media-types/application/vnd.ms-excel"},{"$f":"IFERROR(__xludf.DUMMYFUNCTION(\"\"\"COMPUTED_VALUE\"\"\"),\"vnd.ms-excel\")","v":"vnd.ms-excel"},{"$f":"IFERROR(__xludf.DUMMYFUNCTION(\"\"\"COMPUTED_VALUE\"\"\"),\"vnd.ms-excel\")","v":"vnd.ms-excel"},{"$f":"IFERROR(__xludf.DUMMYFUNCTION(\"\"\"COMPUTED_VALUE\"\"\"),\"application/vnd.ms-excel\")","v":"application/vnd.ms-excel"},{"$f":"IFERROR(__xludf.DUMMYFUNCTION(\"\"\"COMPUTED_VALUE\"\"\"),\"en\")","v":"en"}]
[{"$f":"IFERROR(__xludf.DUMMYFUNCTION(\"\"\"COMPUTED_VALUE\"\"\"),\"https://www.iana.org/assignments/media-types/application/vnd.ms-excel.addin.macroEnabled.12\")","v":"https://www.iana.org/assignments/media-types/application/vnd.ms-excel.addin.macroEnabled.12"},{"$f":"IFERROR(__xludf.DUMMYFUNCTION(\"\"\"COMPUTED_VALUE\"\"\"),\"vnd.ms-excel.addin.macroEnabled.12\")","v":"vnd.ms-excel.addin.macroEnabled.12"},{"$f":"IFERROR(__xludf.DUMMYFUNCTION(\"\"\"COMPUTED_VALUE\"\"\"),\"vnd.ms-excel.addin.macroEnabled.12\")","v":"vnd.ms-excel.addin.macroEnabled.12"},{"$f":"IFERROR(__xludf.DUMMYFUNCTION(\"\"\"COMPUTED_VALUE\"\"\"),\"application/vnd.ms-excel.addin.macroEnabled.12\")","v":"application/vnd.ms-excel.addin.macroEnabled.12"},{"$f":"IFERROR(__xludf.DUMMYFUNCTION(\"\"\"COMPUTED_VALUE\"\"\"),\"en\")","v":"en"}]
[{"$f":"IFERROR(__xludf.DUMMYFUNCTION(\"\"\"COMPUTED_VALUE\"\"\"),\"https://www.iana.org/assignments/media-types/application/vnd.ms-excel.sheet.binary.macroEnabled.12\")","v":"https://www.iana.org/assignments/media-types/application/vnd.ms-excel.sheet.binary.macroEnabled.12"},{"$f":"IFERROR(__xludf.DUMMYFUNCTION(\"\"\"COMPUTED_VALUE\"\"\"),\"vnd.ms-excel.sheet.binary.macroEnabled.12\")","v":"vnd.ms-excel.sheet.binary.macroEnabled.12"},{"$f":"IFERROR(__xludf.DUMMYFUNCTION(\"\"\"COMPUTED_VALUE\"\"\"),\"vnd.ms-excel.sheet.binary.macroEnabled.12\")","v":"vnd.ms-excel.sheet.binary.macroEnabled.12"},{"$f":"IFERROR(__xludf.DUMMYFUNCTION(\"\"\"COMPUTED_VALUE\"\"\"),\"application/vnd.ms-excel.sheet.binary.macroEnabled.12\")","v":"application/vnd.ms-excel.sheet.binary.macroEnabled.12"},{"$f":"IFERROR(__xludf.DUMMYFUNCTION(\"\"\"COMPUTED_VALUE\"\"\"),\"en\")","v":"en"}]
[{"$f":"IFERROR(__xludf.DUMMYFUNCTION(\"\"\"COMPUTED_VALUE\"\"\"),\"https://www.iana.org/assignments/media-types/application/vnd.ms-excel.sheet.macroEnabled.12\")","v":"https://www.iana.org/assignments/media-types/application/vnd.ms-excel.sheet.macroEnabled.12"},{"$f":"IFERROR(__xludf.DUMMYFUNCTION(\"\"\"COMPUTED_VALUE\"\"\"),\"vnd.ms-excel.sheet.macroEnabled.12\")","v":"vnd.ms-excel.sheet.macroEnabled.12"},{"$f":"IFERROR(__xludf.DUMMYFUNCTION(\"\"\"COMPUTED_VALUE\"\"\"),\"vnd.ms-excel.sheet.macroEnabled.12\")","v":"vnd.ms-excel.sheet.macroEnabled.12"},{"$f":"IFERROR(__xludf.DUMMYFUNCTION(\"\"\"COMPUTED_VALUE\"\"\"),\"application/vnd.ms-excel.sheet.macroEnabled.12\")","v":"application/vnd.ms-excel.sheet.macroEnabled.12"},{"$f":"IFERROR(__xludf.DUMMYFUNCTION(\"\"\"COMPUTED_VALUE\"\"\"),\"en\")","v":"en"}]
[{"$f":"IFERROR(__xludf.DUMMYFUNCTION(\"\"\"COMPUTED_VALUE\"\"\"),\"https://www.iana.org/assignments/media-types/application/vnd.ms-excel.template.macroEnabled.12\")","v":"https://www.iana.org/assignments/media-types/application/vnd.ms-excel.template.macroEnabled.12"},{"$f":"IFERROR(__xludf.DUMMYFUNCTION(\"\"\"COMPUTED_VALUE\"\"\"),\"vnd.ms-excel.template.macroEnabled.12\")","v":"vnd.ms-excel.template.macroEnabled.12"},{"$f":"IFERROR(__xludf.DUMMYFUNCTION(\"\"\"COMPUTED_VALUE\"\"\"),\"vnd.ms-excel.template.macroEnabled.12\")","v":"vnd.ms-excel.template.macroEnabled.12"},{"$f":"IFERROR(__xludf.DUMMYFUNCTION(\"\"\"COMPUTED_VALUE\"\"\"),\"application/vnd.ms-excel.template.macroEnabled.12\")","v":"application/vnd.ms-excel.template.macroEnabled.12"},{"$f":"IFERROR(__xludf.DUMMYFUNCTION(\"\"\"COMPUTED_VALUE\"\"\"),\"en\")","v":"en"}]
[{"$f":"IFERROR(__xludf.DUMMYFUNCTION(\"\"\"COMPUTED_VALUE\"\"\"),\"https://www.iana.org/assignments/media-types/application/vnd.ms-fontobject\")","v":"https://www.iana.org/assignments/media-types/application/vnd.ms-fontobject"},{"$f":"IFERROR(__xludf.DUMMYFUNCTION(\"\"\"COMPUTED_VALUE\"\"\"),\"vnd.ms-fontobject\")","v":"vnd.ms-fontobject"},{"$f":"IFERROR(__xludf.DUMMYFUNCTION(\"\"\"COMPUTED_VALUE\"\"\"),\"vnd.ms-fontobject\")","v":"vnd.ms-fontobject"},{"$f":"IFERROR(__xludf.DUMMYFUNCTION(\"\"\"COMPUTED_VALUE\"\"\"),\"application/vnd.ms-fontobject\")","v":"application/vnd.ms-fontobject"},{"$f":"IFERROR(__xludf.DUMMYFUNCTION(\"\"\"COMPUTED_VALUE\"\"\"),\"en\")","v":"en"}]
[{"$f":"IFERROR(__xludf.DUMMYFUNCTION(\"\"\"COMPUTED_VALUE\"\"\"),\"https://www.iana.org/assignments/media-types/application/vnd.ms-htmlhelp\")","v":"https://www.iana.org/assignments/media-types/application/vnd.ms-htmlhelp"},{"$f":"IFERROR(__xludf.DUMMYFUNCTION(\"\"\"COMPUTED_VALUE\"\"\"),\"vnd.ms-htmlhelp\")","v":"vnd.ms-htmlhelp"},{"$f":"IFERROR(__xludf.DUMMYFUNCTION(\"\"\"COMPUTED_VALUE\"\"\"),\"vnd.ms-htmlhelp\")","v":"vnd.ms-htmlhelp"},{"$f":"IFERROR(__xludf.DUMMYFUNCTION(\"\"\"COMPUTED_VALUE\"\"\"),\"application/vnd.ms-htmlhelp\")","v":"application/vnd.ms-htmlhelp"},{"$f":"IFERROR(__xludf.DUMMYFUNCTION(\"\"\"COMPUTED_VALUE\"\"\"),\"en\")","v":"en"}]
[{"$f":"IFERROR(__xludf.DUMMYFUNCTION(\"\"\"COMPUTED_VALUE\"\"\"),\"https://www.iana.org/assignments/media-types/application/vnd.ms-ims\")","v":"https://www.iana.org/assignments/media-types/application/vnd.ms-ims"},{"$f":"IFERROR(__xludf.DUMMYFUNCTION(\"\"\"COMPUTED_VALUE\"\"\"),\"vnd.ms-ims\")","v":"vnd.ms-ims"},{"$f":"IFERROR(__xludf.DUMMYFUNCTION(\"\"\"COMPUTED_VALUE\"\"\"),\"vnd.ms-ims\")","v":"vnd.ms-ims"},{"$f":"IFERROR(__xludf.DUMMYFUNCTION(\"\"\"COMPUTED_VALUE\"\"\"),\"application/vnd.ms-ims\")","v":"application/vnd.ms-ims"},{"$f":"IFERROR(__xludf.DUMMYFUNCTION(\"\"\"COMPUTED_VALUE\"\"\"),\"en\")","v":"en"}]
[{"$f":"IFERROR(__xludf.DUMMYFUNCTION(\"\"\"COMPUTED_VALUE\"\"\"),\"https://www.iana.org/assignments/media-types/application/vnd.ms-lrm\")","v":"https://www.iana.org/assignments/media-types/application/vnd.ms-lrm"},{"$f":"IFERROR(__xludf.DUMMYFUNCTION(\"\"\"COMPUTED_VALUE\"\"\"),\"vnd.ms-lrm\")","v":"vnd.ms-lrm"},{"$f":"IFERROR(__xludf.DUMMYFUNCTION(\"\"\"COMPUTED_VALUE\"\"\"),\"vnd.ms-lrm\")","v":"vnd.ms-lrm"},{"$f":"IFERROR(__xludf.DUMMYFUNCTION(\"\"\"COMPUTED_VALUE\"\"\"),\"application/vnd.ms-lrm\")","v":"application/vnd.ms-lrm"},{"$f":"IFERROR(__xludf.DUMMYFUNCTION(\"\"\"COMPUTED_VALUE\"\"\"),\"en\")","v":"en"}]
[{"$f":"IFERROR(__xludf.DUMMYFUNCTION(\"\"\"COMPUTED_VALUE\"\"\"),\"https://www.iana.org/assignments/media-types/application/vnd.ms-office.activeX+xml\")","v":"https://www.iana.org/assignments/media-types/application/vnd.ms-office.activeX+xml"},{"$f":"IFERROR(__xludf.DUMMYFUNCTION(\"\"\"COMPUTED_VALUE\"\"\"),\"vnd.ms-office.activeX+xml\")","v":"vnd.ms-office.activeX+xml"},{"$f":"IFERROR(__xludf.DUMMYFUNCTION(\"\"\"COMPUTED_VALUE\"\"\"),\"vnd.ms-office.activeX+xml\")","v":"vnd.ms-office.activeX+xml"},{"$f":"IFERROR(__xludf.DUMMYFUNCTION(\"\"\"COMPUTED_VALUE\"\"\"),\"application/vnd.ms-office.activeX+xml\")","v":"application/vnd.ms-office.activeX+xml"},{"$f":"IFERROR(__xludf.DUMMYFUNCTION(\"\"\"COMPUTED_VALUE\"\"\"),\"en\")","v":"en"}]
[{"$f":"IFERROR(__xludf.DUMMYFUNCTION(\"\"\"COMPUTED_VALUE\"\"\"),\"https://www.iana.org/assignments/media-types/application/vnd.ms-officetheme\")","v":"https://www.iana.org/assignments/media-types/application/vnd.ms-officetheme"},{"$f":"IFERROR(__xludf.DUMMYFUNCTION(\"\"\"COMPUTED_VALUE\"\"\"),\"vnd.ms-officetheme\")","v":"vnd.ms-officetheme"},{"$f":"IFERROR(__xludf.DUMMYFUNCTION(\"\"\"COMPUTED_VALUE\"\"\"),\"vnd.ms-officetheme\")","v":"vnd.ms-officetheme"},{"$f":"IFERROR(__xludf.DUMMYFUNCTION(\"\"\"COMPUTED_VALUE\"\"\"),\"application/vnd.ms-officetheme\")","v":"application/vnd.ms-officetheme"},{"$f":"IFERROR(__xludf.DUMMYFUNCTION(\"\"\"COMPUTED_VALUE\"\"\"),\"en\")","v":"en"}]
[{"$f":"IFERROR(__xludf.DUMMYFUNCTION(\"\"\"COMPUTED_VALUE\"\"\"),\"https://www.iana.org/assignments/media-types/application/vnd.ms-playready.initiator+xml\")","v":"https://www.iana.org/assignments/media-types/application/vnd.ms-playready.initiator+xml"},{"$f":"IFERROR(__xludf.DUMMYFUNCTION(\"\"\"COMPUTED_VALUE\"\"\"),\"vnd.ms-playready.initiator+xml\")","v":"vnd.ms-playready.initiator+xml"},{"$f":"IFERROR(__xludf.DUMMYFUNCTION(\"\"\"COMPUTED_VALUE\"\"\"),\"vnd.ms-playready.initiator+xml\")","v":"vnd.ms-playready.initiator+xml"},{"$f":"IFERROR(__xludf.DUMMYFUNCTION(\"\"\"COMPUTED_VALUE\"\"\"),\"application/vnd.ms-playready.initiator+xml\")","v":"application/vnd.ms-playready.initiator+xml"},{"$f":"IFERROR(__xludf.DUMMYFUNCTION(\"\"\"COMPUTED_VALUE\"\"\"),\"en\")","v":"en"}]
[{"$f":"IFERROR(__xludf.DUMMYFUNCTION(\"\"\"COMPUTED_VALUE\"\"\"),\"https://www.iana.org/assignments/media-types/application/vnd.ms-powerpoint\")","v":"https://www.iana.org/assignments/media-types/application/vnd.ms-powerpoint"},{"$f":"IFERROR(__xludf.DUMMYFUNCTION(\"\"\"COMPUTED_VALUE\"\"\"),\"vnd.ms-powerpoint\")","v":"vnd.ms-powerpoint"},{"$f":"IFERROR(__xludf.DUMMYFUNCTION(\"\"\"COMPUTED_VALUE\"\"\"),\"vnd.ms-powerpoint\")","v":"vnd.ms-powerpoint"},{"$f":"IFERROR(__xludf.DUMMYFUNCTION(\"\"\"COMPUTED_VALUE\"\"\"),\"application/vnd.ms-powerpoint\")","v":"application/vnd.ms-powerpoint"},{"$f":"IFERROR(__xludf.DUMMYFUNCTION(\"\"\"COMPUTED_VALUE\"\"\"),\"en\")","v":"en"}]
[{"$f":"IFERROR(__xludf.DUMMYFUNCTION(\"\"\"COMPUTED_VALUE\"\"\"),\"https://www.iana.org/assignments/media-types/application/vnd.ms-powerpoint.addin.macroEnabled.12\")","v":"https://www.iana.org/assignments/media-types/application/vnd.ms-powerpoint.addin.macroEnabled.12"},{"$f":"IFERROR(__xludf.DUMMYFUNCTION(\"\"\"COMPUTED_VALUE\"\"\"),\"vnd.ms-powerpoint.addin.macroEnabled.12\")","v":"vnd.ms-powerpoint.addin.macroEnabled.12"},{"$f":"IFERROR(__xludf.DUMMYFUNCTION(\"\"\"COMPUTED_VALUE\"\"\"),\"vnd.ms-powerpoint.addin.macroEnabled.12\")","v":"vnd.ms-powerpoint.addin.macroEnabled.12"},{"$f":"IFERROR(__xludf.DUMMYFUNCTION(\"\"\"COMPUTED_VALUE\"\"\"),\"application/vnd.ms-powerpoint.addin.macroEnabled.12\")","v":"application/vnd.ms-powerpoint.addin.macroEnabled.12"},{"$f":"IFERROR(__xludf.DUMMYFUNCTION(\"\"\"COMPUTED_VALUE\"\"\"),\"en\")","v":"en"}]
[{"$f":"IFERROR(__xludf.DUMMYFUNCTION(\"\"\"COMPUTED_VALUE\"\"\"),\"https://www.iana.org/assignments/media-types/application/vnd.ms-powerpoint.presentation.macroEnabled.12\")","v":"https://www.iana.org/assignments/media-types/application/vnd.ms-powerpoint.presentation.macroEnabled.12"},{"$f":"IFERROR(__xludf.DUMMYFUNCTION(\"\"\"COMPUTED_VALUE\"\"\"),\"vnd.ms-powerpoint.presentation.macroEnabled.12\")","v":"vnd.ms-powerpoint.presentation.macroEnabled.12"},{"$f":"IFERROR(__xludf.DUMMYFUNCTION(\"\"\"COMPUTED_VALUE\"\"\"),\"vnd.ms-powerpoint.presentation.macroEnabled.12\")","v":"vnd.ms-powerpoint.presentation.macroEnabled.12"},{"$f":"IFERROR(__xludf.DUMMYFUNCTION(\"\"\"COMPUTED_VALUE\"\"\"),\"application/vnd.ms-powerpoint.presentation.macroEnabled.12\")","v":"application/vnd.ms-powerpoint.presentation.macroEnabled.12"},{"$f":"IFERROR(__xludf.DUMMYFUNCTION(\"\"\"COMPUTED_VALUE\"\"\"),\"en\")","v":"en"}]
[{"$f":"IFERROR(__xludf.DUMMYFUNCTION(\"\"\"COMPUTED_VALUE\"\"\"),\"https://www.iana.org/assignments/media-types/application/vnd.ms-powerpoint.slide.macroEnabled.12\")","v":"https://www.iana.org/assignments/media-types/application/vnd.ms-powerpoint.slide.macroEnabled.12"},{"$f":"IFERROR(__xludf.DUMMYFUNCTION(\"\"\"COMPUTED_VALUE\"\"\"),\"vnd.ms-powerpoint.slide.macroEnabled.12\")","v":"vnd.ms-powerpoint.slide.macroEnabled.12"},{"$f":"IFERROR(__xludf.DUMMYFUNCTION(\"\"\"COMPUTED_VALUE\"\"\"),\"vnd.ms-powerpoint.slide.macroEnabled.12\")","v":"vnd.ms-powerpoint.slide.macroEnabled.12"},{"$f":"IFERROR(__xludf.DUMMYFUNCTION(\"\"\"COMPUTED_VALUE\"\"\"),\"application/vnd.ms-powerpoint.slide.macroEnabled.12\")","v":"application/vnd.ms-powerpoint.slide.macroEnabled.12"},{"$f":"IFERROR(__xludf.DUMMYFUNCTION(\"\"\"COMPUTED_VALUE\"\"\"),\"en\")","v":"en"}]
[{"$f":"IFERROR(__xludf.DUMMYFUNCTION(\"\"\"COMPUTED_VALUE\"\"\"),\"https://www.iana.org/assignments/media-types/application/vnd.ms-powerpoint.slideshow.macroEnabled.12\")","v":"https://www.iana.org/assignments/media-types/application/vnd.ms-powerpoint.slideshow.macroEnabled.12"},{"$f":"IFERROR(__xludf.DUMMYFUNCTION(\"\"\"COMPUTED_VALUE\"\"\"),\"vnd.ms-powerpoint.slideshow.macroEnabled.12\")","v":"vnd.ms-powerpoint.slideshow.macroEnabled.12"},{"$f":"IFERROR(__xludf.DUMMYFUNCTION(\"\"\"COMPUTED_VALUE\"\"\"),\"vnd.ms-powerpoint.slideshow.macroEnabled.12\")","v":"vnd.ms-powerpoint.slideshow.macroEnabled.12"},{"$f":"IFERROR(__xludf.DUMMYFUNCTION(\"\"\"COMPUTED_VALUE\"\"\"),\"application/vnd.ms-powerpoint.slideshow.macroEnabled.12\")","v":"application/vnd.ms-powerpoint.slideshow.macroEnabled.12"},{"$f":"IFERROR(__xludf.DUMMYFUNCTION(\"\"\"COMPUTED_VALUE\"\"\"),\"en\")","v":"en"}]
[{"$f":"IFERROR(__xludf.DUMMYFUNCTION(\"\"\"COMPUTED_VALUE\"\"\"),\"https://www.iana.org/assignments/media-types/application/vnd.ms-powerpoint.template.macroEnabled.12\")","v":"https://www.iana.org/assignments/media-types/application/vnd.ms-powerpoint.template.macroEnabled.12"},{"$f":"IFERROR(__xludf.DUMMYFUNCTION(\"\"\"COMPUTED_VALUE\"\"\"),\"vnd.ms-powerpoint.template.macroEnabled.12\")","v":"vnd.ms-powerpoint.template.macroEnabled.12"},{"$f":"IFERROR(__xludf.DUMMYFUNCTION(\"\"\"COMPUTED_VALUE\"\"\"),\"vnd.ms-powerpoint.template.macroEnabled.12\")","v":"vnd.ms-powerpoint.template.macroEnabled.12"},{"$f":"IFERROR(__xludf.DUMMYFUNCTION(\"\"\"COMPUTED_VALUE\"\"\"),\"application/vnd.ms-powerpoint.template.macroEnabled.12\")","v":"application/vnd.ms-powerpoint.template.macroEnabled.12"},{"$f":"IFERROR(__xludf.DUMMYFUNCTION(\"\"\"COMPUTED_VALUE\"\"\"),\"en\")","v":"en"}]
[{"$f":"IFERROR(__xludf.DUMMYFUNCTION(\"\"\"COMPUTED_VALUE\"\"\"),\"https://www.iana.org/assignments/media-types/application/vnd.ms-PrintDeviceCapabilities+xml\")","v":"https://www.iana.org/assignments/media-types/application/vnd.ms-PrintDeviceCapabilities+xml"},{"$f":"IFERROR(__xludf.DUMMYFUNCTION(\"\"\"COMPUTED_VALUE\"\"\"),\"vnd.ms-PrintDeviceCapabilities+xml\")","v":"vnd.ms-PrintDeviceCapabilities+xml"},{"$f":"IFERROR(__xludf.DUMMYFUNCTION(\"\"\"COMPUTED_VALUE\"\"\"),\"vnd.ms-PrintDeviceCapabilities+xml\")","v":"vnd.ms-PrintDeviceCapabilities+xml"},{"$f":"IFERROR(__xludf.DUMMYFUNCTION(\"\"\"COMPUTED_VALUE\"\"\"),\"application/vnd.ms-PrintDeviceCapabilities+xml\")","v":"application/vnd.ms-PrintDeviceCapabilities+xml"},{"$f":"IFERROR(__xludf.DUMMYFUNCTION(\"\"\"COMPUTED_VALUE\"\"\"),\"en\")","v":"en"}]
[{"$f":"IFERROR(__xludf.DUMMYFUNCTION(\"\"\"COMPUTED_VALUE\"\"\"),\"https://www.iana.org/assignments/media-types/application/vnd.ms-PrintSchemaTicket+xml\")","v":"https://www.iana.org/assignments/media-types/application/vnd.ms-PrintSchemaTicket+xml"},{"$f":"IFERROR(__xludf.DUMMYFUNCTION(\"\"\"COMPUTED_VALUE\"\"\"),\"vnd.ms-PrintSchemaTicket+xml\")","v":"vnd.ms-PrintSchemaTicket+xml"},{"$f":"IFERROR(__xludf.DUMMYFUNCTION(\"\"\"COMPUTED_VALUE\"\"\"),\"vnd.ms-PrintSchemaTicket+xml\")","v":"vnd.ms-PrintSchemaTicket+xml"},{"$f":"IFERROR(__xludf.DUMMYFUNCTION(\"\"\"COMPUTED_VALUE\"\"\"),\"application/vnd.ms-PrintSchemaTicket+xml\")","v":"application/vnd.ms-PrintSchemaTicket+xml"},{"$f":"IFERROR(__xludf.DUMMYFUNCTION(\"\"\"COMPUTED_VALUE\"\"\"),\"en\")","v":"en"}]
[{"$f":"IFERROR(__xludf.DUMMYFUNCTION(\"\"\"COMPUTED_VALUE\"\"\"),\"https://www.iana.org/assignments/media-types/application/vnd.ms-project\")","v":"https://www.iana.org/assignments/media-types/application/vnd.ms-project"},{"$f":"IFERROR(__xludf.DUMMYFUNCTION(\"\"\"COMPUTED_VALUE\"\"\"),\"vnd.ms-project\")","v":"vnd.ms-project"},{"$f":"IFERROR(__xludf.DUMMYFUNCTION(\"\"\"COMPUTED_VALUE\"\"\"),\"vnd.ms-project\")","v":"vnd.ms-project"},{"$f":"IFERROR(__xludf.DUMMYFUNCTION(\"\"\"COMPUTED_VALUE\"\"\"),\"application/vnd.ms-project\")","v":"application/vnd.ms-project"},{"$f":"IFERROR(__xludf.DUMMYFUNCTION(\"\"\"COMPUTED_VALUE\"\"\"),\"en\")","v":"en"}]
[{"$f":"IFERROR(__xludf.DUMMYFUNCTION(\"\"\"COMPUTED_VALUE\"\"\"),\"https://www.iana.org/assignments/media-types/application/vnd.ms-tnef\")","v":"https://www.iana.org/assignments/media-types/application/vnd.ms-tnef"},{"$f":"IFERROR(__xludf.DUMMYFUNCTION(\"\"\"COMPUTED_VALUE\"\"\"),\"vnd.ms-tnef\")","v":"vnd.ms-tnef"},{"$f":"IFERROR(__xludf.DUMMYFUNCTION(\"\"\"COMPUTED_VALUE\"\"\"),\"vnd.ms-tnef\")","v":"vnd.ms-tnef"},{"$f":"IFERROR(__xludf.DUMMYFUNCTION(\"\"\"COMPUTED_VALUE\"\"\"),\"application/vnd.ms-tnef\")","v":"application/vnd.ms-tnef"},{"$f":"IFERROR(__xludf.DUMMYFUNCTION(\"\"\"COMPUTED_VALUE\"\"\"),\"en\")","v":"en"}]
[{"$f":"IFERROR(__xludf.DUMMYFUNCTION(\"\"\"COMPUTED_VALUE\"\"\"),\"https://www.iana.org/assignments/media-types/application/vnd.ms-windows.devicepairing\")","v":"https://www.iana.org/assignments/media-types/application/vnd.ms-windows.devicepairing"},{"$f":"IFERROR(__xludf.DUMMYFUNCTION(\"\"\"COMPUTED_VALUE\"\"\"),\"vnd.ms-windows.devicepairing\")","v":"vnd.ms-windows.devicepairing"},{"$f":"IFERROR(__xludf.DUMMYFUNCTION(\"\"\"COMPUTED_VALUE\"\"\"),\"vnd.ms-windows.devicepairing\")","v":"vnd.ms-windows.devicepairing"},{"$f":"IFERROR(__xludf.DUMMYFUNCTION(\"\"\"COMPUTED_VALUE\"\"\"),\"application/vnd.ms-windows.devicepairing\")","v":"application/vnd.ms-windows.devicepairing"},{"$f":"IFERROR(__xludf.DUMMYFUNCTION(\"\"\"COMPUTED_VALUE\"\"\"),\"en\")","v":"en"}]
[{"$f":"IFERROR(__xludf.DUMMYFUNCTION(\"\"\"COMPUTED_VALUE\"\"\"),\"https://www.iana.org/assignments/media-types/application/vnd.ms-windows.nwprinting.oob\")","v":"https://www.iana.org/assignments/media-types/application/vnd.ms-windows.nwprinting.oob"},{"$f":"IFERROR(__xludf.DUMMYFUNCTION(\"\"\"COMPUTED_VALUE\"\"\"),\"vnd.ms-windows.nwprinting.oob\")","v":"vnd.ms-windows.nwprinting.oob"},{"$f":"IFERROR(__xludf.DUMMYFUNCTION(\"\"\"COMPUTED_VALUE\"\"\"),\"vnd.ms-windows.nwprinting.oob\")","v":"vnd.ms-windows.nwprinting.oob"},{"$f":"IFERROR(__xludf.DUMMYFUNCTION(\"\"\"COMPUTED_VALUE\"\"\"),\"application/vnd.ms-windows.nwprinting.oob\")","v":"application/vnd.ms-windows.nwprinting.oob"},{"$f":"IFERROR(__xludf.DUMMYFUNCTION(\"\"\"COMPUTED_VALUE\"\"\"),\"en\")","v":"en"}]
[{"$f":"IFERROR(__xludf.DUMMYFUNCTION(\"\"\"COMPUTED_VALUE\"\"\"),\"https://www.iana.org/assignments/media-types/application/vnd.ms-windows.printerpairing\")","v":"https://www.iana.org/assignments/media-types/application/vnd.ms-windows.printerpairing"},{"$f":"IFERROR(__xludf.DUMMYFUNCTION(\"\"\"COMPUTED_VALUE\"\"\"),\"vnd.ms-windows.printerpairing\")","v":"vnd.ms-windows.printerpairing"},{"$f":"IFERROR(__xludf.DUMMYFUNCTION(\"\"\"COMPUTED_VALUE\"\"\"),\"vnd.ms-windows.printerpairing\")","v":"vnd.ms-windows.printerpairing"},{"$f":"IFERROR(__xludf.DUMMYFUNCTION(\"\"\"COMPUTED_VALUE\"\"\"),\"application/vnd.ms-windows.printerpairing\")","v":"application/vnd.ms-windows.printerpairing"},{"$f":"IFERROR(__xludf.DUMMYFUNCTION(\"\"\"COMPUTED_VALUE\"\"\"),\"en\")","v":"en"}]
[{"$f":"IFERROR(__xludf.DUMMYFUNCTION(\"\"\"COMPUTED_VALUE\"\"\"),\"https://www.iana.org/assignments/media-types/application/vnd.ms-windows.wsd.oob\")","v":"https://www.iana.org/assignments/media-types/application/vnd.ms-windows.wsd.oob"},{"$f":"IFERROR(__xludf.DUMMYFUNCTION(\"\"\"COMPUTED_VALUE\"\"\"),\"vnd.ms-windows.wsd.oob\")","v":"vnd.ms-windows.wsd.oob"},{"$f":"IFERROR(__xludf.DUMMYFUNCTION(\"\"\"COMPUTED_VALUE\"\"\"),\"vnd.ms-windows.wsd.oob\")","v":"vnd.ms-windows.wsd.oob"},{"$f":"IFERROR(__xludf.DUMMYFUNCTION(\"\"\"COMPUTED_VALUE\"\"\"),\"application/vnd.ms-windows.wsd.oob\")","v":"application/vnd.ms-windows.wsd.oob"},{"$f":"IFERROR(__xludf.DUMMYFUNCTION(\"\"\"COMPUTED_VALUE\"\"\"),\"en\")","v":"en"}]
[{"$f":"IFERROR(__xludf.DUMMYFUNCTION(\"\"\"COMPUTED_VALUE\"\"\"),\"https://www.iana.org/assignments/media-types/application/vnd.ms-wmdrm.lic-chlg-req\")","v":"https://www.iana.org/assignments/media-types/application/vnd.ms-wmdrm.lic-chlg-req"},{"$f":"IFERROR(__xludf.DUMMYFUNCTION(\"\"\"COMPUTED_VALUE\"\"\"),\"vnd.ms-wmdrm.lic-chlg-req\")","v":"vnd.ms-wmdrm.lic-chlg-req"},{"$f":"IFERROR(__xludf.DUMMYFUNCTION(\"\"\"COMPUTED_VALUE\"\"\"),\"vnd.ms-wmdrm.lic-chlg-req\")","v":"vnd.ms-wmdrm.lic-chlg-req"},{"$f":"IFERROR(__xludf.DUMMYFUNCTION(\"\"\"COMPUTED_VALUE\"\"\"),\"application/vnd.ms-wmdrm.lic-chlg-req\")","v":"application/vnd.ms-wmdrm.lic-chlg-req"},{"$f":"IFERROR(__xludf.DUMMYFUNCTION(\"\"\"COMPUTED_VALUE\"\"\"),\"en\")","v":"en"}]
[{"$f":"IFERROR(__xludf.DUMMYFUNCTION(\"\"\"COMPUTED_VALUE\"\"\"),\"https://www.iana.org/assignments/media-types/application/vnd.ms-wmdrm.lic-resp\")","v":"https://www.iana.org/assignments/media-types/application/vnd.ms-wmdrm.lic-resp"},{"$f":"IFERROR(__xludf.DUMMYFUNCTION(\"\"\"COMPUTED_VALUE\"\"\"),\"vnd.ms-wmdrm.lic-resp\")","v":"vnd.ms-wmdrm.lic-resp"},{"$f":"IFERROR(__xludf.DUMMYFUNCTION(\"\"\"COMPUTED_VALUE\"\"\"),\"vnd.ms-wmdrm.lic-resp\")","v":"vnd.ms-wmdrm.lic-resp"},{"$f":"IFERROR(__xludf.DUMMYFUNCTION(\"\"\"COMPUTED_VALUE\"\"\"),\"application/vnd.ms-wmdrm.lic-resp\")","v":"application/vnd.ms-wmdrm.lic-resp"},{"$f":"IFERROR(__xludf.DUMMYFUNCTION(\"\"\"COMPUTED_VALUE\"\"\"),\"en\")","v":"en"}]
[{"$f":"IFERROR(__xludf.DUMMYFUNCTION(\"\"\"COMPUTED_VALUE\"\"\"),\"https://www.iana.org/assignments/media-types/application/vnd.ms-wmdrm.meter-chlg-req\")","v":"https://www.iana.org/assignments/media-types/application/vnd.ms-wmdrm.meter-chlg-req"},{"$f":"IFERROR(__xludf.DUMMYFUNCTION(\"\"\"COMPUTED_VALUE\"\"\"),\"vnd.ms-wmdrm.meter-chlg-req\")","v":"vnd.ms-wmdrm.meter-chlg-req"},{"$f":"IFERROR(__xludf.DUMMYFUNCTION(\"\"\"COMPUTED_VALUE\"\"\"),\"vnd.ms-wmdrm.meter-chlg-req\")","v":"vnd.ms-wmdrm.meter-chlg-req"},{"$f":"IFERROR(__xludf.DUMMYFUNCTION(\"\"\"COMPUTED_VALUE\"\"\"),\"application/vnd.ms-wmdrm.meter-chlg-req\")","v":"application/vnd.ms-wmdrm.meter-chlg-req"},{"$f":"IFERROR(__xludf.DUMMYFUNCTION(\"\"\"COMPUTED_VALUE\"\"\"),\"en\")","v":"en"}]
[{"$f":"IFERROR(__xludf.DUMMYFUNCTION(\"\"\"COMPUTED_VALUE\"\"\"),\"https://www.iana.org/assignments/media-types/application/vnd.ms-wmdrm.meter-resp\")","v":"https://www.iana.org/assignments/media-types/application/vnd.ms-wmdrm.meter-resp"},{"$f":"IFERROR(__xludf.DUMMYFUNCTION(\"\"\"COMPUTED_VALUE\"\"\"),\"vnd.ms-wmdrm.meter-resp\")","v":"vnd.ms-wmdrm.meter-resp"},{"$f":"IFERROR(__xludf.DUMMYFUNCTION(\"\"\"COMPUTED_VALUE\"\"\"),\"vnd.ms-wmdrm.meter-resp\")","v":"vnd.ms-wmdrm.meter-resp"},{"$f":"IFERROR(__xludf.DUMMYFUNCTION(\"\"\"COMPUTED_VALUE\"\"\"),\"application/vnd.ms-wmdrm.meter-resp\")","v":"application/vnd.ms-wmdrm.meter-resp"},{"$f":"IFERROR(__xludf.DUMMYFUNCTION(\"\"\"COMPUTED_VALUE\"\"\"),\"en\")","v":"en"}]
[{"$f":"IFERROR(__xludf.DUMMYFUNCTION(\"\"\"COMPUTED_VALUE\"\"\"),\"https://www.iana.org/assignments/media-types/application/vnd.ms-word.document.macroEnabled.12\")","v":"https://www.iana.org/assignments/media-types/application/vnd.ms-word.document.macroEnabled.12"},{"$f":"IFERROR(__xludf.DUMMYFUNCTION(\"\"\"COMPUTED_VALUE\"\"\"),\"vnd.ms-word.document.macroEnabled.12\")","v":"vnd.ms-word.document.macroEnabled.12"},{"$f":"IFERROR(__xludf.DUMMYFUNCTION(\"\"\"COMPUTED_VALUE\"\"\"),\"vnd.ms-word.document.macroEnabled.12\")","v":"vnd.ms-word.document.macroEnabled.12"},{"$f":"IFERROR(__xludf.DUMMYFUNCTION(\"\"\"COMPUTED_VALUE\"\"\"),\"application/vnd.ms-word.document.macroEnabled.12\")","v":"application/vnd.ms-word.document.macroEnabled.12"},{"$f":"IFERROR(__xludf.DUMMYFUNCTION(\"\"\"COMPUTED_VALUE\"\"\"),\"en\")","v":"en"}]
[{"$f":"IFERROR(__xludf.DUMMYFUNCTION(\"\"\"COMPUTED_VALUE\"\"\"),\"https://www.iana.org/assignments/media-types/application/vnd.ms-word.template.macroEnabled.12\")","v":"https://www.iana.org/assignments/media-types/application/vnd.ms-word.template.macroEnabled.12"},{"$f":"IFERROR(__xludf.DUMMYFUNCTION(\"\"\"COMPUTED_VALUE\"\"\"),\"vnd.ms-word.template.macroEnabled.12\")","v":"vnd.ms-word.template.macroEnabled.12"},{"$f":"IFERROR(__xludf.DUMMYFUNCTION(\"\"\"COMPUTED_VALUE\"\"\"),\"vnd.ms-word.template.macroEnabled.12\")","v":"vnd.ms-word.template.macroEnabled.12"},{"$f":"IFERROR(__xludf.DUMMYFUNCTION(\"\"\"COMPUTED_VALUE\"\"\"),\"application/vnd.ms-word.template.macroEnabled.12\")","v":"application/vnd.ms-word.template.macroEnabled.12"},{"$f":"IFERROR(__xludf.DUMMYFUNCTION(\"\"\"COMPUTED_VALUE\"\"\"),\"en\")","v":"en"}]
[{"$f":"IFERROR(__xludf.DUMMYFUNCTION(\"\"\"COMPUTED_VALUE\"\"\"),\"https://www.iana.org/assignments/media-types/application/vnd.ms-works\")","v":"https://www.iana.org/assignments/media-types/application/vnd.ms-works"},{"$f":"IFERROR(__xludf.DUMMYFUNCTION(\"\"\"COMPUTED_VALUE\"\"\"),\"vnd.ms-works\")","v":"vnd.ms-works"},{"$f":"IFERROR(__xludf.DUMMYFUNCTION(\"\"\"COMPUTED_VALUE\"\"\"),\"vnd.ms-works\")","v":"vnd.ms-works"},{"$f":"IFERROR(__xludf.DUMMYFUNCTION(\"\"\"COMPUTED_VALUE\"\"\"),\"application/vnd.ms-works\")","v":"application/vnd.ms-works"},{"$f":"IFERROR(__xludf.DUMMYFUNCTION(\"\"\"COMPUTED_VALUE\"\"\"),\"en\")","v":"en"}]
[{"$f":"IFERROR(__xludf.DUMMYFUNCTION(\"\"\"COMPUTED_VALUE\"\"\"),\"https://www.iana.org/assignments/media-types/application/vnd.ms-wpl\")","v":"https://www.iana.org/assignments/media-types/application/vnd.ms-wpl"},{"$f":"IFERROR(__xludf.DUMMYFUNCTION(\"\"\"COMPUTED_VALUE\"\"\"),\"vnd.ms-wpl\")","v":"vnd.ms-wpl"},{"$f":"IFERROR(__xludf.DUMMYFUNCTION(\"\"\"COMPUTED_VALUE\"\"\"),\"vnd.ms-wpl\")","v":"vnd.ms-wpl"},{"$f":"IFERROR(__xludf.DUMMYFUNCTION(\"\"\"COMPUTED_VALUE\"\"\"),\"application/vnd.ms-wpl\")","v":"application/vnd.ms-wpl"},{"$f":"IFERROR(__xludf.DUMMYFUNCTION(\"\"\"COMPUTED_VALUE\"\"\"),\"en\")","v":"en"}]
[{"$f":"IFERROR(__xludf.DUMMYFUNCTION(\"\"\"COMPUTED_VALUE\"\"\"),\"https://www.iana.org/assignments/media-types/application/vnd.ms-xpsdocument\")","v":"https://www.iana.org/assignments/media-types/application/vnd.ms-xpsdocument"},{"$f":"IFERROR(__xludf.DUMMYFUNCTION(\"\"\"COMPUTED_VALUE\"\"\"),\"vnd.ms-xpsdocument\")","v":"vnd.ms-xpsdocument"},{"$f":"IFERROR(__xludf.DUMMYFUNCTION(\"\"\"COMPUTED_VALUE\"\"\"),\"vnd.ms-xpsdocument\")","v":"vnd.ms-xpsdocument"},{"$f":"IFERROR(__xludf.DUMMYFUNCTION(\"\"\"COMPUTED_VALUE\"\"\"),\"application/vnd.ms-xpsdocument\")","v":"application/vnd.ms-xpsdocument"},{"$f":"IFERROR(__xludf.DUMMYFUNCTION(\"\"\"COMPUTED_VALUE\"\"\"),\"en\")","v":"en"}]
[{"$f":"IFERROR(__xludf.DUMMYFUNCTION(\"\"\"COMPUTED_VALUE\"\"\"),\"https://www.iana.org/assignments/media-types/application/vnd.msa-disk-image\")","v":"https://www.iana.org/assignments/media-types/application/vnd.msa-disk-image"},{"$f":"IFERROR(__xludf.DUMMYFUNCTION(\"\"\"COMPUTED_VALUE\"\"\"),\"vnd.msa-disk-image\")","v":"vnd.msa-disk-image"},{"$f":"IFERROR(__xludf.DUMMYFUNCTION(\"\"\"COMPUTED_VALUE\"\"\"),\"vnd.msa-disk-image\")","v":"vnd.msa-disk-image"},{"$f":"IFERROR(__xludf.DUMMYFUNCTION(\"\"\"COMPUTED_VALUE\"\"\"),\"application/vnd.msa-disk-image\")","v":"application/vnd.msa-disk-image"},{"$f":"IFERROR(__xludf.DUMMYFUNCTION(\"\"\"COMPUTED_VALUE\"\"\"),\"en\")","v":"en"}]
[{"$f":"IFERROR(__xludf.DUMMYFUNCTION(\"\"\"COMPUTED_VALUE\"\"\"),\"https://www.iana.org/assignments/media-types/application/vnd.mseq\")","v":"https://www.iana.org/assignments/media-types/application/vnd.mseq"},{"$f":"IFERROR(__xludf.DUMMYFUNCTION(\"\"\"COMPUTED_VALUE\"\"\"),\"vnd.mseq\")","v":"vnd.mseq"},{"$f":"IFERROR(__xludf.DUMMYFUNCTION(\"\"\"COMPUTED_VALUE\"\"\"),\"vnd.mseq\")","v":"vnd.mseq"},{"$f":"IFERROR(__xludf.DUMMYFUNCTION(\"\"\"COMPUTED_VALUE\"\"\"),\"application/vnd.mseq\")","v":"application/vnd.mseq"},{"$f":"IFERROR(__xludf.DUMMYFUNCTION(\"\"\"COMPUTED_VALUE\"\"\"),\"en\")","v":"en"}]
[{"$f":"IFERROR(__xludf.DUMMYFUNCTION(\"\"\"COMPUTED_VALUE\"\"\"),\"https://www.iana.org/assignments/media-types/application/vnd.msign\")","v":"https://www.iana.org/assignments/media-types/application/vnd.msign"},{"$f":"IFERROR(__xludf.DUMMYFUNCTION(\"\"\"COMPUTED_VALUE\"\"\"),\"vnd.msign\")","v":"vnd.msign"},{"$f":"IFERROR(__xludf.DUMMYFUNCTION(\"\"\"COMPUTED_VALUE\"\"\"),\"vnd.msign\")","v":"vnd.msign"},{"$f":"IFERROR(__xludf.DUMMYFUNCTION(\"\"\"COMPUTED_VALUE\"\"\"),\"application/vnd.msign\")","v":"application/vnd.msign"},{"$f":"IFERROR(__xludf.DUMMYFUNCTION(\"\"\"COMPUTED_VALUE\"\"\"),\"en\")","v":"en"}]
[{"$f":"IFERROR(__xludf.DUMMYFUNCTION(\"\"\"COMPUTED_VALUE\"\"\"),\"https://www.iana.org/assignments/media-types/application/vnd.multiad.creator\")","v":"https://www.iana.org/assignments/media-types/application/vnd.multiad.creator"},{"$f":"IFERROR(__xludf.DUMMYFUNCTION(\"\"\"COMPUTED_VALUE\"\"\"),\"vnd.multiad.creator\")","v":"vnd.multiad.creator"},{"$f":"IFERROR(__xludf.DUMMYFUNCTION(\"\"\"COMPUTED_VALUE\"\"\"),\"vnd.multiad.creator\")","v":"vnd.multiad.creator"},{"$f":"IFERROR(__xludf.DUMMYFUNCTION(\"\"\"COMPUTED_VALUE\"\"\"),\"application/vnd.multiad.creator\")","v":"application/vnd.multiad.creator"},{"$f":"IFERROR(__xludf.DUMMYFUNCTION(\"\"\"COMPUTED_VALUE\"\"\"),\"en\")","v":"en"}]
[{"$f":"IFERROR(__xludf.DUMMYFUNCTION(\"\"\"COMPUTED_VALUE\"\"\"),\"https://www.iana.org/assignments/media-types/application/vnd.multiad.creator.cif\")","v":"https://www.iana.org/assignments/media-types/application/vnd.multiad.creator.cif"},{"$f":"IFERROR(__xludf.DUMMYFUNCTION(\"\"\"COMPUTED_VALUE\"\"\"),\"vnd.multiad.creator.cif\")","v":"vnd.multiad.creator.cif"},{"$f":"IFERROR(__xludf.DUMMYFUNCTION(\"\"\"COMPUTED_VALUE\"\"\"),\"vnd.multiad.creator.cif\")","v":"vnd.multiad.creator.cif"},{"$f":"IFERROR(__xludf.DUMMYFUNCTION(\"\"\"COMPUTED_VALUE\"\"\"),\"application/vnd.multiad.creator.cif\")","v":"application/vnd.multiad.creator.cif"},{"$f":"IFERROR(__xludf.DUMMYFUNCTION(\"\"\"COMPUTED_VALUE\"\"\"),\"en\")","v":"en"}]
[{"$f":"IFERROR(__xludf.DUMMYFUNCTION(\"\"\"COMPUTED_VALUE\"\"\"),\"https://www.iana.org/assignments/media-types/application/vnd.musician\")","v":"https://www.iana.org/assignments/media-types/application/vnd.musician"},{"$f":"IFERROR(__xludf.DUMMYFUNCTION(\"\"\"COMPUTED_VALUE\"\"\"),\"vnd.musician\")","v":"vnd.musician"},{"$f":"IFERROR(__xludf.DUMMYFUNCTION(\"\"\"COMPUTED_VALUE\"\"\"),\"vnd.musician\")","v":"vnd.musician"},{"$f":"IFERROR(__xludf.DUMMYFUNCTION(\"\"\"COMPUTED_VALUE\"\"\"),\"application/vnd.musician\")","v":"application/vnd.musician"},{"$f":"IFERROR(__xludf.DUMMYFUNCTION(\"\"\"COMPUTED_VALUE\"\"\"),\"en\")","v":"en"}]
[{"$f":"IFERROR(__xludf.DUMMYFUNCTION(\"\"\"COMPUTED_VALUE\"\"\"),\"https://www.iana.org/assignments/media-types/application/vnd.music-niff\")","v":"https://www.iana.org/assignments/media-types/application/vnd.music-niff"},{"$f":"IFERROR(__xludf.DUMMYFUNCTION(\"\"\"COMPUTED_VALUE\"\"\"),\"vnd.music-niff\")","v":"vnd.music-niff"},{"$f":"IFERROR(__xludf.DUMMYFUNCTION(\"\"\"COMPUTED_VALUE\"\"\"),\"vnd.music-niff\")","v":"vnd.music-niff"},{"$f":"IFERROR(__xludf.DUMMYFUNCTION(\"\"\"COMPUTED_VALUE\"\"\"),\"application/vnd.music-niff\")","v":"application/vnd.music-niff"},{"$f":"IFERROR(__xludf.DUMMYFUNCTION(\"\"\"COMPUTED_VALUE\"\"\"),\"en\")","v":"en"}]
[{"$f":"IFERROR(__xludf.DUMMYFUNCTION(\"\"\"COMPUTED_VALUE\"\"\"),\"https://www.iana.org/assignments/media-types/application/vnd.muvee.style\")","v":"https://www.iana.org/assignments/media-types/application/vnd.muvee.style"},{"$f":"IFERROR(__xludf.DUMMYFUNCTION(\"\"\"COMPUTED_VALUE\"\"\"),\"vnd.muvee.style\")","v":"vnd.muvee.style"},{"$f":"IFERROR(__xludf.DUMMYFUNCTION(\"\"\"COMPUTED_VALUE\"\"\"),\"vnd.muvee.style\")","v":"vnd.muvee.style"},{"$f":"IFERROR(__xludf.DUMMYFUNCTION(\"\"\"COMPUTED_VALUE\"\"\"),\"application/vnd.muvee.style\")","v":"application/vnd.muvee.style"},{"$f":"IFERROR(__xludf.DUMMYFUNCTION(\"\"\"COMPUTED_VALUE\"\"\"),\"en\")","v":"en"}]
[{"$f":"IFERROR(__xludf.DUMMYFUNCTION(\"\"\"COMPUTED_VALUE\"\"\"),\"https://www.iana.org/assignments/media-types/application/vnd.mynfc\")","v":"https://www.iana.org/assignments/media-types/application/vnd.mynfc"},{"$f":"IFERROR(__xludf.DUMMYFUNCTION(\"\"\"COMPUTED_VALUE\"\"\"),\"vnd.mynfc\")","v":"vnd.mynfc"},{"$f":"IFERROR(__xludf.DUMMYFUNCTION(\"\"\"COMPUTED_VALUE\"\"\"),\"vnd.mynfc\")","v":"vnd.mynfc"},{"$f":"IFERROR(__xludf.DUMMYFUNCTION(\"\"\"COMPUTED_VALUE\"\"\"),\"application/vnd.mynfc\")","v":"application/vnd.mynfc"},{"$f":"IFERROR(__xludf.DUMMYFUNCTION(\"\"\"COMPUTED_VALUE\"\"\"),\"en\")","v":"en"}]
[{"$f":"IFERROR(__xludf.DUMMYFUNCTION(\"\"\"COMPUTED_VALUE\"\"\"),\"https://www.iana.org/assignments/media-types/application/vnd.nacamar.ybrid+json\")","v":"https://www.iana.org/assignments/media-types/application/vnd.nacamar.ybrid+json"},{"$f":"IFERROR(__xludf.DUMMYFUNCTION(\"\"\"COMPUTED_VALUE\"\"\"),\"vnd.nacamar.ybrid+json\")","v":"vnd.nacamar.ybrid+json"},{"$f":"IFERROR(__xludf.DUMMYFUNCTION(\"\"\"COMPUTED_VALUE\"\"\"),\"vnd.nacamar.ybrid+json\")","v":"vnd.nacamar.ybrid+json"},{"$f":"IFERROR(__xludf.DUMMYFUNCTION(\"\"\"COMPUTED_VALUE\"\"\"),\"application/vnd.nacamar.ybrid+json\")","v":"application/vnd.nacamar.ybrid+json"},{"$f":"IFERROR(__xludf.DUMMYFUNCTION(\"\"\"COMPUTED_VALUE\"\"\"),\"en\")","v":"en"}]
[{"$f":"IFERROR(__xludf.DUMMYFUNCTION(\"\"\"COMPUTED_VALUE\"\"\"),\"https://www.iana.org/assignments/media-types/application/vnd.ncd.control\")","v":"https://www.iana.org/assignments/media-types/application/vnd.ncd.control"},{"$f":"IFERROR(__xludf.DUMMYFUNCTION(\"\"\"COMPUTED_VALUE\"\"\"),\"vnd.ncd.control\")","v":"vnd.ncd.control"},{"$f":"IFERROR(__xludf.DUMMYFUNCTION(\"\"\"COMPUTED_VALUE\"\"\"),\"vnd.ncd.control\")","v":"vnd.ncd.control"},{"$f":"IFERROR(__xludf.DUMMYFUNCTION(\"\"\"COMPUTED_VALUE\"\"\"),\"application/vnd.ncd.control\")","v":"application/vnd.ncd.control"},{"$f":"IFERROR(__xludf.DUMMYFUNCTION(\"\"\"COMPUTED_VALUE\"\"\"),\"en\")","v":"en"}]
[{"$f":"IFERROR(__xludf.DUMMYFUNCTION(\"\"\"COMPUTED_VALUE\"\"\"),\"https://www.iana.org/assignments/media-types/application/vnd.ncd.reference\")","v":"https://www.iana.org/assignments/media-types/application/vnd.ncd.reference"},{"$f":"IFERROR(__xludf.DUMMYFUNCTION(\"\"\"COMPUTED_VALUE\"\"\"),\"vnd.ncd.reference\")","v":"vnd.ncd.reference"},{"$f":"IFERROR(__xludf.DUMMYFUNCTION(\"\"\"COMPUTED_VALUE\"\"\"),\"vnd.ncd.reference\")","v":"vnd.ncd.reference"},{"$f":"IFERROR(__xludf.DUMMYFUNCTION(\"\"\"COMPUTED_VALUE\"\"\"),\"application/vnd.ncd.reference\")","v":"application/vnd.ncd.reference"},{"$f":"IFERROR(__xludf.DUMMYFUNCTION(\"\"\"COMPUTED_VALUE\"\"\"),\"en\")","v":"en"}]
[{"$f":"IFERROR(__xludf.DUMMYFUNCTION(\"\"\"COMPUTED_VALUE\"\"\"),\"https://www.iana.org/assignments/media-types/application/vnd.nearst.inv+json\")","v":"https://www.iana.org/assignments/media-types/application/vnd.nearst.inv+json"},{"$f":"IFERROR(__xludf.DUMMYFUNCTION(\"\"\"COMPUTED_VALUE\"\"\"),\"vnd.nearst.inv+json\")","v":"vnd.nearst.inv+json"},{"$f":"IFERROR(__xludf.DUMMYFUNCTION(\"\"\"COMPUTED_VALUE\"\"\"),\"vnd.nearst.inv+json\")","v":"vnd.nearst.inv+json"},{"$f":"IFERROR(__xludf.DUMMYFUNCTION(\"\"\"COMPUTED_VALUE\"\"\"),\"application/vnd.nearst.inv+json\")","v":"application/vnd.nearst.inv+json"},{"$f":"IFERROR(__xludf.DUMMYFUNCTION(\"\"\"COMPUTED_VALUE\"\"\"),\"en\")","v":"en"}]
[{"$f":"IFERROR(__xludf.DUMMYFUNCTION(\"\"\"COMPUTED_VALUE\"\"\"),\"https://www.iana.org/assignments/media-types/application/vnd.nebumind.line\")","v":"https://www.iana.org/assignments/media-types/application/vnd.nebumind.line"},{"$f":"IFERROR(__xludf.DUMMYFUNCTION(\"\"\"COMPUTED_VALUE\"\"\"),\"vnd.nebumind.line\")","v":"vnd.nebumind.line"},{"$f":"IFERROR(__xludf.DUMMYFUNCTION(\"\"\"COMPUTED_VALUE\"\"\"),\"vnd.nebumind.line\")","v":"vnd.nebumind.line"},{"$f":"IFERROR(__xludf.DUMMYFUNCTION(\"\"\"COMPUTED_VALUE\"\"\"),\"application/vnd.nebumind.line\")","v":"application/vnd.nebumind.line"},{"$f":"IFERROR(__xludf.DUMMYFUNCTION(\"\"\"COMPUTED_VALUE\"\"\"),\"en\")","v":"en"}]
[{"$f":"IFERROR(__xludf.DUMMYFUNCTION(\"\"\"COMPUTED_VALUE\"\"\"),\"https://www.iana.org/assignments/media-types/application/vnd.nervana\")","v":"https://www.iana.org/assignments/media-types/application/vnd.nervana"},{"$f":"IFERROR(__xludf.DUMMYFUNCTION(\"\"\"COMPUTED_VALUE\"\"\"),\"vnd.nervana\")","v":"vnd.nervana"},{"$f":"IFERROR(__xludf.DUMMYFUNCTION(\"\"\"COMPUTED_VALUE\"\"\"),\"vnd.nervana\")","v":"vnd.nervana"},{"$f":"IFERROR(__xludf.DUMMYFUNCTION(\"\"\"COMPUTED_VALUE\"\"\"),\"application/vnd.nervana\")","v":"application/vnd.nervana"},{"$f":"IFERROR(__xludf.DUMMYFUNCTION(\"\"\"COMPUTED_VALUE\"\"\"),\"en\")","v":"en"}]
[{"$f":"IFERROR(__xludf.DUMMYFUNCTION(\"\"\"COMPUTED_VALUE\"\"\"),\"https://www.iana.org/assignments/media-types/application/vnd.netfpx\")","v":"https://www.iana.org/assignments/media-types/application/vnd.netfpx"},{"$f":"IFERROR(__xludf.DUMMYFUNCTION(\"\"\"COMPUTED_VALUE\"\"\"),\"vnd.netfpx\")","v":"vnd.netfpx"},{"$f":"IFERROR(__xludf.DUMMYFUNCTION(\"\"\"COMPUTED_VALUE\"\"\"),\"vnd.netfpx\")","v":"vnd.netfpx"},{"$f":"IFERROR(__xludf.DUMMYFUNCTION(\"\"\"COMPUTED_VALUE\"\"\"),\"application/vnd.netfpx\")","v":"application/vnd.netfpx"},{"$f":"IFERROR(__xludf.DUMMYFUNCTION(\"\"\"COMPUTED_VALUE\"\"\"),\"en\")","v":"en"}]
[{"$f":"IFERROR(__xludf.DUMMYFUNCTION(\"\"\"COMPUTED_VALUE\"\"\"),\"https://www.iana.org/assignments/media-types/application/vnd.neurolanguage.nlu\")","v":"https://www.iana.org/assignments/media-types/application/vnd.neurolanguage.nlu"},{"$f":"IFERROR(__xludf.DUMMYFUNCTION(\"\"\"COMPUTED_VALUE\"\"\"),\"vnd.neurolanguage.nlu\")","v":"vnd.neurolanguage.nlu"},{"$f":"IFERROR(__xludf.DUMMYFUNCTION(\"\"\"COMPUTED_VALUE\"\"\"),\"vnd.neurolanguage.nlu\")","v":"vnd.neurolanguage.nlu"},{"$f":"IFERROR(__xludf.DUMMYFUNCTION(\"\"\"COMPUTED_VALUE\"\"\"),\"application/vnd.neurolanguage.nlu\")","v":"application/vnd.neurolanguage.nlu"},{"$f":"IFERROR(__xludf.DUMMYFUNCTION(\"\"\"COMPUTED_VALUE\"\"\"),\"en\")","v":"en"}]
[{"$f":"IFERROR(__xludf.DUMMYFUNCTION(\"\"\"COMPUTED_VALUE\"\"\"),\"https://www.iana.org/assignments/media-types/application/vnd.nimn\")","v":"https://www.iana.org/assignments/media-types/application/vnd.nimn"},{"$f":"IFERROR(__xludf.DUMMYFUNCTION(\"\"\"COMPUTED_VALUE\"\"\"),\"vnd.nimn\")","v":"vnd.nimn"},{"$f":"IFERROR(__xludf.DUMMYFUNCTION(\"\"\"COMPUTED_VALUE\"\"\"),\"vnd.nimn\")","v":"vnd.nimn"},{"$f":"IFERROR(__xludf.DUMMYFUNCTION(\"\"\"COMPUTED_VALUE\"\"\"),\"application/vnd.nimn\")","v":"application/vnd.nimn"},{"$f":"IFERROR(__xludf.DUMMYFUNCTION(\"\"\"COMPUTED_VALUE\"\"\"),\"en\")","v":"en"}]
[{"$f":"IFERROR(__xludf.DUMMYFUNCTION(\"\"\"COMPUTED_VALUE\"\"\"),\"https://www.iana.org/assignments/media-types/application/vnd.nintendo.snes.rom\")","v":"https://www.iana.org/assignments/media-types/application/vnd.nintendo.snes.rom"},{"$f":"IFERROR(__xludf.DUMMYFUNCTION(\"\"\"COMPUTED_VALUE\"\"\"),\"vnd.nintendo.snes.rom\")","v":"vnd.nintendo.snes.rom"},{"$f":"IFERROR(__xludf.DUMMYFUNCTION(\"\"\"COMPUTED_VALUE\"\"\"),\"vnd.nintendo.snes.rom\")","v":"vnd.nintendo.snes.rom"},{"$f":"IFERROR(__xludf.DUMMYFUNCTION(\"\"\"COMPUTED_VALUE\"\"\"),\"application/vnd.nintendo.snes.rom\")","v":"application/vnd.nintendo.snes.rom"},{"$f":"IFERROR(__xludf.DUMMYFUNCTION(\"\"\"COMPUTED_VALUE\"\"\"),\"en\")","v":"en"}]
[{"$f":"IFERROR(__xludf.DUMMYFUNCTION(\"\"\"COMPUTED_VALUE\"\"\"),\"https://www.iana.org/assignments/media-types/application/vnd.nintendo.nitro.rom\")","v":"https://www.iana.org/assignments/media-types/application/vnd.nintendo.nitro.rom"},{"$f":"IFERROR(__xludf.DUMMYFUNCTION(\"\"\"COMPUTED_VALUE\"\"\"),\"vnd.nintendo.nitro.rom\")","v":"vnd.nintendo.nitro.rom"},{"$f":"IFERROR(__xludf.DUMMYFUNCTION(\"\"\"COMPUTED_VALUE\"\"\"),\"vnd.nintendo.nitro.rom\")","v":"vnd.nintendo.nitro.rom"},{"$f":"IFERROR(__xludf.DUMMYFUNCTION(\"\"\"COMPUTED_VALUE\"\"\"),\"application/vnd.nintendo.nitro.rom\")","v":"application/vnd.nintendo.nitro.rom"},{"$f":"IFERROR(__xludf.DUMMYFUNCTION(\"\"\"COMPUTED_VALUE\"\"\"),\"en\")","v":"en"}]
[{"$f":"IFERROR(__xludf.DUMMYFUNCTION(\"\"\"COMPUTED_VALUE\"\"\"),\"https://www.iana.org/assignments/media-types/application/vnd.nitf\")","v":"https://www.iana.org/assignments/media-types/application/vnd.nitf"},{"$f":"IFERROR(__xludf.DUMMYFUNCTION(\"\"\"COMPUTED_VALUE\"\"\"),\"vnd.nitf\")","v":"vnd.nitf"},{"$f":"IFERROR(__xludf.DUMMYFUNCTION(\"\"\"COMPUTED_VALUE\"\"\"),\"vnd.nitf\")","v":"vnd.nitf"},{"$f":"IFERROR(__xludf.DUMMYFUNCTION(\"\"\"COMPUTED_VALUE\"\"\"),\"application/vnd.nitf\")","v":"application/vnd.nitf"},{"$f":"IFERROR(__xludf.DUMMYFUNCTION(\"\"\"COMPUTED_VALUE\"\"\"),\"en\")","v":"en"}]
[{"$f":"IFERROR(__xludf.DUMMYFUNCTION(\"\"\"COMPUTED_VALUE\"\"\"),\"https://www.iana.org/assignments/media-types/application/vnd.noblenet-directory\")","v":"https://www.iana.org/assignments/media-types/application/vnd.noblenet-directory"},{"$f":"IFERROR(__xludf.DUMMYFUNCTION(\"\"\"COMPUTED_VALUE\"\"\"),\"vnd.noblenet-directory\")","v":"vnd.noblenet-directory"},{"$f":"IFERROR(__xludf.DUMMYFUNCTION(\"\"\"COMPUTED_VALUE\"\"\"),\"vnd.noblenet-directory\")","v":"vnd.noblenet-directory"},{"$f":"IFERROR(__xludf.DUMMYFUNCTION(\"\"\"COMPUTED_VALUE\"\"\"),\"application/vnd.noblenet-directory\")","v":"application/vnd.noblenet-directory"},{"$f":"IFERROR(__xludf.DUMMYFUNCTION(\"\"\"COMPUTED_VALUE\"\"\"),\"en\")","v":"en"}]
[{"$f":"IFERROR(__xludf.DUMMYFUNCTION(\"\"\"COMPUTED_VALUE\"\"\"),\"https://www.iana.org/assignments/media-types/application/vnd.noblenet-sealer\")","v":"https://www.iana.org/assignments/media-types/application/vnd.noblenet-sealer"},{"$f":"IFERROR(__xludf.DUMMYFUNCTION(\"\"\"COMPUTED_VALUE\"\"\"),\"vnd.noblenet-sealer\")","v":"vnd.noblenet-sealer"},{"$f":"IFERROR(__xludf.DUMMYFUNCTION(\"\"\"COMPUTED_VALUE\"\"\"),\"vnd.noblenet-sealer\")","v":"vnd.noblenet-sealer"},{"$f":"IFERROR(__xludf.DUMMYFUNCTION(\"\"\"COMPUTED_VALUE\"\"\"),\"application/vnd.noblenet-sealer\")","v":"application/vnd.noblenet-sealer"},{"$f":"IFERROR(__xludf.DUMMYFUNCTION(\"\"\"COMPUTED_VALUE\"\"\"),\"en\")","v":"en"}]
[{"$f":"IFERROR(__xludf.DUMMYFUNCTION(\"\"\"COMPUTED_VALUE\"\"\"),\"https://www.iana.org/assignments/media-types/application/vnd.noblenet-web\")","v":"https://www.iana.org/assignments/media-types/application/vnd.noblenet-web"},{"$f":"IFERROR(__xludf.DUMMYFUNCTION(\"\"\"COMPUTED_VALUE\"\"\"),\"vnd.noblenet-web\")","v":"vnd.noblenet-web"},{"$f":"IFERROR(__xludf.DUMMYFUNCTION(\"\"\"COMPUTED_VALUE\"\"\"),\"vnd.noblenet-web\")","v":"vnd.noblenet-web"},{"$f":"IFERROR(__xludf.DUMMYFUNCTION(\"\"\"COMPUTED_VALUE\"\"\"),\"application/vnd.noblenet-web\")","v":"application/vnd.noblenet-web"},{"$f":"IFERROR(__xludf.DUMMYFUNCTION(\"\"\"COMPUTED_VALUE\"\"\"),\"en\")","v":"en"}]
[{"$f":"IFERROR(__xludf.DUMMYFUNCTION(\"\"\"COMPUTED_VALUE\"\"\"),\"https://www.iana.org/assignments/media-types/application/vnd.nokia.catalogs\")","v":"https://www.iana.org/assignments/media-types/application/vnd.nokia.catalogs"},{"$f":"IFERROR(__xludf.DUMMYFUNCTION(\"\"\"COMPUTED_VALUE\"\"\"),\"vnd.nokia.catalogs\")","v":"vnd.nokia.catalogs"},{"$f":"IFERROR(__xludf.DUMMYFUNCTION(\"\"\"COMPUTED_VALUE\"\"\"),\"vnd.nokia.catalogs\")","v":"vnd.nokia.catalogs"},{"$f":"IFERROR(__xludf.DUMMYFUNCTION(\"\"\"COMPUTED_VALUE\"\"\"),\"application/vnd.nokia.catalogs\")","v":"application/vnd.nokia.catalogs"},{"$f":"IFERROR(__xludf.DUMMYFUNCTION(\"\"\"COMPUTED_VALUE\"\"\"),\"en\")","v":"en"}]
[{"$f":"IFERROR(__xludf.DUMMYFUNCTION(\"\"\"COMPUTED_VALUE\"\"\"),\"https://www.iana.org/assignments/media-types/application/vnd.nokia.conml+wbxml\")","v":"https://www.iana.org/assignments/media-types/application/vnd.nokia.conml+wbxml"},{"$f":"IFERROR(__xludf.DUMMYFUNCTION(\"\"\"COMPUTED_VALUE\"\"\"),\"vnd.nokia.conml+wbxml\")","v":"vnd.nokia.conml+wbxml"},{"$f":"IFERROR(__xludf.DUMMYFUNCTION(\"\"\"COMPUTED_VALUE\"\"\"),\"vnd.nokia.conml+wbxml\")","v":"vnd.nokia.conml+wbxml"},{"$f":"IFERROR(__xludf.DUMMYFUNCTION(\"\"\"COMPUTED_VALUE\"\"\"),\"application/vnd.nokia.conml+wbxml\")","v":"application/vnd.nokia.conml+wbxml"},{"$f":"IFERROR(__xludf.DUMMYFUNCTION(\"\"\"COMPUTED_VALUE\"\"\"),\"en\")","v":"en"}]
[{"$f":"IFERROR(__xludf.DUMMYFUNCTION(\"\"\"COMPUTED_VALUE\"\"\"),\"https://www.iana.org/assignments/media-types/application/vnd.nokia.conml+xml\")","v":"https://www.iana.org/assignments/media-types/application/vnd.nokia.conml+xml"},{"$f":"IFERROR(__xludf.DUMMYFUNCTION(\"\"\"COMPUTED_VALUE\"\"\"),\"vnd.nokia.conml+xml\")","v":"vnd.nokia.conml+xml"},{"$f":"IFERROR(__xludf.DUMMYFUNCTION(\"\"\"COMPUTED_VALUE\"\"\"),\"vnd.nokia.conml+xml\")","v":"vnd.nokia.conml+xml"},{"$f":"IFERROR(__xludf.DUMMYFUNCTION(\"\"\"COMPUTED_VALUE\"\"\"),\"application/vnd.nokia.conml+xml\")","v":"application/vnd.nokia.conml+xml"},{"$f":"IFERROR(__xludf.DUMMYFUNCTION(\"\"\"COMPUTED_VALUE\"\"\"),\"en\")","v":"en"}]
[{"$f":"IFERROR(__xludf.DUMMYFUNCTION(\"\"\"COMPUTED_VALUE\"\"\"),\"https://www.iana.org/assignments/media-types/application/vnd.nokia.iptv.config+xml\")","v":"https://www.iana.org/assignments/media-types/application/vnd.nokia.iptv.config+xml"},{"$f":"IFERROR(__xludf.DUMMYFUNCTION(\"\"\"COMPUTED_VALUE\"\"\"),\"vnd.nokia.iptv.config+xml\")","v":"vnd.nokia.iptv.config+xml"},{"$f":"IFERROR(__xludf.DUMMYFUNCTION(\"\"\"COMPUTED_VALUE\"\"\"),\"vnd.nokia.iptv.config+xml\")","v":"vnd.nokia.iptv.config+xml"},{"$f":"IFERROR(__xludf.DUMMYFUNCTION(\"\"\"COMPUTED_VALUE\"\"\"),\"application/vnd.nokia.iptv.config+xml\")","v":"application/vnd.nokia.iptv.config+xml"},{"$f":"IFERROR(__xludf.DUMMYFUNCTION(\"\"\"COMPUTED_VALUE\"\"\"),\"en\")","v":"en"}]
[{"$f":"IFERROR(__xludf.DUMMYFUNCTION(\"\"\"COMPUTED_VALUE\"\"\"),\"https://www.iana.org/assignments/media-types/application/vnd.nokia.iSDS-radio-presets\")","v":"https://www.iana.org/assignments/media-types/application/vnd.nokia.iSDS-radio-presets"},{"$f":"IFERROR(__xludf.DUMMYFUNCTION(\"\"\"COMPUTED_VALUE\"\"\"),\"vnd.nokia.iSDS-radio-presets\")","v":"vnd.nokia.iSDS-radio-presets"},{"$f":"IFERROR(__xludf.DUMMYFUNCTION(\"\"\"COMPUTED_VALUE\"\"\"),\"vnd.nokia.iSDS-radio-presets\")","v":"vnd.nokia.iSDS-radio-presets"},{"$f":"IFERROR(__xludf.DUMMYFUNCTION(\"\"\"COMPUTED_VALUE\"\"\"),\"application/vnd.nokia.iSDS-radio-presets\")","v":"application/vnd.nokia.iSDS-radio-presets"},{"$f":"IFERROR(__xludf.DUMMYFUNCTION(\"\"\"COMPUTED_VALUE\"\"\"),\"en\")","v":"en"}]
[{"$f":"IFERROR(__xludf.DUMMYFUNCTION(\"\"\"COMPUTED_VALUE\"\"\"),\"https://www.iana.org/assignments/media-types/application/vnd.nokia.landmark+wbxml\")","v":"https://www.iana.org/assignments/media-types/application/vnd.nokia.landmark+wbxml"},{"$f":"IFERROR(__xludf.DUMMYFUNCTION(\"\"\"COMPUTED_VALUE\"\"\"),\"vnd.nokia.landmark+wbxml\")","v":"vnd.nokia.landmark+wbxml"},{"$f":"IFERROR(__xludf.DUMMYFUNCTION(\"\"\"COMPUTED_VALUE\"\"\"),\"vnd.nokia.landmark+wbxml\")","v":"vnd.nokia.landmark+wbxml"},{"$f":"IFERROR(__xludf.DUMMYFUNCTION(\"\"\"COMPUTED_VALUE\"\"\"),\"application/vnd.nokia.landmark+wbxml\")","v":"application/vnd.nokia.landmark+wbxml"},{"$f":"IFERROR(__xludf.DUMMYFUNCTION(\"\"\"COMPUTED_VALUE\"\"\"),\"en\")","v":"en"}]
[{"$f":"IFERROR(__xludf.DUMMYFUNCTION(\"\"\"COMPUTED_VALUE\"\"\"),\"https://www.iana.org/assignments/media-types/application/vnd.nokia.landmark+xml\")","v":"https://www.iana.org/assignments/media-types/application/vnd.nokia.landmark+xml"},{"$f":"IFERROR(__xludf.DUMMYFUNCTION(\"\"\"COMPUTED_VALUE\"\"\"),\"vnd.nokia.landmark+xml\")","v":"vnd.nokia.landmark+xml"},{"$f":"IFERROR(__xludf.DUMMYFUNCTION(\"\"\"COMPUTED_VALUE\"\"\"),\"vnd.nokia.landmark+xml\")","v":"vnd.nokia.landmark+xml"},{"$f":"IFERROR(__xludf.DUMMYFUNCTION(\"\"\"COMPUTED_VALUE\"\"\"),\"application/vnd.nokia.landmark+xml\")","v":"application/vnd.nokia.landmark+xml"},{"$f":"IFERROR(__xludf.DUMMYFUNCTION(\"\"\"COMPUTED_VALUE\"\"\"),\"en\")","v":"en"}]
[{"$f":"IFERROR(__xludf.DUMMYFUNCTION(\"\"\"COMPUTED_VALUE\"\"\"),\"https://www.iana.org/assignments/media-types/application/vnd.nokia.landmarkcollection+xml\")","v":"https://www.iana.org/assignments/media-types/application/vnd.nokia.landmarkcollection+xml"},{"$f":"IFERROR(__xludf.DUMMYFUNCTION(\"\"\"COMPUTED_VALUE\"\"\"),\"vnd.nokia.landmarkcollection+xml\")","v":"vnd.nokia.landmarkcollection+xml"},{"$f":"IFERROR(__xludf.DUMMYFUNCTION(\"\"\"COMPUTED_VALUE\"\"\"),\"vnd.nokia.landmarkcollection+xml\")","v":"vnd.nokia.landmarkcollection+xml"},{"$f":"IFERROR(__xludf.DUMMYFUNCTION(\"\"\"COMPUTED_VALUE\"\"\"),\"application/vnd.nokia.landmarkcollection+xml\")","v":"application/vnd.nokia.landmarkcollection+xml"},{"$f":"IFERROR(__xludf.DUMMYFUNCTION(\"\"\"COMPUTED_VALUE\"\"\"),\"en\")","v":"en"}]
[{"$f":"IFERROR(__xludf.DUMMYFUNCTION(\"\"\"COMPUTED_VALUE\"\"\"),\"https://www.iana.org/assignments/media-types/application/vnd.nokia.ncd\")","v":"https://www.iana.org/assignments/media-types/application/vnd.nokia.ncd"},{"$f":"IFERROR(__xludf.DUMMYFUNCTION(\"\"\"COMPUTED_VALUE\"\"\"),\"vnd.nokia.ncd\")","v":"vnd.nokia.ncd"},{"$f":"IFERROR(__xludf.DUMMYFUNCTION(\"\"\"COMPUTED_VALUE\"\"\"),\"vnd.nokia.ncd\")","v":"vnd.nokia.ncd"},{"$f":"IFERROR(__xludf.DUMMYFUNCTION(\"\"\"COMPUTED_VALUE\"\"\"),\"application/vnd.nokia.ncd\")","v":"application/vnd.nokia.ncd"},{"$f":"IFERROR(__xludf.DUMMYFUNCTION(\"\"\"COMPUTED_VALUE\"\"\"),\"en\")","v":"en"}]
[{"$f":"IFERROR(__xludf.DUMMYFUNCTION(\"\"\"COMPUTED_VALUE\"\"\"),\"https://www.iana.org/assignments/media-types/application/vnd.nokia.n-gage.ac+xml\")","v":"https://www.iana.org/assignments/media-types/application/vnd.nokia.n-gage.ac+xml"},{"$f":"IFERROR(__xludf.DUMMYFUNCTION(\"\"\"COMPUTED_VALUE\"\"\"),\"vnd.nokia.n-gage.ac+xml\")","v":"vnd.nokia.n-gage.ac+xml"},{"$f":"IFERROR(__xludf.DUMMYFUNCTION(\"\"\"COMPUTED_VALUE\"\"\"),\"vnd.nokia.n-gage.ac+xml\")","v":"vnd.nokia.n-gage.ac+xml"},{"$f":"IFERROR(__xludf.DUMMYFUNCTION(\"\"\"COMPUTED_VALUE\"\"\"),\"application/vnd.nokia.n-gage.ac+xml\")","v":"application/vnd.nokia.n-gage.ac+xml"},{"$f":"IFERROR(__xludf.DUMMYFUNCTION(\"\"\"COMPUTED_VALUE\"\"\"),\"en\")","v":"en"}]
[{"$f":"IFERROR(__xludf.DUMMYFUNCTION(\"\"\"COMPUTED_VALUE\"\"\"),\"https://www.iana.org/assignments/media-types/application/vnd.nokia.n-gage.data\")","v":"https://www.iana.org/assignments/media-types/application/vnd.nokia.n-gage.data"},{"$f":"IFERROR(__xludf.DUMMYFUNCTION(\"\"\"COMPUTED_VALUE\"\"\"),\"vnd.nokia.n-gage.data\")","v":"vnd.nokia.n-gage.data"},{"$f":"IFERROR(__xludf.DUMMYFUNCTION(\"\"\"COMPUTED_VALUE\"\"\"),\"vnd.nokia.n-gage.data\")","v":"vnd.nokia.n-gage.data"},{"$f":"IFERROR(__xludf.DUMMYFUNCTION(\"\"\"COMPUTED_VALUE\"\"\"),\"application/vnd.nokia.n-gage.data\")","v":"application/vnd.nokia.n-gage.data"},{"$f":"IFERROR(__xludf.DUMMYFUNCTION(\"\"\"COMPUTED_VALUE\"\"\"),\"en\")","v":"en"}]
[{"$f":"IFERROR(__xludf.DUMMYFUNCTION(\"\"\"COMPUTED_VALUE\"\"\"),\"https://www.iana.org/assignments/media-types/application/vnd.nokia.n-gage.symbian.install\")","v":"https://www.iana.org/assignments/media-types/application/vnd.nokia.n-gage.symbian.install"},{"$f":"IFERROR(__xludf.DUMMYFUNCTION(\"\"\"COMPUTED_VALUE\"\"\"),\"vnd.nokia.n-gage.symbian.install (OBSOLETE; no replacement given)\")","v":"vnd.nokia.n-gage.symbian.install (OBSOLETE; no replacement given)"},{"$f":"IFERROR(__xludf.DUMMYFUNCTION(\"\"\"COMPUTED_VALUE\"\"\"),\"vnd.nokia.n-gage.symbian.install (OBSOLETE; no replacement given)\")","v":"vnd.nokia.n-gage.symbian.install (OBSOLETE; no replacement given)"},{"$f":"IFERROR(__xludf.DUMMYFUNCTION(\"\"\"COMPUTED_VALUE\"\"\"),\"application/vnd.nokia.n-gage.symbian.install\")","v":"application/vnd.nokia.n-gage.symbian.install"},{"$f":"IFERROR(__xludf.DUMMYFUNCTION(\"\"\"COMPUTED_VALUE\"\"\"),\"en\")","v":"en"}]
[{"$f":"IFERROR(__xludf.DUMMYFUNCTION(\"\"\"COMPUTED_VALUE\"\"\"),\"https://www.iana.org/assignments/media-types/application/vnd.nokia.pcd+wbxml\")","v":"https://www.iana.org/assignments/media-types/application/vnd.nokia.pcd+wbxml"},{"$f":"IFERROR(__xludf.DUMMYFUNCTION(\"\"\"COMPUTED_VALUE\"\"\"),\"vnd.nokia.pcd+wbxml\")","v":"vnd.nokia.pcd+wbxml"},{"$f":"IFERROR(__xludf.DUMMYFUNCTION(\"\"\"COMPUTED_VALUE\"\"\"),\"vnd.nokia.pcd+wbxml\")","v":"vnd.nokia.pcd+wbxml"},{"$f":"IFERROR(__xludf.DUMMYFUNCTION(\"\"\"COMPUTED_VALUE\"\"\"),\"application/vnd.nokia.pcd+wbxml\")","v":"application/vnd.nokia.pcd+wbxml"},{"$f":"IFERROR(__xludf.DUMMYFUNCTION(\"\"\"COMPUTED_VALUE\"\"\"),\"en\")","v":"en"}]
[{"$f":"IFERROR(__xludf.DUMMYFUNCTION(\"\"\"COMPUTED_VALUE\"\"\"),\"https://www.iana.org/assignments/media-types/application/vnd.nokia.pcd+xml\")","v":"https://www.iana.org/assignments/media-types/application/vnd.nokia.pcd+xml"},{"$f":"IFERROR(__xludf.DUMMYFUNCTION(\"\"\"COMPUTED_VALUE\"\"\"),\"vnd.nokia.pcd+xml\")","v":"vnd.nokia.pcd+xml"},{"$f":"IFERROR(__xludf.DUMMYFUNCTION(\"\"\"COMPUTED_VALUE\"\"\"),\"vnd.nokia.pcd+xml\")","v":"vnd.nokia.pcd+xml"},{"$f":"IFERROR(__xludf.DUMMYFUNCTION(\"\"\"COMPUTED_VALUE\"\"\"),\"application/vnd.nokia.pcd+xml\")","v":"application/vnd.nokia.pcd+xml"},{"$f":"IFERROR(__xludf.DUMMYFUNCTION(\"\"\"COMPUTED_VALUE\"\"\"),\"en\")","v":"en"}]
[{"$f":"IFERROR(__xludf.DUMMYFUNCTION(\"\"\"COMPUTED_VALUE\"\"\"),\"https://www.iana.org/assignments/media-types/application/vnd.nokia.radio-preset\")","v":"https://www.iana.org/assignments/media-types/application/vnd.nokia.radio-preset"},{"$f":"IFERROR(__xludf.DUMMYFUNCTION(\"\"\"COMPUTED_VALUE\"\"\"),\"vnd.nokia.radio-preset\")","v":"vnd.nokia.radio-preset"},{"$f":"IFERROR(__xludf.DUMMYFUNCTION(\"\"\"COMPUTED_VALUE\"\"\"),\"vnd.nokia.radio-preset\")","v":"vnd.nokia.radio-preset"},{"$f":"IFERROR(__xludf.DUMMYFUNCTION(\"\"\"COMPUTED_VALUE\"\"\"),\"application/vnd.nokia.radio-preset\")","v":"application/vnd.nokia.radio-preset"},{"$f":"IFERROR(__xludf.DUMMYFUNCTION(\"\"\"COMPUTED_VALUE\"\"\"),\"en\")","v":"en"}]
[{"$f":"IFERROR(__xludf.DUMMYFUNCTION(\"\"\"COMPUTED_VALUE\"\"\"),\"https://www.iana.org/assignments/media-types/application/vnd.nokia.radio-presets\")","v":"https://www.iana.org/assignments/media-types/application/vnd.nokia.radio-presets"},{"$f":"IFERROR(__xludf.DUMMYFUNCTION(\"\"\"COMPUTED_VALUE\"\"\"),\"vnd.nokia.radio-presets\")","v":"vnd.nokia.radio-presets"},{"$f":"IFERROR(__xludf.DUMMYFUNCTION(\"\"\"COMPUTED_VALUE\"\"\"),\"vnd.nokia.radio-presets\")","v":"vnd.nokia.radio-presets"},{"$f":"IFERROR(__xludf.DUMMYFUNCTION(\"\"\"COMPUTED_VALUE\"\"\"),\"application/vnd.nokia.radio-presets\")","v":"application/vnd.nokia.radio-presets"},{"$f":"IFERROR(__xludf.DUMMYFUNCTION(\"\"\"COMPUTED_VALUE\"\"\"),\"en\")","v":"en"}]
[{"$f":"IFERROR(__xludf.DUMMYFUNCTION(\"\"\"COMPUTED_VALUE\"\"\"),\"https://www.iana.org/assignments/media-types/application/vnd.novadigm.EDM\")","v":"https://www.iana.org/assignments/media-types/application/vnd.novadigm.EDM"},{"$f":"IFERROR(__xludf.DUMMYFUNCTION(\"\"\"COMPUTED_VALUE\"\"\"),\"vnd.novadigm.EDM\")","v":"vnd.novadigm.EDM"},{"$f":"IFERROR(__xludf.DUMMYFUNCTION(\"\"\"COMPUTED_VALUE\"\"\"),\"vnd.novadigm.EDM\")","v":"vnd.novadigm.EDM"},{"$f":"IFERROR(__xludf.DUMMYFUNCTION(\"\"\"COMPUTED_VALUE\"\"\"),\"application/vnd.novadigm.EDM\")","v":"application/vnd.novadigm.EDM"},{"$f":"IFERROR(__xludf.DUMMYFUNCTION(\"\"\"COMPUTED_VALUE\"\"\"),\"en\")","v":"en"}]
[{"$f":"IFERROR(__xludf.DUMMYFUNCTION(\"\"\"COMPUTED_VALUE\"\"\"),\"https://www.iana.org/assignments/media-types/application/vnd.novadigm.EDX\")","v":"https://www.iana.org/assignments/media-types/application/vnd.novadigm.EDX"},{"$f":"IFERROR(__xludf.DUMMYFUNCTION(\"\"\"COMPUTED_VALUE\"\"\"),\"vnd.novadigm.EDX\")","v":"vnd.novadigm.EDX"},{"$f":"IFERROR(__xludf.DUMMYFUNCTION(\"\"\"COMPUTED_VALUE\"\"\"),\"vnd.novadigm.EDX\")","v":"vnd.novadigm.EDX"},{"$f":"IFERROR(__xludf.DUMMYFUNCTION(\"\"\"COMPUTED_VALUE\"\"\"),\"application/vnd.novadigm.EDX\")","v":"application/vnd.novadigm.EDX"},{"$f":"IFERROR(__xludf.DUMMYFUNCTION(\"\"\"COMPUTED_VALUE\"\"\"),\"en\")","v":"en"}]
[{"$f":"IFERROR(__xludf.DUMMYFUNCTION(\"\"\"COMPUTED_VALUE\"\"\"),\"https://www.iana.org/assignments/media-types/application/vnd.novadigm.EXT\")","v":"https://www.iana.org/assignments/media-types/application/vnd.novadigm.EXT"},{"$f":"IFERROR(__xludf.DUMMYFUNCTION(\"\"\"COMPUTED_VALUE\"\"\"),\"vnd.novadigm.EXT\")","v":"vnd.novadigm.EXT"},{"$f":"IFERROR(__xludf.DUMMYFUNCTION(\"\"\"COMPUTED_VALUE\"\"\"),\"vnd.novadigm.EXT\")","v":"vnd.novadigm.EXT"},{"$f":"IFERROR(__xludf.DUMMYFUNCTION(\"\"\"COMPUTED_VALUE\"\"\"),\"application/vnd.novadigm.EXT\")","v":"application/vnd.novadigm.EXT"},{"$f":"IFERROR(__xludf.DUMMYFUNCTION(\"\"\"COMPUTED_VALUE\"\"\"),\"en\")","v":"en"}]
[{"$f":"IFERROR(__xludf.DUMMYFUNCTION(\"\"\"COMPUTED_VALUE\"\"\"),\"https://www.iana.org/assignments/media-types/application/vnd.ntt-local.content-share\")","v":"https://www.iana.org/assignments/media-types/application/vnd.ntt-local.content-share"},{"$f":"IFERROR(__xludf.DUMMYFUNCTION(\"\"\"COMPUTED_VALUE\"\"\"),\"vnd.ntt-local.content-share\")","v":"vnd.ntt-local.content-share"},{"$f":"IFERROR(__xludf.DUMMYFUNCTION(\"\"\"COMPUTED_VALUE\"\"\"),\"vnd.ntt-local.content-share\")","v":"vnd.ntt-local.content-share"},{"$f":"IFERROR(__xludf.DUMMYFUNCTION(\"\"\"COMPUTED_VALUE\"\"\"),\"application/vnd.ntt-local.content-share\")","v":"application/vnd.ntt-local.content-share"},{"$f":"IFERROR(__xludf.DUMMYFUNCTION(\"\"\"COMPUTED_VALUE\"\"\"),\"en\")","v":"en"}]
[{"$f":"IFERROR(__xludf.DUMMYFUNCTION(\"\"\"COMPUTED_VALUE\"\"\"),\"https://www.iana.org/assignments/media-types/application/vnd.ntt-local.file-transfer\")","v":"https://www.iana.org/assignments/media-types/application/vnd.ntt-local.file-transfer"},{"$f":"IFERROR(__xludf.DUMMYFUNCTION(\"\"\"COMPUTED_VALUE\"\"\"),\"vnd.ntt-local.file-transfer\")","v":"vnd.ntt-local.file-transfer"},{"$f":"IFERROR(__xludf.DUMMYFUNCTION(\"\"\"COMPUTED_VALUE\"\"\"),\"vnd.ntt-local.file-transfer\")","v":"vnd.ntt-local.file-transfer"},{"$f":"IFERROR(__xludf.DUMMYFUNCTION(\"\"\"COMPUTED_VALUE\"\"\"),\"application/vnd.ntt-local.file-transfer\")","v":"application/vnd.ntt-local.file-transfer"},{"$f":"IFERROR(__xludf.DUMMYFUNCTION(\"\"\"COMPUTED_VALUE\"\"\"),\"en\")","v":"en"}]
[{"$f":"IFERROR(__xludf.DUMMYFUNCTION(\"\"\"COMPUTED_VALUE\"\"\"),\"https://www.iana.org/assignments/media-types/application/vnd.ntt-local.ogw_remote-access\")","v":"https://www.iana.org/assignments/media-types/application/vnd.ntt-local.ogw_remote-access"},{"$f":"IFERROR(__xludf.DUMMYFUNCTION(\"\"\"COMPUTED_VALUE\"\"\"),\"vnd.ntt-local.ogw_remote-access\")","v":"vnd.ntt-local.ogw_remote-access"},{"$f":"IFERROR(__xludf.DUMMYFUNCTION(\"\"\"COMPUTED_VALUE\"\"\"),\"vnd.ntt-local.ogw_remote-access\")","v":"vnd.ntt-local.ogw_remote-access"},{"$f":"IFERROR(__xludf.DUMMYFUNCTION(\"\"\"COMPUTED_VALUE\"\"\"),\"application/vnd.ntt-local.ogw_remote-access\")","v":"application/vnd.ntt-local.ogw_remote-access"},{"$f":"IFERROR(__xludf.DUMMYFUNCTION(\"\"\"COMPUTED_VALUE\"\"\"),\"en\")","v":"en"}]
[{"$f":"IFERROR(__xludf.DUMMYFUNCTION(\"\"\"COMPUTED_VALUE\"\"\"),\"https://www.iana.org/assignments/media-types/application/vnd.ntt-local.sip-ta_remote\")","v":"https://www.iana.org/assignments/media-types/application/vnd.ntt-local.sip-ta_remote"},{"$f":"IFERROR(__xludf.DUMMYFUNCTION(\"\"\"COMPUTED_VALUE\"\"\"),\"vnd.ntt-local.sip-ta_remote\")","v":"vnd.ntt-local.sip-ta_remote"},{"$f":"IFERROR(__xludf.DUMMYFUNCTION(\"\"\"COMPUTED_VALUE\"\"\"),\"vnd.ntt-local.sip-ta_remote\")","v":"vnd.ntt-local.sip-ta_remote"},{"$f":"IFERROR(__xludf.DUMMYFUNCTION(\"\"\"COMPUTED_VALUE\"\"\"),\"application/vnd.ntt-local.sip-ta_remote\")","v":"application/vnd.ntt-local.sip-ta_remote"},{"$f":"IFERROR(__xludf.DUMMYFUNCTION(\"\"\"COMPUTED_VALUE\"\"\"),\"en\")","v":"en"}]
[{"$f":"IFERROR(__xludf.DUMMYFUNCTION(\"\"\"COMPUTED_VALUE\"\"\"),\"https://www.iana.org/assignments/media-types/application/vnd.ntt-local.sip-ta_tcp_stream\")","v":"https://www.iana.org/assignments/media-types/application/vnd.ntt-local.sip-ta_tcp_stream"},{"$f":"IFERROR(__xludf.DUMMYFUNCTION(\"\"\"COMPUTED_VALUE\"\"\"),\"vnd.ntt-local.sip-ta_tcp_stream\")","v":"vnd.ntt-local.sip-ta_tcp_stream"},{"$f":"IFERROR(__xludf.DUMMYFUNCTION(\"\"\"COMPUTED_VALUE\"\"\"),\"vnd.ntt-local.sip-ta_tcp_stream\")","v":"vnd.ntt-local.sip-ta_tcp_stream"},{"$f":"IFERROR(__xludf.DUMMYFUNCTION(\"\"\"COMPUTED_VALUE\"\"\"),\"application/vnd.ntt-local.sip-ta_tcp_stream\")","v":"application/vnd.ntt-local.sip-ta_tcp_stream"},{"$f":"IFERROR(__xludf.DUMMYFUNCTION(\"\"\"COMPUTED_VALUE\"\"\"),\"en\")","v":"en"}]
[{"$f":"IFERROR(__xludf.DUMMYFUNCTION(\"\"\"COMPUTED_VALUE\"\"\"),\"https://www.iana.org/assignments/media-types/application/vnd.oasis.opendocument.base\")","v":"https://www.iana.org/assignments/media-types/application/vnd.oasis.opendocument.base"},{"$f":"IFERROR(__xludf.DUMMYFUNCTION(\"\"\"COMPUTED_VALUE\"\"\"),\"vnd.oasis.opendocument.base\")","v":"vnd.oasis.opendocument.base"},{"$f":"IFERROR(__xludf.DUMMYFUNCTION(\"\"\"COMPUTED_VALUE\"\"\"),\"vnd.oasis.opendocument.base\")","v":"vnd.oasis.opendocument.base"},{"$f":"IFERROR(__xludf.DUMMYFUNCTION(\"\"\"COMPUTED_VALUE\"\"\"),\"application/vnd.oasis.opendocument.base\")","v":"application/vnd.oasis.opendocument.base"},{"$f":"IFERROR(__xludf.DUMMYFUNCTION(\"\"\"COMPUTED_VALUE\"\"\"),\"en\")","v":"en"}]
[{"$f":"IFERROR(__xludf.DUMMYFUNCTION(\"\"\"COMPUTED_VALUE\"\"\"),\"https://www.iana.org/assignments/media-types/application/vnd.oasis.opendocument.chart\")","v":"https://www.iana.org/assignments/media-types/application/vnd.oasis.opendocument.chart"},{"$f":"IFERROR(__xludf.DUMMYFUNCTION(\"\"\"COMPUTED_VALUE\"\"\"),\"vnd.oasis.opendocument.chart\")","v":"vnd.oasis.opendocument.chart"},{"$f":"IFERROR(__xludf.DUMMYFUNCTION(\"\"\"COMPUTED_VALUE\"\"\"),\"vnd.oasis.opendocument.chart\")","v":"vnd.oasis.opendocument.chart"},{"$f":"IFERROR(__xludf.DUMMYFUNCTION(\"\"\"COMPUTED_VALUE\"\"\"),\"application/vnd.oasis.opendocument.chart\")","v":"application/vnd.oasis.opendocument.chart"},{"$f":"IFERROR(__xludf.DUMMYFUNCTION(\"\"\"COMPUTED_VALUE\"\"\"),\"en\")","v":"en"}]
[{"$f":"IFERROR(__xludf.DUMMYFUNCTION(\"\"\"COMPUTED_VALUE\"\"\"),\"https://www.iana.org/assignments/media-types/application/vnd.oasis.opendocument.chart-template\")","v":"https://www.iana.org/assignments/media-types/application/vnd.oasis.opendocument.chart-template"},{"$f":"IFERROR(__xludf.DUMMYFUNCTION(\"\"\"COMPUTED_VALUE\"\"\"),\"vnd.oasis.opendocument.chart-template\")","v":"vnd.oasis.opendocument.chart-template"},{"$f":"IFERROR(__xludf.DUMMYFUNCTION(\"\"\"COMPUTED_VALUE\"\"\"),\"vnd.oasis.opendocument.chart-template\")","v":"vnd.oasis.opendocument.chart-template"},{"$f":"IFERROR(__xludf.DUMMYFUNCTION(\"\"\"COMPUTED_VALUE\"\"\"),\"application/vnd.oasis.opendocument.chart-template\")","v":"application/vnd.oasis.opendocument.chart-template"},{"$f":"IFERROR(__xludf.DUMMYFUNCTION(\"\"\"COMPUTED_VALUE\"\"\"),\"en\")","v":"en"}]
[{"$f":"IFERROR(__xludf.DUMMYFUNCTION(\"\"\"COMPUTED_VALUE\"\"\"),\"https://www.iana.org/assignments/media-types/application/vnd.oasis.opendocument.database\")","v":"https://www.iana.org/assignments/media-types/application/vnd.oasis.opendocument.database"},{"$f":"IFERROR(__xludf.DUMMYFUNCTION(\"\"\"COMPUTED_VALUE\"\"\"),\"vnd.oasis.opendocument.database (OBSOLETED in favor of application/vnd.oasis.opendocument.base)\")","v":"vnd.oasis.opendocument.database (OBSOLETED in favor of application/vnd.oasis.opendocument.base)"},{"$f":"IFERROR(__xludf.DUMMYFUNCTION(\"\"\"COMPUTED_VALUE\"\"\"),\"vnd.oasis.opendocument.database (OBSOLETED in favor of application/vnd.oasis.opendocument.base)\")","v":"vnd.oasis.opendocument.database (OBSOLETED in favor of application/vnd.oasis.opendocument.base)"},{"$f":"IFERROR(__xludf.DUMMYFUNCTION(\"\"\"COMPUTED_VALUE\"\"\"),\"application/vnd.oasis.opendocument.database\")","v":"application/vnd.oasis.opendocument.database"},{"$f":"IFERROR(__xludf.DUMMYFUNCTION(\"\"\"COMPUTED_VALUE\"\"\"),\"en\")","v":"en"}]
[{"$f":"IFERROR(__xludf.DUMMYFUNCTION(\"\"\"COMPUTED_VALUE\"\"\"),\"https://www.iana.org/assignments/media-types/application/vnd.oasis.opendocument.formula\")","v":"https://www.iana.org/assignments/media-types/application/vnd.oasis.opendocument.formula"},{"$f":"IFERROR(__xludf.DUMMYFUNCTION(\"\"\"COMPUTED_VALUE\"\"\"),\"vnd.oasis.opendocument.formula\")","v":"vnd.oasis.opendocument.formula"},{"$f":"IFERROR(__xludf.DUMMYFUNCTION(\"\"\"COMPUTED_VALUE\"\"\"),\"vnd.oasis.opendocument.formula\")","v":"vnd.oasis.opendocument.formula"},{"$f":"IFERROR(__xludf.DUMMYFUNCTION(\"\"\"COMPUTED_VALUE\"\"\"),\"application/vnd.oasis.opendocument.formula\")","v":"application/vnd.oasis.opendocument.formula"},{"$f":"IFERROR(__xludf.DUMMYFUNCTION(\"\"\"COMPUTED_VALUE\"\"\"),\"en\")","v":"en"}]
[{"$f":"IFERROR(__xludf.DUMMYFUNCTION(\"\"\"COMPUTED_VALUE\"\"\"),\"https://www.iana.org/assignments/media-types/application/vnd.oasis.opendocument.formula-template\")","v":"https://www.iana.org/assignments/media-types/application/vnd.oasis.opendocument.formula-template"},{"$f":"IFERROR(__xludf.DUMMYFUNCTION(\"\"\"COMPUTED_VALUE\"\"\"),\"vnd.oasis.opendocument.formula-template\")","v":"vnd.oasis.opendocument.formula-template"},{"$f":"IFERROR(__xludf.DUMMYFUNCTION(\"\"\"COMPUTED_VALUE\"\"\"),\"vnd.oasis.opendocument.formula-template\")","v":"vnd.oasis.opendocument.formula-template"},{"$f":"IFERROR(__xludf.DUMMYFUNCTION(\"\"\"COMPUTED_VALUE\"\"\"),\"application/vnd.oasis.opendocument.formula-template\")","v":"application/vnd.oasis.opendocument.formula-template"},{"$f":"IFERROR(__xludf.DUMMYFUNCTION(\"\"\"COMPUTED_VALUE\"\"\"),\"en\")","v":"en"}]
[{"$f":"IFERROR(__xludf.DUMMYFUNCTION(\"\"\"COMPUTED_VALUE\"\"\"),\"https://www.iana.org/assignments/media-types/application/vnd.oasis.opendocument.graphics\")","v":"https://www.iana.org/assignments/media-types/application/vnd.oasis.opendocument.graphics"},{"$f":"IFERROR(__xludf.DUMMYFUNCTION(\"\"\"COMPUTED_VALUE\"\"\"),\"vnd.oasis.opendocument.graphics\")","v":"vnd.oasis.opendocument.graphics"},{"$f":"IFERROR(__xludf.DUMMYFUNCTION(\"\"\"COMPUTED_VALUE\"\"\"),\"vnd.oasis.opendocument.graphics\")","v":"vnd.oasis.opendocument.graphics"},{"$f":"IFERROR(__xludf.DUMMYFUNCTION(\"\"\"COMPUTED_VALUE\"\"\"),\"application/vnd.oasis.opendocument.graphics\")","v":"application/vnd.oasis.opendocument.graphics"},{"$f":"IFERROR(__xludf.DUMMYFUNCTION(\"\"\"COMPUTED_VALUE\"\"\"),\"en\")","v":"en"}]
[{"$f":"IFERROR(__xludf.DUMMYFUNCTION(\"\"\"COMPUTED_VALUE\"\"\"),\"https://www.iana.org/assignments/media-types/application/vnd.oasis.opendocument.graphics-template\")","v":"https://www.iana.org/assignments/media-types/application/vnd.oasis.opendocument.graphics-template"},{"$f":"IFERROR(__xludf.DUMMYFUNCTION(\"\"\"COMPUTED_VALUE\"\"\"),\"vnd.oasis.opendocument.graphics-template\")","v":"vnd.oasis.opendocument.graphics-template"},{"$f":"IFERROR(__xludf.DUMMYFUNCTION(\"\"\"COMPUTED_VALUE\"\"\"),\"vnd.oasis.opendocument.graphics-template\")","v":"vnd.oasis.opendocument.graphics-template"},{"$f":"IFERROR(__xludf.DUMMYFUNCTION(\"\"\"COMPUTED_VALUE\"\"\"),\"application/vnd.oasis.opendocument.graphics-template\")","v":"application/vnd.oasis.opendocument.graphics-template"},{"$f":"IFERROR(__xludf.DUMMYFUNCTION(\"\"\"COMPUTED_VALUE\"\"\"),\"en\")","v":"en"}]
[{"$f":"IFERROR(__xludf.DUMMYFUNCTION(\"\"\"COMPUTED_VALUE\"\"\"),\"https://www.iana.org/assignments/media-types/application/vnd.oasis.opendocument.image\")","v":"https://www.iana.org/assignments/media-types/application/vnd.oasis.opendocument.image"},{"$f":"IFERROR(__xludf.DUMMYFUNCTION(\"\"\"COMPUTED_VALUE\"\"\"),\"vnd.oasis.opendocument.image\")","v":"vnd.oasis.opendocument.image"},{"$f":"IFERROR(__xludf.DUMMYFUNCTION(\"\"\"COMPUTED_VALUE\"\"\"),\"vnd.oasis.opendocument.image\")","v":"vnd.oasis.opendocument.image"},{"$f":"IFERROR(__xludf.DUMMYFUNCTION(\"\"\"COMPUTED_VALUE\"\"\"),\"application/vnd.oasis.opendocument.image\")","v":"application/vnd.oasis.opendocument.image"},{"$f":"IFERROR(__xludf.DUMMYFUNCTION(\"\"\"COMPUTED_VALUE\"\"\"),\"en\")","v":"en"}]
[{"$f":"IFERROR(__xludf.DUMMYFUNCTION(\"\"\"COMPUTED_VALUE\"\"\"),\"https://www.iana.org/assignments/media-types/application/vnd.oasis.opendocument.image-template\")","v":"https://www.iana.org/assignments/media-types/application/vnd.oasis.opendocument.image-template"},{"$f":"IFERROR(__xludf.DUMMYFUNCTION(\"\"\"COMPUTED_VALUE\"\"\"),\"vnd.oasis.opendocument.image-template\")","v":"vnd.oasis.opendocument.image-template"},{"$f":"IFERROR(__xludf.DUMMYFUNCTION(\"\"\"COMPUTED_VALUE\"\"\"),\"vnd.oasis.opendocument.image-template\")","v":"vnd.oasis.opendocument.image-template"},{"$f":"IFERROR(__xludf.DUMMYFUNCTION(\"\"\"COMPUTED_VALUE\"\"\"),\"application/vnd.oasis.opendocument.image-template\")","v":"application/vnd.oasis.opendocument.image-template"},{"$f":"IFERROR(__xludf.DUMMYFUNCTION(\"\"\"COMPUTED_VALUE\"\"\"),\"en\")","v":"en"}]
[{"$f":"IFERROR(__xludf.DUMMYFUNCTION(\"\"\"COMPUTED_VALUE\"\"\"),\"https://www.iana.org/assignments/media-types/application/vnd.oasis.opendocument.presentation\")","v":"https://www.iana.org/assignments/media-types/application/vnd.oasis.opendocument.presentation"},{"$f":"IFERROR(__xludf.DUMMYFUNCTION(\"\"\"COMPUTED_VALUE\"\"\"),\"vnd.oasis.opendocument.presentation\")","v":"vnd.oasis.opendocument.presentation"},{"$f":"IFERROR(__xludf.DUMMYFUNCTION(\"\"\"COMPUTED_VALUE\"\"\"),\"vnd.oasis.opendocument.presentation\")","v":"vnd.oasis.opendocument.presentation"},{"$f":"IFERROR(__xludf.DUMMYFUNCTION(\"\"\"COMPUTED_VALUE\"\"\"),\"application/vnd.oasis.opendocument.presentation\")","v":"application/vnd.oasis.opendocument.presentation"},{"$f":"IFERROR(__xludf.DUMMYFUNCTION(\"\"\"COMPUTED_VALUE\"\"\"),\"en\")","v":"en"}]
[{"$f":"IFERROR(__xludf.DUMMYFUNCTION(\"\"\"COMPUTED_VALUE\"\"\"),\"https://www.iana.org/assignments/media-types/application/vnd.oasis.opendocument.presentation-template\")","v":"https://www.iana.org/assignments/media-types/application/vnd.oasis.opendocument.presentation-template"},{"$f":"IFERROR(__xludf.DUMMYFUNCTION(\"\"\"COMPUTED_VALUE\"\"\"),\"vnd.oasis.opendocument.presentation-template\")","v":"vnd.oasis.opendocument.presentation-template"},{"$f":"IFERROR(__xludf.DUMMYFUNCTION(\"\"\"COMPUTED_VALUE\"\"\"),\"vnd.oasis.opendocument.presentation-template\")","v":"vnd.oasis.opendocument.presentation-template"},{"$f":"IFERROR(__xludf.DUMMYFUNCTION(\"\"\"COMPUTED_VALUE\"\"\"),\"application/vnd.oasis.opendocument.presentation-template\")","v":"application/vnd.oasis.opendocument.presentation-template"},{"$f":"IFERROR(__xludf.DUMMYFUNCTION(\"\"\"COMPUTED_VALUE\"\"\"),\"en\")","v":"en"}]
[{"$f":"IFERROR(__xludf.DUMMYFUNCTION(\"\"\"COMPUTED_VALUE\"\"\"),\"https://www.iana.org/assignments/media-types/application/vnd.oasis.opendocument.spreadsheet\")","v":"https://www.iana.org/assignments/media-types/application/vnd.oasis.opendocument.spreadsheet"},{"$f":"IFERROR(__xludf.DUMMYFUNCTION(\"\"\"COMPUTED_VALUE\"\"\"),\"vnd.oasis.opendocument.spreadsheet\")","v":"vnd.oasis.opendocument.spreadsheet"},{"$f":"IFERROR(__xludf.DUMMYFUNCTION(\"\"\"COMPUTED_VALUE\"\"\"),\"vnd.oasis.opendocument.spreadsheet\")","v":"vnd.oasis.opendocument.spreadsheet"},{"$f":"IFERROR(__xludf.DUMMYFUNCTION(\"\"\"COMPUTED_VALUE\"\"\"),\"application/vnd.oasis.opendocument.spreadsheet\")","v":"application/vnd.oasis.opendocument.spreadsheet"},{"$f":"IFERROR(__xludf.DUMMYFUNCTION(\"\"\"COMPUTED_VALUE\"\"\"),\"en\")","v":"en"}]
[{"$f":"IFERROR(__xludf.DUMMYFUNCTION(\"\"\"COMPUTED_VALUE\"\"\"),\"https://www.iana.org/assignments/media-types/application/vnd.oasis.opendocument.spreadsheet-template\")","v":"https://www.iana.org/assignments/media-types/application/vnd.oasis.opendocument.spreadsheet-template"},{"$f":"IFERROR(__xludf.DUMMYFUNCTION(\"\"\"COMPUTED_VALUE\"\"\"),\"vnd.oasis.opendocument.spreadsheet-template\")","v":"vnd.oasis.opendocument.spreadsheet-template"},{"$f":"IFERROR(__xludf.DUMMYFUNCTION(\"\"\"COMPUTED_VALUE\"\"\"),\"vnd.oasis.opendocument.spreadsheet-template\")","v":"vnd.oasis.opendocument.spreadsheet-template"},{"$f":"IFERROR(__xludf.DUMMYFUNCTION(\"\"\"COMPUTED_VALUE\"\"\"),\"application/vnd.oasis.opendocument.spreadsheet-template\")","v":"application/vnd.oasis.opendocument.spreadsheet-template"},{"$f":"IFERROR(__xludf.DUMMYFUNCTION(\"\"\"COMPUTED_VALUE\"\"\"),\"en\")","v":"en"}]
[{"$f":"IFERROR(__xludf.DUMMYFUNCTION(\"\"\"COMPUTED_VALUE\"\"\"),\"https://www.iana.org/assignments/media-types/application/vnd.oasis.opendocument.text\")","v":"https://www.iana.org/assignments/media-types/application/vnd.oasis.opendocument.text"},{"$f":"IFERROR(__xludf.DUMMYFUNCTION(\"\"\"COMPUTED_VALUE\"\"\"),\"vnd.oasis.opendocument.text\")","v":"vnd.oasis.opendocument.text"},{"$f":"IFERROR(__xludf.DUMMYFUNCTION(\"\"\"COMPUTED_VALUE\"\"\"),\"vnd.oasis.opendocument.text\")","v":"vnd.oasis.opendocument.text"},{"$f":"IFERROR(__xludf.DUMMYFUNCTION(\"\"\"COMPUTED_VALUE\"\"\"),\"application/vnd.oasis.opendocument.text\")","v":"application/vnd.oasis.opendocument.text"},{"$f":"IFERROR(__xludf.DUMMYFUNCTION(\"\"\"COMPUTED_VALUE\"\"\"),\"en\")","v":"en"}]
[{"$f":"IFERROR(__xludf.DUMMYFUNCTION(\"\"\"COMPUTED_VALUE\"\"\"),\"https://www.iana.org/assignments/media-types/application/vnd.oasis.opendocument.text-master\")","v":"https://www.iana.org/assignments/media-types/application/vnd.oasis.opendocument.text-master"},{"$f":"IFERROR(__xludf.DUMMYFUNCTION(\"\"\"COMPUTED_VALUE\"\"\"),\"vnd.oasis.opendocument.text-master\")","v":"vnd.oasis.opendocument.text-master"},{"$f":"IFERROR(__xludf.DUMMYFUNCTION(\"\"\"COMPUTED_VALUE\"\"\"),\"vnd.oasis.opendocument.text-master\")","v":"vnd.oasis.opendocument.text-master"},{"$f":"IFERROR(__xludf.DUMMYFUNCTION(\"\"\"COMPUTED_VALUE\"\"\"),\"application/vnd.oasis.opendocument.text-master\")","v":"application/vnd.oasis.opendocument.text-master"},{"$f":"IFERROR(__xludf.DUMMYFUNCTION(\"\"\"COMPUTED_VALUE\"\"\"),\"en\")","v":"en"}]
[{"$f":"IFERROR(__xludf.DUMMYFUNCTION(\"\"\"COMPUTED_VALUE\"\"\"),\"https://www.iana.org/assignments/media-types/application/vnd.oasis.opendocument.text-template\")","v":"https://www.iana.org/assignments/media-types/application/vnd.oasis.opendocument.text-template"},{"$f":"IFERROR(__xludf.DUMMYFUNCTION(\"\"\"COMPUTED_VALUE\"\"\"),\"vnd.oasis.opendocument.text-template\")","v":"vnd.oasis.opendocument.text-template"},{"$f":"IFERROR(__xludf.DUMMYFUNCTION(\"\"\"COMPUTED_VALUE\"\"\"),\"vnd.oasis.opendocument.text-template\")","v":"vnd.oasis.opendocument.text-template"},{"$f":"IFERROR(__xludf.DUMMYFUNCTION(\"\"\"COMPUTED_VALUE\"\"\"),\"application/vnd.oasis.opendocument.text-template\")","v":"application/vnd.oasis.opendocument.text-template"},{"$f":"IFERROR(__xludf.DUMMYFUNCTION(\"\"\"COMPUTED_VALUE\"\"\"),\"en\")","v":"en"}]
[{"$f":"IFERROR(__xludf.DUMMYFUNCTION(\"\"\"COMPUTED_VALUE\"\"\"),\"https://www.iana.org/assignments/media-types/application/vnd.oasis.opendocument.text-web\")","v":"https://www.iana.org/assignments/media-types/application/vnd.oasis.opendocument.text-web"},{"$f":"IFERROR(__xludf.DUMMYFUNCTION(\"\"\"COMPUTED_VALUE\"\"\"),\"vnd.oasis.opendocument.text-web\")","v":"vnd.oasis.opendocument.text-web"},{"$f":"IFERROR(__xludf.DUMMYFUNCTION(\"\"\"COMPUTED_VALUE\"\"\"),\"vnd.oasis.opendocument.text-web\")","v":"vnd.oasis.opendocument.text-web"},{"$f":"IFERROR(__xludf.DUMMYFUNCTION(\"\"\"COMPUTED_VALUE\"\"\"),\"application/vnd.oasis.opendocument.text-web\")","v":"application/vnd.oasis.opendocument.text-web"},{"$f":"IFERROR(__xludf.DUMMYFUNCTION(\"\"\"COMPUTED_VALUE\"\"\"),\"en\")","v":"en"}]
[{"$f":"IFERROR(__xludf.DUMMYFUNCTION(\"\"\"COMPUTED_VALUE\"\"\"),\"https://www.iana.org/assignments/media-types/application/vnd.obn\")","v":"https://www.iana.org/assignments/media-types/application/vnd.obn"},{"$f":"IFERROR(__xludf.DUMMYFUNCTION(\"\"\"COMPUTED_VALUE\"\"\"),\"vnd.obn\")","v":"vnd.obn"},{"$f":"IFERROR(__xludf.DUMMYFUNCTION(\"\"\"COMPUTED_VALUE\"\"\"),\"vnd.obn\")","v":"vnd.obn"},{"$f":"IFERROR(__xludf.DUMMYFUNCTION(\"\"\"COMPUTED_VALUE\"\"\"),\"application/vnd.obn\")","v":"application/vnd.obn"},{"$f":"IFERROR(__xludf.DUMMYFUNCTION(\"\"\"COMPUTED_VALUE\"\"\"),\"en\")","v":"en"}]
[{"$f":"IFERROR(__xludf.DUMMYFUNCTION(\"\"\"COMPUTED_VALUE\"\"\"),\"https://www.iana.org/assignments/media-types/application/vnd.ocf+cbor\")","v":"https://www.iana.org/assignments/media-types/application/vnd.ocf+cbor"},{"$f":"IFERROR(__xludf.DUMMYFUNCTION(\"\"\"COMPUTED_VALUE\"\"\"),\"vnd.ocf+cbor\")","v":"vnd.ocf+cbor"},{"$f":"IFERROR(__xludf.DUMMYFUNCTION(\"\"\"COMPUTED_VALUE\"\"\"),\"vnd.ocf+cbor\")","v":"vnd.ocf+cbor"},{"$f":"IFERROR(__xludf.DUMMYFUNCTION(\"\"\"COMPUTED_VALUE\"\"\"),\"application/vnd.ocf+cbor\")","v":"application/vnd.ocf+cbor"},{"$f":"IFERROR(__xludf.DUMMYFUNCTION(\"\"\"COMPUTED_VALUE\"\"\"),\"en\")","v":"en"}]
[{"$f":"IFERROR(__xludf.DUMMYFUNCTION(\"\"\"COMPUTED_VALUE\"\"\"),\"https://www.iana.org/assignments/media-types/application/vnd.oci.image.manifest.v1+json\")","v":"https://www.iana.org/assignments/media-types/application/vnd.oci.image.manifest.v1+json"},{"$f":"IFERROR(__xludf.DUMMYFUNCTION(\"\"\"COMPUTED_VALUE\"\"\"),\"vnd.oci.image.manifest.v1+json\")","v":"vnd.oci.image.manifest.v1+json"},{"$f":"IFERROR(__xludf.DUMMYFUNCTION(\"\"\"COMPUTED_VALUE\"\"\"),\"vnd.oci.image.manifest.v1+json\")","v":"vnd.oci.image.manifest.v1+json"},{"$f":"IFERROR(__xludf.DUMMYFUNCTION(\"\"\"COMPUTED_VALUE\"\"\"),\"application/vnd.oci.image.manifest.v1+json\")","v":"application/vnd.oci.image.manifest.v1+json"},{"$f":"IFERROR(__xludf.DUMMYFUNCTION(\"\"\"COMPUTED_VALUE\"\"\"),\"en\")","v":"en"}]
[{"$f":"IFERROR(__xludf.DUMMYFUNCTION(\"\"\"COMPUTED_VALUE\"\"\"),\"https://www.iana.org/assignments/media-types/application/vnd.oftn.l10n+json\")","v":"https://www.iana.org/assignments/media-types/application/vnd.oftn.l10n+json"},{"$f":"IFERROR(__xludf.DUMMYFUNCTION(\"\"\"COMPUTED_VALUE\"\"\"),\"vnd.oftn.l10n+json\")","v":"vnd.oftn.l10n+json"},{"$f":"IFERROR(__xludf.DUMMYFUNCTION(\"\"\"COMPUTED_VALUE\"\"\"),\"vnd.oftn.l10n+json\")","v":"vnd.oftn.l10n+json"},{"$f":"IFERROR(__xludf.DUMMYFUNCTION(\"\"\"COMPUTED_VALUE\"\"\"),\"application/vnd.oftn.l10n+json\")","v":"application/vnd.oftn.l10n+json"},{"$f":"IFERROR(__xludf.DUMMYFUNCTION(\"\"\"COMPUTED_VALUE\"\"\"),\"en\")","v":"en"}]
[{"$f":"IFERROR(__xludf.DUMMYFUNCTION(\"\"\"COMPUTED_VALUE\"\"\"),\"https://www.iana.org/assignments/media-types/application/vnd.oipf.contentaccessdownload+xml\")","v":"https://www.iana.org/assignments/media-types/application/vnd.oipf.contentaccessdownload+xml"},{"$f":"IFERROR(__xludf.DUMMYFUNCTION(\"\"\"COMPUTED_VALUE\"\"\"),\"vnd.oipf.contentaccessdownload+xml\")","v":"vnd.oipf.contentaccessdownload+xml"},{"$f":"IFERROR(__xludf.DUMMYFUNCTION(\"\"\"COMPUTED_VALUE\"\"\"),\"vnd.oipf.contentaccessdownload+xml\")","v":"vnd.oipf.contentaccessdownload+xml"},{"$f":"IFERROR(__xludf.DUMMYFUNCTION(\"\"\"COMPUTED_VALUE\"\"\"),\"application/vnd.oipf.contentaccessdownload+xml\")","v":"application/vnd.oipf.contentaccessdownload+xml"},{"$f":"IFERROR(__xludf.DUMMYFUNCTION(\"\"\"COMPUTED_VALUE\"\"\"),\"en\")","v":"en"}]
[{"$f":"IFERROR(__xludf.DUMMYFUNCTION(\"\"\"COMPUTED_VALUE\"\"\"),\"https://www.iana.org/assignments/media-types/application/vnd.oipf.contentaccessstreaming+xml\")","v":"https://www.iana.org/assignments/media-types/application/vnd.oipf.contentaccessstreaming+xml"},{"$f":"IFERROR(__xludf.DUMMYFUNCTION(\"\"\"COMPUTED_VALUE\"\"\"),\"vnd.oipf.contentaccessstreaming+xml\")","v":"vnd.oipf.contentaccessstreaming+xml"},{"$f":"IFERROR(__xludf.DUMMYFUNCTION(\"\"\"COMPUTED_VALUE\"\"\"),\"vnd.oipf.contentaccessstreaming+xml\")","v":"vnd.oipf.contentaccessstreaming+xml"},{"$f":"IFERROR(__xludf.DUMMYFUNCTION(\"\"\"COMPUTED_VALUE\"\"\"),\"application/vnd.oipf.contentaccessstreaming+xml\")","v":"application/vnd.oipf.contentaccessstreaming+xml"},{"$f":"IFERROR(__xludf.DUMMYFUNCTION(\"\"\"COMPUTED_VALUE\"\"\"),\"en\")","v":"en"}]
[{"$f":"IFERROR(__xludf.DUMMYFUNCTION(\"\"\"COMPUTED_VALUE\"\"\"),\"https://www.iana.org/assignments/media-types/application/vnd.oipf.cspg-hexbinary\")","v":"https://www.iana.org/assignments/media-types/application/vnd.oipf.cspg-hexbinary"},{"$f":"IFERROR(__xludf.DUMMYFUNCTION(\"\"\"COMPUTED_VALUE\"\"\"),\"vnd.oipf.cspg-hexbinary\")","v":"vnd.oipf.cspg-hexbinary"},{"$f":"IFERROR(__xludf.DUMMYFUNCTION(\"\"\"COMPUTED_VALUE\"\"\"),\"vnd.oipf.cspg-hexbinary\")","v":"vnd.oipf.cspg-hexbinary"},{"$f":"IFERROR(__xludf.DUMMYFUNCTION(\"\"\"COMPUTED_VALUE\"\"\"),\"application/vnd.oipf.cspg-hexbinary\")","v":"application/vnd.oipf.cspg-hexbinary"},{"$f":"IFERROR(__xludf.DUMMYFUNCTION(\"\"\"COMPUTED_VALUE\"\"\"),\"en\")","v":"en"}]
[{"$f":"IFERROR(__xludf.DUMMYFUNCTION(\"\"\"COMPUTED_VALUE\"\"\"),\"https://www.iana.org/assignments/media-types/application/vnd.oipf.dae.svg+xml\")","v":"https://www.iana.org/assignments/media-types/application/vnd.oipf.dae.svg+xml"},{"$f":"IFERROR(__xludf.DUMMYFUNCTION(\"\"\"COMPUTED_VALUE\"\"\"),\"vnd.oipf.dae.svg+xml\")","v":"vnd.oipf.dae.svg+xml"},{"$f":"IFERROR(__xludf.DUMMYFUNCTION(\"\"\"COMPUTED_VALUE\"\"\"),\"vnd.oipf.dae.svg+xml\")","v":"vnd.oipf.dae.svg+xml"},{"$f":"IFERROR(__xludf.DUMMYFUNCTION(\"\"\"COMPUTED_VALUE\"\"\"),\"application/vnd.oipf.dae.svg+xml\")","v":"application/vnd.oipf.dae.svg+xml"},{"$f":"IFERROR(__xludf.DUMMYFUNCTION(\"\"\"COMPUTED_VALUE\"\"\"),\"en\")","v":"en"}]
[{"$f":"IFERROR(__xludf.DUMMYFUNCTION(\"\"\"COMPUTED_VALUE\"\"\"),\"https://www.iana.org/assignments/media-types/application/vnd.oipf.dae.xhtml+xml\")","v":"https://www.iana.org/assignments/media-types/application/vnd.oipf.dae.xhtml+xml"},{"$f":"IFERROR(__xludf.DUMMYFUNCTION(\"\"\"COMPUTED_VALUE\"\"\"),\"vnd.oipf.dae.xhtml+xml\")","v":"vnd.oipf.dae.xhtml+xml"},{"$f":"IFERROR(__xludf.DUMMYFUNCTION(\"\"\"COMPUTED_VALUE\"\"\"),\"vnd.oipf.dae.xhtml+xml\")","v":"vnd.oipf.dae.xhtml+xml"},{"$f":"IFERROR(__xludf.DUMMYFUNCTION(\"\"\"COMPUTED_VALUE\"\"\"),\"application/vnd.oipf.dae.xhtml+xml\")","v":"application/vnd.oipf.dae.xhtml+xml"},{"$f":"IFERROR(__xludf.DUMMYFUNCTION(\"\"\"COMPUTED_VALUE\"\"\"),\"en\")","v":"en"}]
[{"$f":"IFERROR(__xludf.DUMMYFUNCTION(\"\"\"COMPUTED_VALUE\"\"\"),\"https://www.iana.org/assignments/media-types/application/vnd.oipf.mippvcontrolmessage+xml\")","v":"https://www.iana.org/assignments/media-types/application/vnd.oipf.mippvcontrolmessage+xml"},{"$f":"IFERROR(__xludf.DUMMYFUNCTION(\"\"\"COMPUTED_VALUE\"\"\"),\"vnd.oipf.mippvcontrolmessage+xml\")","v":"vnd.oipf.mippvcontrolmessage+xml"},{"$f":"IFERROR(__xludf.DUMMYFUNCTION(\"\"\"COMPUTED_VALUE\"\"\"),\"vnd.oipf.mippvcontrolmessage+xml\")","v":"vnd.oipf.mippvcontrolmessage+xml"},{"$f":"IFERROR(__xludf.DUMMYFUNCTION(\"\"\"COMPUTED_VALUE\"\"\"),\"application/vnd.oipf.mippvcontrolmessage+xml\")","v":"application/vnd.oipf.mippvcontrolmessage+xml"},{"$f":"IFERROR(__xludf.DUMMYFUNCTION(\"\"\"COMPUTED_VALUE\"\"\"),\"en\")","v":"en"}]
[{"$f":"IFERROR(__xludf.DUMMYFUNCTION(\"\"\"COMPUTED_VALUE\"\"\"),\"https://www.iana.org/assignments/media-types/application/vnd.oipf.pae.gem\")","v":"https://www.iana.org/assignments/media-types/application/vnd.oipf.pae.gem"},{"$f":"IFERROR(__xludf.DUMMYFUNCTION(\"\"\"COMPUTED_VALUE\"\"\"),\"vnd.oipf.pae.gem\")","v":"vnd.oipf.pae.gem"},{"$f":"IFERROR(__xludf.DUMMYFUNCTION(\"\"\"COMPUTED_VALUE\"\"\"),\"vnd.oipf.pae.gem\")","v":"vnd.oipf.pae.gem"},{"$f":"IFERROR(__xludf.DUMMYFUNCTION(\"\"\"COMPUTED_VALUE\"\"\"),\"application/vnd.oipf.pae.gem\")","v":"application/vnd.oipf.pae.gem"},{"$f":"IFERROR(__xludf.DUMMYFUNCTION(\"\"\"COMPUTED_VALUE\"\"\"),\"en\")","v":"en"}]
[{"$f":"IFERROR(__xludf.DUMMYFUNCTION(\"\"\"COMPUTED_VALUE\"\"\"),\"https://www.iana.org/assignments/media-types/application/vnd.oipf.spdiscovery+xml\")","v":"https://www.iana.org/assignments/media-types/application/vnd.oipf.spdiscovery+xml"},{"$f":"IFERROR(__xludf.DUMMYFUNCTION(\"\"\"COMPUTED_VALUE\"\"\"),\"vnd.oipf.spdiscovery+xml\")","v":"vnd.oipf.spdiscovery+xml"},{"$f":"IFERROR(__xludf.DUMMYFUNCTION(\"\"\"COMPUTED_VALUE\"\"\"),\"vnd.oipf.spdiscovery+xml\")","v":"vnd.oipf.spdiscovery+xml"},{"$f":"IFERROR(__xludf.DUMMYFUNCTION(\"\"\"COMPUTED_VALUE\"\"\"),\"application/vnd.oipf.spdiscovery+xml\")","v":"application/vnd.oipf.spdiscovery+xml"},{"$f":"IFERROR(__xludf.DUMMYFUNCTION(\"\"\"COMPUTED_VALUE\"\"\"),\"en\")","v":"en"}]
[{"$f":"IFERROR(__xludf.DUMMYFUNCTION(\"\"\"COMPUTED_VALUE\"\"\"),\"https://www.iana.org/assignments/media-types/application/vnd.oipf.spdlist+xml\")","v":"https://www.iana.org/assignments/media-types/application/vnd.oipf.spdlist+xml"},{"$f":"IFERROR(__xludf.DUMMYFUNCTION(\"\"\"COMPUTED_VALUE\"\"\"),\"vnd.oipf.spdlist+xml\")","v":"vnd.oipf.spdlist+xml"},{"$f":"IFERROR(__xludf.DUMMYFUNCTION(\"\"\"COMPUTED_VALUE\"\"\"),\"vnd.oipf.spdlist+xml\")","v":"vnd.oipf.spdlist+xml"},{"$f":"IFERROR(__xludf.DUMMYFUNCTION(\"\"\"COMPUTED_VALUE\"\"\"),\"application/vnd.oipf.spdlist+xml\")","v":"application/vnd.oipf.spdlist+xml"},{"$f":"IFERROR(__xludf.DUMMYFUNCTION(\"\"\"COMPUTED_VALUE\"\"\"),\"en\")","v":"en"}]
[{"$f":"IFERROR(__xludf.DUMMYFUNCTION(\"\"\"COMPUTED_VALUE\"\"\"),\"https://www.iana.org/assignments/media-types/application/vnd.oipf.ueprofile+xml\")","v":"https://www.iana.org/assignments/media-types/application/vnd.oipf.ueprofile+xml"},{"$f":"IFERROR(__xludf.DUMMYFUNCTION(\"\"\"COMPUTED_VALUE\"\"\"),\"vnd.oipf.ueprofile+xml\")","v":"vnd.oipf.ueprofile+xml"},{"$f":"IFERROR(__xludf.DUMMYFUNCTION(\"\"\"COMPUTED_VALUE\"\"\"),\"vnd.oipf.ueprofile+xml\")","v":"vnd.oipf.ueprofile+xml"},{"$f":"IFERROR(__xludf.DUMMYFUNCTION(\"\"\"COMPUTED_VALUE\"\"\"),\"application/vnd.oipf.ueprofile+xml\")","v":"application/vnd.oipf.ueprofile+xml"},{"$f":"IFERROR(__xludf.DUMMYFUNCTION(\"\"\"COMPUTED_VALUE\"\"\"),\"en\")","v":"en"}]
[{"$f":"IFERROR(__xludf.DUMMYFUNCTION(\"\"\"COMPUTED_VALUE\"\"\"),\"https://www.iana.org/assignments/media-types/application/vnd.oipf.userprofile+xml\")","v":"https://www.iana.org/assignments/media-types/application/vnd.oipf.userprofile+xml"},{"$f":"IFERROR(__xludf.DUMMYFUNCTION(\"\"\"COMPUTED_VALUE\"\"\"),\"vnd.oipf.userprofile+xml\")","v":"vnd.oipf.userprofile+xml"},{"$f":"IFERROR(__xludf.DUMMYFUNCTION(\"\"\"COMPUTED_VALUE\"\"\"),\"vnd.oipf.userprofile+xml\")","v":"vnd.oipf.userprofile+xml"},{"$f":"IFERROR(__xludf.DUMMYFUNCTION(\"\"\"COMPUTED_VALUE\"\"\"),\"application/vnd.oipf.userprofile+xml\")","v":"application/vnd.oipf.userprofile+xml"},{"$f":"IFERROR(__xludf.DUMMYFUNCTION(\"\"\"COMPUTED_VALUE\"\"\"),\"en\")","v":"en"}]
[{"$f":"IFERROR(__xludf.DUMMYFUNCTION(\"\"\"COMPUTED_VALUE\"\"\"),\"https://www.iana.org/assignments/media-types/application/vnd.olpc-sugar\")","v":"https://www.iana.org/assignments/media-types/application/vnd.olpc-sugar"},{"$f":"IFERROR(__xludf.DUMMYFUNCTION(\"\"\"COMPUTED_VALUE\"\"\"),\"vnd.olpc-sugar\")","v":"vnd.olpc-sugar"},{"$f":"IFERROR(__xludf.DUMMYFUNCTION(\"\"\"COMPUTED_VALUE\"\"\"),\"vnd.olpc-sugar\")","v":"vnd.olpc-sugar"},{"$f":"IFERROR(__xludf.DUMMYFUNCTION(\"\"\"COMPUTED_VALUE\"\"\"),\"application/vnd.olpc-sugar\")","v":"application/vnd.olpc-sugar"},{"$f":"IFERROR(__xludf.DUMMYFUNCTION(\"\"\"COMPUTED_VALUE\"\"\"),\"en\")","v":"en"}]
[{"$f":"IFERROR(__xludf.DUMMYFUNCTION(\"\"\"COMPUTED_VALUE\"\"\"),\"https://www.iana.org/assignments/media-types/application/vnd.oma.bcast.associated-procedure-parameter+xml\")","v":"https://www.iana.org/assignments/media-types/application/vnd.oma.bcast.associated-procedure-parameter+xml"},{"$f":"IFERROR(__xludf.DUMMYFUNCTION(\"\"\"COMPUTED_VALUE\"\"\"),\"vnd.oma.bcast.associated-procedure-parameter+xml\")","v":"vnd.oma.bcast.associated-procedure-parameter+xml"},{"$f":"IFERROR(__xludf.DUMMYFUNCTION(\"\"\"COMPUTED_VALUE\"\"\"),\"vnd.oma.bcast.associated-procedure-parameter+xml\")","v":"vnd.oma.bcast.associated-procedure-parameter+xml"},{"$f":"IFERROR(__xludf.DUMMYFUNCTION(\"\"\"COMPUTED_VALUE\"\"\"),\"application/vnd.oma.bcast.associated-procedure-parameter+xml\")","v":"application/vnd.oma.bcast.associated-procedure-parameter+xml"},{"$f":"IFERROR(__xludf.DUMMYFUNCTION(\"\"\"COMPUTED_VALUE\"\"\"),\"en\")","v":"en"}]
[{"$f":"IFERROR(__xludf.DUMMYFUNCTION(\"\"\"COMPUTED_VALUE\"\"\"),\"https://www.iana.org/assignments/media-types/application/vnd.oma.bcast.drm-trigger+xml\")","v":"https://www.iana.org/assignments/media-types/application/vnd.oma.bcast.drm-trigger+xml"},{"$f":"IFERROR(__xludf.DUMMYFUNCTION(\"\"\"COMPUTED_VALUE\"\"\"),\"vnd.oma.bcast.drm-trigger+xml\")","v":"vnd.oma.bcast.drm-trigger+xml"},{"$f":"IFERROR(__xludf.DUMMYFUNCTION(\"\"\"COMPUTED_VALUE\"\"\"),\"vnd.oma.bcast.drm-trigger+xml\")","v":"vnd.oma.bcast.drm-trigger+xml"},{"$f":"IFERROR(__xludf.DUMMYFUNCTION(\"\"\"COMPUTED_VALUE\"\"\"),\"application/vnd.oma.bcast.drm-trigger+xml\")","v":"application/vnd.oma.bcast.drm-trigger+xml"},{"$f":"IFERROR(__xludf.DUMMYFUNCTION(\"\"\"COMPUTED_VALUE\"\"\"),\"en\")","v":"en"}]
[{"$f":"IFERROR(__xludf.DUMMYFUNCTION(\"\"\"COMPUTED_VALUE\"\"\"),\"https://www.iana.org/assignments/media-types/application/vnd.oma.bcast.imd+xml\")","v":"https://www.iana.org/assignments/media-types/application/vnd.oma.bcast.imd+xml"},{"$f":"IFERROR(__xludf.DUMMYFUNCTION(\"\"\"COMPUTED_VALUE\"\"\"),\"vnd.oma.bcast.imd+xml\")","v":"vnd.oma.bcast.imd+xml"},{"$f":"IFERROR(__xludf.DUMMYFUNCTION(\"\"\"COMPUTED_VALUE\"\"\"),\"vnd.oma.bcast.imd+xml\")","v":"vnd.oma.bcast.imd+xml"},{"$f":"IFERROR(__xludf.DUMMYFUNCTION(\"\"\"COMPUTED_VALUE\"\"\"),\"application/vnd.oma.bcast.imd+xml\")","v":"application/vnd.oma.bcast.imd+xml"},{"$f":"IFERROR(__xludf.DUMMYFUNCTION(\"\"\"COMPUTED_VALUE\"\"\"),\"en\")","v":"en"}]
[{"$f":"IFERROR(__xludf.DUMMYFUNCTION(\"\"\"COMPUTED_VALUE\"\"\"),\"https://www.iana.org/assignments/media-types/application/vnd.oma.bcast.ltkm\")","v":"https://www.iana.org/assignments/media-types/application/vnd.oma.bcast.ltkm"},{"$f":"IFERROR(__xludf.DUMMYFUNCTION(\"\"\"COMPUTED_VALUE\"\"\"),\"vnd.oma.bcast.ltkm\")","v":"vnd.oma.bcast.ltkm"},{"$f":"IFERROR(__xludf.DUMMYFUNCTION(\"\"\"COMPUTED_VALUE\"\"\"),\"vnd.oma.bcast.ltkm\")","v":"vnd.oma.bcast.ltkm"},{"$f":"IFERROR(__xludf.DUMMYFUNCTION(\"\"\"COMPUTED_VALUE\"\"\"),\"application/vnd.oma.bcast.ltkm\")","v":"application/vnd.oma.bcast.ltkm"},{"$f":"IFERROR(__xludf.DUMMYFUNCTION(\"\"\"COMPUTED_VALUE\"\"\"),\"en\")","v":"en"}]
[{"$f":"IFERROR(__xludf.DUMMYFUNCTION(\"\"\"COMPUTED_VALUE\"\"\"),\"https://www.iana.org/assignments/media-types/application/vnd.oma.bcast.notification+xml\")","v":"https://www.iana.org/assignments/media-types/application/vnd.oma.bcast.notification+xml"},{"$f":"IFERROR(__xludf.DUMMYFUNCTION(\"\"\"COMPUTED_VALUE\"\"\"),\"vnd.oma.bcast.notification+xml\")","v":"vnd.oma.bcast.notification+xml"},{"$f":"IFERROR(__xludf.DUMMYFUNCTION(\"\"\"COMPUTED_VALUE\"\"\"),\"vnd.oma.bcast.notification+xml\")","v":"vnd.oma.bcast.notification+xml"},{"$f":"IFERROR(__xludf.DUMMYFUNCTION(\"\"\"COMPUTED_VALUE\"\"\"),\"application/vnd.oma.bcast.notification+xml\")","v":"application/vnd.oma.bcast.notification+xml"},{"$f":"IFERROR(__xludf.DUMMYFUNCTION(\"\"\"COMPUTED_VALUE\"\"\"),\"en\")","v":"en"}]
[{"$f":"IFERROR(__xludf.DUMMYFUNCTION(\"\"\"COMPUTED_VALUE\"\"\"),\"https://www.iana.org/assignments/media-types/application/vnd.oma.bcast.provisioningtrigger\")","v":"https://www.iana.org/assignments/media-types/application/vnd.oma.bcast.provisioningtrigger"},{"$f":"IFERROR(__xludf.DUMMYFUNCTION(\"\"\"COMPUTED_VALUE\"\"\"),\"vnd.oma.bcast.provisioningtrigger\")","v":"vnd.oma.bcast.provisioningtrigger"},{"$f":"IFERROR(__xludf.DUMMYFUNCTION(\"\"\"COMPUTED_VALUE\"\"\"),\"vnd.oma.bcast.provisioningtrigger\")","v":"vnd.oma.bcast.provisioningtrigger"},{"$f":"IFERROR(__xludf.DUMMYFUNCTION(\"\"\"COMPUTED_VALUE\"\"\"),\"application/vnd.oma.bcast.provisioningtrigger\")","v":"application/vnd.oma.bcast.provisioningtrigger"},{"$f":"IFERROR(__xludf.DUMMYFUNCTION(\"\"\"COMPUTED_VALUE\"\"\"),\"en\")","v":"en"}]
[{"$f":"IFERROR(__xludf.DUMMYFUNCTION(\"\"\"COMPUTED_VALUE\"\"\"),\"https://www.iana.org/assignments/media-types/application/vnd.oma.bcast.sgboot\")","v":"https://www.iana.org/assignments/media-types/application/vnd.oma.bcast.sgboot"},{"$f":"IFERROR(__xludf.DUMMYFUNCTION(\"\"\"COMPUTED_VALUE\"\"\"),\"vnd.oma.bcast.sgboot\")","v":"vnd.oma.bcast.sgboot"},{"$f":"IFERROR(__xludf.DUMMYFUNCTION(\"\"\"COMPUTED_VALUE\"\"\"),\"vnd.oma.bcast.sgboot\")","v":"vnd.oma.bcast.sgboot"},{"$f":"IFERROR(__xludf.DUMMYFUNCTION(\"\"\"COMPUTED_VALUE\"\"\"),\"application/vnd.oma.bcast.sgboot\")","v":"application/vnd.oma.bcast.sgboot"},{"$f":"IFERROR(__xludf.DUMMYFUNCTION(\"\"\"COMPUTED_VALUE\"\"\"),\"en\")","v":"en"}]
[{"$f":"IFERROR(__xludf.DUMMYFUNCTION(\"\"\"COMPUTED_VALUE\"\"\"),\"https://www.iana.org/assignments/media-types/application/vnd.oma.bcast.sgdd+xml\")","v":"https://www.iana.org/assignments/media-types/application/vnd.oma.bcast.sgdd+xml"},{"$f":"IFERROR(__xludf.DUMMYFUNCTION(\"\"\"COMPUTED_VALUE\"\"\"),\"vnd.oma.bcast.sgdd+xml\")","v":"vnd.oma.bcast.sgdd+xml"},{"$f":"IFERROR(__xludf.DUMMYFUNCTION(\"\"\"COMPUTED_VALUE\"\"\"),\"vnd.oma.bcast.sgdd+xml\")","v":"vnd.oma.bcast.sgdd+xml"},{"$f":"IFERROR(__xludf.DUMMYFUNCTION(\"\"\"COMPUTED_VALUE\"\"\"),\"application/vnd.oma.bcast.sgdd+xml\")","v":"application/vnd.oma.bcast.sgdd+xml"},{"$f":"IFERROR(__xludf.DUMMYFUNCTION(\"\"\"COMPUTED_VALUE\"\"\"),\"en\")","v":"en"}]
[{"$f":"IFERROR(__xludf.DUMMYFUNCTION(\"\"\"COMPUTED_VALUE\"\"\"),\"https://www.iana.org/assignments/media-types/application/vnd.oma.bcast.sgdu\")","v":"https://www.iana.org/assignments/media-types/application/vnd.oma.bcast.sgdu"},{"$f":"IFERROR(__xludf.DUMMYFUNCTION(\"\"\"COMPUTED_VALUE\"\"\"),\"vnd.oma.bcast.sgdu\")","v":"vnd.oma.bcast.sgdu"},{"$f":"IFERROR(__xludf.DUMMYFUNCTION(\"\"\"COMPUTED_VALUE\"\"\"),\"vnd.oma.bcast.sgdu\")","v":"vnd.oma.bcast.sgdu"},{"$f":"IFERROR(__xludf.DUMMYFUNCTION(\"\"\"COMPUTED_VALUE\"\"\"),\"application/vnd.oma.bcast.sgdu\")","v":"application/vnd.oma.bcast.sgdu"},{"$f":"IFERROR(__xludf.DUMMYFUNCTION(\"\"\"COMPUTED_VALUE\"\"\"),\"en\")","v":"en"}]
[{"$f":"IFERROR(__xludf.DUMMYFUNCTION(\"\"\"COMPUTED_VALUE\"\"\"),\"https://www.iana.org/assignments/media-types/application/vnd.oma.bcast.simple-symbol-container\")","v":"https://www.iana.org/assignments/media-types/application/vnd.oma.bcast.simple-symbol-container"},{"$f":"IFERROR(__xludf.DUMMYFUNCTION(\"\"\"COMPUTED_VALUE\"\"\"),\"vnd.oma.bcast.simple-symbol-container\")","v":"vnd.oma.bcast.simple-symbol-container"},{"$f":"IFERROR(__xludf.DUMMYFUNCTION(\"\"\"COMPUTED_VALUE\"\"\"),\"vnd.oma.bcast.simple-symbol-container\")","v":"vnd.oma.bcast.simple-symbol-container"},{"$f":"IFERROR(__xludf.DUMMYFUNCTION(\"\"\"COMPUTED_VALUE\"\"\"),\"application/vnd.oma.bcast.simple-symbol-container\")","v":"application/vnd.oma.bcast.simple-symbol-container"},{"$f":"IFERROR(__xludf.DUMMYFUNCTION(\"\"\"COMPUTED_VALUE\"\"\"),\"en\")","v":"en"}]
[{"$f":"IFERROR(__xludf.DUMMYFUNCTION(\"\"\"COMPUTED_VALUE\"\"\"),\"https://www.iana.org/assignments/media-types/application/vnd.oma.bcast.smartcard-trigger+xml\")","v":"https://www.iana.org/assignments/media-types/application/vnd.oma.bcast.smartcard-trigger+xml"},{"$f":"IFERROR(__xludf.DUMMYFUNCTION(\"\"\"COMPUTED_VALUE\"\"\"),\"vnd.oma.bcast.smartcard-trigger+xml\")","v":"vnd.oma.bcast.smartcard-trigger+xml"},{"$f":"IFERROR(__xludf.DUMMYFUNCTION(\"\"\"COMPUTED_VALUE\"\"\"),\"vnd.oma.bcast.smartcard-trigger+xml\")","v":"vnd.oma.bcast.smartcard-trigger+xml"},{"$f":"IFERROR(__xludf.DUMMYFUNCTION(\"\"\"COMPUTED_VALUE\"\"\"),\"application/vnd.oma.bcast.smartcard-trigger+xml\")","v":"application/vnd.oma.bcast.smartcard-trigger+xml"},{"$f":"IFERROR(__xludf.DUMMYFUNCTION(\"\"\"COMPUTED_VALUE\"\"\"),\"en\")","v":"en"}]
[{"$f":"IFERROR(__xludf.DUMMYFUNCTION(\"\"\"COMPUTED_VALUE\"\"\"),\"https://www.iana.org/assignments/media-types/application/vnd.oma.bcast.sprov+xml\")","v":"https://www.iana.org/assignments/media-types/application/vnd.oma.bcast.sprov+xml"},{"$f":"IFERROR(__xludf.DUMMYFUNCTION(\"\"\"COMPUTED_VALUE\"\"\"),\"vnd.oma.bcast.sprov+xml\")","v":"vnd.oma.bcast.sprov+xml"},{"$f":"IFERROR(__xludf.DUMMYFUNCTION(\"\"\"COMPUTED_VALUE\"\"\"),\"vnd.oma.bcast.sprov+xml\")","v":"vnd.oma.bcast.sprov+xml"},{"$f":"IFERROR(__xludf.DUMMYFUNCTION(\"\"\"COMPUTED_VALUE\"\"\"),\"application/vnd.oma.bcast.sprov+xml\")","v":"application/vnd.oma.bcast.sprov+xml"},{"$f":"IFERROR(__xludf.DUMMYFUNCTION(\"\"\"COMPUTED_VALUE\"\"\"),\"en\")","v":"en"}]
[{"$f":"IFERROR(__xludf.DUMMYFUNCTION(\"\"\"COMPUTED_VALUE\"\"\"),\"https://www.iana.org/assignments/media-types/application/vnd.oma.bcast.stkm\")","v":"https://www.iana.org/assignments/media-types/application/vnd.oma.bcast.stkm"},{"$f":"IFERROR(__xludf.DUMMYFUNCTION(\"\"\"COMPUTED_VALUE\"\"\"),\"vnd.oma.bcast.stkm\")","v":"vnd.oma.bcast.stkm"},{"$f":"IFERROR(__xludf.DUMMYFUNCTION(\"\"\"COMPUTED_VALUE\"\"\"),\"vnd.oma.bcast.stkm\")","v":"vnd.oma.bcast.stkm"},{"$f":"IFERROR(__xludf.DUMMYFUNCTION(\"\"\"COMPUTED_VALUE\"\"\"),\"application/vnd.oma.bcast.stkm\")","v":"application/vnd.oma.bcast.stkm"},{"$f":"IFERROR(__xludf.DUMMYFUNCTION(\"\"\"COMPUTED_VALUE\"\"\"),\"en\")","v":"en"}]
[{"$f":"IFERROR(__xludf.DUMMYFUNCTION(\"\"\"COMPUTED_VALUE\"\"\"),\"https://www.iana.org/assignments/media-types/application/vnd.oma.cab-address-book+xml\")","v":"https://www.iana.org/assignments/media-types/application/vnd.oma.cab-address-book+xml"},{"$f":"IFERROR(__xludf.DUMMYFUNCTION(\"\"\"COMPUTED_VALUE\"\"\"),\"vnd.oma.cab-address-book+xml\")","v":"vnd.oma.cab-address-book+xml"},{"$f":"IFERROR(__xludf.DUMMYFUNCTION(\"\"\"COMPUTED_VALUE\"\"\"),\"vnd.oma.cab-address-book+xml\")","v":"vnd.oma.cab-address-book+xml"},{"$f":"IFERROR(__xludf.DUMMYFUNCTION(\"\"\"COMPUTED_VALUE\"\"\"),\"application/vnd.oma.cab-address-book+xml\")","v":"application/vnd.oma.cab-address-book+xml"},{"$f":"IFERROR(__xludf.DUMMYFUNCTION(\"\"\"COMPUTED_VALUE\"\"\"),\"en\")","v":"en"}]
[{"$f":"IFERROR(__xludf.DUMMYFUNCTION(\"\"\"COMPUTED_VALUE\"\"\"),\"https://www.iana.org/assignments/media-types/application/vnd.oma.cab-feature-handler+xml\")","v":"https://www.iana.org/assignments/media-types/application/vnd.oma.cab-feature-handler+xml"},{"$f":"IFERROR(__xludf.DUMMYFUNCTION(\"\"\"COMPUTED_VALUE\"\"\"),\"vnd.oma.cab-feature-handler+xml\")","v":"vnd.oma.cab-feature-handler+xml"},{"$f":"IFERROR(__xludf.DUMMYFUNCTION(\"\"\"COMPUTED_VALUE\"\"\"),\"vnd.oma.cab-feature-handler+xml\")","v":"vnd.oma.cab-feature-handler+xml"},{"$f":"IFERROR(__xludf.DUMMYFUNCTION(\"\"\"COMPUTED_VALUE\"\"\"),\"application/vnd.oma.cab-feature-handler+xml\")","v":"application/vnd.oma.cab-feature-handler+xml"},{"$f":"IFERROR(__xludf.DUMMYFUNCTION(\"\"\"COMPUTED_VALUE\"\"\"),\"en\")","v":"en"}]
[{"$f":"IFERROR(__xludf.DUMMYFUNCTION(\"\"\"COMPUTED_VALUE\"\"\"),\"https://www.iana.org/assignments/media-types/application/vnd.oma.cab-pcc+xml\")","v":"https://www.iana.org/assignments/media-types/application/vnd.oma.cab-pcc+xml"},{"$f":"IFERROR(__xludf.DUMMYFUNCTION(\"\"\"COMPUTED_VALUE\"\"\"),\"vnd.oma.cab-pcc+xml\")","v":"vnd.oma.cab-pcc+xml"},{"$f":"IFERROR(__xludf.DUMMYFUNCTION(\"\"\"COMPUTED_VALUE\"\"\"),\"vnd.oma.cab-pcc+xml\")","v":"vnd.oma.cab-pcc+xml"},{"$f":"IFERROR(__xludf.DUMMYFUNCTION(\"\"\"COMPUTED_VALUE\"\"\"),\"application/vnd.oma.cab-pcc+xml\")","v":"application/vnd.oma.cab-pcc+xml"},{"$f":"IFERROR(__xludf.DUMMYFUNCTION(\"\"\"COMPUTED_VALUE\"\"\"),\"en\")","v":"en"}]
[{"$f":"IFERROR(__xludf.DUMMYFUNCTION(\"\"\"COMPUTED_VALUE\"\"\"),\"https://www.iana.org/assignments/media-types/application/vnd.oma.cab-subs-invite+xml\")","v":"https://www.iana.org/assignments/media-types/application/vnd.oma.cab-subs-invite+xml"},{"$f":"IFERROR(__xludf.DUMMYFUNCTION(\"\"\"COMPUTED_VALUE\"\"\"),\"vnd.oma.cab-subs-invite+xml\")","v":"vnd.oma.cab-subs-invite+xml"},{"$f":"IFERROR(__xludf.DUMMYFUNCTION(\"\"\"COMPUTED_VALUE\"\"\"),\"vnd.oma.cab-subs-invite+xml\")","v":"vnd.oma.cab-subs-invite+xml"},{"$f":"IFERROR(__xludf.DUMMYFUNCTION(\"\"\"COMPUTED_VALUE\"\"\"),\"application/vnd.oma.cab-subs-invite+xml\")","v":"application/vnd.oma.cab-subs-invite+xml"},{"$f":"IFERROR(__xludf.DUMMYFUNCTION(\"\"\"COMPUTED_VALUE\"\"\"),\"en\")","v":"en"}]
[{"$f":"IFERROR(__xludf.DUMMYFUNCTION(\"\"\"COMPUTED_VALUE\"\"\"),\"https://www.iana.org/assignments/media-types/application/vnd.oma.cab-user-prefs+xml\")","v":"https://www.iana.org/assignments/media-types/application/vnd.oma.cab-user-prefs+xml"},{"$f":"IFERROR(__xludf.DUMMYFUNCTION(\"\"\"COMPUTED_VALUE\"\"\"),\"vnd.oma.cab-user-prefs+xml\")","v":"vnd.oma.cab-user-prefs+xml"},{"$f":"IFERROR(__xludf.DUMMYFUNCTION(\"\"\"COMPUTED_VALUE\"\"\"),\"vnd.oma.cab-user-prefs+xml\")","v":"vnd.oma.cab-user-prefs+xml"},{"$f":"IFERROR(__xludf.DUMMYFUNCTION(\"\"\"COMPUTED_VALUE\"\"\"),\"application/vnd.oma.cab-user-prefs+xml\")","v":"application/vnd.oma.cab-user-prefs+xml"},{"$f":"IFERROR(__xludf.DUMMYFUNCTION(\"\"\"COMPUTED_VALUE\"\"\"),\"en\")","v":"en"}]
[{"$f":"IFERROR(__xludf.DUMMYFUNCTION(\"\"\"COMPUTED_VALUE\"\"\"),\"https://www.iana.org/assignments/media-types/application/vnd.oma.dcd\")","v":"https://www.iana.org/assignments/media-types/application/vnd.oma.dcd"},{"$f":"IFERROR(__xludf.DUMMYFUNCTION(\"\"\"COMPUTED_VALUE\"\"\"),\"vnd.oma.dcd\")","v":"vnd.oma.dcd"},{"$f":"IFERROR(__xludf.DUMMYFUNCTION(\"\"\"COMPUTED_VALUE\"\"\"),\"vnd.oma.dcd\")","v":"vnd.oma.dcd"},{"$f":"IFERROR(__xludf.DUMMYFUNCTION(\"\"\"COMPUTED_VALUE\"\"\"),\"application/vnd.oma.dcd\")","v":"application/vnd.oma.dcd"},{"$f":"IFERROR(__xludf.DUMMYFUNCTION(\"\"\"COMPUTED_VALUE\"\"\"),\"en\")","v":"en"}]
[{"$f":"IFERROR(__xludf.DUMMYFUNCTION(\"\"\"COMPUTED_VALUE\"\"\"),\"https://www.iana.org/assignments/media-types/application/vnd.oma.dcdc\")","v":"https://www.iana.org/assignments/media-types/application/vnd.oma.dcdc"},{"$f":"IFERROR(__xludf.DUMMYFUNCTION(\"\"\"COMPUTED_VALUE\"\"\"),\"vnd.oma.dcdc\")","v":"vnd.oma.dcdc"},{"$f":"IFERROR(__xludf.DUMMYFUNCTION(\"\"\"COMPUTED_VALUE\"\"\"),\"vnd.oma.dcdc\")","v":"vnd.oma.dcdc"},{"$f":"IFERROR(__xludf.DUMMYFUNCTION(\"\"\"COMPUTED_VALUE\"\"\"),\"application/vnd.oma.dcdc\")","v":"application/vnd.oma.dcdc"},{"$f":"IFERROR(__xludf.DUMMYFUNCTION(\"\"\"COMPUTED_VALUE\"\"\"),\"en\")","v":"en"}]
[{"$f":"IFERROR(__xludf.DUMMYFUNCTION(\"\"\"COMPUTED_VALUE\"\"\"),\"https://www.iana.org/assignments/media-types/application/vnd.oma.dd2+xml\")","v":"https://www.iana.org/assignments/media-types/application/vnd.oma.dd2+xml"},{"$f":"IFERROR(__xludf.DUMMYFUNCTION(\"\"\"COMPUTED_VALUE\"\"\"),\"vnd.oma.dd2+xml\")","v":"vnd.oma.dd2+xml"},{"$f":"IFERROR(__xludf.DUMMYFUNCTION(\"\"\"COMPUTED_VALUE\"\"\"),\"vnd.oma.dd2+xml\")","v":"vnd.oma.dd2+xml"},{"$f":"IFERROR(__xludf.DUMMYFUNCTION(\"\"\"COMPUTED_VALUE\"\"\"),\"application/vnd.oma.dd2+xml\")","v":"application/vnd.oma.dd2+xml"},{"$f":"IFERROR(__xludf.DUMMYFUNCTION(\"\"\"COMPUTED_VALUE\"\"\"),\"en\")","v":"en"}]
[{"$f":"IFERROR(__xludf.DUMMYFUNCTION(\"\"\"COMPUTED_VALUE\"\"\"),\"https://www.iana.org/assignments/media-types/application/vnd.oma.drm.risd+xml\")","v":"https://www.iana.org/assignments/media-types/application/vnd.oma.drm.risd+xml"},{"$f":"IFERROR(__xludf.DUMMYFUNCTION(\"\"\"COMPUTED_VALUE\"\"\"),\"vnd.oma.drm.risd+xml\")","v":"vnd.oma.drm.risd+xml"},{"$f":"IFERROR(__xludf.DUMMYFUNCTION(\"\"\"COMPUTED_VALUE\"\"\"),\"vnd.oma.drm.risd+xml\")","v":"vnd.oma.drm.risd+xml"},{"$f":"IFERROR(__xludf.DUMMYFUNCTION(\"\"\"COMPUTED_VALUE\"\"\"),\"application/vnd.oma.drm.risd+xml\")","v":"application/vnd.oma.drm.risd+xml"},{"$f":"IFERROR(__xludf.DUMMYFUNCTION(\"\"\"COMPUTED_VALUE\"\"\"),\"en\")","v":"en"}]
[{"$f":"IFERROR(__xludf.DUMMYFUNCTION(\"\"\"COMPUTED_VALUE\"\"\"),\"https://www.iana.org/assignments/media-types/application/vnd.oma.group-usage-list+xml\")","v":"https://www.iana.org/assignments/media-types/application/vnd.oma.group-usage-list+xml"},{"$f":"IFERROR(__xludf.DUMMYFUNCTION(\"\"\"COMPUTED_VALUE\"\"\"),\"vnd.oma.group-usage-list+xml\")","v":"vnd.oma.group-usage-list+xml"},{"$f":"IFERROR(__xludf.DUMMYFUNCTION(\"\"\"COMPUTED_VALUE\"\"\"),\"vnd.oma.group-usage-list+xml\")","v":"vnd.oma.group-usage-list+xml"},{"$f":"IFERROR(__xludf.DUMMYFUNCTION(\"\"\"COMPUTED_VALUE\"\"\"),\"application/vnd.oma.group-usage-list+xml\")","v":"application/vnd.oma.group-usage-list+xml"},{"$f":"IFERROR(__xludf.DUMMYFUNCTION(\"\"\"COMPUTED_VALUE\"\"\"),\"en\")","v":"en"}]
[{"$f":"IFERROR(__xludf.DUMMYFUNCTION(\"\"\"COMPUTED_VALUE\"\"\"),\"https://www.iana.org/assignments/media-types/application/vnd.oma.lwm2m+cbor\")","v":"https://www.iana.org/assignments/media-types/application/vnd.oma.lwm2m+cbor"},{"$f":"IFERROR(__xludf.DUMMYFUNCTION(\"\"\"COMPUTED_VALUE\"\"\"),\"vnd.oma.lwm2m+cbor\")","v":"vnd.oma.lwm2m+cbor"},{"$f":"IFERROR(__xludf.DUMMYFUNCTION(\"\"\"COMPUTED_VALUE\"\"\"),\"vnd.oma.lwm2m+cbor\")","v":"vnd.oma.lwm2m+cbor"},{"$f":"IFERROR(__xludf.DUMMYFUNCTION(\"\"\"COMPUTED_VALUE\"\"\"),\"application/vnd.oma.lwm2m+cbor\")","v":"application/vnd.oma.lwm2m+cbor"},{"$f":"IFERROR(__xludf.DUMMYFUNCTION(\"\"\"COMPUTED_VALUE\"\"\"),\"en\")","v":"en"}]
[{"$f":"IFERROR(__xludf.DUMMYFUNCTION(\"\"\"COMPUTED_VALUE\"\"\"),\"https://www.iana.org/assignments/media-types/application/vnd.oma.lwm2m+json\")","v":"https://www.iana.org/assignments/media-types/application/vnd.oma.lwm2m+json"},{"$f":"IFERROR(__xludf.DUMMYFUNCTION(\"\"\"COMPUTED_VALUE\"\"\"),\"vnd.oma.lwm2m+json\")","v":"vnd.oma.lwm2m+json"},{"$f":"IFERROR(__xludf.DUMMYFUNCTION(\"\"\"COMPUTED_VALUE\"\"\"),\"vnd.oma.lwm2m+json\")","v":"vnd.oma.lwm2m+json"},{"$f":"IFERROR(__xludf.DUMMYFUNCTION(\"\"\"COMPUTED_VALUE\"\"\"),\"application/vnd.oma.lwm2m+json\")","v":"application/vnd.oma.lwm2m+json"},{"$f":"IFERROR(__xludf.DUMMYFUNCTION(\"\"\"COMPUTED_VALUE\"\"\"),\"en\")","v":"en"}]
[{"$f":"IFERROR(__xludf.DUMMYFUNCTION(\"\"\"COMPUTED_VALUE\"\"\"),\"https://www.iana.org/assignments/media-types/application/vnd.oma.lwm2m+tlv\")","v":"https://www.iana.org/assignments/media-types/application/vnd.oma.lwm2m+tlv"},{"$f":"IFERROR(__xludf.DUMMYFUNCTION(\"\"\"COMPUTED_VALUE\"\"\"),\"vnd.oma.lwm2m+tlv\")","v":"vnd.oma.lwm2m+tlv"},{"$f":"IFERROR(__xludf.DUMMYFUNCTION(\"\"\"COMPUTED_VALUE\"\"\"),\"vnd.oma.lwm2m+tlv\")","v":"vnd.oma.lwm2m+tlv"},{"$f":"IFERROR(__xludf.DUMMYFUNCTION(\"\"\"COMPUTED_VALUE\"\"\"),\"application/vnd.oma.lwm2m+tlv\")","v":"application/vnd.oma.lwm2m+tlv"},{"$f":"IFERROR(__xludf.DUMMYFUNCTION(\"\"\"COMPUTED_VALUE\"\"\"),\"en\")","v":"en"}]
[{"$f":"IFERROR(__xludf.DUMMYFUNCTION(\"\"\"COMPUTED_VALUE\"\"\"),\"https://www.iana.org/assignments/media-types/application/vnd.oma.pal+xml\")","v":"https://www.iana.org/assignments/media-types/application/vnd.oma.pal+xml"},{"$f":"IFERROR(__xludf.DUMMYFUNCTION(\"\"\"COMPUTED_VALUE\"\"\"),\"vnd.oma.pal+xml\")","v":"vnd.oma.pal+xml"},{"$f":"IFERROR(__xludf.DUMMYFUNCTION(\"\"\"COMPUTED_VALUE\"\"\"),\"vnd.oma.pal+xml\")","v":"vnd.oma.pal+xml"},{"$f":"IFERROR(__xludf.DUMMYFUNCTION(\"\"\"COMPUTED_VALUE\"\"\"),\"application/vnd.oma.pal+xml\")","v":"application/vnd.oma.pal+xml"},{"$f":"IFERROR(__xludf.DUMMYFUNCTION(\"\"\"COMPUTED_VALUE\"\"\"),\"en\")","v":"en"}]
[{"$f":"IFERROR(__xludf.DUMMYFUNCTION(\"\"\"COMPUTED_VALUE\"\"\"),\"https://www.iana.org/assignments/media-types/application/vnd.oma.poc.detailed-progress-report+xml\")","v":"https://www.iana.org/assignments/media-types/application/vnd.oma.poc.detailed-progress-report+xml"},{"$f":"IFERROR(__xludf.DUMMYFUNCTION(\"\"\"COMPUTED_VALUE\"\"\"),\"vnd.oma.poc.detailed-progress-report+xml\")","v":"vnd.oma.poc.detailed-progress-report+xml"},{"$f":"IFERROR(__xludf.DUMMYFUNCTION(\"\"\"COMPUTED_VALUE\"\"\"),\"vnd.oma.poc.detailed-progress-report+xml\")","v":"vnd.oma.poc.detailed-progress-report+xml"},{"$f":"IFERROR(__xludf.DUMMYFUNCTION(\"\"\"COMPUTED_VALUE\"\"\"),\"application/vnd.oma.poc.detailed-progress-report+xml\")","v":"application/vnd.oma.poc.detailed-progress-report+xml"},{"$f":"IFERROR(__xludf.DUMMYFUNCTION(\"\"\"COMPUTED_VALUE\"\"\"),\"en\")","v":"en"}]
[{"$f":"IFERROR(__xludf.DUMMYFUNCTION(\"\"\"COMPUTED_VALUE\"\"\"),\"https://www.iana.org/assignments/media-types/application/vnd.oma.poc.final-report+xml\")","v":"https://www.iana.org/assignments/media-types/application/vnd.oma.poc.final-report+xml"},{"$f":"IFERROR(__xludf.DUMMYFUNCTION(\"\"\"COMPUTED_VALUE\"\"\"),\"vnd.oma.poc.final-report+xml\")","v":"vnd.oma.poc.final-report+xml"},{"$f":"IFERROR(__xludf.DUMMYFUNCTION(\"\"\"COMPUTED_VALUE\"\"\"),\"vnd.oma.poc.final-report+xml\")","v":"vnd.oma.poc.final-report+xml"},{"$f":"IFERROR(__xludf.DUMMYFUNCTION(\"\"\"COMPUTED_VALUE\"\"\"),\"application/vnd.oma.poc.final-report+xml\")","v":"application/vnd.oma.poc.final-report+xml"},{"$f":"IFERROR(__xludf.DUMMYFUNCTION(\"\"\"COMPUTED_VALUE\"\"\"),\"en\")","v":"en"}]
[{"$f":"IFERROR(__xludf.DUMMYFUNCTION(\"\"\"COMPUTED_VALUE\"\"\"),\"https://www.iana.org/assignments/media-types/application/vnd.oma.poc.groups+xml\")","v":"https://www.iana.org/assignments/media-types/application/vnd.oma.poc.groups+xml"},{"$f":"IFERROR(__xludf.DUMMYFUNCTION(\"\"\"COMPUTED_VALUE\"\"\"),\"vnd.oma.poc.groups+xml\")","v":"vnd.oma.poc.groups+xml"},{"$f":"IFERROR(__xludf.DUMMYFUNCTION(\"\"\"COMPUTED_VALUE\"\"\"),\"vnd.oma.poc.groups+xml\")","v":"vnd.oma.poc.groups+xml"},{"$f":"IFERROR(__xludf.DUMMYFUNCTION(\"\"\"COMPUTED_VALUE\"\"\"),\"application/vnd.oma.poc.groups+xml\")","v":"application/vnd.oma.poc.groups+xml"},{"$f":"IFERROR(__xludf.DUMMYFUNCTION(\"\"\"COMPUTED_VALUE\"\"\"),\"en\")","v":"en"}]
[{"$f":"IFERROR(__xludf.DUMMYFUNCTION(\"\"\"COMPUTED_VALUE\"\"\"),\"https://www.iana.org/assignments/media-types/application/vnd.oma.poc.invocation-descriptor+xml\")","v":"https://www.iana.org/assignments/media-types/application/vnd.oma.poc.invocation-descriptor+xml"},{"$f":"IFERROR(__xludf.DUMMYFUNCTION(\"\"\"COMPUTED_VALUE\"\"\"),\"vnd.oma.poc.invocation-descriptor+xml\")","v":"vnd.oma.poc.invocation-descriptor+xml"},{"$f":"IFERROR(__xludf.DUMMYFUNCTION(\"\"\"COMPUTED_VALUE\"\"\"),\"vnd.oma.poc.invocation-descriptor+xml\")","v":"vnd.oma.poc.invocation-descriptor+xml"},{"$f":"IFERROR(__xludf.DUMMYFUNCTION(\"\"\"COMPUTED_VALUE\"\"\"),\"application/vnd.oma.poc.invocation-descriptor+xml\")","v":"application/vnd.oma.poc.invocation-descriptor+xml"},{"$f":"IFERROR(__xludf.DUMMYFUNCTION(\"\"\"COMPUTED_VALUE\"\"\"),\"en\")","v":"en"}]
[{"$f":"IFERROR(__xludf.DUMMYFUNCTION(\"\"\"COMPUTED_VALUE\"\"\"),\"https://www.iana.org/assignments/media-types/application/vnd.oma.poc.optimized-progress-report+xml\")","v":"https://www.iana.org/assignments/media-types/application/vnd.oma.poc.optimized-progress-report+xml"},{"$f":"IFERROR(__xludf.DUMMYFUNCTION(\"\"\"COMPUTED_VALUE\"\"\"),\"vnd.oma.poc.optimized-progress-report+xml\")","v":"vnd.oma.poc.optimized-progress-report+xml"},{"$f":"IFERROR(__xludf.DUMMYFUNCTION(\"\"\"COMPUTED_VALUE\"\"\"),\"vnd.oma.poc.optimized-progress-report+xml\")","v":"vnd.oma.poc.optimized-progress-report+xml"},{"$f":"IFERROR(__xludf.DUMMYFUNCTION(\"\"\"COMPUTED_VALUE\"\"\"),\"application/vnd.oma.poc.optimized-progress-report+xml\")","v":"application/vnd.oma.poc.optimized-progress-report+xml"},{"$f":"IFERROR(__xludf.DUMMYFUNCTION(\"\"\"COMPUTED_VALUE\"\"\"),\"en\")","v":"en"}]
[{"$f":"IFERROR(__xludf.DUMMYFUNCTION(\"\"\"COMPUTED_VALUE\"\"\"),\"https://www.iana.org/assignments/media-types/application/vnd.oma.push\")","v":"https://www.iana.org/assignments/media-types/application/vnd.oma.push"},{"$f":"IFERROR(__xludf.DUMMYFUNCTION(\"\"\"COMPUTED_VALUE\"\"\"),\"vnd.oma.push\")","v":"vnd.oma.push"},{"$f":"IFERROR(__xludf.DUMMYFUNCTION(\"\"\"COMPUTED_VALUE\"\"\"),\"vnd.oma.push\")","v":"vnd.oma.push"},{"$f":"IFERROR(__xludf.DUMMYFUNCTION(\"\"\"COMPUTED_VALUE\"\"\"),\"application/vnd.oma.push\")","v":"application/vnd.oma.push"},{"$f":"IFERROR(__xludf.DUMMYFUNCTION(\"\"\"COMPUTED_VALUE\"\"\"),\"en\")","v":"en"}]
[{"$f":"IFERROR(__xludf.DUMMYFUNCTION(\"\"\"COMPUTED_VALUE\"\"\"),\"https://www.iana.org/assignments/media-types/application/vnd.oma.scidm.messages+xml\")","v":"https://www.iana.org/assignments/media-types/application/vnd.oma.scidm.messages+xml"},{"$f":"IFERROR(__xludf.DUMMYFUNCTION(\"\"\"COMPUTED_VALUE\"\"\"),\"vnd.oma.scidm.messages+xml\")","v":"vnd.oma.scidm.messages+xml"},{"$f":"IFERROR(__xludf.DUMMYFUNCTION(\"\"\"COMPUTED_VALUE\"\"\"),\"vnd.oma.scidm.messages+xml\")","v":"vnd.oma.scidm.messages+xml"},{"$f":"IFERROR(__xludf.DUMMYFUNCTION(\"\"\"COMPUTED_VALUE\"\"\"),\"application/vnd.oma.scidm.messages+xml\")","v":"application/vnd.oma.scidm.messages+xml"},{"$f":"IFERROR(__xludf.DUMMYFUNCTION(\"\"\"COMPUTED_VALUE\"\"\"),\"en\")","v":"en"}]
[{"$f":"IFERROR(__xludf.DUMMYFUNCTION(\"\"\"COMPUTED_VALUE\"\"\"),\"https://www.iana.org/assignments/media-types/application/vnd.oma.xcap-directory+xml\")","v":"https://www.iana.org/assignments/media-types/application/vnd.oma.xcap-directory+xml"},{"$f":"IFERROR(__xludf.DUMMYFUNCTION(\"\"\"COMPUTED_VALUE\"\"\"),\"vnd.oma.xcap-directory+xml\")","v":"vnd.oma.xcap-directory+xml"},{"$f":"IFERROR(__xludf.DUMMYFUNCTION(\"\"\"COMPUTED_VALUE\"\"\"),\"vnd.oma.xcap-directory+xml\")","v":"vnd.oma.xcap-directory+xml"},{"$f":"IFERROR(__xludf.DUMMYFUNCTION(\"\"\"COMPUTED_VALUE\"\"\"),\"application/vnd.oma.xcap-directory+xml\")","v":"application/vnd.oma.xcap-directory+xml"},{"$f":"IFERROR(__xludf.DUMMYFUNCTION(\"\"\"COMPUTED_VALUE\"\"\"),\"en\")","v":"en"}]
[{"$f":"IFERROR(__xludf.DUMMYFUNCTION(\"\"\"COMPUTED_VALUE\"\"\"),\"https://www.iana.org/assignments/media-types/application/vnd.omads-email+xml\")","v":"https://www.iana.org/assignments/media-types/application/vnd.omads-email+xml"},{"$f":"IFERROR(__xludf.DUMMYFUNCTION(\"\"\"COMPUTED_VALUE\"\"\"),\"vnd.omads-email+xml\")","v":"vnd.omads-email+xml"},{"$f":"IFERROR(__xludf.DUMMYFUNCTION(\"\"\"COMPUTED_VALUE\"\"\"),\"vnd.omads-email+xml\")","v":"vnd.omads-email+xml"},{"$f":"IFERROR(__xludf.DUMMYFUNCTION(\"\"\"COMPUTED_VALUE\"\"\"),\"application/vnd.omads-email+xml\")","v":"application/vnd.omads-email+xml"},{"$f":"IFERROR(__xludf.DUMMYFUNCTION(\"\"\"COMPUTED_VALUE\"\"\"),\"en\")","v":"en"}]
[{"$f":"IFERROR(__xludf.DUMMYFUNCTION(\"\"\"COMPUTED_VALUE\"\"\"),\"https://www.iana.org/assignments/media-types/application/vnd.omads-file+xml\")","v":"https://www.iana.org/assignments/media-types/application/vnd.omads-file+xml"},{"$f":"IFERROR(__xludf.DUMMYFUNCTION(\"\"\"COMPUTED_VALUE\"\"\"),\"vnd.omads-file+xml\")","v":"vnd.omads-file+xml"},{"$f":"IFERROR(__xludf.DUMMYFUNCTION(\"\"\"COMPUTED_VALUE\"\"\"),\"vnd.omads-file+xml\")","v":"vnd.omads-file+xml"},{"$f":"IFERROR(__xludf.DUMMYFUNCTION(\"\"\"COMPUTED_VALUE\"\"\"),\"application/vnd.omads-file+xml\")","v":"application/vnd.omads-file+xml"},{"$f":"IFERROR(__xludf.DUMMYFUNCTION(\"\"\"COMPUTED_VALUE\"\"\"),\"en\")","v":"en"}]
[{"$f":"IFERROR(__xludf.DUMMYFUNCTION(\"\"\"COMPUTED_VALUE\"\"\"),\"https://www.iana.org/assignments/media-types/application/vnd.omads-folder+xml\")","v":"https://www.iana.org/assignments/media-types/application/vnd.omads-folder+xml"},{"$f":"IFERROR(__xludf.DUMMYFUNCTION(\"\"\"COMPUTED_VALUE\"\"\"),\"vnd.omads-folder+xml\")","v":"vnd.omads-folder+xml"},{"$f":"IFERROR(__xludf.DUMMYFUNCTION(\"\"\"COMPUTED_VALUE\"\"\"),\"vnd.omads-folder+xml\")","v":"vnd.omads-folder+xml"},{"$f":"IFERROR(__xludf.DUMMYFUNCTION(\"\"\"COMPUTED_VALUE\"\"\"),\"application/vnd.omads-folder+xml\")","v":"application/vnd.omads-folder+xml"},{"$f":"IFERROR(__xludf.DUMMYFUNCTION(\"\"\"COMPUTED_VALUE\"\"\"),\"en\")","v":"en"}]
[{"$f":"IFERROR(__xludf.DUMMYFUNCTION(\"\"\"COMPUTED_VALUE\"\"\"),\"https://www.iana.org/assignments/media-types/application/vnd.omaloc-supl-init\")","v":"https://www.iana.org/assignments/media-types/application/vnd.omaloc-supl-init"},{"$f":"IFERROR(__xludf.DUMMYFUNCTION(\"\"\"COMPUTED_VALUE\"\"\"),\"vnd.omaloc-supl-init\")","v":"vnd.omaloc-supl-init"},{"$f":"IFERROR(__xludf.DUMMYFUNCTION(\"\"\"COMPUTED_VALUE\"\"\"),\"vnd.omaloc-supl-init\")","v":"vnd.omaloc-supl-init"},{"$f":"IFERROR(__xludf.DUMMYFUNCTION(\"\"\"COMPUTED_VALUE\"\"\"),\"application/vnd.omaloc-supl-init\")","v":"application/vnd.omaloc-supl-init"},{"$f":"IFERROR(__xludf.DUMMYFUNCTION(\"\"\"COMPUTED_VALUE\"\"\"),\"en\")","v":"en"}]
[{"$f":"IFERROR(__xludf.DUMMYFUNCTION(\"\"\"COMPUTED_VALUE\"\"\"),\"https://www.iana.org/assignments/media-types/application/vnd.oma-scws-config\")","v":"https://www.iana.org/assignments/media-types/application/vnd.oma-scws-config"},{"$f":"IFERROR(__xludf.DUMMYFUNCTION(\"\"\"COMPUTED_VALUE\"\"\"),\"vnd.oma-scws-config\")","v":"vnd.oma-scws-config"},{"$f":"IFERROR(__xludf.DUMMYFUNCTION(\"\"\"COMPUTED_VALUE\"\"\"),\"vnd.oma-scws-config\")","v":"vnd.oma-scws-config"},{"$f":"IFERROR(__xludf.DUMMYFUNCTION(\"\"\"COMPUTED_VALUE\"\"\"),\"application/vnd.oma-scws-config\")","v":"application/vnd.oma-scws-config"},{"$f":"IFERROR(__xludf.DUMMYFUNCTION(\"\"\"COMPUTED_VALUE\"\"\"),\"en\")","v":"en"}]
[{"$f":"IFERROR(__xludf.DUMMYFUNCTION(\"\"\"COMPUTED_VALUE\"\"\"),\"https://www.iana.org/assignments/media-types/application/vnd.oma-scws-http-request\")","v":"https://www.iana.org/assignments/media-types/application/vnd.oma-scws-http-request"},{"$f":"IFERROR(__xludf.DUMMYFUNCTION(\"\"\"COMPUTED_VALUE\"\"\"),\"vnd.oma-scws-http-request\")","v":"vnd.oma-scws-http-request"},{"$f":"IFERROR(__xludf.DUMMYFUNCTION(\"\"\"COMPUTED_VALUE\"\"\"),\"vnd.oma-scws-http-request\")","v":"vnd.oma-scws-http-request"},{"$f":"IFERROR(__xludf.DUMMYFUNCTION(\"\"\"COMPUTED_VALUE\"\"\"),\"application/vnd.oma-scws-http-request\")","v":"application/vnd.oma-scws-http-request"},{"$f":"IFERROR(__xludf.DUMMYFUNCTION(\"\"\"COMPUTED_VALUE\"\"\"),\"en\")","v":"en"}]
[{"$f":"IFERROR(__xludf.DUMMYFUNCTION(\"\"\"COMPUTED_VALUE\"\"\"),\"https://www.iana.org/assignments/media-types/application/vnd.oma-scws-http-response\")","v":"https://www.iana.org/assignments/media-types/application/vnd.oma-scws-http-response"},{"$f":"IFERROR(__xludf.DUMMYFUNCTION(\"\"\"COMPUTED_VALUE\"\"\"),\"vnd.oma-scws-http-response\")","v":"vnd.oma-scws-http-response"},{"$f":"IFERROR(__xludf.DUMMYFUNCTION(\"\"\"COMPUTED_VALUE\"\"\"),\"vnd.oma-scws-http-response\")","v":"vnd.oma-scws-http-response"},{"$f":"IFERROR(__xludf.DUMMYFUNCTION(\"\"\"COMPUTED_VALUE\"\"\"),\"application/vnd.oma-scws-http-response\")","v":"application/vnd.oma-scws-http-response"},{"$f":"IFERROR(__xludf.DUMMYFUNCTION(\"\"\"COMPUTED_VALUE\"\"\"),\"en\")","v":"en"}]
[{"$f":"IFERROR(__xludf.DUMMYFUNCTION(\"\"\"COMPUTED_VALUE\"\"\"),\"https://www.iana.org/assignments/media-types/application/vnd.onepager\")","v":"https://www.iana.org/assignments/media-types/application/vnd.onepager"},{"$f":"IFERROR(__xludf.DUMMYFUNCTION(\"\"\"COMPUTED_VALUE\"\"\"),\"vnd.onepager\")","v":"vnd.onepager"},{"$f":"IFERROR(__xludf.DUMMYFUNCTION(\"\"\"COMPUTED_VALUE\"\"\"),\"vnd.onepager\")","v":"vnd.onepager"},{"$f":"IFERROR(__xludf.DUMMYFUNCTION(\"\"\"COMPUTED_VALUE\"\"\"),\"application/vnd.onepager\")","v":"application/vnd.onepager"},{"$f":"IFERROR(__xludf.DUMMYFUNCTION(\"\"\"COMPUTED_VALUE\"\"\"),\"en\")","v":"en"}]
[{"$f":"IFERROR(__xludf.DUMMYFUNCTION(\"\"\"COMPUTED_VALUE\"\"\"),\"https://www.iana.org/assignments/media-types/application/vnd.onepagertamp\")","v":"https://www.iana.org/assignments/media-types/application/vnd.onepagertamp"},{"$f":"IFERROR(__xludf.DUMMYFUNCTION(\"\"\"COMPUTED_VALUE\"\"\"),\"vnd.onepagertamp\")","v":"vnd.onepagertamp"},{"$f":"IFERROR(__xludf.DUMMYFUNCTION(\"\"\"COMPUTED_VALUE\"\"\"),\"vnd.onepagertamp\")","v":"vnd.onepagertamp"},{"$f":"IFERROR(__xludf.DUMMYFUNCTION(\"\"\"COMPUTED_VALUE\"\"\"),\"application/vnd.onepagertamp\")","v":"application/vnd.onepagertamp"},{"$f":"IFERROR(__xludf.DUMMYFUNCTION(\"\"\"COMPUTED_VALUE\"\"\"),\"en\")","v":"en"}]
[{"$f":"IFERROR(__xludf.DUMMYFUNCTION(\"\"\"COMPUTED_VALUE\"\"\"),\"https://www.iana.org/assignments/media-types/application/vnd.onepagertamx\")","v":"https://www.iana.org/assignments/media-types/application/vnd.onepagertamx"},{"$f":"IFERROR(__xludf.DUMMYFUNCTION(\"\"\"COMPUTED_VALUE\"\"\"),\"vnd.onepagertamx\")","v":"vnd.onepagertamx"},{"$f":"IFERROR(__xludf.DUMMYFUNCTION(\"\"\"COMPUTED_VALUE\"\"\"),\"vnd.onepagertamx\")","v":"vnd.onepagertamx"},{"$f":"IFERROR(__xludf.DUMMYFUNCTION(\"\"\"COMPUTED_VALUE\"\"\"),\"application/vnd.onepagertamx\")","v":"application/vnd.onepagertamx"},{"$f":"IFERROR(__xludf.DUMMYFUNCTION(\"\"\"COMPUTED_VALUE\"\"\"),\"en\")","v":"en"}]
[{"$f":"IFERROR(__xludf.DUMMYFUNCTION(\"\"\"COMPUTED_VALUE\"\"\"),\"https://www.iana.org/assignments/media-types/application/vnd.onepagertat\")","v":"https://www.iana.org/assignments/media-types/application/vnd.onepagertat"},{"$f":"IFERROR(__xludf.DUMMYFUNCTION(\"\"\"COMPUTED_VALUE\"\"\"),\"vnd.onepagertat\")","v":"vnd.onepagertat"},{"$f":"IFERROR(__xludf.DUMMYFUNCTION(\"\"\"COMPUTED_VALUE\"\"\"),\"vnd.onepagertat\")","v":"vnd.onepagertat"},{"$f":"IFERROR(__xludf.DUMMYFUNCTION(\"\"\"COMPUTED_VALUE\"\"\"),\"application/vnd.onepagertat\")","v":"application/vnd.onepagertat"},{"$f":"IFERROR(__xludf.DUMMYFUNCTION(\"\"\"COMPUTED_VALUE\"\"\"),\"en\")","v":"en"}]
[{"$f":"IFERROR(__xludf.DUMMYFUNCTION(\"\"\"COMPUTED_VALUE\"\"\"),\"https://www.iana.org/assignments/media-types/application/vnd.onepagertatp\")","v":"https://www.iana.org/assignments/media-types/application/vnd.onepagertatp"},{"$f":"IFERROR(__xludf.DUMMYFUNCTION(\"\"\"COMPUTED_VALUE\"\"\"),\"vnd.onepagertatp\")","v":"vnd.onepagertatp"},{"$f":"IFERROR(__xludf.DUMMYFUNCTION(\"\"\"COMPUTED_VALUE\"\"\"),\"vnd.onepagertatp\")","v":"vnd.onepagertatp"},{"$f":"IFERROR(__xludf.DUMMYFUNCTION(\"\"\"COMPUTED_VALUE\"\"\"),\"application/vnd.onepagertatp\")","v":"application/vnd.onepagertatp"},{"$f":"IFERROR(__xludf.DUMMYFUNCTION(\"\"\"COMPUTED_VALUE\"\"\"),\"en\")","v":"en"}]
[{"$f":"IFERROR(__xludf.DUMMYFUNCTION(\"\"\"COMPUTED_VALUE\"\"\"),\"https://www.iana.org/assignments/media-types/application/vnd.onepagertatx\")","v":"https://www.iana.org/assignments/media-types/application/vnd.onepagertatx"},{"$f":"IFERROR(__xludf.DUMMYFUNCTION(\"\"\"COMPUTED_VALUE\"\"\"),\"vnd.onepagertatx\")","v":"vnd.onepagertatx"},{"$f":"IFERROR(__xludf.DUMMYFUNCTION(\"\"\"COMPUTED_VALUE\"\"\"),\"vnd.onepagertatx\")","v":"vnd.onepagertatx"},{"$f":"IFERROR(__xludf.DUMMYFUNCTION(\"\"\"COMPUTED_VALUE\"\"\"),\"application/vnd.onepagertatx\")","v":"application/vnd.onepagertatx"},{"$f":"IFERROR(__xludf.DUMMYFUNCTION(\"\"\"COMPUTED_VALUE\"\"\"),\"en\")","v":"en"}]
[{"$f":"IFERROR(__xludf.DUMMYFUNCTION(\"\"\"COMPUTED_VALUE\"\"\"),\"https://www.iana.org/assignments/media-types/application/vnd.onvif.metadata\")","v":"https://www.iana.org/assignments/media-types/application/vnd.onvif.metadata"},{"$f":"IFERROR(__xludf.DUMMYFUNCTION(\"\"\"COMPUTED_VALUE\"\"\"),\"vnd.onvif.metadata\")","v":"vnd.onvif.metadata"},{"$f":"IFERROR(__xludf.DUMMYFUNCTION(\"\"\"COMPUTED_VALUE\"\"\"),\"vnd.onvif.metadata\")","v":"vnd.onvif.metadata"},{"$f":"IFERROR(__xludf.DUMMYFUNCTION(\"\"\"COMPUTED_VALUE\"\"\"),\"application/vnd.onvif.metadata\")","v":"application/vnd.onvif.metadata"},{"$f":"IFERROR(__xludf.DUMMYFUNCTION(\"\"\"COMPUTED_VALUE\"\"\"),\"en\")","v":"en"}]
[{"$f":"IFERROR(__xludf.DUMMYFUNCTION(\"\"\"COMPUTED_VALUE\"\"\"),\"https://www.iana.org/assignments/media-types/application/vnd.openblox.game-binary\")","v":"https://www.iana.org/assignments/media-types/application/vnd.openblox.game-binary"},{"$f":"IFERROR(__xludf.DUMMYFUNCTION(\"\"\"COMPUTED_VALUE\"\"\"),\"vnd.openblox.game-binary\")","v":"vnd.openblox.game-binary"},{"$f":"IFERROR(__xludf.DUMMYFUNCTION(\"\"\"COMPUTED_VALUE\"\"\"),\"vnd.openblox.game-binary\")","v":"vnd.openblox.game-binary"},{"$f":"IFERROR(__xludf.DUMMYFUNCTION(\"\"\"COMPUTED_VALUE\"\"\"),\"application/vnd.openblox.game-binary\")","v":"application/vnd.openblox.game-binary"},{"$f":"IFERROR(__xludf.DUMMYFUNCTION(\"\"\"COMPUTED_VALUE\"\"\"),\"en\")","v":"en"}]
[{"$f":"IFERROR(__xludf.DUMMYFUNCTION(\"\"\"COMPUTED_VALUE\"\"\"),\"https://www.iana.org/assignments/media-types/application/vnd.openblox.game+xml\")","v":"https://www.iana.org/assignments/media-types/application/vnd.openblox.game+xml"},{"$f":"IFERROR(__xludf.DUMMYFUNCTION(\"\"\"COMPUTED_VALUE\"\"\"),\"vnd.openblox.game+xml\")","v":"vnd.openblox.game+xml"},{"$f":"IFERROR(__xludf.DUMMYFUNCTION(\"\"\"COMPUTED_VALUE\"\"\"),\"vnd.openblox.game+xml\")","v":"vnd.openblox.game+xml"},{"$f":"IFERROR(__xludf.DUMMYFUNCTION(\"\"\"COMPUTED_VALUE\"\"\"),\"application/vnd.openblox.game+xml\")","v":"application/vnd.openblox.game+xml"},{"$f":"IFERROR(__xludf.DUMMYFUNCTION(\"\"\"COMPUTED_VALUE\"\"\"),\"en\")","v":"en"}]
[{"$f":"IFERROR(__xludf.DUMMYFUNCTION(\"\"\"COMPUTED_VALUE\"\"\"),\"https://www.iana.org/assignments/media-types/application/vnd.openeye.oeb\")","v":"https://www.iana.org/assignments/media-types/application/vnd.openeye.oeb"},{"$f":"IFERROR(__xludf.DUMMYFUNCTION(\"\"\"COMPUTED_VALUE\"\"\"),\"vnd.openeye.oeb\")","v":"vnd.openeye.oeb"},{"$f":"IFERROR(__xludf.DUMMYFUNCTION(\"\"\"COMPUTED_VALUE\"\"\"),\"vnd.openeye.oeb\")","v":"vnd.openeye.oeb"},{"$f":"IFERROR(__xludf.DUMMYFUNCTION(\"\"\"COMPUTED_VALUE\"\"\"),\"application/vnd.openeye.oeb\")","v":"application/vnd.openeye.oeb"},{"$f":"IFERROR(__xludf.DUMMYFUNCTION(\"\"\"COMPUTED_VALUE\"\"\"),\"en\")","v":"en"}]
[{"$f":"IFERROR(__xludf.DUMMYFUNCTION(\"\"\"COMPUTED_VALUE\"\"\"),\"https://www.iana.org/assignments/media-types/application/vnd.openstreetmap.data+xml\")","v":"https://www.iana.org/assignments/media-types/application/vnd.openstreetmap.data+xml"},{"$f":"IFERROR(__xludf.DUMMYFUNCTION(\"\"\"COMPUTED_VALUE\"\"\"),\"vnd.openstreetmap.data+xml\")","v":"vnd.openstreetmap.data+xml"},{"$f":"IFERROR(__xludf.DUMMYFUNCTION(\"\"\"COMPUTED_VALUE\"\"\"),\"vnd.openstreetmap.data+xml\")","v":"vnd.openstreetmap.data+xml"},{"$f":"IFERROR(__xludf.DUMMYFUNCTION(\"\"\"COMPUTED_VALUE\"\"\"),\"application/vnd.openstreetmap.data+xml\")","v":"application/vnd.openstreetmap.data+xml"},{"$f":"IFERROR(__xludf.DUMMYFUNCTION(\"\"\"COMPUTED_VALUE\"\"\"),\"en\")","v":"en"}]
[{"$f":"IFERROR(__xludf.DUMMYFUNCTION(\"\"\"COMPUTED_VALUE\"\"\"),\"https://www.iana.org/assignments/media-types/application/vnd.opentimestamps.ots\")","v":"https://www.iana.org/assignments/media-types/application/vnd.opentimestamps.ots"},{"$f":"IFERROR(__xludf.DUMMYFUNCTION(\"\"\"COMPUTED_VALUE\"\"\"),\"vnd.opentimestamps.ots\")","v":"vnd.opentimestamps.ots"},{"$f":"IFERROR(__xludf.DUMMYFUNCTION(\"\"\"COMPUTED_VALUE\"\"\"),\"vnd.opentimestamps.ots\")","v":"vnd.opentimestamps.ots"},{"$f":"IFERROR(__xludf.DUMMYFUNCTION(\"\"\"COMPUTED_VALUE\"\"\"),\"application/vnd.opentimestamps.ots\")","v":"application/vnd.opentimestamps.ots"},{"$f":"IFERROR(__xludf.DUMMYFUNCTION(\"\"\"COMPUTED_VALUE\"\"\"),\"en\")","v":"en"}]
[{"$f":"IFERROR(__xludf.DUMMYFUNCTION(\"\"\"COMPUTED_VALUE\"\"\"),\"https://www.iana.org/assignments/media-types/application/vnd.openxmlformats-officedocument.custom-properties+xml\")","v":"https://www.iana.org/assignments/media-types/application/vnd.openxmlformats-officedocument.custom-properties+xml"},{"$f":"IFERROR(__xludf.DUMMYFUNCTION(\"\"\"COMPUTED_VALUE\"\"\"),\"vnd.openxmlformats-officedocument.custom-properties+xml\")","v":"vnd.openxmlformats-officedocument.custom-properties+xml"},{"$f":"IFERROR(__xludf.DUMMYFUNCTION(\"\"\"COMPUTED_VALUE\"\"\"),\"vnd.openxmlformats-officedocument.custom-properties+xml\")","v":"vnd.openxmlformats-officedocument.custom-properties+xml"},{"$f":"IFERROR(__xludf.DUMMYFUNCTION(\"\"\"COMPUTED_VALUE\"\"\"),\"application/vnd.openxmlformats-officedocument.custom-properties+xml\")","v":"application/vnd.openxmlformats-officedocument.custom-properties+xml"},{"$f":"IFERROR(__xludf.DUMMYFUNCTION(\"\"\"COMPUTED_VALUE\"\"\"),\"en\")","v":"en"}]
[{"$f":"IFERROR(__xludf.DUMMYFUNCTION(\"\"\"COMPUTED_VALUE\"\"\"),\"https://www.iana.org/assignments/media-types/application/vnd.openxmlformats-officedocument.customXmlProperties+xml\")","v":"https://www.iana.org/assignments/media-types/application/vnd.openxmlformats-officedocument.customXmlProperties+xml"},{"$f":"IFERROR(__xludf.DUMMYFUNCTION(\"\"\"COMPUTED_VALUE\"\"\"),\"vnd.openxmlformats-officedocument.customXmlProperties+xml\")","v":"vnd.openxmlformats-officedocument.customXmlProperties+xml"},{"$f":"IFERROR(__xludf.DUMMYFUNCTION(\"\"\"COMPUTED_VALUE\"\"\"),\"vnd.openxmlformats-officedocument.customXmlProperties+xml\")","v":"vnd.openxmlformats-officedocument.customXmlProperties+xml"},{"$f":"IFERROR(__xludf.DUMMYFUNCTION(\"\"\"COMPUTED_VALUE\"\"\"),\"application/vnd.openxmlformats-officedocument.customXmlProperties+xml\")","v":"application/vnd.openxmlformats-officedocument.customXmlProperties+xml"},{"$f":"IFERROR(__xludf.DUMMYFUNCTION(\"\"\"COMPUTED_VALUE\"\"\"),\"en\")","v":"en"}]
[{"$f":"IFERROR(__xludf.DUMMYFUNCTION(\"\"\"COMPUTED_VALUE\"\"\"),\"https://www.iana.org/assignments/media-types/application/vnd.openxmlformats-officedocument.drawing+xml\")","v":"https://www.iana.org/assignments/media-types/application/vnd.openxmlformats-officedocument.drawing+xml"},{"$f":"IFERROR(__xludf.DUMMYFUNCTION(\"\"\"COMPUTED_VALUE\"\"\"),\"vnd.openxmlformats-officedocument.drawing+xml\")","v":"vnd.openxmlformats-officedocument.drawing+xml"},{"$f":"IFERROR(__xludf.DUMMYFUNCTION(\"\"\"COMPUTED_VALUE\"\"\"),\"vnd.openxmlformats-officedocument.drawing+xml\")","v":"vnd.openxmlformats-officedocument.drawing+xml"},{"$f":"IFERROR(__xludf.DUMMYFUNCTION(\"\"\"COMPUTED_VALUE\"\"\"),\"application/vnd.openxmlformats-officedocument.drawing+xml\")","v":"application/vnd.openxmlformats-officedocument.drawing+xml"},{"$f":"IFERROR(__xludf.DUMMYFUNCTION(\"\"\"COMPUTED_VALUE\"\"\"),\"en\")","v":"en"}]
[{"$f":"IFERROR(__xludf.DUMMYFUNCTION(\"\"\"COMPUTED_VALUE\"\"\"),\"https://www.iana.org/assignments/media-types/application/vnd.openxmlformats-officedocument.drawingml.chart+xml\")","v":"https://www.iana.org/assignments/media-types/application/vnd.openxmlformats-officedocument.drawingml.chart+xml"},{"$f":"IFERROR(__xludf.DUMMYFUNCTION(\"\"\"COMPUTED_VALUE\"\"\"),\"vnd.openxmlformats-officedocument.drawingml.chart+xml\")","v":"vnd.openxmlformats-officedocument.drawingml.chart+xml"},{"$f":"IFERROR(__xludf.DUMMYFUNCTION(\"\"\"COMPUTED_VALUE\"\"\"),\"vnd.openxmlformats-officedocument.drawingml.chart+xml\")","v":"vnd.openxmlformats-officedocument.drawingml.chart+xml"},{"$f":"IFERROR(__xludf.DUMMYFUNCTION(\"\"\"COMPUTED_VALUE\"\"\"),\"application/vnd.openxmlformats-officedocument.drawingml.chart+xml\")","v":"application/vnd.openxmlformats-officedocument.drawingml.chart+xml"},{"$f":"IFERROR(__xludf.DUMMYFUNCTION(\"\"\"COMPUTED_VALUE\"\"\"),\"en\")","v":"en"}]
[{"$f":"IFERROR(__xludf.DUMMYFUNCTION(\"\"\"COMPUTED_VALUE\"\"\"),\"https://www.iana.org/assignments/media-types/application/vnd.openxmlformats-officedocument.drawingml.chartshapes+xml\")","v":"https://www.iana.org/assignments/media-types/application/vnd.openxmlformats-officedocument.drawingml.chartshapes+xml"},{"$f":"IFERROR(__xludf.DUMMYFUNCTION(\"\"\"COMPUTED_VALUE\"\"\"),\"vnd.openxmlformats-officedocument.drawingml.chartshapes+xml\")","v":"vnd.openxmlformats-officedocument.drawingml.chartshapes+xml"},{"$f":"IFERROR(__xludf.DUMMYFUNCTION(\"\"\"COMPUTED_VALUE\"\"\"),\"vnd.openxmlformats-officedocument.drawingml.chartshapes+xml\")","v":"vnd.openxmlformats-officedocument.drawingml.chartshapes+xml"},{"$f":"IFERROR(__xludf.DUMMYFUNCTION(\"\"\"COMPUTED_VALUE\"\"\"),\"application/vnd.openxmlformats-officedocument.drawingml.chartshapes+xml\")","v":"application/vnd.openxmlformats-officedocument.drawingml.chartshapes+xml"},{"$f":"IFERROR(__xludf.DUMMYFUNCTION(\"\"\"COMPUTED_VALUE\"\"\"),\"en\")","v":"en"}]
[{"$f":"IFERROR(__xludf.DUMMYFUNCTION(\"\"\"COMPUTED_VALUE\"\"\"),\"https://www.iana.org/assignments/media-types/application/vnd.openxmlformats-officedocument.drawingml.diagramColors+xml\")","v":"https://www.iana.org/assignments/media-types/application/vnd.openxmlformats-officedocument.drawingml.diagramColors+xml"},{"$f":"IFERROR(__xludf.DUMMYFUNCTION(\"\"\"COMPUTED_VALUE\"\"\"),\"vnd.openxmlformats-officedocument.drawingml.diagramColors+xml\")","v":"vnd.openxmlformats-officedocument.drawingml.diagramColors+xml"},{"$f":"IFERROR(__xludf.DUMMYFUNCTION(\"\"\"COMPUTED_VALUE\"\"\"),\"vnd.openxmlformats-officedocument.drawingml.diagramColors+xml\")","v":"vnd.openxmlformats-officedocument.drawingml.diagramColors+xml"},{"$f":"IFERROR(__xludf.DUMMYFUNCTION(\"\"\"COMPUTED_VALUE\"\"\"),\"application/vnd.openxmlformats-officedocument.drawingml.diagramColors+xml\")","v":"application/vnd.openxmlformats-officedocument.drawingml.diagramColors+xml"},{"$f":"IFERROR(__xludf.DUMMYFUNCTION(\"\"\"COMPUTED_VALUE\"\"\"),\"en\")","v":"en"}]
[{"$f":"IFERROR(__xludf.DUMMYFUNCTION(\"\"\"COMPUTED_VALUE\"\"\"),\"https://www.iana.org/assignments/media-types/application/vnd.openxmlformats-officedocument.drawingml.diagramData+xml\")","v":"https://www.iana.org/assignments/media-types/application/vnd.openxmlformats-officedocument.drawingml.diagramData+xml"},{"$f":"IFERROR(__xludf.DUMMYFUNCTION(\"\"\"COMPUTED_VALUE\"\"\"),\"vnd.openxmlformats-officedocument.drawingml.diagramData+xml\")","v":"vnd.openxmlformats-officedocument.drawingml.diagramData+xml"},{"$f":"IFERROR(__xludf.DUMMYFUNCTION(\"\"\"COMPUTED_VALUE\"\"\"),\"vnd.openxmlformats-officedocument.drawingml.diagramData+xml\")","v":"vnd.openxmlformats-officedocument.drawingml.diagramData+xml"},{"$f":"IFERROR(__xludf.DUMMYFUNCTION(\"\"\"COMPUTED_VALUE\"\"\"),\"application/vnd.openxmlformats-officedocument.drawingml.diagramData+xml\")","v":"application/vnd.openxmlformats-officedocument.drawingml.diagramData+xml"},{"$f":"IFERROR(__xludf.DUMMYFUNCTION(\"\"\"COMPUTED_VALUE\"\"\"),\"en\")","v":"en"}]
[{"$f":"IFERROR(__xludf.DUMMYFUNCTION(\"\"\"COMPUTED_VALUE\"\"\"),\"https://www.iana.org/assignments/media-types/application/vnd.openxmlformats-officedocument.drawingml.diagramLayout+xml\")","v":"https://www.iana.org/assignments/media-types/application/vnd.openxmlformats-officedocument.drawingml.diagramLayout+xml"},{"$f":"IFERROR(__xludf.DUMMYFUNCTION(\"\"\"COMPUTED_VALUE\"\"\"),\"vnd.openxmlformats-officedocument.drawingml.diagramLayout+xml\")","v":"vnd.openxmlformats-officedocument.drawingml.diagramLayout+xml"},{"$f":"IFERROR(__xludf.DUMMYFUNCTION(\"\"\"COMPUTED_VALUE\"\"\"),\"vnd.openxmlformats-officedocument.drawingml.diagramLayout+xml\")","v":"vnd.openxmlformats-officedocument.drawingml.diagramLayout+xml"},{"$f":"IFERROR(__xludf.DUMMYFUNCTION(\"\"\"COMPUTED_VALUE\"\"\"),\"application/vnd.openxmlformats-officedocument.drawingml.diagramLayout+xml\")","v":"application/vnd.openxmlformats-officedocument.drawingml.diagramLayout+xml"},{"$f":"IFERROR(__xludf.DUMMYFUNCTION(\"\"\"COMPUTED_VALUE\"\"\"),\"en\")","v":"en"}]
[{"$f":"IFERROR(__xludf.DUMMYFUNCTION(\"\"\"COMPUTED_VALUE\"\"\"),\"https://www.iana.org/assignments/media-types/application/vnd.openxmlformats-officedocument.drawingml.diagramStyle+xml\")","v":"https://www.iana.org/assignments/media-types/application/vnd.openxmlformats-officedocument.drawingml.diagramStyle+xml"},{"$f":"IFERROR(__xludf.DUMMYFUNCTION(\"\"\"COMPUTED_VALUE\"\"\"),\"vnd.openxmlformats-officedocument.drawingml.diagramStyle+xml\")","v":"vnd.openxmlformats-officedocument.drawingml.diagramStyle+xml"},{"$f":"IFERROR(__xludf.DUMMYFUNCTION(\"\"\"COMPUTED_VALUE\"\"\"),\"vnd.openxmlformats-officedocument.drawingml.diagramStyle+xml\")","v":"vnd.openxmlformats-officedocument.drawingml.diagramStyle+xml"},{"$f":"IFERROR(__xludf.DUMMYFUNCTION(\"\"\"COMPUTED_VALUE\"\"\"),\"application/vnd.openxmlformats-officedocument.drawingml.diagramStyle+xml\")","v":"application/vnd.openxmlformats-officedocument.drawingml.diagramStyle+xml"},{"$f":"IFERROR(__xludf.DUMMYFUNCTION(\"\"\"COMPUTED_VALUE\"\"\"),\"en\")","v":"en"}]
[{"$f":"IFERROR(__xludf.DUMMYFUNCTION(\"\"\"COMPUTED_VALUE\"\"\"),\"https://www.iana.org/assignments/media-types/application/vnd.openxmlformats-officedocument.extended-properties+xml\")","v":"https://www.iana.org/assignments/media-types/application/vnd.openxmlformats-officedocument.extended-properties+xml"},{"$f":"IFERROR(__xludf.DUMMYFUNCTION(\"\"\"COMPUTED_VALUE\"\"\"),\"vnd.openxmlformats-officedocument.extended-properties+xml\")","v":"vnd.openxmlformats-officedocument.extended-properties+xml"},{"$f":"IFERROR(__xludf.DUMMYFUNCTION(\"\"\"COMPUTED_VALUE\"\"\"),\"vnd.openxmlformats-officedocument.extended-properties+xml\")","v":"vnd.openxmlformats-officedocument.extended-properties+xml"},{"$f":"IFERROR(__xludf.DUMMYFUNCTION(\"\"\"COMPUTED_VALUE\"\"\"),\"application/vnd.openxmlformats-officedocument.extended-properties+xml\")","v":"application/vnd.openxmlformats-officedocument.extended-properties+xml"},{"$f":"IFERROR(__xludf.DUMMYFUNCTION(\"\"\"COMPUTED_VALUE\"\"\"),\"en\")","v":"en"}]
[{"$f":"IFERROR(__xludf.DUMMYFUNCTION(\"\"\"COMPUTED_VALUE\"\"\"),\"https://www.iana.org/assignments/media-types/application/vnd.openxmlformats-officedocument.presentationml.commentAuthors+xml\")","v":"https://www.iana.org/assignments/media-types/application/vnd.openxmlformats-officedocument.presentationml.commentAuthors+xml"},{"$f":"IFERROR(__xludf.DUMMYFUNCTION(\"\"\"COMPUTED_VALUE\"\"\"),\"vnd.openxmlformats-officedocument.presentationml.commentAuthors+xml\")","v":"vnd.openxmlformats-officedocument.presentationml.commentAuthors+xml"},{"$f":"IFERROR(__xludf.DUMMYFUNCTION(\"\"\"COMPUTED_VALUE\"\"\"),\"vnd.openxmlformats-officedocument.presentationml.commentAuthors+xml\")","v":"vnd.openxmlformats-officedocument.presentationml.commentAuthors+xml"},{"$f":"IFERROR(__xludf.DUMMYFUNCTION(\"\"\"COMPUTED_VALUE\"\"\"),\"application/vnd.openxmlformats-officedocument.presentationml.commentAuthors+xml\")","v":"application/vnd.openxmlformats-officedocument.presentationml.commentAuthors+xml"},{"$f":"IFERROR(__xludf.DUMMYFUNCTION(\"\"\"COMPUTED_VALUE\"\"\"),\"en\")","v":"en"}]
[{"$f":"IFERROR(__xludf.DUMMYFUNCTION(\"\"\"COMPUTED_VALUE\"\"\"),\"https://www.iana.org/assignments/media-types/application/vnd.openxmlformats-officedocument.presentationml.comments+xml\")","v":"https://www.iana.org/assignments/media-types/application/vnd.openxmlformats-officedocument.presentationml.comments+xml"},{"$f":"IFERROR(__xludf.DUMMYFUNCTION(\"\"\"COMPUTED_VALUE\"\"\"),\"vnd.openxmlformats-officedocument.presentationml.comments+xml\")","v":"vnd.openxmlformats-officedocument.presentationml.comments+xml"},{"$f":"IFERROR(__xludf.DUMMYFUNCTION(\"\"\"COMPUTED_VALUE\"\"\"),\"vnd.openxmlformats-officedocument.presentationml.comments+xml\")","v":"vnd.openxmlformats-officedocument.presentationml.comments+xml"},{"$f":"IFERROR(__xludf.DUMMYFUNCTION(\"\"\"COMPUTED_VALUE\"\"\"),\"application/vnd.openxmlformats-officedocument.presentationml.comments+xml\")","v":"application/vnd.openxmlformats-officedocument.presentationml.comments+xml"},{"$f":"IFERROR(__xludf.DUMMYFUNCTION(\"\"\"COMPUTED_VALUE\"\"\"),\"en\")","v":"en"}]
[{"$f":"IFERROR(__xludf.DUMMYFUNCTION(\"\"\"COMPUTED_VALUE\"\"\"),\"https://www.iana.org/assignments/media-types/application/vnd.openxmlformats-officedocument.presentationml.handoutMaster+xml\")","v":"https://www.iana.org/assignments/media-types/application/vnd.openxmlformats-officedocument.presentationml.handoutMaster+xml"},{"$f":"IFERROR(__xludf.DUMMYFUNCTION(\"\"\"COMPUTED_VALUE\"\"\"),\"vnd.openxmlformats-officedocument.presentationml.handoutMaster+xml\")","v":"vnd.openxmlformats-officedocument.presentationml.handoutMaster+xml"},{"$f":"IFERROR(__xludf.DUMMYFUNCTION(\"\"\"COMPUTED_VALUE\"\"\"),\"vnd.openxmlformats-officedocument.presentationml.handoutMaster+xml\")","v":"vnd.openxmlformats-officedocument.presentationml.handoutMaster+xml"},{"$f":"IFERROR(__xludf.DUMMYFUNCTION(\"\"\"COMPUTED_VALUE\"\"\"),\"application/vnd.openxmlformats-officedocument.presentationml.handoutMaster+xml\")","v":"application/vnd.openxmlformats-officedocument.presentationml.handoutMaster+xml"},{"$f":"IFERROR(__xludf.DUMMYFUNCTION(\"\"\"COMPUTED_VALUE\"\"\"),\"en\")","v":"en"}]
[{"$f":"IFERROR(__xludf.DUMMYFUNCTION(\"\"\"COMPUTED_VALUE\"\"\"),\"https://www.iana.org/assignments/media-types/application/vnd.openxmlformats-officedocument.presentationml.notesMaster+xml\")","v":"https://www.iana.org/assignments/media-types/application/vnd.openxmlformats-officedocument.presentationml.notesMaster+xml"},{"$f":"IFERROR(__xludf.DUMMYFUNCTION(\"\"\"COMPUTED_VALUE\"\"\"),\"vnd.openxmlformats-officedocument.presentationml.notesMaster+xml\")","v":"vnd.openxmlformats-officedocument.presentationml.notesMaster+xml"},{"$f":"IFERROR(__xludf.DUMMYFUNCTION(\"\"\"COMPUTED_VALUE\"\"\"),\"vnd.openxmlformats-officedocument.presentationml.notesMaster+xml\")","v":"vnd.openxmlformats-officedocument.presentationml.notesMaster+xml"},{"$f":"IFERROR(__xludf.DUMMYFUNCTION(\"\"\"COMPUTED_VALUE\"\"\"),\"application/vnd.openxmlformats-officedocument.presentationml.notesMaster+xml\")","v":"application/vnd.openxmlformats-officedocument.presentationml.notesMaster+xml"},{"$f":"IFERROR(__xludf.DUMMYFUNCTION(\"\"\"COMPUTED_VALUE\"\"\"),\"en\")","v":"en"}]
[{"$f":"IFERROR(__xludf.DUMMYFUNCTION(\"\"\"COMPUTED_VALUE\"\"\"),\"https://www.iana.org/assignments/media-types/application/vnd.openxmlformats-officedocument.presentationml.notesSlide+xml\")","v":"https://www.iana.org/assignments/media-types/application/vnd.openxmlformats-officedocument.presentationml.notesSlide+xml"},{"$f":"IFERROR(__xludf.DUMMYFUNCTION(\"\"\"COMPUTED_VALUE\"\"\"),\"vnd.openxmlformats-officedocument.presentationml.notesSlide+xml\")","v":"vnd.openxmlformats-officedocument.presentationml.notesSlide+xml"},{"$f":"IFERROR(__xludf.DUMMYFUNCTION(\"\"\"COMPUTED_VALUE\"\"\"),\"vnd.openxmlformats-officedocument.presentationml.notesSlide+xml\")","v":"vnd.openxmlformats-officedocument.presentationml.notesSlide+xml"},{"$f":"IFERROR(__xludf.DUMMYFUNCTION(\"\"\"COMPUTED_VALUE\"\"\"),\"application/vnd.openxmlformats-officedocument.presentationml.notesSlide+xml\")","v":"application/vnd.openxmlformats-officedocument.presentationml.notesSlide+xml"},{"$f":"IFERROR(__xludf.DUMMYFUNCTION(\"\"\"COMPUTED_VALUE\"\"\"),\"en\")","v":"en"}]
[{"$f":"IFERROR(__xludf.DUMMYFUNCTION(\"\"\"COMPUTED_VALUE\"\"\"),\"https://www.iana.org/assignments/media-types/application/vnd.openxmlformats-officedocument.presentationml.presentation\")","v":"https://www.iana.org/assignments/media-types/application/vnd.openxmlformats-officedocument.presentationml.presentation"},{"$f":"IFERROR(__xludf.DUMMYFUNCTION(\"\"\"COMPUTED_VALUE\"\"\"),\"vnd.openxmlformats-officedocument.presentationml.presentation\")","v":"vnd.openxmlformats-officedocument.presentationml.presentation"},{"$f":"IFERROR(__xludf.DUMMYFUNCTION(\"\"\"COMPUTED_VALUE\"\"\"),\"vnd.openxmlformats-officedocument.presentationml.presentation\")","v":"vnd.openxmlformats-officedocument.presentationml.presentation"},{"$f":"IFERROR(__xludf.DUMMYFUNCTION(\"\"\"COMPUTED_VALUE\"\"\"),\"application/vnd.openxmlformats-officedocument.presentationml.presentation\")","v":"application/vnd.openxmlformats-officedocument.presentationml.presentation"},{"$f":"IFERROR(__xludf.DUMMYFUNCTION(\"\"\"COMPUTED_VALUE\"\"\"),\"en\")","v":"en"}]
[{"$f":"IFERROR(__xludf.DUMMYFUNCTION(\"\"\"COMPUTED_VALUE\"\"\"),\"https://www.iana.org/assignments/media-types/application/vnd.openxmlformats-officedocument.presentationml.presentation.main+xml\")","v":"https://www.iana.org/assignments/media-types/application/vnd.openxmlformats-officedocument.presentationml.presentation.main+xml"},{"$f":"IFERROR(__xludf.DUMMYFUNCTION(\"\"\"COMPUTED_VALUE\"\"\"),\"vnd.openxmlformats-officedocument.presentationml.presentation.main+xml\")","v":"vnd.openxmlformats-officedocument.presentationml.presentation.main+xml"},{"$f":"IFERROR(__xludf.DUMMYFUNCTION(\"\"\"COMPUTED_VALUE\"\"\"),\"vnd.openxmlformats-officedocument.presentationml.presentation.main+xml\")","v":"vnd.openxmlformats-officedocument.presentationml.presentation.main+xml"},{"$f":"IFERROR(__xludf.DUMMYFUNCTION(\"\"\"COMPUTED_VALUE\"\"\"),\"application/vnd.openxmlformats-officedocument.presentationml.presentation.main+xml\")","v":"application/vnd.openxmlformats-officedocument.presentationml.presentation.main+xml"},{"$f":"IFERROR(__xludf.DUMMYFUNCTION(\"\"\"COMPUTED_VALUE\"\"\"),\"en\")","v":"en"}]
[{"$f":"IFERROR(__xludf.DUMMYFUNCTION(\"\"\"COMPUTED_VALUE\"\"\"),\"https://www.iana.org/assignments/media-types/application/vnd.openxmlformats-officedocument.presentationml.presProps+xml\")","v":"https://www.iana.org/assignments/media-types/application/vnd.openxmlformats-officedocument.presentationml.presProps+xml"},{"$f":"IFERROR(__xludf.DUMMYFUNCTION(\"\"\"COMPUTED_VALUE\"\"\"),\"vnd.openxmlformats-officedocument.presentationml.presProps+xml\")","v":"vnd.openxmlformats-officedocument.presentationml.presProps+xml"},{"$f":"IFERROR(__xludf.DUMMYFUNCTION(\"\"\"COMPUTED_VALUE\"\"\"),\"vnd.openxmlformats-officedocument.presentationml.presProps+xml\")","v":"vnd.openxmlformats-officedocument.presentationml.presProps+xml"},{"$f":"IFERROR(__xludf.DUMMYFUNCTION(\"\"\"COMPUTED_VALUE\"\"\"),\"application/vnd.openxmlformats-officedocument.presentationml.presProps+xml\")","v":"application/vnd.openxmlformats-officedocument.presentationml.presProps+xml"},{"$f":"IFERROR(__xludf.DUMMYFUNCTION(\"\"\"COMPUTED_VALUE\"\"\"),\"en\")","v":"en"}]
[{"$f":"IFERROR(__xludf.DUMMYFUNCTION(\"\"\"COMPUTED_VALUE\"\"\"),\"https://www.iana.org/assignments/media-types/application/vnd.openxmlformats-officedocument.presentationml.slide\")","v":"https://www.iana.org/assignments/media-types/application/vnd.openxmlformats-officedocument.presentationml.slide"},{"$f":"IFERROR(__xludf.DUMMYFUNCTION(\"\"\"COMPUTED_VALUE\"\"\"),\"vnd.openxmlformats-officedocument.presentationml.slide\")","v":"vnd.openxmlformats-officedocument.presentationml.slide"},{"$f":"IFERROR(__xludf.DUMMYFUNCTION(\"\"\"COMPUTED_VALUE\"\"\"),\"vnd.openxmlformats-officedocument.presentationml.slide\")","v":"vnd.openxmlformats-officedocument.presentationml.slide"},{"$f":"IFERROR(__xludf.DUMMYFUNCTION(\"\"\"COMPUTED_VALUE\"\"\"),\"application/vnd.openxmlformats-officedocument.presentationml.slide\")","v":"application/vnd.openxmlformats-officedocument.presentationml.slide"},{"$f":"IFERROR(__xludf.DUMMYFUNCTION(\"\"\"COMPUTED_VALUE\"\"\"),\"en\")","v":"en"}]
[{"$f":"IFERROR(__xludf.DUMMYFUNCTION(\"\"\"COMPUTED_VALUE\"\"\"),\"https://www.iana.org/assignments/media-types/application/vnd.openxmlformats-officedocument.presentationml.slide+xml\")","v":"https://www.iana.org/assignments/media-types/application/vnd.openxmlformats-officedocument.presentationml.slide+xml"},{"$f":"IFERROR(__xludf.DUMMYFUNCTION(\"\"\"COMPUTED_VALUE\"\"\"),\"vnd.openxmlformats-officedocument.presentationml.slide+xml\")","v":"vnd.openxmlformats-officedocument.presentationml.slide+xml"},{"$f":"IFERROR(__xludf.DUMMYFUNCTION(\"\"\"COMPUTED_VALUE\"\"\"),\"vnd.openxmlformats-officedocument.presentationml.slide+xml\")","v":"vnd.openxmlformats-officedocument.presentationml.slide+xml"},{"$f":"IFERROR(__xludf.DUMMYFUNCTION(\"\"\"COMPUTED_VALUE\"\"\"),\"application/vnd.openxmlformats-officedocument.presentationml.slide+xml\")","v":"application/vnd.openxmlformats-officedocument.presentationml.slide+xml"},{"$f":"IFERROR(__xludf.DUMMYFUNCTION(\"\"\"COMPUTED_VALUE\"\"\"),\"en\")","v":"en"}]
[{"$f":"IFERROR(__xludf.DUMMYFUNCTION(\"\"\"COMPUTED_VALUE\"\"\"),\"https://www.iana.org/assignments/media-types/application/vnd.openxmlformats-officedocument.presentationml.slideLayout+xml\")","v":"https://www.iana.org/assignments/media-types/application/vnd.openxmlformats-officedocument.presentationml.slideLayout+xml"},{"$f":"IFERROR(__xludf.DUMMYFUNCTION(\"\"\"COMPUTED_VALUE\"\"\"),\"vnd.openxmlformats-officedocument.presentationml.slideLayout+xml\")","v":"vnd.openxmlformats-officedocument.presentationml.slideLayout+xml"},{"$f":"IFERROR(__xludf.DUMMYFUNCTION(\"\"\"COMPUTED_VALUE\"\"\"),\"vnd.openxmlformats-officedocument.presentationml.slideLayout+xml\")","v":"vnd.openxmlformats-officedocument.presentationml.slideLayout+xml"},{"$f":"IFERROR(__xludf.DUMMYFUNCTION(\"\"\"COMPUTED_VALUE\"\"\"),\"application/vnd.openxmlformats-officedocument.presentationml.slideLayout+xml\")","v":"application/vnd.openxmlformats-officedocument.presentationml.slideLayout+xml"},{"$f":"IFERROR(__xludf.DUMMYFUNCTION(\"\"\"COMPUTED_VALUE\"\"\"),\"en\")","v":"en"}]
[{"$f":"IFERROR(__xludf.DUMMYFUNCTION(\"\"\"COMPUTED_VALUE\"\"\"),\"https://www.iana.org/assignments/media-types/application/vnd.openxmlformats-officedocument.presentationml.slideMaster+xml\")","v":"https://www.iana.org/assignments/media-types/application/vnd.openxmlformats-officedocument.presentationml.slideMaster+xml"},{"$f":"IFERROR(__xludf.DUMMYFUNCTION(\"\"\"COMPUTED_VALUE\"\"\"),\"vnd.openxmlformats-officedocument.presentationml.slideMaster+xml\")","v":"vnd.openxmlformats-officedocument.presentationml.slideMaster+xml"},{"$f":"IFERROR(__xludf.DUMMYFUNCTION(\"\"\"COMPUTED_VALUE\"\"\"),\"vnd.openxmlformats-officedocument.presentationml.slideMaster+xml\")","v":"vnd.openxmlformats-officedocument.presentationml.slideMaster+xml"},{"$f":"IFERROR(__xludf.DUMMYFUNCTION(\"\"\"COMPUTED_VALUE\"\"\"),\"application/vnd.openxmlformats-officedocument.presentationml.slideMaster+xml\")","v":"application/vnd.openxmlformats-officedocument.presentationml.slideMaster+xml"},{"$f":"IFERROR(__xludf.DUMMYFUNCTION(\"\"\"COMPUTED_VALUE\"\"\"),\"en\")","v":"en"}]
[{"$f":"IFERROR(__xludf.DUMMYFUNCTION(\"\"\"COMPUTED_VALUE\"\"\"),\"https://www.iana.org/assignments/media-types/application/vnd.openxmlformats-officedocument.presentationml.slideshow\")","v":"https://www.iana.org/assignments/media-types/application/vnd.openxmlformats-officedocument.presentationml.slideshow"},{"$f":"IFERROR(__xludf.DUMMYFUNCTION(\"\"\"COMPUTED_VALUE\"\"\"),\"vnd.openxmlformats-officedocument.presentationml.slideshow\")","v":"vnd.openxmlformats-officedocument.presentationml.slideshow"},{"$f":"IFERROR(__xludf.DUMMYFUNCTION(\"\"\"COMPUTED_VALUE\"\"\"),\"vnd.openxmlformats-officedocument.presentationml.slideshow\")","v":"vnd.openxmlformats-officedocument.presentationml.slideshow"},{"$f":"IFERROR(__xludf.DUMMYFUNCTION(\"\"\"COMPUTED_VALUE\"\"\"),\"application/vnd.openxmlformats-officedocument.presentationml.slideshow\")","v":"application/vnd.openxmlformats-officedocument.presentationml.slideshow"},{"$f":"IFERROR(__xludf.DUMMYFUNCTION(\"\"\"COMPUTED_VALUE\"\"\"),\"en\")","v":"en"}]
[{"$f":"IFERROR(__xludf.DUMMYFUNCTION(\"\"\"COMPUTED_VALUE\"\"\"),\"https://www.iana.org/assignments/media-types/application/vnd.openxmlformats-officedocument.presentationml.slideshow.main+xml\")","v":"https://www.iana.org/assignments/media-types/application/vnd.openxmlformats-officedocument.presentationml.slideshow.main+xml"},{"$f":"IFERROR(__xludf.DUMMYFUNCTION(\"\"\"COMPUTED_VALUE\"\"\"),\"vnd.openxmlformats-officedocument.presentationml.slideshow.main+xml\")","v":"vnd.openxmlformats-officedocument.presentationml.slideshow.main+xml"},{"$f":"IFERROR(__xludf.DUMMYFUNCTION(\"\"\"COMPUTED_VALUE\"\"\"),\"vnd.openxmlformats-officedocument.presentationml.slideshow.main+xml\")","v":"vnd.openxmlformats-officedocument.presentationml.slideshow.main+xml"},{"$f":"IFERROR(__xludf.DUMMYFUNCTION(\"\"\"COMPUTED_VALUE\"\"\"),\"application/vnd.openxmlformats-officedocument.presentationml.slideshow.main+xml\")","v":"application/vnd.openxmlformats-officedocument.presentationml.slideshow.main+xml"},{"$f":"IFERROR(__xludf.DUMMYFUNCTION(\"\"\"COMPUTED_VALUE\"\"\"),\"en\")","v":"en"}]
[{"$f":"IFERROR(__xludf.DUMMYFUNCTION(\"\"\"COMPUTED_VALUE\"\"\"),\"https://www.iana.org/assignments/media-types/application/vnd.openxmlformats-officedocument.presentationml.slideUpdateInfo+xml\")","v":"https://www.iana.org/assignments/media-types/application/vnd.openxmlformats-officedocument.presentationml.slideUpdateInfo+xml"},{"$f":"IFERROR(__xludf.DUMMYFUNCTION(\"\"\"COMPUTED_VALUE\"\"\"),\"vnd.openxmlformats-officedocument.presentationml.slideUpdateInfo+xml\")","v":"vnd.openxmlformats-officedocument.presentationml.slideUpdateInfo+xml"},{"$f":"IFERROR(__xludf.DUMMYFUNCTION(\"\"\"COMPUTED_VALUE\"\"\"),\"vnd.openxmlformats-officedocument.presentationml.slideUpdateInfo+xml\")","v":"vnd.openxmlformats-officedocument.presentationml.slideUpdateInfo+xml"},{"$f":"IFERROR(__xludf.DUMMYFUNCTION(\"\"\"COMPUTED_VALUE\"\"\"),\"application/vnd.openxmlformats-officedocument.presentationml.slideUpdateInfo+xml\")","v":"application/vnd.openxmlformats-officedocument.presentationml.slideUpdateInfo+xml"},{"$f":"IFERROR(__xludf.DUMMYFUNCTION(\"\"\"COMPUTED_VALUE\"\"\"),\"en\")","v":"en"}]
[{"$f":"IFERROR(__xludf.DUMMYFUNCTION(\"\"\"COMPUTED_VALUE\"\"\"),\"https://www.iana.org/assignments/media-types/application/vnd.openxmlformats-officedocument.presentationml.tableStyles+xml\")","v":"https://www.iana.org/assignments/media-types/application/vnd.openxmlformats-officedocument.presentationml.tableStyles+xml"},{"$f":"IFERROR(__xludf.DUMMYFUNCTION(\"\"\"COMPUTED_VALUE\"\"\"),\"vnd.openxmlformats-officedocument.presentationml.tableStyles+xml\")","v":"vnd.openxmlformats-officedocument.presentationml.tableStyles+xml"},{"$f":"IFERROR(__xludf.DUMMYFUNCTION(\"\"\"COMPUTED_VALUE\"\"\"),\"vnd.openxmlformats-officedocument.presentationml.tableStyles+xml\")","v":"vnd.openxmlformats-officedocument.presentationml.tableStyles+xml"},{"$f":"IFERROR(__xludf.DUMMYFUNCTION(\"\"\"COMPUTED_VALUE\"\"\"),\"application/vnd.openxmlformats-officedocument.presentationml.tableStyles+xml\")","v":"application/vnd.openxmlformats-officedocument.presentationml.tableStyles+xml"},{"$f":"IFERROR(__xludf.DUMMYFUNCTION(\"\"\"COMPUTED_VALUE\"\"\"),\"en\")","v":"en"}]
[{"$f":"IFERROR(__xludf.DUMMYFUNCTION(\"\"\"COMPUTED_VALUE\"\"\"),\"https://www.iana.org/assignments/media-types/application/vnd.openxmlformats-officedocument.presentationml.tags+xml\")","v":"https://www.iana.org/assignments/media-types/application/vnd.openxmlformats-officedocument.presentationml.tags+xml"},{"$f":"IFERROR(__xludf.DUMMYFUNCTION(\"\"\"COMPUTED_VALUE\"\"\"),\"vnd.openxmlformats-officedocument.presentationml.tags+xml\")","v":"vnd.openxmlformats-officedocument.presentationml.tags+xml"},{"$f":"IFERROR(__xludf.DUMMYFUNCTION(\"\"\"COMPUTED_VALUE\"\"\"),\"vnd.openxmlformats-officedocument.presentationml.tags+xml\")","v":"vnd.openxmlformats-officedocument.presentationml.tags+xml"},{"$f":"IFERROR(__xludf.DUMMYFUNCTION(\"\"\"COMPUTED_VALUE\"\"\"),\"application/vnd.openxmlformats-officedocument.presentationml.tags+xml\")","v":"application/vnd.openxmlformats-officedocument.presentationml.tags+xml"},{"$f":"IFERROR(__xludf.DUMMYFUNCTION(\"\"\"COMPUTED_VALUE\"\"\"),\"en\")","v":"en"}]
[{"$f":"IFERROR(__xludf.DUMMYFUNCTION(\"\"\"COMPUTED_VALUE\"\"\"),\"https://www.iana.org/assignments/media-types/application/vnd.openxmlformats-officedocument.presentationml.template\")","v":"https://www.iana.org/assignments/media-types/application/vnd.openxmlformats-officedocument.presentationml.template"},{"$f":"IFERROR(__xludf.DUMMYFUNCTION(\"\"\"COMPUTED_VALUE\"\"\"),\"vnd.openxmlformats-officedocument.presentationml.template\")","v":"vnd.openxmlformats-officedocument.presentationml.template"},{"$f":"IFERROR(__xludf.DUMMYFUNCTION(\"\"\"COMPUTED_VALUE\"\"\"),\"vnd.openxmlformats-officedocument.presentationml.template\")","v":"vnd.openxmlformats-officedocument.presentationml.template"},{"$f":"IFERROR(__xludf.DUMMYFUNCTION(\"\"\"COMPUTED_VALUE\"\"\"),\"application/vnd.openxmlformats-officedocument.presentationml.template\")","v":"application/vnd.openxmlformats-officedocument.presentationml.template"},{"$f":"IFERROR(__xludf.DUMMYFUNCTION(\"\"\"COMPUTED_VALUE\"\"\"),\"en\")","v":"en"}]
[{"$f":"IFERROR(__xludf.DUMMYFUNCTION(\"\"\"COMPUTED_VALUE\"\"\"),\"https://www.iana.org/assignments/media-types/application/vnd.openxmlformats-officedocument.presentationml.template.main+xml\")","v":"https://www.iana.org/assignments/media-types/application/vnd.openxmlformats-officedocument.presentationml.template.main+xml"},{"$f":"IFERROR(__xludf.DUMMYFUNCTION(\"\"\"COMPUTED_VALUE\"\"\"),\"vnd.openxmlformats-officedocument.presentationml.template.main+xml\")","v":"vnd.openxmlformats-officedocument.presentationml.template.main+xml"},{"$f":"IFERROR(__xludf.DUMMYFUNCTION(\"\"\"COMPUTED_VALUE\"\"\"),\"vnd.openxmlformats-officedocument.presentationml.template.main+xml\")","v":"vnd.openxmlformats-officedocument.presentationml.template.main+xml"},{"$f":"IFERROR(__xludf.DUMMYFUNCTION(\"\"\"COMPUTED_VALUE\"\"\"),\"application/vnd.openxmlformats-officedocument.presentationml.template.main+xml\")","v":"application/vnd.openxmlformats-officedocument.presentationml.template.main+xml"},{"$f":"IFERROR(__xludf.DUMMYFUNCTION(\"\"\"COMPUTED_VALUE\"\"\"),\"en\")","v":"en"}]
[{"$f":"IFERROR(__xludf.DUMMYFUNCTION(\"\"\"COMPUTED_VALUE\"\"\"),\"https://www.iana.org/assignments/media-types/application/vnd.openxmlformats-officedocument.presentationml.viewProps+xml\")","v":"https://www.iana.org/assignments/media-types/application/vnd.openxmlformats-officedocument.presentationml.viewProps+xml"},{"$f":"IFERROR(__xludf.DUMMYFUNCTION(\"\"\"COMPUTED_VALUE\"\"\"),\"vnd.openxmlformats-officedocument.presentationml.viewProps+xml\")","v":"vnd.openxmlformats-officedocument.presentationml.viewProps+xml"},{"$f":"IFERROR(__xludf.DUMMYFUNCTION(\"\"\"COMPUTED_VALUE\"\"\"),\"vnd.openxmlformats-officedocument.presentationml.viewProps+xml\")","v":"vnd.openxmlformats-officedocument.presentationml.viewProps+xml"},{"$f":"IFERROR(__xludf.DUMMYFUNCTION(\"\"\"COMPUTED_VALUE\"\"\"),\"application/vnd.openxmlformats-officedocument.presentationml.viewProps+xml\")","v":"application/vnd.openxmlformats-officedocument.presentationml.viewProps+xml"},{"$f":"IFERROR(__xludf.DUMMYFUNCTION(\"\"\"COMPUTED_VALUE\"\"\"),\"en\")","v":"en"}]
[{"$f":"IFERROR(__xludf.DUMMYFUNCTION(\"\"\"COMPUTED_VALUE\"\"\"),\"https://www.iana.org/assignments/media-types/application/vnd.openxmlformats-officedocument.spreadsheetml.calcChain+xml\")","v":"https://www.iana.org/assignments/media-types/application/vnd.openxmlformats-officedocument.spreadsheetml.calcChain+xml"},{"$f":"IFERROR(__xludf.DUMMYFUNCTION(\"\"\"COMPUTED_VALUE\"\"\"),\"vnd.openxmlformats-officedocument.spreadsheetml.calcChain+xml\")","v":"vnd.openxmlformats-officedocument.spreadsheetml.calcChain+xml"},{"$f":"IFERROR(__xludf.DUMMYFUNCTION(\"\"\"COMPUTED_VALUE\"\"\"),\"vnd.openxmlformats-officedocument.spreadsheetml.calcChain+xml\")","v":"vnd.openxmlformats-officedocument.spreadsheetml.calcChain+xml"},{"$f":"IFERROR(__xludf.DUMMYFUNCTION(\"\"\"COMPUTED_VALUE\"\"\"),\"application/vnd.openxmlformats-officedocument.spreadsheetml.calcChain+xml\")","v":"application/vnd.openxmlformats-officedocument.spreadsheetml.calcChain+xml"},{"$f":"IFERROR(__xludf.DUMMYFUNCTION(\"\"\"COMPUTED_VALUE\"\"\"),\"en\")","v":"en"}]
[{"$f":"IFERROR(__xludf.DUMMYFUNCTION(\"\"\"COMPUTED_VALUE\"\"\"),\"https://www.iana.org/assignments/media-types/application/vnd.openxmlformats-officedocument.spreadsheetml.chartsheet+xml\")","v":"https://www.iana.org/assignments/media-types/application/vnd.openxmlformats-officedocument.spreadsheetml.chartsheet+xml"},{"$f":"IFERROR(__xludf.DUMMYFUNCTION(\"\"\"COMPUTED_VALUE\"\"\"),\"vnd.openxmlformats-officedocument.spreadsheetml.chartsheet+xml\")","v":"vnd.openxmlformats-officedocument.spreadsheetml.chartsheet+xml"},{"$f":"IFERROR(__xludf.DUMMYFUNCTION(\"\"\"COMPUTED_VALUE\"\"\"),\"vnd.openxmlformats-officedocument.spreadsheetml.chartsheet+xml\")","v":"vnd.openxmlformats-officedocument.spreadsheetml.chartsheet+xml"},{"$f":"IFERROR(__xludf.DUMMYFUNCTION(\"\"\"COMPUTED_VALUE\"\"\"),\"application/vnd.openxmlformats-officedocument.spreadsheetml.chartsheet+xml\")","v":"application/vnd.openxmlformats-officedocument.spreadsheetml.chartsheet+xml"},{"$f":"IFERROR(__xludf.DUMMYFUNCTION(\"\"\"COMPUTED_VALUE\"\"\"),\"en\")","v":"en"}]
[{"$f":"IFERROR(__xludf.DUMMYFUNCTION(\"\"\"COMPUTED_VALUE\"\"\"),\"https://www.iana.org/assignments/media-types/application/vnd.openxmlformats-officedocument.spreadsheetml.comments+xml\")","v":"https://www.iana.org/assignments/media-types/application/vnd.openxmlformats-officedocument.spreadsheetml.comments+xml"},{"$f":"IFERROR(__xludf.DUMMYFUNCTION(\"\"\"COMPUTED_VALUE\"\"\"),\"vnd.openxmlformats-officedocument.spreadsheetml.comments+xml\")","v":"vnd.openxmlformats-officedocument.spreadsheetml.comments+xml"},{"$f":"IFERROR(__xludf.DUMMYFUNCTION(\"\"\"COMPUTED_VALUE\"\"\"),\"vnd.openxmlformats-officedocument.spreadsheetml.comments+xml\")","v":"vnd.openxmlformats-officedocument.spreadsheetml.comments+xml"},{"$f":"IFERROR(__xludf.DUMMYFUNCTION(\"\"\"COMPUTED_VALUE\"\"\"),\"application/vnd.openxmlformats-officedocument.spreadsheetml.comments+xml\")","v":"application/vnd.openxmlformats-officedocument.spreadsheetml.comments+xml"},{"$f":"IFERROR(__xludf.DUMMYFUNCTION(\"\"\"COMPUTED_VALUE\"\"\"),\"en\")","v":"en"}]
[{"$f":"IFERROR(__xludf.DUMMYFUNCTION(\"\"\"COMPUTED_VALUE\"\"\"),\"https://www.iana.org/assignments/media-types/application/vnd.openxmlformats-officedocument.spreadsheetml.connections+xml\")","v":"https://www.iana.org/assignments/media-types/application/vnd.openxmlformats-officedocument.spreadsheetml.connections+xml"},{"$f":"IFERROR(__xludf.DUMMYFUNCTION(\"\"\"COMPUTED_VALUE\"\"\"),\"vnd.openxmlformats-officedocument.spreadsheetml.connections+xml\")","v":"vnd.openxmlformats-officedocument.spreadsheetml.connections+xml"},{"$f":"IFERROR(__xludf.DUMMYFUNCTION(\"\"\"COMPUTED_VALUE\"\"\"),\"vnd.openxmlformats-officedocument.spreadsheetml.connections+xml\")","v":"vnd.openxmlformats-officedocument.spreadsheetml.connections+xml"},{"$f":"IFERROR(__xludf.DUMMYFUNCTION(\"\"\"COMPUTED_VALUE\"\"\"),\"application/vnd.openxmlformats-officedocument.spreadsheetml.connections+xml\")","v":"application/vnd.openxmlformats-officedocument.spreadsheetml.connections+xml"},{"$f":"IFERROR(__xludf.DUMMYFUNCTION(\"\"\"COMPUTED_VALUE\"\"\"),\"en\")","v":"en"}]
[{"$f":"IFERROR(__xludf.DUMMYFUNCTION(\"\"\"COMPUTED_VALUE\"\"\"),\"https://www.iana.org/assignments/media-types/application/vnd.openxmlformats-officedocument.spreadsheetml.dialogsheet+xml\")","v":"https://www.iana.org/assignments/media-types/application/vnd.openxmlformats-officedocument.spreadsheetml.dialogsheet+xml"},{"$f":"IFERROR(__xludf.DUMMYFUNCTION(\"\"\"COMPUTED_VALUE\"\"\"),\"vnd.openxmlformats-officedocument.spreadsheetml.dialogsheet+xml\")","v":"vnd.openxmlformats-officedocument.spreadsheetml.dialogsheet+xml"},{"$f":"IFERROR(__xludf.DUMMYFUNCTION(\"\"\"COMPUTED_VALUE\"\"\"),\"vnd.openxmlformats-officedocument.spreadsheetml.dialogsheet+xml\")","v":"vnd.openxmlformats-officedocument.spreadsheetml.dialogsheet+xml"},{"$f":"IFERROR(__xludf.DUMMYFUNCTION(\"\"\"COMPUTED_VALUE\"\"\"),\"application/vnd.openxmlformats-officedocument.spreadsheetml.dialogsheet+xml\")","v":"application/vnd.openxmlformats-officedocument.spreadsheetml.dialogsheet+xml"},{"$f":"IFERROR(__xludf.DUMMYFUNCTION(\"\"\"COMPUTED_VALUE\"\"\"),\"en\")","v":"en"}]
[{"$f":"IFERROR(__xludf.DUMMYFUNCTION(\"\"\"COMPUTED_VALUE\"\"\"),\"https://www.iana.org/assignments/media-types/application/vnd.openxmlformats-officedocument.spreadsheetml.externalLink+xml\")","v":"https://www.iana.org/assignments/media-types/application/vnd.openxmlformats-officedocument.spreadsheetml.externalLink+xml"},{"$f":"IFERROR(__xludf.DUMMYFUNCTION(\"\"\"COMPUTED_VALUE\"\"\"),\"vnd.openxmlformats-officedocument.spreadsheetml.externalLink+xml\")","v":"vnd.openxmlformats-officedocument.spreadsheetml.externalLink+xml"},{"$f":"IFERROR(__xludf.DUMMYFUNCTION(\"\"\"COMPUTED_VALUE\"\"\"),\"vnd.openxmlformats-officedocument.spreadsheetml.externalLink+xml\")","v":"vnd.openxmlformats-officedocument.spreadsheetml.externalLink+xml"},{"$f":"IFERROR(__xludf.DUMMYFUNCTION(\"\"\"COMPUTED_VALUE\"\"\"),\"application/vnd.openxmlformats-officedocument.spreadsheetml.externalLink+xml\")","v":"application/vnd.openxmlformats-officedocument.spreadsheetml.externalLink+xml"},{"$f":"IFERROR(__xludf.DUMMYFUNCTION(\"\"\"COMPUTED_VALUE\"\"\"),\"en\")","v":"en"}]
[{"$f":"IFERROR(__xludf.DUMMYFUNCTION(\"\"\"COMPUTED_VALUE\"\"\"),\"https://www.iana.org/assignments/media-types/application/vnd.openxmlformats-officedocument.spreadsheetml.pivotCacheDefinition+xml\")","v":"https://www.iana.org/assignments/media-types/application/vnd.openxmlformats-officedocument.spreadsheetml.pivotCacheDefinition+xml"},{"$f":"IFERROR(__xludf.DUMMYFUNCTION(\"\"\"COMPUTED_VALUE\"\"\"),\"vnd.openxmlformats-officedocument.spreadsheetml.pivotCacheDefinition+xml\")","v":"vnd.openxmlformats-officedocument.spreadsheetml.pivotCacheDefinition+xml"},{"$f":"IFERROR(__xludf.DUMMYFUNCTION(\"\"\"COMPUTED_VALUE\"\"\"),\"vnd.openxmlformats-officedocument.spreadsheetml.pivotCacheDefinition+xml\")","v":"vnd.openxmlformats-officedocument.spreadsheetml.pivotCacheDefinition+xml"},{"$f":"IFERROR(__xludf.DUMMYFUNCTION(\"\"\"COMPUTED_VALUE\"\"\"),\"application/vnd.openxmlformats-officedocument.spreadsheetml.pivotCacheDefinition+xml\")","v":"application/vnd.openxmlformats-officedocument.spreadsheetml.pivotCacheDefinition+xml"},{"$f":"IFERROR(__xludf.DUMMYFUNCTION(\"\"\"COMPUTED_VALUE\"\"\"),\"en\")","v":"en"}]
[{"$f":"IFERROR(__xludf.DUMMYFUNCTION(\"\"\"COMPUTED_VALUE\"\"\"),\"https://www.iana.org/assignments/media-types/application/vnd.openxmlformats-officedocument.spreadsheetml.pivotCacheRecords+xml\")","v":"https://www.iana.org/assignments/media-types/application/vnd.openxmlformats-officedocument.spreadsheetml.pivotCacheRecords+xml"},{"$f":"IFERROR(__xludf.DUMMYFUNCTION(\"\"\"COMPUTED_VALUE\"\"\"),\"vnd.openxmlformats-officedocument.spreadsheetml.pivotCacheRecords+xml\")","v":"vnd.openxmlformats-officedocument.spreadsheetml.pivotCacheRecords+xml"},{"$f":"IFERROR(__xludf.DUMMYFUNCTION(\"\"\"COMPUTED_VALUE\"\"\"),\"vnd.openxmlformats-officedocument.spreadsheetml.pivotCacheRecords+xml\")","v":"vnd.openxmlformats-officedocument.spreadsheetml.pivotCacheRecords+xml"},{"$f":"IFERROR(__xludf.DUMMYFUNCTION(\"\"\"COMPUTED_VALUE\"\"\"),\"application/vnd.openxmlformats-officedocument.spreadsheetml.pivotCacheRecords+xml\")","v":"application/vnd.openxmlformats-officedocument.spreadsheetml.pivotCacheRecords+xml"},{"$f":"IFERROR(__xludf.DUMMYFUNCTION(\"\"\"COMPUTED_VALUE\"\"\"),\"en\")","v":"en"}]
[{"$f":"IFERROR(__xludf.DUMMYFUNCTION(\"\"\"COMPUTED_VALUE\"\"\"),\"https://www.iana.org/assignments/media-types/application/vnd.openxmlformats-officedocument.spreadsheetml.pivotTable+xml\")","v":"https://www.iana.org/assignments/media-types/application/vnd.openxmlformats-officedocument.spreadsheetml.pivotTable+xml"},{"$f":"IFERROR(__xludf.DUMMYFUNCTION(\"\"\"COMPUTED_VALUE\"\"\"),\"vnd.openxmlformats-officedocument.spreadsheetml.pivotTable+xml\")","v":"vnd.openxmlformats-officedocument.spreadsheetml.pivotTable+xml"},{"$f":"IFERROR(__xludf.DUMMYFUNCTION(\"\"\"COMPUTED_VALUE\"\"\"),\"vnd.openxmlformats-officedocument.spreadsheetml.pivotTable+xml\")","v":"vnd.openxmlformats-officedocument.spreadsheetml.pivotTable+xml"},{"$f":"IFERROR(__xludf.DUMMYFUNCTION(\"\"\"COMPUTED_VALUE\"\"\"),\"application/vnd.openxmlformats-officedocument.spreadsheetml.pivotTable+xml\")","v":"application/vnd.openxmlformats-officedocument.spreadsheetml.pivotTable+xml"},{"$f":"IFERROR(__xludf.DUMMYFUNCTION(\"\"\"COMPUTED_VALUE\"\"\"),\"en\")","v":"en"}]
[{"$f":"IFERROR(__xludf.DUMMYFUNCTION(\"\"\"COMPUTED_VALUE\"\"\"),\"https://www.iana.org/assignments/media-types/application/vnd.openxmlformats-officedocument.spreadsheetml.queryTable+xml\")","v":"https://www.iana.org/assignments/media-types/application/vnd.openxmlformats-officedocument.spreadsheetml.queryTable+xml"},{"$f":"IFERROR(__xludf.DUMMYFUNCTION(\"\"\"COMPUTED_VALUE\"\"\"),\"vnd.openxmlformats-officedocument.spreadsheetml.queryTable+xml\")","v":"vnd.openxmlformats-officedocument.spreadsheetml.queryTable+xml"},{"$f":"IFERROR(__xludf.DUMMYFUNCTION(\"\"\"COMPUTED_VALUE\"\"\"),\"vnd.openxmlformats-officedocument.spreadsheetml.queryTable+xml\")","v":"vnd.openxmlformats-officedocument.spreadsheetml.queryTable+xml"},{"$f":"IFERROR(__xludf.DUMMYFUNCTION(\"\"\"COMPUTED_VALUE\"\"\"),\"application/vnd.openxmlformats-officedocument.spreadsheetml.queryTable+xml\")","v":"application/vnd.openxmlformats-officedocument.spreadsheetml.queryTable+xml"},{"$f":"IFERROR(__xludf.DUMMYFUNCTION(\"\"\"COMPUTED_VALUE\"\"\"),\"en\")","v":"en"}]
[{"$f":"IFERROR(__xludf.DUMMYFUNCTION(\"\"\"COMPUTED_VALUE\"\"\"),\"https://www.iana.org/assignments/media-types/application/vnd.openxmlformats-officedocument.spreadsheetml.revisionHeaders+xml\")","v":"https://www.iana.org/assignments/media-types/application/vnd.openxmlformats-officedocument.spreadsheetml.revisionHeaders+xml"},{"$f":"IFERROR(__xludf.DUMMYFUNCTION(\"\"\"COMPUTED_VALUE\"\"\"),\"vnd.openxmlformats-officedocument.spreadsheetml.revisionHeaders+xml\")","v":"vnd.openxmlformats-officedocument.spreadsheetml.revisionHeaders+xml"},{"$f":"IFERROR(__xludf.DUMMYFUNCTION(\"\"\"COMPUTED_VALUE\"\"\"),\"vnd.openxmlformats-officedocument.spreadsheetml.revisionHeaders+xml\")","v":"vnd.openxmlformats-officedocument.spreadsheetml.revisionHeaders+xml"},{"$f":"IFERROR(__xludf.DUMMYFUNCTION(\"\"\"COMPUTED_VALUE\"\"\"),\"application/vnd.openxmlformats-officedocument.spreadsheetml.revisionHeaders+xml\")","v":"application/vnd.openxmlformats-officedocument.spreadsheetml.revisionHeaders+xml"},{"$f":"IFERROR(__xludf.DUMMYFUNCTION(\"\"\"COMPUTED_VALUE\"\"\"),\"en\")","v":"en"}]
[{"$f":"IFERROR(__xludf.DUMMYFUNCTION(\"\"\"COMPUTED_VALUE\"\"\"),\"https://www.iana.org/assignments/media-types/application/vnd.openxmlformats-officedocument.spreadsheetml.revisionLog+xml\")","v":"https://www.iana.org/assignments/media-types/application/vnd.openxmlformats-officedocument.spreadsheetml.revisionLog+xml"},{"$f":"IFERROR(__xludf.DUMMYFUNCTION(\"\"\"COMPUTED_VALUE\"\"\"),\"vnd.openxmlformats-officedocument.spreadsheetml.revisionLog+xml\")","v":"vnd.openxmlformats-officedocument.spreadsheetml.revisionLog+xml"},{"$f":"IFERROR(__xludf.DUMMYFUNCTION(\"\"\"COMPUTED_VALUE\"\"\"),\"vnd.openxmlformats-officedocument.spreadsheetml.revisionLog+xml\")","v":"vnd.openxmlformats-officedocument.spreadsheetml.revisionLog+xml"},{"$f":"IFERROR(__xludf.DUMMYFUNCTION(\"\"\"COMPUTED_VALUE\"\"\"),\"application/vnd.openxmlformats-officedocument.spreadsheetml.revisionLog+xml\")","v":"application/vnd.openxmlformats-officedocument.spreadsheetml.revisionLog+xml"},{"$f":"IFERROR(__xludf.DUMMYFUNCTION(\"\"\"COMPUTED_VALUE\"\"\"),\"en\")","v":"en"}]
[{"$f":"IFERROR(__xludf.DUMMYFUNCTION(\"\"\"COMPUTED_VALUE\"\"\"),\"https://www.iana.org/assignments/media-types/application/vnd.openxmlformats-officedocument.spreadsheetml.sharedStrings+xml\")","v":"https://www.iana.org/assignments/media-types/application/vnd.openxmlformats-officedocument.spreadsheetml.sharedStrings+xml"},{"$f":"IFERROR(__xludf.DUMMYFUNCTION(\"\"\"COMPUTED_VALUE\"\"\"),\"vnd.openxmlformats-officedocument.spreadsheetml.sharedStrings+xml\")","v":"vnd.openxmlformats-officedocument.spreadsheetml.sharedStrings+xml"},{"$f":"IFERROR(__xludf.DUMMYFUNCTION(\"\"\"COMPUTED_VALUE\"\"\"),\"vnd.openxmlformats-officedocument.spreadsheetml.sharedStrings+xml\")","v":"vnd.openxmlformats-officedocument.spreadsheetml.sharedStrings+xml"},{"$f":"IFERROR(__xludf.DUMMYFUNCTION(\"\"\"COMPUTED_VALUE\"\"\"),\"application/vnd.openxmlformats-officedocument.spreadsheetml.sharedStrings+xml\")","v":"application/vnd.openxmlformats-officedocument.spreadsheetml.sharedStrings+xml"},{"$f":"IFERROR(__xludf.DUMMYFUNCTION(\"\"\"COMPUTED_VALUE\"\"\"),\"en\")","v":"en"}]
[{"$f":"IFERROR(__xludf.DUMMYFUNCTION(\"\"\"COMPUTED_VALUE\"\"\"),\"https://www.iana.org/assignments/media-types/application/vnd.openxmlformats-officedocument.spreadsheetml.sheet\")","v":"https://www.iana.org/assignments/media-types/application/vnd.openxmlformats-officedocument.spreadsheetml.sheet"},{"$f":"IFERROR(__xludf.DUMMYFUNCTION(\"\"\"COMPUTED_VALUE\"\"\"),\"vnd.openxmlformats-officedocument.spreadsheetml.sheet\")","v":"vnd.openxmlformats-officedocument.spreadsheetml.sheet"},{"$f":"IFERROR(__xludf.DUMMYFUNCTION(\"\"\"COMPUTED_VALUE\"\"\"),\"vnd.openxmlformats-officedocument.spreadsheetml.sheet\")","v":"vnd.openxmlformats-officedocument.spreadsheetml.sheet"},{"$f":"IFERROR(__xludf.DUMMYFUNCTION(\"\"\"COMPUTED_VALUE\"\"\"),\"application/vnd.openxmlformats-officedocument.spreadsheetml.sheet\")","v":"application/vnd.openxmlformats-officedocument.spreadsheetml.sheet"},{"$f":"IFERROR(__xludf.DUMMYFUNCTION(\"\"\"COMPUTED_VALUE\"\"\"),\"en\")","v":"en"}]
[{"$f":"IFERROR(__xludf.DUMMYFUNCTION(\"\"\"COMPUTED_VALUE\"\"\"),\"https://www.iana.org/assignments/media-types/application/vnd.openxmlformats-officedocument.spreadsheetml.sheet.main+xml\")","v":"https://www.iana.org/assignments/media-types/application/vnd.openxmlformats-officedocument.spreadsheetml.sheet.main+xml"},{"$f":"IFERROR(__xludf.DUMMYFUNCTION(\"\"\"COMPUTED_VALUE\"\"\"),\"vnd.openxmlformats-officedocument.spreadsheetml.sheet.main+xml\")","v":"vnd.openxmlformats-officedocument.spreadsheetml.sheet.main+xml"},{"$f":"IFERROR(__xludf.DUMMYFUNCTION(\"\"\"COMPUTED_VALUE\"\"\"),\"vnd.openxmlformats-officedocument.spreadsheetml.sheet.main+xml\")","v":"vnd.openxmlformats-officedocument.spreadsheetml.sheet.main+xml"},{"$f":"IFERROR(__xludf.DUMMYFUNCTION(\"\"\"COMPUTED_VALUE\"\"\"),\"application/vnd.openxmlformats-officedocument.spreadsheetml.sheet.main+xml\")","v":"application/vnd.openxmlformats-officedocument.spreadsheetml.sheet.main+xml"},{"$f":"IFERROR(__xludf.DUMMYFUNCTION(\"\"\"COMPUTED_VALUE\"\"\"),\"en\")","v":"en"}]
[{"$f":"IFERROR(__xludf.DUMMYFUNCTION(\"\"\"COMPUTED_VALUE\"\"\"),\"https://www.iana.org/assignments/media-types/application/vnd.openxmlformats-officedocument.spreadsheetml.sheetMetadata+xml\")","v":"https://www.iana.org/assignments/media-types/application/vnd.openxmlformats-officedocument.spreadsheetml.sheetMetadata+xml"},{"$f":"IFERROR(__xludf.DUMMYFUNCTION(\"\"\"COMPUTED_VALUE\"\"\"),\"vnd.openxmlformats-officedocument.spreadsheetml.sheetMetadata+xml\")","v":"vnd.openxmlformats-officedocument.spreadsheetml.sheetMetadata+xml"},{"$f":"IFERROR(__xludf.DUMMYFUNCTION(\"\"\"COMPUTED_VALUE\"\"\"),\"vnd.openxmlformats-officedocument.spreadsheetml.sheetMetadata+xml\")","v":"vnd.openxmlformats-officedocument.spreadsheetml.sheetMetadata+xml"},{"$f":"IFERROR(__xludf.DUMMYFUNCTION(\"\"\"COMPUTED_VALUE\"\"\"),\"application/vnd.openxmlformats-officedocument.spreadsheetml.sheetMetadata+xml\")","v":"application/vnd.openxmlformats-officedocument.spreadsheetml.sheetMetadata+xml"},{"$f":"IFERROR(__xludf.DUMMYFUNCTION(\"\"\"COMPUTED_VALUE\"\"\"),\"en\")","v":"en"}]
[{"$f":"IFERROR(__xludf.DUMMYFUNCTION(\"\"\"COMPUTED_VALUE\"\"\"),\"https://www.iana.org/assignments/media-types/application/vnd.openxmlformats-officedocument.spreadsheetml.styles+xml\")","v":"https://www.iana.org/assignments/media-types/application/vnd.openxmlformats-officedocument.spreadsheetml.styles+xml"},{"$f":"IFERROR(__xludf.DUMMYFUNCTION(\"\"\"COMPUTED_VALUE\"\"\"),\"vnd.openxmlformats-officedocument.spreadsheetml.styles+xml\")","v":"vnd.openxmlformats-officedocument.spreadsheetml.styles+xml"},{"$f":"IFERROR(__xludf.DUMMYFUNCTION(\"\"\"COMPUTED_VALUE\"\"\"),\"vnd.openxmlformats-officedocument.spreadsheetml.styles+xml\")","v":"vnd.openxmlformats-officedocument.spreadsheetml.styles+xml"},{"$f":"IFERROR(__xludf.DUMMYFUNCTION(\"\"\"COMPUTED_VALUE\"\"\"),\"application/vnd.openxmlformats-officedocument.spreadsheetml.styles+xml\")","v":"application/vnd.openxmlformats-officedocument.spreadsheetml.styles+xml"},{"$f":"IFERROR(__xludf.DUMMYFUNCTION(\"\"\"COMPUTED_VALUE\"\"\"),\"en\")","v":"en"}]
[{"$f":"IFERROR(__xludf.DUMMYFUNCTION(\"\"\"COMPUTED_VALUE\"\"\"),\"https://www.iana.org/assignments/media-types/application/vnd.openxmlformats-officedocument.spreadsheetml.table+xml\")","v":"https://www.iana.org/assignments/media-types/application/vnd.openxmlformats-officedocument.spreadsheetml.table+xml"},{"$f":"IFERROR(__xludf.DUMMYFUNCTION(\"\"\"COMPUTED_VALUE\"\"\"),\"vnd.openxmlformats-officedocument.spreadsheetml.table+xml\")","v":"vnd.openxmlformats-officedocument.spreadsheetml.table+xml"},{"$f":"IFERROR(__xludf.DUMMYFUNCTION(\"\"\"COMPUTED_VALUE\"\"\"),\"vnd.openxmlformats-officedocument.spreadsheetml.table+xml\")","v":"vnd.openxmlformats-officedocument.spreadsheetml.table+xml"},{"$f":"IFERROR(__xludf.DUMMYFUNCTION(\"\"\"COMPUTED_VALUE\"\"\"),\"application/vnd.openxmlformats-officedocument.spreadsheetml.table+xml\")","v":"application/vnd.openxmlformats-officedocument.spreadsheetml.table+xml"},{"$f":"IFERROR(__xludf.DUMMYFUNCTION(\"\"\"COMPUTED_VALUE\"\"\"),\"en\")","v":"en"}]
[{"$f":"IFERROR(__xludf.DUMMYFUNCTION(\"\"\"COMPUTED_VALUE\"\"\"),\"https://www.iana.org/assignments/media-types/application/vnd.openxmlformats-officedocument.spreadsheetml.tableSingleCells+xml\")","v":"https://www.iana.org/assignments/media-types/application/vnd.openxmlformats-officedocument.spreadsheetml.tableSingleCells+xml"},{"$f":"IFERROR(__xludf.DUMMYFUNCTION(\"\"\"COMPUTED_VALUE\"\"\"),\"vnd.openxmlformats-officedocument.spreadsheetml.tableSingleCells+xml\")","v":"vnd.openxmlformats-officedocument.spreadsheetml.tableSingleCells+xml"},{"$f":"IFERROR(__xludf.DUMMYFUNCTION(\"\"\"COMPUTED_VALUE\"\"\"),\"vnd.openxmlformats-officedocument.spreadsheetml.tableSingleCells+xml\")","v":"vnd.openxmlformats-officedocument.spreadsheetml.tableSingleCells+xml"},{"$f":"IFERROR(__xludf.DUMMYFUNCTION(\"\"\"COMPUTED_VALUE\"\"\"),\"application/vnd.openxmlformats-officedocument.spreadsheetml.tableSingleCells+xml\")","v":"application/vnd.openxmlformats-officedocument.spreadsheetml.tableSingleCells+xml"},{"$f":"IFERROR(__xludf.DUMMYFUNCTION(\"\"\"COMPUTED_VALUE\"\"\"),\"en\")","v":"en"}]
[{"$f":"IFERROR(__xludf.DUMMYFUNCTION(\"\"\"COMPUTED_VALUE\"\"\"),\"https://www.iana.org/assignments/media-types/application/vnd.openxmlformats-officedocument.spreadsheetml.template\")","v":"https://www.iana.org/assignments/media-types/application/vnd.openxmlformats-officedocument.spreadsheetml.template"},{"$f":"IFERROR(__xludf.DUMMYFUNCTION(\"\"\"COMPUTED_VALUE\"\"\"),\"vnd.openxmlformats-officedocument.spreadsheetml.template\")","v":"vnd.openxmlformats-officedocument.spreadsheetml.template"},{"$f":"IFERROR(__xludf.DUMMYFUNCTION(\"\"\"COMPUTED_VALUE\"\"\"),\"vnd.openxmlformats-officedocument.spreadsheetml.template\")","v":"vnd.openxmlformats-officedocument.spreadsheetml.template"},{"$f":"IFERROR(__xludf.DUMMYFUNCTION(\"\"\"COMPUTED_VALUE\"\"\"),\"application/vnd.openxmlformats-officedocument.spreadsheetml.template\")","v":"application/vnd.openxmlformats-officedocument.spreadsheetml.template"},{"$f":"IFERROR(__xludf.DUMMYFUNCTION(\"\"\"COMPUTED_VALUE\"\"\"),\"en\")","v":"en"}]
[{"$f":"IFERROR(__xludf.DUMMYFUNCTION(\"\"\"COMPUTED_VALUE\"\"\"),\"https://www.iana.org/assignments/media-types/application/vnd.openxmlformats-officedocument.spreadsheetml.template.main+xml\")","v":"https://www.iana.org/assignments/media-types/application/vnd.openxmlformats-officedocument.spreadsheetml.template.main+xml"},{"$f":"IFERROR(__xludf.DUMMYFUNCTION(\"\"\"COMPUTED_VALUE\"\"\"),\"vnd.openxmlformats-officedocument.spreadsheetml.template.main+xml\")","v":"vnd.openxmlformats-officedocument.spreadsheetml.template.main+xml"},{"$f":"IFERROR(__xludf.DUMMYFUNCTION(\"\"\"COMPUTED_VALUE\"\"\"),\"vnd.openxmlformats-officedocument.spreadsheetml.template.main+xml\")","v":"vnd.openxmlformats-officedocument.spreadsheetml.template.main+xml"},{"$f":"IFERROR(__xludf.DUMMYFUNCTION(\"\"\"COMPUTED_VALUE\"\"\"),\"application/vnd.openxmlformats-officedocument.spreadsheetml.template.main+xml\")","v":"application/vnd.openxmlformats-officedocument.spreadsheetml.template.main+xml"},{"$f":"IFERROR(__xludf.DUMMYFUNCTION(\"\"\"COMPUTED_VALUE\"\"\"),\"en\")","v":"en"}]
[{"$f":"IFERROR(__xludf.DUMMYFUNCTION(\"\"\"COMPUTED_VALUE\"\"\"),\"https://www.iana.org/assignments/media-types/application/vnd.openxmlformats-officedocument.spreadsheetml.userNames+xml\")","v":"https://www.iana.org/assignments/media-types/application/vnd.openxmlformats-officedocument.spreadsheetml.userNames+xml"},{"$f":"IFERROR(__xludf.DUMMYFUNCTION(\"\"\"COMPUTED_VALUE\"\"\"),\"vnd.openxmlformats-officedocument.spreadsheetml.userNames+xml\")","v":"vnd.openxmlformats-officedocument.spreadsheetml.userNames+xml"},{"$f":"IFERROR(__xludf.DUMMYFUNCTION(\"\"\"COMPUTED_VALUE\"\"\"),\"vnd.openxmlformats-officedocument.spreadsheetml.userNames+xml\")","v":"vnd.openxmlformats-officedocument.spreadsheetml.userNames+xml"},{"$f":"IFERROR(__xludf.DUMMYFUNCTION(\"\"\"COMPUTED_VALUE\"\"\"),\"application/vnd.openxmlformats-officedocument.spreadsheetml.userNames+xml\")","v":"application/vnd.openxmlformats-officedocument.spreadsheetml.userNames+xml"},{"$f":"IFERROR(__xludf.DUMMYFUNCTION(\"\"\"COMPUTED_VALUE\"\"\"),\"en\")","v":"en"}]
[{"$f":"IFERROR(__xludf.DUMMYFUNCTION(\"\"\"COMPUTED_VALUE\"\"\"),\"https://www.iana.org/assignments/media-types/application/vnd.openxmlformats-officedocument.spreadsheetml.volatileDependencies+xml\")","v":"https://www.iana.org/assignments/media-types/application/vnd.openxmlformats-officedocument.spreadsheetml.volatileDependencies+xml"},{"$f":"IFERROR(__xludf.DUMMYFUNCTION(\"\"\"COMPUTED_VALUE\"\"\"),\"vnd.openxmlformats-officedocument.spreadsheetml.volatileDependencies+xml\")","v":"vnd.openxmlformats-officedocument.spreadsheetml.volatileDependencies+xml"},{"$f":"IFERROR(__xludf.DUMMYFUNCTION(\"\"\"COMPUTED_VALUE\"\"\"),\"vnd.openxmlformats-officedocument.spreadsheetml.volatileDependencies+xml\")","v":"vnd.openxmlformats-officedocument.spreadsheetml.volatileDependencies+xml"},{"$f":"IFERROR(__xludf.DUMMYFUNCTION(\"\"\"COMPUTED_VALUE\"\"\"),\"application/vnd.openxmlformats-officedocument.spreadsheetml.volatileDependencies+xml\")","v":"application/vnd.openxmlformats-officedocument.spreadsheetml.volatileDependencies+xml"},{"$f":"IFERROR(__xludf.DUMMYFUNCTION(\"\"\"COMPUTED_VALUE\"\"\"),\"en\")","v":"en"}]
[{"$f":"IFERROR(__xludf.DUMMYFUNCTION(\"\"\"COMPUTED_VALUE\"\"\"),\"https://www.iana.org/assignments/media-types/application/vnd.openxmlformats-officedocument.spreadsheetml.worksheet+xml\")","v":"https://www.iana.org/assignments/media-types/application/vnd.openxmlformats-officedocument.spreadsheetml.worksheet+xml"},{"$f":"IFERROR(__xludf.DUMMYFUNCTION(\"\"\"COMPUTED_VALUE\"\"\"),\"vnd.openxmlformats-officedocument.spreadsheetml.worksheet+xml\")","v":"vnd.openxmlformats-officedocument.spreadsheetml.worksheet+xml"},{"$f":"IFERROR(__xludf.DUMMYFUNCTION(\"\"\"COMPUTED_VALUE\"\"\"),\"vnd.openxmlformats-officedocument.spreadsheetml.worksheet+xml\")","v":"vnd.openxmlformats-officedocument.spreadsheetml.worksheet+xml"},{"$f":"IFERROR(__xludf.DUMMYFUNCTION(\"\"\"COMPUTED_VALUE\"\"\"),\"application/vnd.openxmlformats-officedocument.spreadsheetml.worksheet+xml\")","v":"application/vnd.openxmlformats-officedocument.spreadsheetml.worksheet+xml"},{"$f":"IFERROR(__xludf.DUMMYFUNCTION(\"\"\"COMPUTED_VALUE\"\"\"),\"en\")","v":"en"}]
[{"$f":"IFERROR(__xludf.DUMMYFUNCTION(\"\"\"COMPUTED_VALUE\"\"\"),\"https://www.iana.org/assignments/media-types/application/vnd.openxmlformats-officedocument.theme+xml\")","v":"https://www.iana.org/assignments/media-types/application/vnd.openxmlformats-officedocument.theme+xml"},{"$f":"IFERROR(__xludf.DUMMYFUNCTION(\"\"\"COMPUTED_VALUE\"\"\"),\"vnd.openxmlformats-officedocument.theme+xml\")","v":"vnd.openxmlformats-officedocument.theme+xml"},{"$f":"IFERROR(__xludf.DUMMYFUNCTION(\"\"\"COMPUTED_VALUE\"\"\"),\"vnd.openxmlformats-officedocument.theme+xml\")","v":"vnd.openxmlformats-officedocument.theme+xml"},{"$f":"IFERROR(__xludf.DUMMYFUNCTION(\"\"\"COMPUTED_VALUE\"\"\"),\"application/vnd.openxmlformats-officedocument.theme+xml\")","v":"application/vnd.openxmlformats-officedocument.theme+xml"},{"$f":"IFERROR(__xludf.DUMMYFUNCTION(\"\"\"COMPUTED_VALUE\"\"\"),\"en\")","v":"en"}]
[{"$f":"IFERROR(__xludf.DUMMYFUNCTION(\"\"\"COMPUTED_VALUE\"\"\"),\"https://www.iana.org/assignments/media-types/application/vnd.openxmlformats-officedocument.themeOverride+xml\")","v":"https://www.iana.org/assignments/media-types/application/vnd.openxmlformats-officedocument.themeOverride+xml"},{"$f":"IFERROR(__xludf.DUMMYFUNCTION(\"\"\"COMPUTED_VALUE\"\"\"),\"vnd.openxmlformats-officedocument.themeOverride+xml\")","v":"vnd.openxmlformats-officedocument.themeOverride+xml"},{"$f":"IFERROR(__xludf.DUMMYFUNCTION(\"\"\"COMPUTED_VALUE\"\"\"),\"vnd.openxmlformats-officedocument.themeOverride+xml\")","v":"vnd.openxmlformats-officedocument.themeOverride+xml"},{"$f":"IFERROR(__xludf.DUMMYFUNCTION(\"\"\"COMPUTED_VALUE\"\"\"),\"application/vnd.openxmlformats-officedocument.themeOverride+xml\")","v":"application/vnd.openxmlformats-officedocument.themeOverride+xml"},{"$f":"IFERROR(__xludf.DUMMYFUNCTION(\"\"\"COMPUTED_VALUE\"\"\"),\"en\")","v":"en"}]
[{"$f":"IFERROR(__xludf.DUMMYFUNCTION(\"\"\"COMPUTED_VALUE\"\"\"),\"https://www.iana.org/assignments/media-types/application/vnd.openxmlformats-officedocument.vmlDrawing\")","v":"https://www.iana.org/assignments/media-types/application/vnd.openxmlformats-officedocument.vmlDrawing"},{"$f":"IFERROR(__xludf.DUMMYFUNCTION(\"\"\"COMPUTED_VALUE\"\"\"),\"vnd.openxmlformats-officedocument.vmlDrawing\")","v":"vnd.openxmlformats-officedocument.vmlDrawing"},{"$f":"IFERROR(__xludf.DUMMYFUNCTION(\"\"\"COMPUTED_VALUE\"\"\"),\"vnd.openxmlformats-officedocument.vmlDrawing\")","v":"vnd.openxmlformats-officedocument.vmlDrawing"},{"$f":"IFERROR(__xludf.DUMMYFUNCTION(\"\"\"COMPUTED_VALUE\"\"\"),\"application/vnd.openxmlformats-officedocument.vmlDrawing\")","v":"application/vnd.openxmlformats-officedocument.vmlDrawing"},{"$f":"IFERROR(__xludf.DUMMYFUNCTION(\"\"\"COMPUTED_VALUE\"\"\"),\"en\")","v":"en"}]
[{"$f":"IFERROR(__xludf.DUMMYFUNCTION(\"\"\"COMPUTED_VALUE\"\"\"),\"https://www.iana.org/assignments/media-types/application/vnd.openxmlformats-officedocument.wordprocessingml.comments+xml\")","v":"https://www.iana.org/assignments/media-types/application/vnd.openxmlformats-officedocument.wordprocessingml.comments+xml"},{"$f":"IFERROR(__xludf.DUMMYFUNCTION(\"\"\"COMPUTED_VALUE\"\"\"),\"vnd.openxmlformats-officedocument.wordprocessingml.comments+xml\")","v":"vnd.openxmlformats-officedocument.wordprocessingml.comments+xml"},{"$f":"IFERROR(__xludf.DUMMYFUNCTION(\"\"\"COMPUTED_VALUE\"\"\"),\"vnd.openxmlformats-officedocument.wordprocessingml.comments+xml\")","v":"vnd.openxmlformats-officedocument.wordprocessingml.comments+xml"},{"$f":"IFERROR(__xludf.DUMMYFUNCTION(\"\"\"COMPUTED_VALUE\"\"\"),\"application/vnd.openxmlformats-officedocument.wordprocessingml.comments+xml\")","v":"application/vnd.openxmlformats-officedocument.wordprocessingml.comments+xml"},{"$f":"IFERROR(__xludf.DUMMYFUNCTION(\"\"\"COMPUTED_VALUE\"\"\"),\"en\")","v":"en"}]
[{"$f":"IFERROR(__xludf.DUMMYFUNCTION(\"\"\"COMPUTED_VALUE\"\"\"),\"https://www.iana.org/assignments/media-types/application/vnd.openxmlformats-officedocument.wordprocessingml.document\")","v":"https://www.iana.org/assignments/media-types/application/vnd.openxmlformats-officedocument.wordprocessingml.document"},{"$f":"IFERROR(__xludf.DUMMYFUNCTION(\"\"\"COMPUTED_VALUE\"\"\"),\"vnd.openxmlformats-officedocument.wordprocessingml.document\")","v":"vnd.openxmlformats-officedocument.wordprocessingml.document"},{"$f":"IFERROR(__xludf.DUMMYFUNCTION(\"\"\"COMPUTED_VALUE\"\"\"),\"vnd.openxmlformats-officedocument.wordprocessingml.document\")","v":"vnd.openxmlformats-officedocument.wordprocessingml.document"},{"$f":"IFERROR(__xludf.DUMMYFUNCTION(\"\"\"COMPUTED_VALUE\"\"\"),\"application/vnd.openxmlformats-officedocument.wordprocessingml.document\")","v":"application/vnd.openxmlformats-officedocument.wordprocessingml.document"},{"$f":"IFERROR(__xludf.DUMMYFUNCTION(\"\"\"COMPUTED_VALUE\"\"\"),\"en\")","v":"en"}]
[{"$f":"IFERROR(__xludf.DUMMYFUNCTION(\"\"\"COMPUTED_VALUE\"\"\"),\"https://www.iana.org/assignments/media-types/application/vnd.openxmlformats-officedocument.wordprocessingml.document.glossary+xml\")","v":"https://www.iana.org/assignments/media-types/application/vnd.openxmlformats-officedocument.wordprocessingml.document.glossary+xml"},{"$f":"IFERROR(__xludf.DUMMYFUNCTION(\"\"\"COMPUTED_VALUE\"\"\"),\"vnd.openxmlformats-officedocument.wordprocessingml.document.glossary+xml\")","v":"vnd.openxmlformats-officedocument.wordprocessingml.document.glossary+xml"},{"$f":"IFERROR(__xludf.DUMMYFUNCTION(\"\"\"COMPUTED_VALUE\"\"\"),\"vnd.openxmlformats-officedocument.wordprocessingml.document.glossary+xml\")","v":"vnd.openxmlformats-officedocument.wordprocessingml.document.glossary+xml"},{"$f":"IFERROR(__xludf.DUMMYFUNCTION(\"\"\"COMPUTED_VALUE\"\"\"),\"application/vnd.openxmlformats-officedocument.wordprocessingml.document.glossary+xml\")","v":"application/vnd.openxmlformats-officedocument.wordprocessingml.document.glossary+xml"},{"$f":"IFERROR(__xludf.DUMMYFUNCTION(\"\"\"COMPUTED_VALUE\"\"\"),\"en\")","v":"en"}]
[{"$f":"IFERROR(__xludf.DUMMYFUNCTION(\"\"\"COMPUTED_VALUE\"\"\"),\"https://www.iana.org/assignments/media-types/application/vnd.openxmlformats-officedocument.wordprocessingml.document.main+xml\")","v":"https://www.iana.org/assignments/media-types/application/vnd.openxmlformats-officedocument.wordprocessingml.document.main+xml"},{"$f":"IFERROR(__xludf.DUMMYFUNCTION(\"\"\"COMPUTED_VALUE\"\"\"),\"vnd.openxmlformats-officedocument.wordprocessingml.document.main+xml\")","v":"vnd.openxmlformats-officedocument.wordprocessingml.document.main+xml"},{"$f":"IFERROR(__xludf.DUMMYFUNCTION(\"\"\"COMPUTED_VALUE\"\"\"),\"vnd.openxmlformats-officedocument.wordprocessingml.document.main+xml\")","v":"vnd.openxmlformats-officedocument.wordprocessingml.document.main+xml"},{"$f":"IFERROR(__xludf.DUMMYFUNCTION(\"\"\"COMPUTED_VALUE\"\"\"),\"application/vnd.openxmlformats-officedocument.wordprocessingml.document.main+xml\")","v":"application/vnd.openxmlformats-officedocument.wordprocessingml.document.main+xml"},{"$f":"IFERROR(__xludf.DUMMYFUNCTION(\"\"\"COMPUTED_VALUE\"\"\"),\"en\")","v":"en"}]
[{"$f":"IFERROR(__xludf.DUMMYFUNCTION(\"\"\"COMPUTED_VALUE\"\"\"),\"https://www.iana.org/assignments/media-types/application/vnd.openxmlformats-officedocument.wordprocessingml.endnotes+xml\")","v":"https://www.iana.org/assignments/media-types/application/vnd.openxmlformats-officedocument.wordprocessingml.endnotes+xml"},{"$f":"IFERROR(__xludf.DUMMYFUNCTION(\"\"\"COMPUTED_VALUE\"\"\"),\"vnd.openxmlformats-officedocument.wordprocessingml.endnotes+xml\")","v":"vnd.openxmlformats-officedocument.wordprocessingml.endnotes+xml"},{"$f":"IFERROR(__xludf.DUMMYFUNCTION(\"\"\"COMPUTED_VALUE\"\"\"),\"vnd.openxmlformats-officedocument.wordprocessingml.endnotes+xml\")","v":"vnd.openxmlformats-officedocument.wordprocessingml.endnotes+xml"},{"$f":"IFERROR(__xludf.DUMMYFUNCTION(\"\"\"COMPUTED_VALUE\"\"\"),\"application/vnd.openxmlformats-officedocument.wordprocessingml.endnotes+xml\")","v":"application/vnd.openxmlformats-officedocument.wordprocessingml.endnotes+xml"},{"$f":"IFERROR(__xludf.DUMMYFUNCTION(\"\"\"COMPUTED_VALUE\"\"\"),\"en\")","v":"en"}]
[{"$f":"IFERROR(__xludf.DUMMYFUNCTION(\"\"\"COMPUTED_VALUE\"\"\"),\"https://www.iana.org/assignments/media-types/application/vnd.openxmlformats-officedocument.wordprocessingml.fontTable+xml\")","v":"https://www.iana.org/assignments/media-types/application/vnd.openxmlformats-officedocument.wordprocessingml.fontTable+xml"},{"$f":"IFERROR(__xludf.DUMMYFUNCTION(\"\"\"COMPUTED_VALUE\"\"\"),\"vnd.openxmlformats-officedocument.wordprocessingml.fontTable+xml\")","v":"vnd.openxmlformats-officedocument.wordprocessingml.fontTable+xml"},{"$f":"IFERROR(__xludf.DUMMYFUNCTION(\"\"\"COMPUTED_VALUE\"\"\"),\"vnd.openxmlformats-officedocument.wordprocessingml.fontTable+xml\")","v":"vnd.openxmlformats-officedocument.wordprocessingml.fontTable+xml"},{"$f":"IFERROR(__xludf.DUMMYFUNCTION(\"\"\"COMPUTED_VALUE\"\"\"),\"application/vnd.openxmlformats-officedocument.wordprocessingml.fontTable+xml\")","v":"application/vnd.openxmlformats-officedocument.wordprocessingml.fontTable+xml"},{"$f":"IFERROR(__xludf.DUMMYFUNCTION(\"\"\"COMPUTED_VALUE\"\"\"),\"en\")","v":"en"}]
[{"$f":"IFERROR(__xludf.DUMMYFUNCTION(\"\"\"COMPUTED_VALUE\"\"\"),\"https://www.iana.org/assignments/media-types/application/vnd.openxmlformats-officedocument.wordprocessingml.footer+xml\")","v":"https://www.iana.org/assignments/media-types/application/vnd.openxmlformats-officedocument.wordprocessingml.footer+xml"},{"$f":"IFERROR(__xludf.DUMMYFUNCTION(\"\"\"COMPUTED_VALUE\"\"\"),\"vnd.openxmlformats-officedocument.wordprocessingml.footer+xml\")","v":"vnd.openxmlformats-officedocument.wordprocessingml.footer+xml"},{"$f":"IFERROR(__xludf.DUMMYFUNCTION(\"\"\"COMPUTED_VALUE\"\"\"),\"vnd.openxmlformats-officedocument.wordprocessingml.footer+xml\")","v":"vnd.openxmlformats-officedocument.wordprocessingml.footer+xml"},{"$f":"IFERROR(__xludf.DUMMYFUNCTION(\"\"\"COMPUTED_VALUE\"\"\"),\"application/vnd.openxmlformats-officedocument.wordprocessingml.footer+xml\")","v":"application/vnd.openxmlformats-officedocument.wordprocessingml.footer+xml"},{"$f":"IFERROR(__xludf.DUMMYFUNCTION(\"\"\"COMPUTED_VALUE\"\"\"),\"en\")","v":"en"}]
[{"$f":"IFERROR(__xludf.DUMMYFUNCTION(\"\"\"COMPUTED_VALUE\"\"\"),\"https://www.iana.org/assignments/media-types/application/vnd.openxmlformats-officedocument.wordprocessingml.footnotes+xml\")","v":"https://www.iana.org/assignments/media-types/application/vnd.openxmlformats-officedocument.wordprocessingml.footnotes+xml"},{"$f":"IFERROR(__xludf.DUMMYFUNCTION(\"\"\"COMPUTED_VALUE\"\"\"),\"vnd.openxmlformats-officedocument.wordprocessingml.footnotes+xml\")","v":"vnd.openxmlformats-officedocument.wordprocessingml.footnotes+xml"},{"$f":"IFERROR(__xludf.DUMMYFUNCTION(\"\"\"COMPUTED_VALUE\"\"\"),\"vnd.openxmlformats-officedocument.wordprocessingml.footnotes+xml\")","v":"vnd.openxmlformats-officedocument.wordprocessingml.footnotes+xml"},{"$f":"IFERROR(__xludf.DUMMYFUNCTION(\"\"\"COMPUTED_VALUE\"\"\"),\"application/vnd.openxmlformats-officedocument.wordprocessingml.footnotes+xml\")","v":"application/vnd.openxmlformats-officedocument.wordprocessingml.footnotes+xml"},{"$f":"IFERROR(__xludf.DUMMYFUNCTION(\"\"\"COMPUTED_VALUE\"\"\"),\"en\")","v":"en"}]
[{"$f":"IFERROR(__xludf.DUMMYFUNCTION(\"\"\"COMPUTED_VALUE\"\"\"),\"https://www.iana.org/assignments/media-types/application/vnd.openxmlformats-officedocument.wordprocessingml.numbering+xml\")","v":"https://www.iana.org/assignments/media-types/application/vnd.openxmlformats-officedocument.wordprocessingml.numbering+xml"},{"$f":"IFERROR(__xludf.DUMMYFUNCTION(\"\"\"COMPUTED_VALUE\"\"\"),\"vnd.openxmlformats-officedocument.wordprocessingml.numbering+xml\")","v":"vnd.openxmlformats-officedocument.wordprocessingml.numbering+xml"},{"$f":"IFERROR(__xludf.DUMMYFUNCTION(\"\"\"COMPUTED_VALUE\"\"\"),\"vnd.openxmlformats-officedocument.wordprocessingml.numbering+xml\")","v":"vnd.openxmlformats-officedocument.wordprocessingml.numbering+xml"},{"$f":"IFERROR(__xludf.DUMMYFUNCTION(\"\"\"COMPUTED_VALUE\"\"\"),\"application/vnd.openxmlformats-officedocument.wordprocessingml.numbering+xml\")","v":"application/vnd.openxmlformats-officedocument.wordprocessingml.numbering+xml"},{"$f":"IFERROR(__xludf.DUMMYFUNCTION(\"\"\"COMPUTED_VALUE\"\"\"),\"en\")","v":"en"}]
[{"$f":"IFERROR(__xludf.DUMMYFUNCTION(\"\"\"COMPUTED_VALUE\"\"\"),\"https://www.iana.org/assignments/media-types/application/vnd.openxmlformats-officedocument.wordprocessingml.settings+xml\")","v":"https://www.iana.org/assignments/media-types/application/vnd.openxmlformats-officedocument.wordprocessingml.settings+xml"},{"$f":"IFERROR(__xludf.DUMMYFUNCTION(\"\"\"COMPUTED_VALUE\"\"\"),\"vnd.openxmlformats-officedocument.wordprocessingml.settings+xml\")","v":"vnd.openxmlformats-officedocument.wordprocessingml.settings+xml"},{"$f":"IFERROR(__xludf.DUMMYFUNCTION(\"\"\"COMPUTED_VALUE\"\"\"),\"vnd.openxmlformats-officedocument.wordprocessingml.settings+xml\")","v":"vnd.openxmlformats-officedocument.wordprocessingml.settings+xml"},{"$f":"IFERROR(__xludf.DUMMYFUNCTION(\"\"\"COMPUTED_VALUE\"\"\"),\"application/vnd.openxmlformats-officedocument.wordprocessingml.settings+xml\")","v":"application/vnd.openxmlformats-officedocument.wordprocessingml.settings+xml"},{"$f":"IFERROR(__xludf.DUMMYFUNCTION(\"\"\"COMPUTED_VALUE\"\"\"),\"en\")","v":"en"}]
[{"$f":"IFERROR(__xludf.DUMMYFUNCTION(\"\"\"COMPUTED_VALUE\"\"\"),\"https://www.iana.org/assignments/media-types/application/vnd.openxmlformats-officedocument.wordprocessingml.styles+xml\")","v":"https://www.iana.org/assignments/media-types/application/vnd.openxmlformats-officedocument.wordprocessingml.styles+xml"},{"$f":"IFERROR(__xludf.DUMMYFUNCTION(\"\"\"COMPUTED_VALUE\"\"\"),\"vnd.openxmlformats-officedocument.wordprocessingml.styles+xml\")","v":"vnd.openxmlformats-officedocument.wordprocessingml.styles+xml"},{"$f":"IFERROR(__xludf.DUMMYFUNCTION(\"\"\"COMPUTED_VALUE\"\"\"),\"vnd.openxmlformats-officedocument.wordprocessingml.styles+xml\")","v":"vnd.openxmlformats-officedocument.wordprocessingml.styles+xml"},{"$f":"IFERROR(__xludf.DUMMYFUNCTION(\"\"\"COMPUTED_VALUE\"\"\"),\"application/vnd.openxmlformats-officedocument.wordprocessingml.styles+xml\")","v":"application/vnd.openxmlformats-officedocument.wordprocessingml.styles+xml"},{"$f":"IFERROR(__xludf.DUMMYFUNCTION(\"\"\"COMPUTED_VALUE\"\"\"),\"en\")","v":"en"}]
[{"$f":"IFERROR(__xludf.DUMMYFUNCTION(\"\"\"COMPUTED_VALUE\"\"\"),\"https://www.iana.org/assignments/media-types/application/vnd.openxmlformats-officedocument.wordprocessingml.template\")","v":"https://www.iana.org/assignments/media-types/application/vnd.openxmlformats-officedocument.wordprocessingml.template"},{"$f":"IFERROR(__xludf.DUMMYFUNCTION(\"\"\"COMPUTED_VALUE\"\"\"),\"vnd.openxmlformats-officedocument.wordprocessingml.template\")","v":"vnd.openxmlformats-officedocument.wordprocessingml.template"},{"$f":"IFERROR(__xludf.DUMMYFUNCTION(\"\"\"COMPUTED_VALUE\"\"\"),\"vnd.openxmlformats-officedocument.wordprocessingml.template\")","v":"vnd.openxmlformats-officedocument.wordprocessingml.template"},{"$f":"IFERROR(__xludf.DUMMYFUNCTION(\"\"\"COMPUTED_VALUE\"\"\"),\"application/vnd.openxmlformats-officedocument.wordprocessingml.template\")","v":"application/vnd.openxmlformats-officedocument.wordprocessingml.template"},{"$f":"IFERROR(__xludf.DUMMYFUNCTION(\"\"\"COMPUTED_VALUE\"\"\"),\"en\")","v":"en"}]
[{"$f":"IFERROR(__xludf.DUMMYFUNCTION(\"\"\"COMPUTED_VALUE\"\"\"),\"https://www.iana.org/assignments/media-types/application/vnd.openxmlformats-officedocument.wordprocessingml.template.main+xml\")","v":"https://www.iana.org/assignments/media-types/application/vnd.openxmlformats-officedocument.wordprocessingml.template.main+xml"},{"$f":"IFERROR(__xludf.DUMMYFUNCTION(\"\"\"COMPUTED_VALUE\"\"\"),\"vnd.openxmlformats-officedocument.wordprocessingml.template.main+xml\")","v":"vnd.openxmlformats-officedocument.wordprocessingml.template.main+xml"},{"$f":"IFERROR(__xludf.DUMMYFUNCTION(\"\"\"COMPUTED_VALUE\"\"\"),\"vnd.openxmlformats-officedocument.wordprocessingml.template.main+xml\")","v":"vnd.openxmlformats-officedocument.wordprocessingml.template.main+xml"},{"$f":"IFERROR(__xludf.DUMMYFUNCTION(\"\"\"COMPUTED_VALUE\"\"\"),\"application/vnd.openxmlformats-officedocument.wordprocessingml.template.main+xml\")","v":"application/vnd.openxmlformats-officedocument.wordprocessingml.template.main+xml"},{"$f":"IFERROR(__xludf.DUMMYFUNCTION(\"\"\"COMPUTED_VALUE\"\"\"),\"en\")","v":"en"}]
[{"$f":"IFERROR(__xludf.DUMMYFUNCTION(\"\"\"COMPUTED_VALUE\"\"\"),\"https://www.iana.org/assignments/media-types/application/vnd.openxmlformats-officedocument.wordprocessingml.webSettings+xml\")","v":"https://www.iana.org/assignments/media-types/application/vnd.openxmlformats-officedocument.wordprocessingml.webSettings+xml"},{"$f":"IFERROR(__xludf.DUMMYFUNCTION(\"\"\"COMPUTED_VALUE\"\"\"),\"vnd.openxmlformats-officedocument.wordprocessingml.webSettings+xml\")","v":"vnd.openxmlformats-officedocument.wordprocessingml.webSettings+xml"},{"$f":"IFERROR(__xludf.DUMMYFUNCTION(\"\"\"COMPUTED_VALUE\"\"\"),\"vnd.openxmlformats-officedocument.wordprocessingml.webSettings+xml\")","v":"vnd.openxmlformats-officedocument.wordprocessingml.webSettings+xml"},{"$f":"IFERROR(__xludf.DUMMYFUNCTION(\"\"\"COMPUTED_VALUE\"\"\"),\"application/vnd.openxmlformats-officedocument.wordprocessingml.webSettings+xml\")","v":"application/vnd.openxmlformats-officedocument.wordprocessingml.webSettings+xml"},{"$f":"IFERROR(__xludf.DUMMYFUNCTION(\"\"\"COMPUTED_VALUE\"\"\"),\"en\")","v":"en"}]
[{"$f":"IFERROR(__xludf.DUMMYFUNCTION(\"\"\"COMPUTED_VALUE\"\"\"),\"https://www.iana.org/assignments/media-types/application/vnd.openxmlformats-package.core-properties+xml\")","v":"https://www.iana.org/assignments/media-types/application/vnd.openxmlformats-package.core-properties+xml"},{"$f":"IFERROR(__xludf.DUMMYFUNCTION(\"\"\"COMPUTED_VALUE\"\"\"),\"vnd.openxmlformats-package.core-properties+xml\")","v":"vnd.openxmlformats-package.core-properties+xml"},{"$f":"IFERROR(__xludf.DUMMYFUNCTION(\"\"\"COMPUTED_VALUE\"\"\"),\"vnd.openxmlformats-package.core-properties+xml\")","v":"vnd.openxmlformats-package.core-properties+xml"},{"$f":"IFERROR(__xludf.DUMMYFUNCTION(\"\"\"COMPUTED_VALUE\"\"\"),\"application/vnd.openxmlformats-package.core-properties+xml\")","v":"application/vnd.openxmlformats-package.core-properties+xml"},{"$f":"IFERROR(__xludf.DUMMYFUNCTION(\"\"\"COMPUTED_VALUE\"\"\"),\"en\")","v":"en"}]
[{"$f":"IFERROR(__xludf.DUMMYFUNCTION(\"\"\"COMPUTED_VALUE\"\"\"),\"https://www.iana.org/assignments/media-types/application/vnd.openxmlformats-package.digital-signature-xmlsignature+xml\")","v":"https://www.iana.org/assignments/media-types/application/vnd.openxmlformats-package.digital-signature-xmlsignature+xml"},{"$f":"IFERROR(__xludf.DUMMYFUNCTION(\"\"\"COMPUTED_VALUE\"\"\"),\"vnd.openxmlformats-package.digital-signature-xmlsignature+xml\")","v":"vnd.openxmlformats-package.digital-signature-xmlsignature+xml"},{"$f":"IFERROR(__xludf.DUMMYFUNCTION(\"\"\"COMPUTED_VALUE\"\"\"),\"vnd.openxmlformats-package.digital-signature-xmlsignature+xml\")","v":"vnd.openxmlformats-package.digital-signature-xmlsignature+xml"},{"$f":"IFERROR(__xludf.DUMMYFUNCTION(\"\"\"COMPUTED_VALUE\"\"\"),\"application/vnd.openxmlformats-package.digital-signature-xmlsignature+xml\")","v":"application/vnd.openxmlformats-package.digital-signature-xmlsignature+xml"},{"$f":"IFERROR(__xludf.DUMMYFUNCTION(\"\"\"COMPUTED_VALUE\"\"\"),\"en\")","v":"en"}]
[{"$f":"IFERROR(__xludf.DUMMYFUNCTION(\"\"\"COMPUTED_VALUE\"\"\"),\"https://www.iana.org/assignments/media-types/application/vnd.openxmlformats-package.relationships+xml\")","v":"https://www.iana.org/assignments/media-types/application/vnd.openxmlformats-package.relationships+xml"},{"$f":"IFERROR(__xludf.DUMMYFUNCTION(\"\"\"COMPUTED_VALUE\"\"\"),\"vnd.openxmlformats-package.relationships+xml\")","v":"vnd.openxmlformats-package.relationships+xml"},{"$f":"IFERROR(__xludf.DUMMYFUNCTION(\"\"\"COMPUTED_VALUE\"\"\"),\"vnd.openxmlformats-package.relationships+xml\")","v":"vnd.openxmlformats-package.relationships+xml"},{"$f":"IFERROR(__xludf.DUMMYFUNCTION(\"\"\"COMPUTED_VALUE\"\"\"),\"application/vnd.openxmlformats-package.relationships+xml\")","v":"application/vnd.openxmlformats-package.relationships+xml"},{"$f":"IFERROR(__xludf.DUMMYFUNCTION(\"\"\"COMPUTED_VALUE\"\"\"),\"en\")","v":"en"}]
[{"$f":"IFERROR(__xludf.DUMMYFUNCTION(\"\"\"COMPUTED_VALUE\"\"\"),\"https://www.iana.org/assignments/media-types/application/vnd.oracle.resource+json\")","v":"https://www.iana.org/assignments/media-types/application/vnd.oracle.resource+json"},{"$f":"IFERROR(__xludf.DUMMYFUNCTION(\"\"\"COMPUTED_VALUE\"\"\"),\"vnd.oracle.resource+json\")","v":"vnd.oracle.resource+json"},{"$f":"IFERROR(__xludf.DUMMYFUNCTION(\"\"\"COMPUTED_VALUE\"\"\"),\"vnd.oracle.resource+json\")","v":"vnd.oracle.resource+json"},{"$f":"IFERROR(__xludf.DUMMYFUNCTION(\"\"\"COMPUTED_VALUE\"\"\"),\"application/vnd.oracle.resource+json\")","v":"application/vnd.oracle.resource+json"},{"$f":"IFERROR(__xludf.DUMMYFUNCTION(\"\"\"COMPUTED_VALUE\"\"\"),\"en\")","v":"en"}]
[{"$f":"IFERROR(__xludf.DUMMYFUNCTION(\"\"\"COMPUTED_VALUE\"\"\"),\"https://www.iana.org/assignments/media-types/application/vnd.orange.indata\")","v":"https://www.iana.org/assignments/media-types/application/vnd.orange.indata"},{"$f":"IFERROR(__xludf.DUMMYFUNCTION(\"\"\"COMPUTED_VALUE\"\"\"),\"vnd.orange.indata\")","v":"vnd.orange.indata"},{"$f":"IFERROR(__xludf.DUMMYFUNCTION(\"\"\"COMPUTED_VALUE\"\"\"),\"vnd.orange.indata\")","v":"vnd.orange.indata"},{"$f":"IFERROR(__xludf.DUMMYFUNCTION(\"\"\"COMPUTED_VALUE\"\"\"),\"application/vnd.orange.indata\")","v":"application/vnd.orange.indata"},{"$f":"IFERROR(__xludf.DUMMYFUNCTION(\"\"\"COMPUTED_VALUE\"\"\"),\"en\")","v":"en"}]
[{"$f":"IFERROR(__xludf.DUMMYFUNCTION(\"\"\"COMPUTED_VALUE\"\"\"),\"https://www.iana.org/assignments/media-types/application/vnd.osa.netdeploy\")","v":"https://www.iana.org/assignments/media-types/application/vnd.osa.netdeploy"},{"$f":"IFERROR(__xludf.DUMMYFUNCTION(\"\"\"COMPUTED_VALUE\"\"\"),\"vnd.osa.netdeploy\")","v":"vnd.osa.netdeploy"},{"$f":"IFERROR(__xludf.DUMMYFUNCTION(\"\"\"COMPUTED_VALUE\"\"\"),\"vnd.osa.netdeploy\")","v":"vnd.osa.netdeploy"},{"$f":"IFERROR(__xludf.DUMMYFUNCTION(\"\"\"COMPUTED_VALUE\"\"\"),\"application/vnd.osa.netdeploy\")","v":"application/vnd.osa.netdeploy"},{"$f":"IFERROR(__xludf.DUMMYFUNCTION(\"\"\"COMPUTED_VALUE\"\"\"),\"en\")","v":"en"}]
[{"$f":"IFERROR(__xludf.DUMMYFUNCTION(\"\"\"COMPUTED_VALUE\"\"\"),\"https://www.iana.org/assignments/media-types/application/vnd.osgeo.mapguide.package\")","v":"https://www.iana.org/assignments/media-types/application/vnd.osgeo.mapguide.package"},{"$f":"IFERROR(__xludf.DUMMYFUNCTION(\"\"\"COMPUTED_VALUE\"\"\"),\"vnd.osgeo.mapguide.package\")","v":"vnd.osgeo.mapguide.package"},{"$f":"IFERROR(__xludf.DUMMYFUNCTION(\"\"\"COMPUTED_VALUE\"\"\"),\"vnd.osgeo.mapguide.package\")","v":"vnd.osgeo.mapguide.package"},{"$f":"IFERROR(__xludf.DUMMYFUNCTION(\"\"\"COMPUTED_VALUE\"\"\"),\"application/vnd.osgeo.mapguide.package\")","v":"application/vnd.osgeo.mapguide.package"},{"$f":"IFERROR(__xludf.DUMMYFUNCTION(\"\"\"COMPUTED_VALUE\"\"\"),\"en\")","v":"en"}]
[{"$f":"IFERROR(__xludf.DUMMYFUNCTION(\"\"\"COMPUTED_VALUE\"\"\"),\"https://www.iana.org/assignments/media-types/application/vnd.osgi.bundle\")","v":"https://www.iana.org/assignments/media-types/application/vnd.osgi.bundle"},{"$f":"IFERROR(__xludf.DUMMYFUNCTION(\"\"\"COMPUTED_VALUE\"\"\"),\"vnd.osgi.bundle\")","v":"vnd.osgi.bundle"},{"$f":"IFERROR(__xludf.DUMMYFUNCTION(\"\"\"COMPUTED_VALUE\"\"\"),\"vnd.osgi.bundle\")","v":"vnd.osgi.bundle"},{"$f":"IFERROR(__xludf.DUMMYFUNCTION(\"\"\"COMPUTED_VALUE\"\"\"),\"application/vnd.osgi.bundle\")","v":"application/vnd.osgi.bundle"},{"$f":"IFERROR(__xludf.DUMMYFUNCTION(\"\"\"COMPUTED_VALUE\"\"\"),\"en\")","v":"en"}]
[{"$f":"IFERROR(__xludf.DUMMYFUNCTION(\"\"\"COMPUTED_VALUE\"\"\"),\"https://www.iana.org/assignments/media-types/application/vnd.osgi.dp\")","v":"https://www.iana.org/assignments/media-types/application/vnd.osgi.dp"},{"$f":"IFERROR(__xludf.DUMMYFUNCTION(\"\"\"COMPUTED_VALUE\"\"\"),\"vnd.osgi.dp\")","v":"vnd.osgi.dp"},{"$f":"IFERROR(__xludf.DUMMYFUNCTION(\"\"\"COMPUTED_VALUE\"\"\"),\"vnd.osgi.dp\")","v":"vnd.osgi.dp"},{"$f":"IFERROR(__xludf.DUMMYFUNCTION(\"\"\"COMPUTED_VALUE\"\"\"),\"application/vnd.osgi.dp\")","v":"application/vnd.osgi.dp"},{"$f":"IFERROR(__xludf.DUMMYFUNCTION(\"\"\"COMPUTED_VALUE\"\"\"),\"en\")","v":"en"}]
[{"$f":"IFERROR(__xludf.DUMMYFUNCTION(\"\"\"COMPUTED_VALUE\"\"\"),\"https://www.iana.org/assignments/media-types/application/vnd.osgi.subsystem\")","v":"https://www.iana.org/assignments/media-types/application/vnd.osgi.subsystem"},{"$f":"IFERROR(__xludf.DUMMYFUNCTION(\"\"\"COMPUTED_VALUE\"\"\"),\"vnd.osgi.subsystem\")","v":"vnd.osgi.subsystem"},{"$f":"IFERROR(__xludf.DUMMYFUNCTION(\"\"\"COMPUTED_VALUE\"\"\"),\"vnd.osgi.subsystem\")","v":"vnd.osgi.subsystem"},{"$f":"IFERROR(__xludf.DUMMYFUNCTION(\"\"\"COMPUTED_VALUE\"\"\"),\"application/vnd.osgi.subsystem\")","v":"application/vnd.osgi.subsystem"},{"$f":"IFERROR(__xludf.DUMMYFUNCTION(\"\"\"COMPUTED_VALUE\"\"\"),\"en\")","v":"en"}]
[{"$f":"IFERROR(__xludf.DUMMYFUNCTION(\"\"\"COMPUTED_VALUE\"\"\"),\"https://www.iana.org/assignments/media-types/application/vnd.otps.ct-kip+xml\")","v":"https://www.iana.org/assignments/media-types/application/vnd.otps.ct-kip+xml"},{"$f":"IFERROR(__xludf.DUMMYFUNCTION(\"\"\"COMPUTED_VALUE\"\"\"),\"vnd.otps.ct-kip+xml\")","v":"vnd.otps.ct-kip+xml"},{"$f":"IFERROR(__xludf.DUMMYFUNCTION(\"\"\"COMPUTED_VALUE\"\"\"),\"vnd.otps.ct-kip+xml\")","v":"vnd.otps.ct-kip+xml"},{"$f":"IFERROR(__xludf.DUMMYFUNCTION(\"\"\"COMPUTED_VALUE\"\"\"),\"application/vnd.otps.ct-kip+xml\")","v":"application/vnd.otps.ct-kip+xml"},{"$f":"IFERROR(__xludf.DUMMYFUNCTION(\"\"\"COMPUTED_VALUE\"\"\"),\"en\")","v":"en"}]
[{"$f":"IFERROR(__xludf.DUMMYFUNCTION(\"\"\"COMPUTED_VALUE\"\"\"),\"https://www.iana.org/assignments/media-types/application/vnd.oxli.countgraph\")","v":"https://www.iana.org/assignments/media-types/application/vnd.oxli.countgraph"},{"$f":"IFERROR(__xludf.DUMMYFUNCTION(\"\"\"COMPUTED_VALUE\"\"\"),\"vnd.oxli.countgraph\")","v":"vnd.oxli.countgraph"},{"$f":"IFERROR(__xludf.DUMMYFUNCTION(\"\"\"COMPUTED_VALUE\"\"\"),\"vnd.oxli.countgraph\")","v":"vnd.oxli.countgraph"},{"$f":"IFERROR(__xludf.DUMMYFUNCTION(\"\"\"COMPUTED_VALUE\"\"\"),\"application/vnd.oxli.countgraph\")","v":"application/vnd.oxli.countgraph"},{"$f":"IFERROR(__xludf.DUMMYFUNCTION(\"\"\"COMPUTED_VALUE\"\"\"),\"en\")","v":"en"}]
[{"$f":"IFERROR(__xludf.DUMMYFUNCTION(\"\"\"COMPUTED_VALUE\"\"\"),\"https://www.iana.org/assignments/media-types/application/vnd.pagerduty+json\")","v":"https://www.iana.org/assignments/media-types/application/vnd.pagerduty+json"},{"$f":"IFERROR(__xludf.DUMMYFUNCTION(\"\"\"COMPUTED_VALUE\"\"\"),\"vnd.pagerduty+json\")","v":"vnd.pagerduty+json"},{"$f":"IFERROR(__xludf.DUMMYFUNCTION(\"\"\"COMPUTED_VALUE\"\"\"),\"vnd.pagerduty+json\")","v":"vnd.pagerduty+json"},{"$f":"IFERROR(__xludf.DUMMYFUNCTION(\"\"\"COMPUTED_VALUE\"\"\"),\"application/vnd.pagerduty+json\")","v":"application/vnd.pagerduty+json"},{"$f":"IFERROR(__xludf.DUMMYFUNCTION(\"\"\"COMPUTED_VALUE\"\"\"),\"en\")","v":"en"}]
[{"$f":"IFERROR(__xludf.DUMMYFUNCTION(\"\"\"COMPUTED_VALUE\"\"\"),\"https://www.iana.org/assignments/media-types/application/vnd.palm\")","v":"https://www.iana.org/assignments/media-types/application/vnd.palm"},{"$f":"IFERROR(__xludf.DUMMYFUNCTION(\"\"\"COMPUTED_VALUE\"\"\"),\"vnd.palm\")","v":"vnd.palm"},{"$f":"IFERROR(__xludf.DUMMYFUNCTION(\"\"\"COMPUTED_VALUE\"\"\"),\"vnd.palm\")","v":"vnd.palm"},{"$f":"IFERROR(__xludf.DUMMYFUNCTION(\"\"\"COMPUTED_VALUE\"\"\"),\"application/vnd.palm\")","v":"application/vnd.palm"},{"$f":"IFERROR(__xludf.DUMMYFUNCTION(\"\"\"COMPUTED_VALUE\"\"\"),\"en\")","v":"en"}]
[{"$f":"IFERROR(__xludf.DUMMYFUNCTION(\"\"\"COMPUTED_VALUE\"\"\"),\"https://www.iana.org/assignments/media-types/application/vnd.panoply\")","v":"https://www.iana.org/assignments/media-types/application/vnd.panoply"},{"$f":"IFERROR(__xludf.DUMMYFUNCTION(\"\"\"COMPUTED_VALUE\"\"\"),\"vnd.panoply\")","v":"vnd.panoply"},{"$f":"IFERROR(__xludf.DUMMYFUNCTION(\"\"\"COMPUTED_VALUE\"\"\"),\"vnd.panoply\")","v":"vnd.panoply"},{"$f":"IFERROR(__xludf.DUMMYFUNCTION(\"\"\"COMPUTED_VALUE\"\"\"),\"application/vnd.panoply\")","v":"application/vnd.panoply"},{"$f":"IFERROR(__xludf.DUMMYFUNCTION(\"\"\"COMPUTED_VALUE\"\"\"),\"en\")","v":"en"}]
[{"$f":"IFERROR(__xludf.DUMMYFUNCTION(\"\"\"COMPUTED_VALUE\"\"\"),\"https://www.iana.org/assignments/media-types/application/vnd.paos.xml\")","v":"https://www.iana.org/assignments/media-types/application/vnd.paos.xml"},{"$f":"IFERROR(__xludf.DUMMYFUNCTION(\"\"\"COMPUTED_VALUE\"\"\"),\"vnd.paos.xml\")","v":"vnd.paos.xml"},{"$f":"IFERROR(__xludf.DUMMYFUNCTION(\"\"\"COMPUTED_VALUE\"\"\"),\"vnd.paos.xml\")","v":"vnd.paos.xml"},{"$f":"IFERROR(__xludf.DUMMYFUNCTION(\"\"\"COMPUTED_VALUE\"\"\"),\"application/vnd.paos.xml\")","v":"application/vnd.paos.xml"},{"$f":"IFERROR(__xludf.DUMMYFUNCTION(\"\"\"COMPUTED_VALUE\"\"\"),\"en\")","v":"en"}]
[{"$f":"IFERROR(__xludf.DUMMYFUNCTION(\"\"\"COMPUTED_VALUE\"\"\"),\"https://www.iana.org/assignments/media-types/application/vnd.patentdive\")","v":"https://www.iana.org/assignments/media-types/application/vnd.patentdive"},{"$f":"IFERROR(__xludf.DUMMYFUNCTION(\"\"\"COMPUTED_VALUE\"\"\"),\"vnd.patentdive\")","v":"vnd.patentdive"},{"$f":"IFERROR(__xludf.DUMMYFUNCTION(\"\"\"COMPUTED_VALUE\"\"\"),\"vnd.patentdive\")","v":"vnd.patentdive"},{"$f":"IFERROR(__xludf.DUMMYFUNCTION(\"\"\"COMPUTED_VALUE\"\"\"),\"application/vnd.patentdive\")","v":"application/vnd.patentdive"},{"$f":"IFERROR(__xludf.DUMMYFUNCTION(\"\"\"COMPUTED_VALUE\"\"\"),\"en\")","v":"en"}]
[{"$f":"IFERROR(__xludf.DUMMYFUNCTION(\"\"\"COMPUTED_VALUE\"\"\"),\"https://www.iana.org/assignments/media-types/application/vnd.patientecommsdoc\")","v":"https://www.iana.org/assignments/media-types/application/vnd.patientecommsdoc"},{"$f":"IFERROR(__xludf.DUMMYFUNCTION(\"\"\"COMPUTED_VALUE\"\"\"),\"vnd.patientecommsdoc\")","v":"vnd.patientecommsdoc"},{"$f":"IFERROR(__xludf.DUMMYFUNCTION(\"\"\"COMPUTED_VALUE\"\"\"),\"vnd.patientecommsdoc\")","v":"vnd.patientecommsdoc"},{"$f":"IFERROR(__xludf.DUMMYFUNCTION(\"\"\"COMPUTED_VALUE\"\"\"),\"application/vnd.patientecommsdoc\")","v":"application/vnd.patientecommsdoc"},{"$f":"IFERROR(__xludf.DUMMYFUNCTION(\"\"\"COMPUTED_VALUE\"\"\"),\"en\")","v":"en"}]
[{"$f":"IFERROR(__xludf.DUMMYFUNCTION(\"\"\"COMPUTED_VALUE\"\"\"),\"https://www.iana.org/assignments/media-types/application/vnd.pawaafile\")","v":"https://www.iana.org/assignments/media-types/application/vnd.pawaafile"},{"$f":"IFERROR(__xludf.DUMMYFUNCTION(\"\"\"COMPUTED_VALUE\"\"\"),\"vnd.pawaafile\")","v":"vnd.pawaafile"},{"$f":"IFERROR(__xludf.DUMMYFUNCTION(\"\"\"COMPUTED_VALUE\"\"\"),\"vnd.pawaafile\")","v":"vnd.pawaafile"},{"$f":"IFERROR(__xludf.DUMMYFUNCTION(\"\"\"COMPUTED_VALUE\"\"\"),\"application/vnd.pawaafile\")","v":"application/vnd.pawaafile"},{"$f":"IFERROR(__xludf.DUMMYFUNCTION(\"\"\"COMPUTED_VALUE\"\"\"),\"en\")","v":"en"}]
[{"$f":"IFERROR(__xludf.DUMMYFUNCTION(\"\"\"COMPUTED_VALUE\"\"\"),\"https://www.iana.org/assignments/media-types/application/vnd.pcos\")","v":"https://www.iana.org/assignments/media-types/application/vnd.pcos"},{"$f":"IFERROR(__xludf.DUMMYFUNCTION(\"\"\"COMPUTED_VALUE\"\"\"),\"vnd.pcos\")","v":"vnd.pcos"},{"$f":"IFERROR(__xludf.DUMMYFUNCTION(\"\"\"COMPUTED_VALUE\"\"\"),\"vnd.pcos\")","v":"vnd.pcos"},{"$f":"IFERROR(__xludf.DUMMYFUNCTION(\"\"\"COMPUTED_VALUE\"\"\"),\"application/vnd.pcos\")","v":"application/vnd.pcos"},{"$f":"IFERROR(__xludf.DUMMYFUNCTION(\"\"\"COMPUTED_VALUE\"\"\"),\"en\")","v":"en"}]
[{"$f":"IFERROR(__xludf.DUMMYFUNCTION(\"\"\"COMPUTED_VALUE\"\"\"),\"https://www.iana.org/assignments/media-types/application/vnd.pg.format\")","v":"https://www.iana.org/assignments/media-types/application/vnd.pg.format"},{"$f":"IFERROR(__xludf.DUMMYFUNCTION(\"\"\"COMPUTED_VALUE\"\"\"),\"vnd.pg.format\")","v":"vnd.pg.format"},{"$f":"IFERROR(__xludf.DUMMYFUNCTION(\"\"\"COMPUTED_VALUE\"\"\"),\"vnd.pg.format\")","v":"vnd.pg.format"},{"$f":"IFERROR(__xludf.DUMMYFUNCTION(\"\"\"COMPUTED_VALUE\"\"\"),\"application/vnd.pg.format\")","v":"application/vnd.pg.format"},{"$f":"IFERROR(__xludf.DUMMYFUNCTION(\"\"\"COMPUTED_VALUE\"\"\"),\"en\")","v":"en"}]
[{"$f":"IFERROR(__xludf.DUMMYFUNCTION(\"\"\"COMPUTED_VALUE\"\"\"),\"https://www.iana.org/assignments/media-types/application/vnd.pg.osasli\")","v":"https://www.iana.org/assignments/media-types/application/vnd.pg.osasli"},{"$f":"IFERROR(__xludf.DUMMYFUNCTION(\"\"\"COMPUTED_VALUE\"\"\"),\"vnd.pg.osasli\")","v":"vnd.pg.osasli"},{"$f":"IFERROR(__xludf.DUMMYFUNCTION(\"\"\"COMPUTED_VALUE\"\"\"),\"vnd.pg.osasli\")","v":"vnd.pg.osasli"},{"$f":"IFERROR(__xludf.DUMMYFUNCTION(\"\"\"COMPUTED_VALUE\"\"\"),\"application/vnd.pg.osasli\")","v":"application/vnd.pg.osasli"},{"$f":"IFERROR(__xludf.DUMMYFUNCTION(\"\"\"COMPUTED_VALUE\"\"\"),\"en\")","v":"en"}]
[{"$f":"IFERROR(__xludf.DUMMYFUNCTION(\"\"\"COMPUTED_VALUE\"\"\"),\"https://www.iana.org/assignments/media-types/application/vnd.piaccess.application-licence\")","v":"https://www.iana.org/assignments/media-types/application/vnd.piaccess.application-licence"},{"$f":"IFERROR(__xludf.DUMMYFUNCTION(\"\"\"COMPUTED_VALUE\"\"\"),\"vnd.piaccess.application-licence\")","v":"vnd.piaccess.application-licence"},{"$f":"IFERROR(__xludf.DUMMYFUNCTION(\"\"\"COMPUTED_VALUE\"\"\"),\"vnd.piaccess.application-licence\")","v":"vnd.piaccess.application-licence"},{"$f":"IFERROR(__xludf.DUMMYFUNCTION(\"\"\"COMPUTED_VALUE\"\"\"),\"application/vnd.piaccess.application-licence\")","v":"application/vnd.piaccess.application-licence"},{"$f":"IFERROR(__xludf.DUMMYFUNCTION(\"\"\"COMPUTED_VALUE\"\"\"),\"en\")","v":"en"}]
[{"$f":"IFERROR(__xludf.DUMMYFUNCTION(\"\"\"COMPUTED_VALUE\"\"\"),\"https://www.iana.org/assignments/media-types/application/vnd.picsel\")","v":"https://www.iana.org/assignments/media-types/application/vnd.picsel"},{"$f":"IFERROR(__xludf.DUMMYFUNCTION(\"\"\"COMPUTED_VALUE\"\"\"),\"vnd.picsel\")","v":"vnd.picsel"},{"$f":"IFERROR(__xludf.DUMMYFUNCTION(\"\"\"COMPUTED_VALUE\"\"\"),\"vnd.picsel\")","v":"vnd.picsel"},{"$f":"IFERROR(__xludf.DUMMYFUNCTION(\"\"\"COMPUTED_VALUE\"\"\"),\"application/vnd.picsel\")","v":"application/vnd.picsel"},{"$f":"IFERROR(__xludf.DUMMYFUNCTION(\"\"\"COMPUTED_VALUE\"\"\"),\"en\")","v":"en"}]
[{"$f":"IFERROR(__xludf.DUMMYFUNCTION(\"\"\"COMPUTED_VALUE\"\"\"),\"https://www.iana.org/assignments/media-types/application/vnd.pmi.widget\")","v":"https://www.iana.org/assignments/media-types/application/vnd.pmi.widget"},{"$f":"IFERROR(__xludf.DUMMYFUNCTION(\"\"\"COMPUTED_VALUE\"\"\"),\"vnd.pmi.widget\")","v":"vnd.pmi.widget"},{"$f":"IFERROR(__xludf.DUMMYFUNCTION(\"\"\"COMPUTED_VALUE\"\"\"),\"vnd.pmi.widget\")","v":"vnd.pmi.widget"},{"$f":"IFERROR(__xludf.DUMMYFUNCTION(\"\"\"COMPUTED_VALUE\"\"\"),\"application/vnd.pmi.widget\")","v":"application/vnd.pmi.widget"},{"$f":"IFERROR(__xludf.DUMMYFUNCTION(\"\"\"COMPUTED_VALUE\"\"\"),\"en\")","v":"en"}]
[{"$f":"IFERROR(__xludf.DUMMYFUNCTION(\"\"\"COMPUTED_VALUE\"\"\"),\"https://www.iana.org/assignments/media-types/application/vnd.poc.group-advertisement+xml\")","v":"https://www.iana.org/assignments/media-types/application/vnd.poc.group-advertisement+xml"},{"$f":"IFERROR(__xludf.DUMMYFUNCTION(\"\"\"COMPUTED_VALUE\"\"\"),\"vnd.poc.group-advertisement+xml\")","v":"vnd.poc.group-advertisement+xml"},{"$f":"IFERROR(__xludf.DUMMYFUNCTION(\"\"\"COMPUTED_VALUE\"\"\"),\"vnd.poc.group-advertisement+xml\")","v":"vnd.poc.group-advertisement+xml"},{"$f":"IFERROR(__xludf.DUMMYFUNCTION(\"\"\"COMPUTED_VALUE\"\"\"),\"application/vnd.poc.group-advertisement+xml\")","v":"application/vnd.poc.group-advertisement+xml"},{"$f":"IFERROR(__xludf.DUMMYFUNCTION(\"\"\"COMPUTED_VALUE\"\"\"),\"en\")","v":"en"}]
[{"$f":"IFERROR(__xludf.DUMMYFUNCTION(\"\"\"COMPUTED_VALUE\"\"\"),\"https://www.iana.org/assignments/media-types/application/vnd.pocketlearn\")","v":"https://www.iana.org/assignments/media-types/application/vnd.pocketlearn"},{"$f":"IFERROR(__xludf.DUMMYFUNCTION(\"\"\"COMPUTED_VALUE\"\"\"),\"vnd.pocketlearn\")","v":"vnd.pocketlearn"},{"$f":"IFERROR(__xludf.DUMMYFUNCTION(\"\"\"COMPUTED_VALUE\"\"\"),\"vnd.pocketlearn\")","v":"vnd.pocketlearn"},{"$f":"IFERROR(__xludf.DUMMYFUNCTION(\"\"\"COMPUTED_VALUE\"\"\"),\"application/vnd.pocketlearn\")","v":"application/vnd.pocketlearn"},{"$f":"IFERROR(__xludf.DUMMYFUNCTION(\"\"\"COMPUTED_VALUE\"\"\"),\"en\")","v":"en"}]
[{"$f":"IFERROR(__xludf.DUMMYFUNCTION(\"\"\"COMPUTED_VALUE\"\"\"),\"https://www.iana.org/assignments/media-types/application/vnd.powerbuilder6\")","v":"https://www.iana.org/assignments/media-types/application/vnd.powerbuilder6"},{"$f":"IFERROR(__xludf.DUMMYFUNCTION(\"\"\"COMPUTED_VALUE\"\"\"),\"vnd.powerbuilder6\")","v":"vnd.powerbuilder6"},{"$f":"IFERROR(__xludf.DUMMYFUNCTION(\"\"\"COMPUTED_VALUE\"\"\"),\"vnd.powerbuilder6\")","v":"vnd.powerbuilder6"},{"$f":"IFERROR(__xludf.DUMMYFUNCTION(\"\"\"COMPUTED_VALUE\"\"\"),\"application/vnd.powerbuilder6\")","v":"application/vnd.powerbuilder6"},{"$f":"IFERROR(__xludf.DUMMYFUNCTION(\"\"\"COMPUTED_VALUE\"\"\"),\"en\")","v":"en"}]
[{"$f":"IFERROR(__xludf.DUMMYFUNCTION(\"\"\"COMPUTED_VALUE\"\"\"),\"https://www.iana.org/assignments/media-types/application/vnd.powerbuilder6-s\")","v":"https://www.iana.org/assignments/media-types/application/vnd.powerbuilder6-s"},{"$f":"IFERROR(__xludf.DUMMYFUNCTION(\"\"\"COMPUTED_VALUE\"\"\"),\"vnd.powerbuilder6-s\")","v":"vnd.powerbuilder6-s"},{"$f":"IFERROR(__xludf.DUMMYFUNCTION(\"\"\"COMPUTED_VALUE\"\"\"),\"vnd.powerbuilder6-s\")","v":"vnd.powerbuilder6-s"},{"$f":"IFERROR(__xludf.DUMMYFUNCTION(\"\"\"COMPUTED_VALUE\"\"\"),\"application/vnd.powerbuilder6-s\")","v":"application/vnd.powerbuilder6-s"},{"$f":"IFERROR(__xludf.DUMMYFUNCTION(\"\"\"COMPUTED_VALUE\"\"\"),\"en\")","v":"en"}]
[{"$f":"IFERROR(__xludf.DUMMYFUNCTION(\"\"\"COMPUTED_VALUE\"\"\"),\"https://www.iana.org/assignments/media-types/application/vnd.powerbuilder7\")","v":"https://www.iana.org/assignments/media-types/application/vnd.powerbuilder7"},{"$f":"IFERROR(__xludf.DUMMYFUNCTION(\"\"\"COMPUTED_VALUE\"\"\"),\"vnd.powerbuilder7\")","v":"vnd.powerbuilder7"},{"$f":"IFERROR(__xludf.DUMMYFUNCTION(\"\"\"COMPUTED_VALUE\"\"\"),\"vnd.powerbuilder7\")","v":"vnd.powerbuilder7"},{"$f":"IFERROR(__xludf.DUMMYFUNCTION(\"\"\"COMPUTED_VALUE\"\"\"),\"application/vnd.powerbuilder7\")","v":"application/vnd.powerbuilder7"},{"$f":"IFERROR(__xludf.DUMMYFUNCTION(\"\"\"COMPUTED_VALUE\"\"\"),\"en\")","v":"en"}]
[{"$f":"IFERROR(__xludf.DUMMYFUNCTION(\"\"\"COMPUTED_VALUE\"\"\"),\"https://www.iana.org/assignments/media-types/application/vnd.powerbuilder75\")","v":"https://www.iana.org/assignments/media-types/application/vnd.powerbuilder75"},{"$f":"IFERROR(__xludf.DUMMYFUNCTION(\"\"\"COMPUTED_VALUE\"\"\"),\"vnd.powerbuilder75\")","v":"vnd.powerbuilder75"},{"$f":"IFERROR(__xludf.DUMMYFUNCTION(\"\"\"COMPUTED_VALUE\"\"\"),\"vnd.powerbuilder75\")","v":"vnd.powerbuilder75"},{"$f":"IFERROR(__xludf.DUMMYFUNCTION(\"\"\"COMPUTED_VALUE\"\"\"),\"application/vnd.powerbuilder75\")","v":"application/vnd.powerbuilder75"},{"$f":"IFERROR(__xludf.DUMMYFUNCTION(\"\"\"COMPUTED_VALUE\"\"\"),\"en\")","v":"en"}]
[{"$f":"IFERROR(__xludf.DUMMYFUNCTION(\"\"\"COMPUTED_VALUE\"\"\"),\"https://www.iana.org/assignments/media-types/application/vnd.powerbuilder75-s\")","v":"https://www.iana.org/assignments/media-types/application/vnd.powerbuilder75-s"},{"$f":"IFERROR(__xludf.DUMMYFUNCTION(\"\"\"COMPUTED_VALUE\"\"\"),\"vnd.powerbuilder75-s\")","v":"vnd.powerbuilder75-s"},{"$f":"IFERROR(__xludf.DUMMYFUNCTION(\"\"\"COMPUTED_VALUE\"\"\"),\"vnd.powerbuilder75-s\")","v":"vnd.powerbuilder75-s"},{"$f":"IFERROR(__xludf.DUMMYFUNCTION(\"\"\"COMPUTED_VALUE\"\"\"),\"application/vnd.powerbuilder75-s\")","v":"application/vnd.powerbuilder75-s"},{"$f":"IFERROR(__xludf.DUMMYFUNCTION(\"\"\"COMPUTED_VALUE\"\"\"),\"en\")","v":"en"}]
[{"$f":"IFERROR(__xludf.DUMMYFUNCTION(\"\"\"COMPUTED_VALUE\"\"\"),\"https://www.iana.org/assignments/media-types/application/vnd.powerbuilder7-s\")","v":"https://www.iana.org/assignments/media-types/application/vnd.powerbuilder7-s"},{"$f":"IFERROR(__xludf.DUMMYFUNCTION(\"\"\"COMPUTED_VALUE\"\"\"),\"vnd.powerbuilder7-s\")","v":"vnd.powerbuilder7-s"},{"$f":"IFERROR(__xludf.DUMMYFUNCTION(\"\"\"COMPUTED_VALUE\"\"\"),\"vnd.powerbuilder7-s\")","v":"vnd.powerbuilder7-s"},{"$f":"IFERROR(__xludf.DUMMYFUNCTION(\"\"\"COMPUTED_VALUE\"\"\"),\"application/vnd.powerbuilder7-s\")","v":"application/vnd.powerbuilder7-s"},{"$f":"IFERROR(__xludf.DUMMYFUNCTION(\"\"\"COMPUTED_VALUE\"\"\"),\"en\")","v":"en"}]
[{"$f":"IFERROR(__xludf.DUMMYFUNCTION(\"\"\"COMPUTED_VALUE\"\"\"),\"https://www.iana.org/assignments/media-types/application/vnd.preminet\")","v":"https://www.iana.org/assignments/media-types/application/vnd.preminet"},{"$f":"IFERROR(__xludf.DUMMYFUNCTION(\"\"\"COMPUTED_VALUE\"\"\"),\"vnd.preminet\")","v":"vnd.preminet"},{"$f":"IFERROR(__xludf.DUMMYFUNCTION(\"\"\"COMPUTED_VALUE\"\"\"),\"vnd.preminet\")","v":"vnd.preminet"},{"$f":"IFERROR(__xludf.DUMMYFUNCTION(\"\"\"COMPUTED_VALUE\"\"\"),\"application/vnd.preminet\")","v":"application/vnd.preminet"},{"$f":"IFERROR(__xludf.DUMMYFUNCTION(\"\"\"COMPUTED_VALUE\"\"\"),\"en\")","v":"en"}]
[{"$f":"IFERROR(__xludf.DUMMYFUNCTION(\"\"\"COMPUTED_VALUE\"\"\"),\"https://www.iana.org/assignments/media-types/application/vnd.previewsystems.box\")","v":"https://www.iana.org/assignments/media-types/application/vnd.previewsystems.box"},{"$f":"IFERROR(__xludf.DUMMYFUNCTION(\"\"\"COMPUTED_VALUE\"\"\"),\"vnd.previewsystems.box\")","v":"vnd.previewsystems.box"},{"$f":"IFERROR(__xludf.DUMMYFUNCTION(\"\"\"COMPUTED_VALUE\"\"\"),\"vnd.previewsystems.box\")","v":"vnd.previewsystems.box"},{"$f":"IFERROR(__xludf.DUMMYFUNCTION(\"\"\"COMPUTED_VALUE\"\"\"),\"application/vnd.previewsystems.box\")","v":"application/vnd.previewsystems.box"},{"$f":"IFERROR(__xludf.DUMMYFUNCTION(\"\"\"COMPUTED_VALUE\"\"\"),\"en\")","v":"en"}]
[{"$f":"IFERROR(__xludf.DUMMYFUNCTION(\"\"\"COMPUTED_VALUE\"\"\"),\"https://www.iana.org/assignments/media-types/application/vnd.proteus.magazine\")","v":"https://www.iana.org/assignments/media-types/application/vnd.proteus.magazine"},{"$f":"IFERROR(__xludf.DUMMYFUNCTION(\"\"\"COMPUTED_VALUE\"\"\"),\"vnd.proteus.magazine\")","v":"vnd.proteus.magazine"},{"$f":"IFERROR(__xludf.DUMMYFUNCTION(\"\"\"COMPUTED_VALUE\"\"\"),\"vnd.proteus.magazine\")","v":"vnd.proteus.magazine"},{"$f":"IFERROR(__xludf.DUMMYFUNCTION(\"\"\"COMPUTED_VALUE\"\"\"),\"application/vnd.proteus.magazine\")","v":"application/vnd.proteus.magazine"},{"$f":"IFERROR(__xludf.DUMMYFUNCTION(\"\"\"COMPUTED_VALUE\"\"\"),\"en\")","v":"en"}]
[{"$f":"IFERROR(__xludf.DUMMYFUNCTION(\"\"\"COMPUTED_VALUE\"\"\"),\"https://www.iana.org/assignments/media-types/application/vnd.psfs\")","v":"https://www.iana.org/assignments/media-types/application/vnd.psfs"},{"$f":"IFERROR(__xludf.DUMMYFUNCTION(\"\"\"COMPUTED_VALUE\"\"\"),\"vnd.psfs\")","v":"vnd.psfs"},{"$f":"IFERROR(__xludf.DUMMYFUNCTION(\"\"\"COMPUTED_VALUE\"\"\"),\"vnd.psfs\")","v":"vnd.psfs"},{"$f":"IFERROR(__xludf.DUMMYFUNCTION(\"\"\"COMPUTED_VALUE\"\"\"),\"application/vnd.psfs\")","v":"application/vnd.psfs"},{"$f":"IFERROR(__xludf.DUMMYFUNCTION(\"\"\"COMPUTED_VALUE\"\"\"),\"en\")","v":"en"}]
[{"$f":"IFERROR(__xludf.DUMMYFUNCTION(\"\"\"COMPUTED_VALUE\"\"\"),\"https://www.iana.org/assignments/media-types/application/vnd.publishare-delta-tree\")","v":"https://www.iana.org/assignments/media-types/application/vnd.publishare-delta-tree"},{"$f":"IFERROR(__xludf.DUMMYFUNCTION(\"\"\"COMPUTED_VALUE\"\"\"),\"vnd.publishare-delta-tree\")","v":"vnd.publishare-delta-tree"},{"$f":"IFERROR(__xludf.DUMMYFUNCTION(\"\"\"COMPUTED_VALUE\"\"\"),\"vnd.publishare-delta-tree\")","v":"vnd.publishare-delta-tree"},{"$f":"IFERROR(__xludf.DUMMYFUNCTION(\"\"\"COMPUTED_VALUE\"\"\"),\"application/vnd.publishare-delta-tree\")","v":"application/vnd.publishare-delta-tree"},{"$f":"IFERROR(__xludf.DUMMYFUNCTION(\"\"\"COMPUTED_VALUE\"\"\"),\"en\")","v":"en"}]
[{"$f":"IFERROR(__xludf.DUMMYFUNCTION(\"\"\"COMPUTED_VALUE\"\"\"),\"https://www.iana.org/assignments/media-types/application/vnd.pvi.ptid1\")","v":"https://www.iana.org/assignments/media-types/application/vnd.pvi.ptid1"},{"$f":"IFERROR(__xludf.DUMMYFUNCTION(\"\"\"COMPUTED_VALUE\"\"\"),\"vnd.pvi.ptid1\")","v":"vnd.pvi.ptid1"},{"$f":"IFERROR(__xludf.DUMMYFUNCTION(\"\"\"COMPUTED_VALUE\"\"\"),\"vnd.pvi.ptid1\")","v":"vnd.pvi.ptid1"},{"$f":"IFERROR(__xludf.DUMMYFUNCTION(\"\"\"COMPUTED_VALUE\"\"\"),\"application/vnd.pvi.ptid1\")","v":"application/vnd.pvi.ptid1"},{"$f":"IFERROR(__xludf.DUMMYFUNCTION(\"\"\"COMPUTED_VALUE\"\"\"),\"en\")","v":"en"}]
[{"$f":"IFERROR(__xludf.DUMMYFUNCTION(\"\"\"COMPUTED_VALUE\"\"\"),\"https://www.iana.org/assignments/media-types/application/vnd.pwg-multiplexed\")","v":"https://www.iana.org/assignments/media-types/application/vnd.pwg-multiplexed"},{"$f":"IFERROR(__xludf.DUMMYFUNCTION(\"\"\"COMPUTED_VALUE\"\"\"),\"vnd.pwg-multiplexed\")","v":"vnd.pwg-multiplexed"},{"$f":"IFERROR(__xludf.DUMMYFUNCTION(\"\"\"COMPUTED_VALUE\"\"\"),\"vnd.pwg-multiplexed\")","v":"vnd.pwg-multiplexed"},{"$f":"IFERROR(__xludf.DUMMYFUNCTION(\"\"\"COMPUTED_VALUE\"\"\"),\"application/vnd.pwg-multiplexed\")","v":"application/vnd.pwg-multiplexed"},{"$f":"IFERROR(__xludf.DUMMYFUNCTION(\"\"\"COMPUTED_VALUE\"\"\"),\"en\")","v":"en"}]
[{"$f":"IFERROR(__xludf.DUMMYFUNCTION(\"\"\"COMPUTED_VALUE\"\"\"),\"https://www.iana.org/assignments/media-types/application/vnd.pwg-xhtml-print+xml\")","v":"https://www.iana.org/assignments/media-types/application/vnd.pwg-xhtml-print+xml"},{"$f":"IFERROR(__xludf.DUMMYFUNCTION(\"\"\"COMPUTED_VALUE\"\"\"),\"vnd.pwg-xhtml-print+xml\")","v":"vnd.pwg-xhtml-print+xml"},{"$f":"IFERROR(__xludf.DUMMYFUNCTION(\"\"\"COMPUTED_VALUE\"\"\"),\"vnd.pwg-xhtml-print+xml\")","v":"vnd.pwg-xhtml-print+xml"},{"$f":"IFERROR(__xludf.DUMMYFUNCTION(\"\"\"COMPUTED_VALUE\"\"\"),\"application/vnd.pwg-xhtml-print+xml\")","v":"application/vnd.pwg-xhtml-print+xml"},{"$f":"IFERROR(__xludf.DUMMYFUNCTION(\"\"\"COMPUTED_VALUE\"\"\"),\"en\")","v":"en"}]
[{"$f":"IFERROR(__xludf.DUMMYFUNCTION(\"\"\"COMPUTED_VALUE\"\"\"),\"https://www.iana.org/assignments/media-types/application/vnd.qualcomm.brew-app-res\")","v":"https://www.iana.org/assignments/media-types/application/vnd.qualcomm.brew-app-res"},{"$f":"IFERROR(__xludf.DUMMYFUNCTION(\"\"\"COMPUTED_VALUE\"\"\"),\"vnd.qualcomm.brew-app-res\")","v":"vnd.qualcomm.brew-app-res"},{"$f":"IFERROR(__xludf.DUMMYFUNCTION(\"\"\"COMPUTED_VALUE\"\"\"),\"vnd.qualcomm.brew-app-res\")","v":"vnd.qualcomm.brew-app-res"},{"$f":"IFERROR(__xludf.DUMMYFUNCTION(\"\"\"COMPUTED_VALUE\"\"\"),\"application/vnd.qualcomm.brew-app-res\")","v":"application/vnd.qualcomm.brew-app-res"},{"$f":"IFERROR(__xludf.DUMMYFUNCTION(\"\"\"COMPUTED_VALUE\"\"\"),\"en\")","v":"en"}]
[{"$f":"IFERROR(__xludf.DUMMYFUNCTION(\"\"\"COMPUTED_VALUE\"\"\"),\"https://www.iana.org/assignments/media-types/application/vnd.quarantainenet\")","v":"https://www.iana.org/assignments/media-types/application/vnd.quarantainenet"},{"$f":"IFERROR(__xludf.DUMMYFUNCTION(\"\"\"COMPUTED_VALUE\"\"\"),\"vnd.quarantainenet\")","v":"vnd.quarantainenet"},{"$f":"IFERROR(__xludf.DUMMYFUNCTION(\"\"\"COMPUTED_VALUE\"\"\"),\"vnd.quarantainenet\")","v":"vnd.quarantainenet"},{"$f":"IFERROR(__xludf.DUMMYFUNCTION(\"\"\"COMPUTED_VALUE\"\"\"),\"application/vnd.quarantainenet\")","v":"application/vnd.quarantainenet"},{"$f":"IFERROR(__xludf.DUMMYFUNCTION(\"\"\"COMPUTED_VALUE\"\"\"),\"en\")","v":"en"}]
[{"$f":"IFERROR(__xludf.DUMMYFUNCTION(\"\"\"COMPUTED_VALUE\"\"\"),\"https://www.iana.org/assignments/media-types/application/vnd.Quark.QuarkXPress\")","v":"https://www.iana.org/assignments/media-types/application/vnd.Quark.QuarkXPress"},{"$f":"IFERROR(__xludf.DUMMYFUNCTION(\"\"\"COMPUTED_VALUE\"\"\"),\"vnd.Quark.QuarkXPress\")","v":"vnd.Quark.QuarkXPress"},{"$f":"IFERROR(__xludf.DUMMYFUNCTION(\"\"\"COMPUTED_VALUE\"\"\"),\"vnd.Quark.QuarkXPress\")","v":"vnd.Quark.QuarkXPress"},{"$f":"IFERROR(__xludf.DUMMYFUNCTION(\"\"\"COMPUTED_VALUE\"\"\"),\"application/vnd.Quark.QuarkXPress\")","v":"application/vnd.Quark.QuarkXPress"},{"$f":"IFERROR(__xludf.DUMMYFUNCTION(\"\"\"COMPUTED_VALUE\"\"\"),\"en\")","v":"en"}]
[{"$f":"IFERROR(__xludf.DUMMYFUNCTION(\"\"\"COMPUTED_VALUE\"\"\"),\"https://www.iana.org/assignments/media-types/application/vnd.quobject-quoxdocument\")","v":"https://www.iana.org/assignments/media-types/application/vnd.quobject-quoxdocument"},{"$f":"IFERROR(__xludf.DUMMYFUNCTION(\"\"\"COMPUTED_VALUE\"\"\"),\"vnd.quobject-quoxdocument\")","v":"vnd.quobject-quoxdocument"},{"$f":"IFERROR(__xludf.DUMMYFUNCTION(\"\"\"COMPUTED_VALUE\"\"\"),\"vnd.quobject-quoxdocument\")","v":"vnd.quobject-quoxdocument"},{"$f":"IFERROR(__xludf.DUMMYFUNCTION(\"\"\"COMPUTED_VALUE\"\"\"),\"application/vnd.quobject-quoxdocument\")","v":"application/vnd.quobject-quoxdocument"},{"$f":"IFERROR(__xludf.DUMMYFUNCTION(\"\"\"COMPUTED_VALUE\"\"\"),\"en\")","v":"en"}]
[{"$f":"IFERROR(__xludf.DUMMYFUNCTION(\"\"\"COMPUTED_VALUE\"\"\"),\"https://www.iana.org/assignments/media-types/application/vnd.radisys.moml+xml\")","v":"https://www.iana.org/assignments/media-types/application/vnd.radisys.moml+xml"},{"$f":"IFERROR(__xludf.DUMMYFUNCTION(\"\"\"COMPUTED_VALUE\"\"\"),\"vnd.radisys.moml+xml\")","v":"vnd.radisys.moml+xml"},{"$f":"IFERROR(__xludf.DUMMYFUNCTION(\"\"\"COMPUTED_VALUE\"\"\"),\"vnd.radisys.moml+xml\")","v":"vnd.radisys.moml+xml"},{"$f":"IFERROR(__xludf.DUMMYFUNCTION(\"\"\"COMPUTED_VALUE\"\"\"),\"application/vnd.radisys.moml+xml\")","v":"application/vnd.radisys.moml+xml"},{"$f":"IFERROR(__xludf.DUMMYFUNCTION(\"\"\"COMPUTED_VALUE\"\"\"),\"en\")","v":"en"}]
[{"$f":"IFERROR(__xludf.DUMMYFUNCTION(\"\"\"COMPUTED_VALUE\"\"\"),\"https://www.iana.org/assignments/media-types/application/vnd.radisys.msml-audit-conf+xml\")","v":"https://www.iana.org/assignments/media-types/application/vnd.radisys.msml-audit-conf+xml"},{"$f":"IFERROR(__xludf.DUMMYFUNCTION(\"\"\"COMPUTED_VALUE\"\"\"),\"vnd.radisys.msml-audit-conf+xml\")","v":"vnd.radisys.msml-audit-conf+xml"},{"$f":"IFERROR(__xludf.DUMMYFUNCTION(\"\"\"COMPUTED_VALUE\"\"\"),\"vnd.radisys.msml-audit-conf+xml\")","v":"vnd.radisys.msml-audit-conf+xml"},{"$f":"IFERROR(__xludf.DUMMYFUNCTION(\"\"\"COMPUTED_VALUE\"\"\"),\"application/vnd.radisys.msml-audit-conf+xml\")","v":"application/vnd.radisys.msml-audit-conf+xml"},{"$f":"IFERROR(__xludf.DUMMYFUNCTION(\"\"\"COMPUTED_VALUE\"\"\"),\"en\")","v":"en"}]
[{"$f":"IFERROR(__xludf.DUMMYFUNCTION(\"\"\"COMPUTED_VALUE\"\"\"),\"https://www.iana.org/assignments/media-types/application/vnd.radisys.msml-audit-conn+xml\")","v":"https://www.iana.org/assignments/media-types/application/vnd.radisys.msml-audit-conn+xml"},{"$f":"IFERROR(__xludf.DUMMYFUNCTION(\"\"\"COMPUTED_VALUE\"\"\"),\"vnd.radisys.msml-audit-conn+xml\")","v":"vnd.radisys.msml-audit-conn+xml"},{"$f":"IFERROR(__xludf.DUMMYFUNCTION(\"\"\"COMPUTED_VALUE\"\"\"),\"vnd.radisys.msml-audit-conn+xml\")","v":"vnd.radisys.msml-audit-conn+xml"},{"$f":"IFERROR(__xludf.DUMMYFUNCTION(\"\"\"COMPUTED_VALUE\"\"\"),\"application/vnd.radisys.msml-audit-conn+xml\")","v":"application/vnd.radisys.msml-audit-conn+xml"},{"$f":"IFERROR(__xludf.DUMMYFUNCTION(\"\"\"COMPUTED_VALUE\"\"\"),\"en\")","v":"en"}]
[{"$f":"IFERROR(__xludf.DUMMYFUNCTION(\"\"\"COMPUTED_VALUE\"\"\"),\"https://www.iana.org/assignments/media-types/application/vnd.radisys.msml-audit-dialog+xml\")","v":"https://www.iana.org/assignments/media-types/application/vnd.radisys.msml-audit-dialog+xml"},{"$f":"IFERROR(__xludf.DUMMYFUNCTION(\"\"\"COMPUTED_VALUE\"\"\"),\"vnd.radisys.msml-audit-dialog+xml\")","v":"vnd.radisys.msml-audit-dialog+xml"},{"$f":"IFERROR(__xludf.DUMMYFUNCTION(\"\"\"COMPUTED_VALUE\"\"\"),\"vnd.radisys.msml-audit-dialog+xml\")","v":"vnd.radisys.msml-audit-dialog+xml"},{"$f":"IFERROR(__xludf.DUMMYFUNCTION(\"\"\"COMPUTED_VALUE\"\"\"),\"application/vnd.radisys.msml-audit-dialog+xml\")","v":"application/vnd.radisys.msml-audit-dialog+xml"},{"$f":"IFERROR(__xludf.DUMMYFUNCTION(\"\"\"COMPUTED_VALUE\"\"\"),\"en\")","v":"en"}]
[{"$f":"IFERROR(__xludf.DUMMYFUNCTION(\"\"\"COMPUTED_VALUE\"\"\"),\"https://www.iana.org/assignments/media-types/application/vnd.radisys.msml-audit-stream+xml\")","v":"https://www.iana.org/assignments/media-types/application/vnd.radisys.msml-audit-stream+xml"},{"$f":"IFERROR(__xludf.DUMMYFUNCTION(\"\"\"COMPUTED_VALUE\"\"\"),\"vnd.radisys.msml-audit-stream+xml\")","v":"vnd.radisys.msml-audit-stream+xml"},{"$f":"IFERROR(__xludf.DUMMYFUNCTION(\"\"\"COMPUTED_VALUE\"\"\"),\"vnd.radisys.msml-audit-stream+xml\")","v":"vnd.radisys.msml-audit-stream+xml"},{"$f":"IFERROR(__xludf.DUMMYFUNCTION(\"\"\"COMPUTED_VALUE\"\"\"),\"application/vnd.radisys.msml-audit-stream+xml\")","v":"application/vnd.radisys.msml-audit-stream+xml"},{"$f":"IFERROR(__xludf.DUMMYFUNCTION(\"\"\"COMPUTED_VALUE\"\"\"),\"en\")","v":"en"}]
[{"$f":"IFERROR(__xludf.DUMMYFUNCTION(\"\"\"COMPUTED_VALUE\"\"\"),\"https://www.iana.org/assignments/media-types/application/vnd.radisys.msml-audit+xml\")","v":"https://www.iana.org/assignments/media-types/application/vnd.radisys.msml-audit+xml"},{"$f":"IFERROR(__xludf.DUMMYFUNCTION(\"\"\"COMPUTED_VALUE\"\"\"),\"vnd.radisys.msml-audit+xml\")","v":"vnd.radisys.msml-audit+xml"},{"$f":"IFERROR(__xludf.DUMMYFUNCTION(\"\"\"COMPUTED_VALUE\"\"\"),\"vnd.radisys.msml-audit+xml\")","v":"vnd.radisys.msml-audit+xml"},{"$f":"IFERROR(__xludf.DUMMYFUNCTION(\"\"\"COMPUTED_VALUE\"\"\"),\"application/vnd.radisys.msml-audit+xml\")","v":"application/vnd.radisys.msml-audit+xml"},{"$f":"IFERROR(__xludf.DUMMYFUNCTION(\"\"\"COMPUTED_VALUE\"\"\"),\"en\")","v":"en"}]
[{"$f":"IFERROR(__xludf.DUMMYFUNCTION(\"\"\"COMPUTED_VALUE\"\"\"),\"https://www.iana.org/assignments/media-types/application/vnd.radisys.msml-conf+xml\")","v":"https://www.iana.org/assignments/media-types/application/vnd.radisys.msml-conf+xml"},{"$f":"IFERROR(__xludf.DUMMYFUNCTION(\"\"\"COMPUTED_VALUE\"\"\"),\"vnd.radisys.msml-conf+xml\")","v":"vnd.radisys.msml-conf+xml"},{"$f":"IFERROR(__xludf.DUMMYFUNCTION(\"\"\"COMPUTED_VALUE\"\"\"),\"vnd.radisys.msml-conf+xml\")","v":"vnd.radisys.msml-conf+xml"},{"$f":"IFERROR(__xludf.DUMMYFUNCTION(\"\"\"COMPUTED_VALUE\"\"\"),\"application/vnd.radisys.msml-conf+xml\")","v":"application/vnd.radisys.msml-conf+xml"},{"$f":"IFERROR(__xludf.DUMMYFUNCTION(\"\"\"COMPUTED_VALUE\"\"\"),\"en\")","v":"en"}]
[{"$f":"IFERROR(__xludf.DUMMYFUNCTION(\"\"\"COMPUTED_VALUE\"\"\"),\"https://www.iana.org/assignments/media-types/application/vnd.radisys.msml-dialog-base+xml\")","v":"https://www.iana.org/assignments/media-types/application/vnd.radisys.msml-dialog-base+xml"},{"$f":"IFERROR(__xludf.DUMMYFUNCTION(\"\"\"COMPUTED_VALUE\"\"\"),\"vnd.radisys.msml-dialog-base+xml\")","v":"vnd.radisys.msml-dialog-base+xml"},{"$f":"IFERROR(__xludf.DUMMYFUNCTION(\"\"\"COMPUTED_VALUE\"\"\"),\"vnd.radisys.msml-dialog-base+xml\")","v":"vnd.radisys.msml-dialog-base+xml"},{"$f":"IFERROR(__xludf.DUMMYFUNCTION(\"\"\"COMPUTED_VALUE\"\"\"),\"application/vnd.radisys.msml-dialog-base+xml\")","v":"application/vnd.radisys.msml-dialog-base+xml"},{"$f":"IFERROR(__xludf.DUMMYFUNCTION(\"\"\"COMPUTED_VALUE\"\"\"),\"en\")","v":"en"}]
[{"$f":"IFERROR(__xludf.DUMMYFUNCTION(\"\"\"COMPUTED_VALUE\"\"\"),\"https://www.iana.org/assignments/media-types/application/vnd.radisys.msml-dialog-fax-detect+xml\")","v":"https://www.iana.org/assignments/media-types/application/vnd.radisys.msml-dialog-fax-detect+xml"},{"$f":"IFERROR(__xludf.DUMMYFUNCTION(\"\"\"COMPUTED_VALUE\"\"\"),\"vnd.radisys.msml-dialog-fax-detect+xml\")","v":"vnd.radisys.msml-dialog-fax-detect+xml"},{"$f":"IFERROR(__xludf.DUMMYFUNCTION(\"\"\"COMPUTED_VALUE\"\"\"),\"vnd.radisys.msml-dialog-fax-detect+xml\")","v":"vnd.radisys.msml-dialog-fax-detect+xml"},{"$f":"IFERROR(__xludf.DUMMYFUNCTION(\"\"\"COMPUTED_VALUE\"\"\"),\"application/vnd.radisys.msml-dialog-fax-detect+xml\")","v":"application/vnd.radisys.msml-dialog-fax-detect+xml"},{"$f":"IFERROR(__xludf.DUMMYFUNCTION(\"\"\"COMPUTED_VALUE\"\"\"),\"en\")","v":"en"}]
[{"$f":"IFERROR(__xludf.DUMMYFUNCTION(\"\"\"COMPUTED_VALUE\"\"\"),\"https://www.iana.org/assignments/media-types/application/vnd.radisys.msml-dialog-fax-sendrecv+xml\")","v":"https://www.iana.org/assignments/media-types/application/vnd.radisys.msml-dialog-fax-sendrecv+xml"},{"$f":"IFERROR(__xludf.DUMMYFUNCTION(\"\"\"COMPUTED_VALUE\"\"\"),\"vnd.radisys.msml-dialog-fax-sendrecv+xml\")","v":"vnd.radisys.msml-dialog-fax-sendrecv+xml"},{"$f":"IFERROR(__xludf.DUMMYFUNCTION(\"\"\"COMPUTED_VALUE\"\"\"),\"vnd.radisys.msml-dialog-fax-sendrecv+xml\")","v":"vnd.radisys.msml-dialog-fax-sendrecv+xml"},{"$f":"IFERROR(__xludf.DUMMYFUNCTION(\"\"\"COMPUTED_VALUE\"\"\"),\"application/vnd.radisys.msml-dialog-fax-sendrecv+xml\")","v":"application/vnd.radisys.msml-dialog-fax-sendrecv+xml"},{"$f":"IFERROR(__xludf.DUMMYFUNCTION(\"\"\"COMPUTED_VALUE\"\"\"),\"en\")","v":"en"}]
[{"$f":"IFERROR(__xludf.DUMMYFUNCTION(\"\"\"COMPUTED_VALUE\"\"\"),\"https://www.iana.org/assignments/media-types/application/vnd.radisys.msml-dialog-group+xml\")","v":"https://www.iana.org/assignments/media-types/application/vnd.radisys.msml-dialog-group+xml"},{"$f":"IFERROR(__xludf.DUMMYFUNCTION(\"\"\"COMPUTED_VALUE\"\"\"),\"vnd.radisys.msml-dialog-group+xml\")","v":"vnd.radisys.msml-dialog-group+xml"},{"$f":"IFERROR(__xludf.DUMMYFUNCTION(\"\"\"COMPUTED_VALUE\"\"\"),\"vnd.radisys.msml-dialog-group+xml\")","v":"vnd.radisys.msml-dialog-group+xml"},{"$f":"IFERROR(__xludf.DUMMYFUNCTION(\"\"\"COMPUTED_VALUE\"\"\"),\"application/vnd.radisys.msml-dialog-group+xml\")","v":"application/vnd.radisys.msml-dialog-group+xml"},{"$f":"IFERROR(__xludf.DUMMYFUNCTION(\"\"\"COMPUTED_VALUE\"\"\"),\"en\")","v":"en"}]
[{"$f":"IFERROR(__xludf.DUMMYFUNCTION(\"\"\"COMPUTED_VALUE\"\"\"),\"https://www.iana.org/assignments/media-types/application/vnd.radisys.msml-dialog-speech+xml\")","v":"https://www.iana.org/assignments/media-types/application/vnd.radisys.msml-dialog-speech+xml"},{"$f":"IFERROR(__xludf.DUMMYFUNCTION(\"\"\"COMPUTED_VALUE\"\"\"),\"vnd.radisys.msml-dialog-speech+xml\")","v":"vnd.radisys.msml-dialog-speech+xml"},{"$f":"IFERROR(__xludf.DUMMYFUNCTION(\"\"\"COMPUTED_VALUE\"\"\"),\"vnd.radisys.msml-dialog-speech+xml\")","v":"vnd.radisys.msml-dialog-speech+xml"},{"$f":"IFERROR(__xludf.DUMMYFUNCTION(\"\"\"COMPUTED_VALUE\"\"\"),\"application/vnd.radisys.msml-dialog-speech+xml\")","v":"application/vnd.radisys.msml-dialog-speech+xml"},{"$f":"IFERROR(__xludf.DUMMYFUNCTION(\"\"\"COMPUTED_VALUE\"\"\"),\"en\")","v":"en"}]
[{"$f":"IFERROR(__xludf.DUMMYFUNCTION(\"\"\"COMPUTED_VALUE\"\"\"),\"https://www.iana.org/assignments/media-types/application/vnd.radisys.msml-dialog-transform+xml\")","v":"https://www.iana.org/assignments/media-types/application/vnd.radisys.msml-dialog-transform+xml"},{"$f":"IFERROR(__xludf.DUMMYFUNCTION(\"\"\"COMPUTED_VALUE\"\"\"),\"vnd.radisys.msml-dialog-transform+xml\")","v":"vnd.radisys.msml-dialog-transform+xml"},{"$f":"IFERROR(__xludf.DUMMYFUNCTION(\"\"\"COMPUTED_VALUE\"\"\"),\"vnd.radisys.msml-dialog-transform+xml\")","v":"vnd.radisys.msml-dialog-transform+xml"},{"$f":"IFERROR(__xludf.DUMMYFUNCTION(\"\"\"COMPUTED_VALUE\"\"\"),\"application/vnd.radisys.msml-dialog-transform+xml\")","v":"application/vnd.radisys.msml-dialog-transform+xml"},{"$f":"IFERROR(__xludf.DUMMYFUNCTION(\"\"\"COMPUTED_VALUE\"\"\"),\"en\")","v":"en"}]
[{"$f":"IFERROR(__xludf.DUMMYFUNCTION(\"\"\"COMPUTED_VALUE\"\"\"),\"https://www.iana.org/assignments/media-types/application/vnd.radisys.msml-dialog+xml\")","v":"https://www.iana.org/assignments/media-types/application/vnd.radisys.msml-dialog+xml"},{"$f":"IFERROR(__xludf.DUMMYFUNCTION(\"\"\"COMPUTED_VALUE\"\"\"),\"vnd.radisys.msml-dialog+xml\")","v":"vnd.radisys.msml-dialog+xml"},{"$f":"IFERROR(__xludf.DUMMYFUNCTION(\"\"\"COMPUTED_VALUE\"\"\"),\"vnd.radisys.msml-dialog+xml\")","v":"vnd.radisys.msml-dialog+xml"},{"$f":"IFERROR(__xludf.DUMMYFUNCTION(\"\"\"COMPUTED_VALUE\"\"\"),\"application/vnd.radisys.msml-dialog+xml\")","v":"application/vnd.radisys.msml-dialog+xml"},{"$f":"IFERROR(__xludf.DUMMYFUNCTION(\"\"\"COMPUTED_VALUE\"\"\"),\"en\")","v":"en"}]
[{"$f":"IFERROR(__xludf.DUMMYFUNCTION(\"\"\"COMPUTED_VALUE\"\"\"),\"https://www.iana.org/assignments/media-types/application/vnd.radisys.msml+xml\")","v":"https://www.iana.org/assignments/media-types/application/vnd.radisys.msml+xml"},{"$f":"IFERROR(__xludf.DUMMYFUNCTION(\"\"\"COMPUTED_VALUE\"\"\"),\"vnd.radisys.msml+xml\")","v":"vnd.radisys.msml+xml"},{"$f":"IFERROR(__xludf.DUMMYFUNCTION(\"\"\"COMPUTED_VALUE\"\"\"),\"vnd.radisys.msml+xml\")","v":"vnd.radisys.msml+xml"},{"$f":"IFERROR(__xludf.DUMMYFUNCTION(\"\"\"COMPUTED_VALUE\"\"\"),\"application/vnd.radisys.msml+xml\")","v":"application/vnd.radisys.msml+xml"},{"$f":"IFERROR(__xludf.DUMMYFUNCTION(\"\"\"COMPUTED_VALUE\"\"\"),\"en\")","v":"en"}]
[{"$f":"IFERROR(__xludf.DUMMYFUNCTION(\"\"\"COMPUTED_VALUE\"\"\"),\"https://www.iana.org/assignments/media-types/application/vnd.rainstor.data\")","v":"https://www.iana.org/assignments/media-types/application/vnd.rainstor.data"},{"$f":"IFERROR(__xludf.DUMMYFUNCTION(\"\"\"COMPUTED_VALUE\"\"\"),\"vnd.rainstor.data\")","v":"vnd.rainstor.data"},{"$f":"IFERROR(__xludf.DUMMYFUNCTION(\"\"\"COMPUTED_VALUE\"\"\"),\"vnd.rainstor.data\")","v":"vnd.rainstor.data"},{"$f":"IFERROR(__xludf.DUMMYFUNCTION(\"\"\"COMPUTED_VALUE\"\"\"),\"application/vnd.rainstor.data\")","v":"application/vnd.rainstor.data"},{"$f":"IFERROR(__xludf.DUMMYFUNCTION(\"\"\"COMPUTED_VALUE\"\"\"),\"en\")","v":"en"}]
[{"$f":"IFERROR(__xludf.DUMMYFUNCTION(\"\"\"COMPUTED_VALUE\"\"\"),\"https://www.iana.org/assignments/media-types/application/vnd.rapid\")","v":"https://www.iana.org/assignments/media-types/application/vnd.rapid"},{"$f":"IFERROR(__xludf.DUMMYFUNCTION(\"\"\"COMPUTED_VALUE\"\"\"),\"vnd.rapid\")","v":"vnd.rapid"},{"$f":"IFERROR(__xludf.DUMMYFUNCTION(\"\"\"COMPUTED_VALUE\"\"\"),\"vnd.rapid\")","v":"vnd.rapid"},{"$f":"IFERROR(__xludf.DUMMYFUNCTION(\"\"\"COMPUTED_VALUE\"\"\"),\"application/vnd.rapid\")","v":"application/vnd.rapid"},{"$f":"IFERROR(__xludf.DUMMYFUNCTION(\"\"\"COMPUTED_VALUE\"\"\"),\"en\")","v":"en"}]
[{"$f":"IFERROR(__xludf.DUMMYFUNCTION(\"\"\"COMPUTED_VALUE\"\"\"),\"https://www.iana.org/assignments/media-types/application/vnd.rar\")","v":"https://www.iana.org/assignments/media-types/application/vnd.rar"},{"$f":"IFERROR(__xludf.DUMMYFUNCTION(\"\"\"COMPUTED_VALUE\"\"\"),\"vnd.rar\")","v":"vnd.rar"},{"$f":"IFERROR(__xludf.DUMMYFUNCTION(\"\"\"COMPUTED_VALUE\"\"\"),\"vnd.rar\")","v":"vnd.rar"},{"$f":"IFERROR(__xludf.DUMMYFUNCTION(\"\"\"COMPUTED_VALUE\"\"\"),\"application/vnd.rar\")","v":"application/vnd.rar"},{"$f":"IFERROR(__xludf.DUMMYFUNCTION(\"\"\"COMPUTED_VALUE\"\"\"),\"en\")","v":"en"}]
[{"$f":"IFERROR(__xludf.DUMMYFUNCTION(\"\"\"COMPUTED_VALUE\"\"\"),\"https://www.iana.org/assignments/media-types/application/vnd.realvnc.bed\")","v":"https://www.iana.org/assignments/media-types/application/vnd.realvnc.bed"},{"$f":"IFERROR(__xludf.DUMMYFUNCTION(\"\"\"COMPUTED_VALUE\"\"\"),\"vnd.realvnc.bed\")","v":"vnd.realvnc.bed"},{"$f":"IFERROR(__xludf.DUMMYFUNCTION(\"\"\"COMPUTED_VALUE\"\"\"),\"vnd.realvnc.bed\")","v":"vnd.realvnc.bed"},{"$f":"IFERROR(__xludf.DUMMYFUNCTION(\"\"\"COMPUTED_VALUE\"\"\"),\"application/vnd.realvnc.bed\")","v":"application/vnd.realvnc.bed"},{"$f":"IFERROR(__xludf.DUMMYFUNCTION(\"\"\"COMPUTED_VALUE\"\"\"),\"en\")","v":"en"}]
[{"$f":"IFERROR(__xludf.DUMMYFUNCTION(\"\"\"COMPUTED_VALUE\"\"\"),\"https://www.iana.org/assignments/media-types/application/vnd.recordare.musicxml\")","v":"https://www.iana.org/assignments/media-types/application/vnd.recordare.musicxml"},{"$f":"IFERROR(__xludf.DUMMYFUNCTION(\"\"\"COMPUTED_VALUE\"\"\"),\"vnd.recordare.musicxml\")","v":"vnd.recordare.musicxml"},{"$f":"IFERROR(__xludf.DUMMYFUNCTION(\"\"\"COMPUTED_VALUE\"\"\"),\"vnd.recordare.musicxml\")","v":"vnd.recordare.musicxml"},{"$f":"IFERROR(__xludf.DUMMYFUNCTION(\"\"\"COMPUTED_VALUE\"\"\"),\"application/vnd.recordare.musicxml\")","v":"application/vnd.recordare.musicxml"},{"$f":"IFERROR(__xludf.DUMMYFUNCTION(\"\"\"COMPUTED_VALUE\"\"\"),\"en\")","v":"en"}]
[{"$f":"IFERROR(__xludf.DUMMYFUNCTION(\"\"\"COMPUTED_VALUE\"\"\"),\"https://www.iana.org/assignments/media-types/application/vnd.recordare.musicxml+xml\")","v":"https://www.iana.org/assignments/media-types/application/vnd.recordare.musicxml+xml"},{"$f":"IFERROR(__xludf.DUMMYFUNCTION(\"\"\"COMPUTED_VALUE\"\"\"),\"vnd.recordare.musicxml+xml\")","v":"vnd.recordare.musicxml+xml"},{"$f":"IFERROR(__xludf.DUMMYFUNCTION(\"\"\"COMPUTED_VALUE\"\"\"),\"vnd.recordare.musicxml+xml\")","v":"vnd.recordare.musicxml+xml"},{"$f":"IFERROR(__xludf.DUMMYFUNCTION(\"\"\"COMPUTED_VALUE\"\"\"),\"application/vnd.recordare.musicxml+xml\")","v":"application/vnd.recordare.musicxml+xml"},{"$f":"IFERROR(__xludf.DUMMYFUNCTION(\"\"\"COMPUTED_VALUE\"\"\"),\"en\")","v":"en"}]
[{"$f":"IFERROR(__xludf.DUMMYFUNCTION(\"\"\"COMPUTED_VALUE\"\"\"),\"https://www.iana.org/assignments/media-types/application/vnd.RenLearn.rlprint\")","v":"https://www.iana.org/assignments/media-types/application/vnd.RenLearn.rlprint"},{"$f":"IFERROR(__xludf.DUMMYFUNCTION(\"\"\"COMPUTED_VALUE\"\"\"),\"vnd.RenLearn.rlprint\")","v":"vnd.RenLearn.rlprint"},{"$f":"IFERROR(__xludf.DUMMYFUNCTION(\"\"\"COMPUTED_VALUE\"\"\"),\"vnd.RenLearn.rlprint\")","v":"vnd.RenLearn.rlprint"},{"$f":"IFERROR(__xludf.DUMMYFUNCTION(\"\"\"COMPUTED_VALUE\"\"\"),\"application/vnd.RenLearn.rlprint\")","v":"application/vnd.RenLearn.rlprint"},{"$f":"IFERROR(__xludf.DUMMYFUNCTION(\"\"\"COMPUTED_VALUE\"\"\"),\"en\")","v":"en"}]
[{"$f":"IFERROR(__xludf.DUMMYFUNCTION(\"\"\"COMPUTED_VALUE\"\"\"),\"https://www.iana.org/assignments/media-types/application/vnd.resilient.logic\")","v":"https://www.iana.org/assignments/media-types/application/vnd.resilient.logic"},{"$f":"IFERROR(__xludf.DUMMYFUNCTION(\"\"\"COMPUTED_VALUE\"\"\"),\"vnd.resilient.logic\")","v":"vnd.resilient.logic"},{"$f":"IFERROR(__xludf.DUMMYFUNCTION(\"\"\"COMPUTED_VALUE\"\"\"),\"vnd.resilient.logic\")","v":"vnd.resilient.logic"},{"$f":"IFERROR(__xludf.DUMMYFUNCTION(\"\"\"COMPUTED_VALUE\"\"\"),\"application/vnd.resilient.logic\")","v":"application/vnd.resilient.logic"},{"$f":"IFERROR(__xludf.DUMMYFUNCTION(\"\"\"COMPUTED_VALUE\"\"\"),\"en\")","v":"en"}]
[{"$f":"IFERROR(__xludf.DUMMYFUNCTION(\"\"\"COMPUTED_VALUE\"\"\"),\"https://www.iana.org/assignments/media-types/application/vnd.restful+json\")","v":"https://www.iana.org/assignments/media-types/application/vnd.restful+json"},{"$f":"IFERROR(__xludf.DUMMYFUNCTION(\"\"\"COMPUTED_VALUE\"\"\"),\"vnd.restful+json\")","v":"vnd.restful+json"},{"$f":"IFERROR(__xludf.DUMMYFUNCTION(\"\"\"COMPUTED_VALUE\"\"\"),\"vnd.restful+json\")","v":"vnd.restful+json"},{"$f":"IFERROR(__xludf.DUMMYFUNCTION(\"\"\"COMPUTED_VALUE\"\"\"),\"application/vnd.restful+json\")","v":"application/vnd.restful+json"},{"$f":"IFERROR(__xludf.DUMMYFUNCTION(\"\"\"COMPUTED_VALUE\"\"\"),\"en\")","v":"en"}]
[{"$f":"IFERROR(__xludf.DUMMYFUNCTION(\"\"\"COMPUTED_VALUE\"\"\"),\"https://www.iana.org/assignments/media-types/application/vnd.rig.cryptonote\")","v":"https://www.iana.org/assignments/media-types/application/vnd.rig.cryptonote"},{"$f":"IFERROR(__xludf.DUMMYFUNCTION(\"\"\"COMPUTED_VALUE\"\"\"),\"vnd.rig.cryptonote\")","v":"vnd.rig.cryptonote"},{"$f":"IFERROR(__xludf.DUMMYFUNCTION(\"\"\"COMPUTED_VALUE\"\"\"),\"vnd.rig.cryptonote\")","v":"vnd.rig.cryptonote"},{"$f":"IFERROR(__xludf.DUMMYFUNCTION(\"\"\"COMPUTED_VALUE\"\"\"),\"application/vnd.rig.cryptonote\")","v":"application/vnd.rig.cryptonote"},{"$f":"IFERROR(__xludf.DUMMYFUNCTION(\"\"\"COMPUTED_VALUE\"\"\"),\"en\")","v":"en"}]
[{"$f":"IFERROR(__xludf.DUMMYFUNCTION(\"\"\"COMPUTED_VALUE\"\"\"),\"https://www.iana.org/assignments/media-types/application/vnd.route66.link66+xml\")","v":"https://www.iana.org/assignments/media-types/application/vnd.route66.link66+xml"},{"$f":"IFERROR(__xludf.DUMMYFUNCTION(\"\"\"COMPUTED_VALUE\"\"\"),\"vnd.route66.link66+xml\")","v":"vnd.route66.link66+xml"},{"$f":"IFERROR(__xludf.DUMMYFUNCTION(\"\"\"COMPUTED_VALUE\"\"\"),\"vnd.route66.link66+xml\")","v":"vnd.route66.link66+xml"},{"$f":"IFERROR(__xludf.DUMMYFUNCTION(\"\"\"COMPUTED_VALUE\"\"\"),\"application/vnd.route66.link66+xml\")","v":"application/vnd.route66.link66+xml"},{"$f":"IFERROR(__xludf.DUMMYFUNCTION(\"\"\"COMPUTED_VALUE\"\"\"),\"en\")","v":"en"}]
[{"$f":"IFERROR(__xludf.DUMMYFUNCTION(\"\"\"COMPUTED_VALUE\"\"\"),\"https://www.iana.org/assignments/media-types/application/vnd.rs-274x\")","v":"https://www.iana.org/assignments/media-types/application/vnd.rs-274x"},{"$f":"IFERROR(__xludf.DUMMYFUNCTION(\"\"\"COMPUTED_VALUE\"\"\"),\"vnd.rs-274x\")","v":"vnd.rs-274x"},{"$f":"IFERROR(__xludf.DUMMYFUNCTION(\"\"\"COMPUTED_VALUE\"\"\"),\"vnd.rs-274x\")","v":"vnd.rs-274x"},{"$f":"IFERROR(__xludf.DUMMYFUNCTION(\"\"\"COMPUTED_VALUE\"\"\"),\"application/vnd.rs-274x\")","v":"application/vnd.rs-274x"},{"$f":"IFERROR(__xludf.DUMMYFUNCTION(\"\"\"COMPUTED_VALUE\"\"\"),\"en\")","v":"en"}]
[{"$f":"IFERROR(__xludf.DUMMYFUNCTION(\"\"\"COMPUTED_VALUE\"\"\"),\"https://www.iana.org/assignments/media-types/application/vnd.ruckus.download\")","v":"https://www.iana.org/assignments/media-types/application/vnd.ruckus.download"},{"$f":"IFERROR(__xludf.DUMMYFUNCTION(\"\"\"COMPUTED_VALUE\"\"\"),\"vnd.ruckus.download\")","v":"vnd.ruckus.download"},{"$f":"IFERROR(__xludf.DUMMYFUNCTION(\"\"\"COMPUTED_VALUE\"\"\"),\"vnd.ruckus.download\")","v":"vnd.ruckus.download"},{"$f":"IFERROR(__xludf.DUMMYFUNCTION(\"\"\"COMPUTED_VALUE\"\"\"),\"application/vnd.ruckus.download\")","v":"application/vnd.ruckus.download"},{"$f":"IFERROR(__xludf.DUMMYFUNCTION(\"\"\"COMPUTED_VALUE\"\"\"),\"en\")","v":"en"}]
[{"$f":"IFERROR(__xludf.DUMMYFUNCTION(\"\"\"COMPUTED_VALUE\"\"\"),\"https://www.iana.org/assignments/media-types/application/vnd.s3sms\")","v":"https://www.iana.org/assignments/media-types/application/vnd.s3sms"},{"$f":"IFERROR(__xludf.DUMMYFUNCTION(\"\"\"COMPUTED_VALUE\"\"\"),\"vnd.s3sms\")","v":"vnd.s3sms"},{"$f":"IFERROR(__xludf.DUMMYFUNCTION(\"\"\"COMPUTED_VALUE\"\"\"),\"vnd.s3sms\")","v":"vnd.s3sms"},{"$f":"IFERROR(__xludf.DUMMYFUNCTION(\"\"\"COMPUTED_VALUE\"\"\"),\"application/vnd.s3sms\")","v":"application/vnd.s3sms"},{"$f":"IFERROR(__xludf.DUMMYFUNCTION(\"\"\"COMPUTED_VALUE\"\"\"),\"en\")","v":"en"}]
[{"$f":"IFERROR(__xludf.DUMMYFUNCTION(\"\"\"COMPUTED_VALUE\"\"\"),\"https://www.iana.org/assignments/media-types/application/vnd.sailingtracker.track\")","v":"https://www.iana.org/assignments/media-types/application/vnd.sailingtracker.track"},{"$f":"IFERROR(__xludf.DUMMYFUNCTION(\"\"\"COMPUTED_VALUE\"\"\"),\"vnd.sailingtracker.track\")","v":"vnd.sailingtracker.track"},{"$f":"IFERROR(__xludf.DUMMYFUNCTION(\"\"\"COMPUTED_VALUE\"\"\"),\"vnd.sailingtracker.track\")","v":"vnd.sailingtracker.track"},{"$f":"IFERROR(__xludf.DUMMYFUNCTION(\"\"\"COMPUTED_VALUE\"\"\"),\"application/vnd.sailingtracker.track\")","v":"application/vnd.sailingtracker.track"},{"$f":"IFERROR(__xludf.DUMMYFUNCTION(\"\"\"COMPUTED_VALUE\"\"\"),\"en\")","v":"en"}]
[{"$f":"IFERROR(__xludf.DUMMYFUNCTION(\"\"\"COMPUTED_VALUE\"\"\"),\"https://www.iana.org/assignments/media-types/application/vnd.sar\")","v":"https://www.iana.org/assignments/media-types/application/vnd.sar"},{"$f":"IFERROR(__xludf.DUMMYFUNCTION(\"\"\"COMPUTED_VALUE\"\"\"),\"vnd.sar\")","v":"vnd.sar"},{"$f":"IFERROR(__xludf.DUMMYFUNCTION(\"\"\"COMPUTED_VALUE\"\"\"),\"vnd.sar\")","v":"vnd.sar"},{"$f":"IFERROR(__xludf.DUMMYFUNCTION(\"\"\"COMPUTED_VALUE\"\"\"),\"application/vnd.sar\")","v":"application/vnd.sar"},{"$f":"IFERROR(__xludf.DUMMYFUNCTION(\"\"\"COMPUTED_VALUE\"\"\"),\"en\")","v":"en"}]
[{"$f":"IFERROR(__xludf.DUMMYFUNCTION(\"\"\"COMPUTED_VALUE\"\"\"),\"https://www.iana.org/assignments/media-types/application/vnd.sbm.cid\")","v":"https://www.iana.org/assignments/media-types/application/vnd.sbm.cid"},{"$f":"IFERROR(__xludf.DUMMYFUNCTION(\"\"\"COMPUTED_VALUE\"\"\"),\"vnd.sbm.cid\")","v":"vnd.sbm.cid"},{"$f":"IFERROR(__xludf.DUMMYFUNCTION(\"\"\"COMPUTED_VALUE\"\"\"),\"vnd.sbm.cid\")","v":"vnd.sbm.cid"},{"$f":"IFERROR(__xludf.DUMMYFUNCTION(\"\"\"COMPUTED_VALUE\"\"\"),\"application/vnd.sbm.cid\")","v":"application/vnd.sbm.cid"},{"$f":"IFERROR(__xludf.DUMMYFUNCTION(\"\"\"COMPUTED_VALUE\"\"\"),\"en\")","v":"en"}]
[{"$f":"IFERROR(__xludf.DUMMYFUNCTION(\"\"\"COMPUTED_VALUE\"\"\"),\"https://www.iana.org/assignments/media-types/application/vnd.sbm.mid2\")","v":"https://www.iana.org/assignments/media-types/application/vnd.sbm.mid2"},{"$f":"IFERROR(__xludf.DUMMYFUNCTION(\"\"\"COMPUTED_VALUE\"\"\"),\"vnd.sbm.mid2\")","v":"vnd.sbm.mid2"},{"$f":"IFERROR(__xludf.DUMMYFUNCTION(\"\"\"COMPUTED_VALUE\"\"\"),\"vnd.sbm.mid2\")","v":"vnd.sbm.mid2"},{"$f":"IFERROR(__xludf.DUMMYFUNCTION(\"\"\"COMPUTED_VALUE\"\"\"),\"application/vnd.sbm.mid2\")","v":"application/vnd.sbm.mid2"},{"$f":"IFERROR(__xludf.DUMMYFUNCTION(\"\"\"COMPUTED_VALUE\"\"\"),\"en\")","v":"en"}]
[{"$f":"IFERROR(__xludf.DUMMYFUNCTION(\"\"\"COMPUTED_VALUE\"\"\"),\"https://www.iana.org/assignments/media-types/application/vnd.scribus\")","v":"https://www.iana.org/assignments/media-types/application/vnd.scribus"},{"$f":"IFERROR(__xludf.DUMMYFUNCTION(\"\"\"COMPUTED_VALUE\"\"\"),\"vnd.scribus\")","v":"vnd.scribus"},{"$f":"IFERROR(__xludf.DUMMYFUNCTION(\"\"\"COMPUTED_VALUE\"\"\"),\"vnd.scribus\")","v":"vnd.scribus"},{"$f":"IFERROR(__xludf.DUMMYFUNCTION(\"\"\"COMPUTED_VALUE\"\"\"),\"application/vnd.scribus\")","v":"application/vnd.scribus"},{"$f":"IFERROR(__xludf.DUMMYFUNCTION(\"\"\"COMPUTED_VALUE\"\"\"),\"en\")","v":"en"}]
[{"$f":"IFERROR(__xludf.DUMMYFUNCTION(\"\"\"COMPUTED_VALUE\"\"\"),\"https://www.iana.org/assignments/media-types/application/vnd.sealed.3df\")","v":"https://www.iana.org/assignments/media-types/application/vnd.sealed.3df"},{"$f":"IFERROR(__xludf.DUMMYFUNCTION(\"\"\"COMPUTED_VALUE\"\"\"),\"vnd.sealed.3df\")","v":"vnd.sealed.3df"},{"$f":"IFERROR(__xludf.DUMMYFUNCTION(\"\"\"COMPUTED_VALUE\"\"\"),\"vnd.sealed.3df\")","v":"vnd.sealed.3df"},{"$f":"IFERROR(__xludf.DUMMYFUNCTION(\"\"\"COMPUTED_VALUE\"\"\"),\"application/vnd.sealed.3df\")","v":"application/vnd.sealed.3df"},{"$f":"IFERROR(__xludf.DUMMYFUNCTION(\"\"\"COMPUTED_VALUE\"\"\"),\"en\")","v":"en"}]
[{"$f":"IFERROR(__xludf.DUMMYFUNCTION(\"\"\"COMPUTED_VALUE\"\"\"),\"https://www.iana.org/assignments/media-types/application/vnd.sealed.csf\")","v":"https://www.iana.org/assignments/media-types/application/vnd.sealed.csf"},{"$f":"IFERROR(__xludf.DUMMYFUNCTION(\"\"\"COMPUTED_VALUE\"\"\"),\"vnd.sealed.csf\")","v":"vnd.sealed.csf"},{"$f":"IFERROR(__xludf.DUMMYFUNCTION(\"\"\"COMPUTED_VALUE\"\"\"),\"vnd.sealed.csf\")","v":"vnd.sealed.csf"},{"$f":"IFERROR(__xludf.DUMMYFUNCTION(\"\"\"COMPUTED_VALUE\"\"\"),\"application/vnd.sealed.csf\")","v":"application/vnd.sealed.csf"},{"$f":"IFERROR(__xludf.DUMMYFUNCTION(\"\"\"COMPUTED_VALUE\"\"\"),\"en\")","v":"en"}]
[{"$f":"IFERROR(__xludf.DUMMYFUNCTION(\"\"\"COMPUTED_VALUE\"\"\"),\"https://www.iana.org/assignments/media-types/application/vnd.sealed.doc\")","v":"https://www.iana.org/assignments/media-types/application/vnd.sealed.doc"},{"$f":"IFERROR(__xludf.DUMMYFUNCTION(\"\"\"COMPUTED_VALUE\"\"\"),\"vnd.sealed.doc\")","v":"vnd.sealed.doc"},{"$f":"IFERROR(__xludf.DUMMYFUNCTION(\"\"\"COMPUTED_VALUE\"\"\"),\"vnd.sealed.doc\")","v":"vnd.sealed.doc"},{"$f":"IFERROR(__xludf.DUMMYFUNCTION(\"\"\"COMPUTED_VALUE\"\"\"),\"application/vnd.sealed.doc\")","v":"application/vnd.sealed.doc"},{"$f":"IFERROR(__xludf.DUMMYFUNCTION(\"\"\"COMPUTED_VALUE\"\"\"),\"en\")","v":"en"}]
[{"$f":"IFERROR(__xludf.DUMMYFUNCTION(\"\"\"COMPUTED_VALUE\"\"\"),\"https://www.iana.org/assignments/media-types/application/vnd.sealed.eml\")","v":"https://www.iana.org/assignments/media-types/application/vnd.sealed.eml"},{"$f":"IFERROR(__xludf.DUMMYFUNCTION(\"\"\"COMPUTED_VALUE\"\"\"),\"vnd.sealed.eml\")","v":"vnd.sealed.eml"},{"$f":"IFERROR(__xludf.DUMMYFUNCTION(\"\"\"COMPUTED_VALUE\"\"\"),\"vnd.sealed.eml\")","v":"vnd.sealed.eml"},{"$f":"IFERROR(__xludf.DUMMYFUNCTION(\"\"\"COMPUTED_VALUE\"\"\"),\"application/vnd.sealed.eml\")","v":"application/vnd.sealed.eml"},{"$f":"IFERROR(__xludf.DUMMYFUNCTION(\"\"\"COMPUTED_VALUE\"\"\"),\"en\")","v":"en"}]
[{"$f":"IFERROR(__xludf.DUMMYFUNCTION(\"\"\"COMPUTED_VALUE\"\"\"),\"https://www.iana.org/assignments/media-types/application/vnd.sealed.mht\")","v":"https://www.iana.org/assignments/media-types/application/vnd.sealed.mht"},{"$f":"IFERROR(__xludf.DUMMYFUNCTION(\"\"\"COMPUTED_VALUE\"\"\"),\"vnd.sealed.mht\")","v":"vnd.sealed.mht"},{"$f":"IFERROR(__xludf.DUMMYFUNCTION(\"\"\"COMPUTED_VALUE\"\"\"),\"vnd.sealed.mht\")","v":"vnd.sealed.mht"},{"$f":"IFERROR(__xludf.DUMMYFUNCTION(\"\"\"COMPUTED_VALUE\"\"\"),\"application/vnd.sealed.mht\")","v":"application/vnd.sealed.mht"},{"$f":"IFERROR(__xludf.DUMMYFUNCTION(\"\"\"COMPUTED_VALUE\"\"\"),\"en\")","v":"en"}]
[{"$f":"IFERROR(__xludf.DUMMYFUNCTION(\"\"\"COMPUTED_VALUE\"\"\"),\"https://www.iana.org/assignments/media-types/application/vnd.sealed.net\")","v":"https://www.iana.org/assignments/media-types/application/vnd.sealed.net"},{"$f":"IFERROR(__xludf.DUMMYFUNCTION(\"\"\"COMPUTED_VALUE\"\"\"),\"vnd.sealed.net\")","v":"vnd.sealed.net"},{"$f":"IFERROR(__xludf.DUMMYFUNCTION(\"\"\"COMPUTED_VALUE\"\"\"),\"vnd.sealed.net\")","v":"vnd.sealed.net"},{"$f":"IFERROR(__xludf.DUMMYFUNCTION(\"\"\"COMPUTED_VALUE\"\"\"),\"application/vnd.sealed.net\")","v":"application/vnd.sealed.net"},{"$f":"IFERROR(__xludf.DUMMYFUNCTION(\"\"\"COMPUTED_VALUE\"\"\"),\"en\")","v":"en"}]
[{"$f":"IFERROR(__xludf.DUMMYFUNCTION(\"\"\"COMPUTED_VALUE\"\"\"),\"https://www.iana.org/assignments/media-types/application/vnd.sealed.ppt\")","v":"https://www.iana.org/assignments/media-types/application/vnd.sealed.ppt"},{"$f":"IFERROR(__xludf.DUMMYFUNCTION(\"\"\"COMPUTED_VALUE\"\"\"),\"vnd.sealed.ppt\")","v":"vnd.sealed.ppt"},{"$f":"IFERROR(__xludf.DUMMYFUNCTION(\"\"\"COMPUTED_VALUE\"\"\"),\"vnd.sealed.ppt\")","v":"vnd.sealed.ppt"},{"$f":"IFERROR(__xludf.DUMMYFUNCTION(\"\"\"COMPUTED_VALUE\"\"\"),\"application/vnd.sealed.ppt\")","v":"application/vnd.sealed.ppt"},{"$f":"IFERROR(__xludf.DUMMYFUNCTION(\"\"\"COMPUTED_VALUE\"\"\"),\"en\")","v":"en"}]
[{"$f":"IFERROR(__xludf.DUMMYFUNCTION(\"\"\"COMPUTED_VALUE\"\"\"),\"https://www.iana.org/assignments/media-types/application/vnd.sealed.tiff\")","v":"https://www.iana.org/assignments/media-types/application/vnd.sealed.tiff"},{"$f":"IFERROR(__xludf.DUMMYFUNCTION(\"\"\"COMPUTED_VALUE\"\"\"),\"vnd.sealed.tiff\")","v":"vnd.sealed.tiff"},{"$f":"IFERROR(__xludf.DUMMYFUNCTION(\"\"\"COMPUTED_VALUE\"\"\"),\"vnd.sealed.tiff\")","v":"vnd.sealed.tiff"},{"$f":"IFERROR(__xludf.DUMMYFUNCTION(\"\"\"COMPUTED_VALUE\"\"\"),\"application/vnd.sealed.tiff\")","v":"application/vnd.sealed.tiff"},{"$f":"IFERROR(__xludf.DUMMYFUNCTION(\"\"\"COMPUTED_VALUE\"\"\"),\"en\")","v":"en"}]
[{"$f":"IFERROR(__xludf.DUMMYFUNCTION(\"\"\"COMPUTED_VALUE\"\"\"),\"https://www.iana.org/assignments/media-types/application/vnd.sealed.xls\")","v":"https://www.iana.org/assignments/media-types/application/vnd.sealed.xls"},{"$f":"IFERROR(__xludf.DUMMYFUNCTION(\"\"\"COMPUTED_VALUE\"\"\"),\"vnd.sealed.xls\")","v":"vnd.sealed.xls"},{"$f":"IFERROR(__xludf.DUMMYFUNCTION(\"\"\"COMPUTED_VALUE\"\"\"),\"vnd.sealed.xls\")","v":"vnd.sealed.xls"},{"$f":"IFERROR(__xludf.DUMMYFUNCTION(\"\"\"COMPUTED_VALUE\"\"\"),\"application/vnd.sealed.xls\")","v":"application/vnd.sealed.xls"},{"$f":"IFERROR(__xludf.DUMMYFUNCTION(\"\"\"COMPUTED_VALUE\"\"\"),\"en\")","v":"en"}]
[{"$f":"IFERROR(__xludf.DUMMYFUNCTION(\"\"\"COMPUTED_VALUE\"\"\"),\"https://www.iana.org/assignments/media-types/application/vnd.sealedmedia.softseal.html\")","v":"https://www.iana.org/assignments/media-types/application/vnd.sealedmedia.softseal.html"},{"$f":"IFERROR(__xludf.DUMMYFUNCTION(\"\"\"COMPUTED_VALUE\"\"\"),\"vnd.sealedmedia.softseal.html\")","v":"vnd.sealedmedia.softseal.html"},{"$f":"IFERROR(__xludf.DUMMYFUNCTION(\"\"\"COMPUTED_VALUE\"\"\"),\"vnd.sealedmedia.softseal.html\")","v":"vnd.sealedmedia.softseal.html"},{"$f":"IFERROR(__xludf.DUMMYFUNCTION(\"\"\"COMPUTED_VALUE\"\"\"),\"application/vnd.sealedmedia.softseal.html\")","v":"application/vnd.sealedmedia.softseal.html"},{"$f":"IFERROR(__xludf.DUMMYFUNCTION(\"\"\"COMPUTED_VALUE\"\"\"),\"en\")","v":"en"}]
[{"$f":"IFERROR(__xludf.DUMMYFUNCTION(\"\"\"COMPUTED_VALUE\"\"\"),\"https://www.iana.org/assignments/media-types/application/vnd.sealedmedia.softseal.pdf\")","v":"https://www.iana.org/assignments/media-types/application/vnd.sealedmedia.softseal.pdf"},{"$f":"IFERROR(__xludf.DUMMYFUNCTION(\"\"\"COMPUTED_VALUE\"\"\"),\"vnd.sealedmedia.softseal.pdf\")","v":"vnd.sealedmedia.softseal.pdf"},{"$f":"IFERROR(__xludf.DUMMYFUNCTION(\"\"\"COMPUTED_VALUE\"\"\"),\"vnd.sealedmedia.softseal.pdf\")","v":"vnd.sealedmedia.softseal.pdf"},{"$f":"IFERROR(__xludf.DUMMYFUNCTION(\"\"\"COMPUTED_VALUE\"\"\"),\"application/vnd.sealedmedia.softseal.pdf\")","v":"application/vnd.sealedmedia.softseal.pdf"},{"$f":"IFERROR(__xludf.DUMMYFUNCTION(\"\"\"COMPUTED_VALUE\"\"\"),\"en\")","v":"en"}]
[{"$f":"IFERROR(__xludf.DUMMYFUNCTION(\"\"\"COMPUTED_VALUE\"\"\"),\"https://www.iana.org/assignments/media-types/application/vnd.seemail\")","v":"https://www.iana.org/assignments/media-types/application/vnd.seemail"},{"$f":"IFERROR(__xludf.DUMMYFUNCTION(\"\"\"COMPUTED_VALUE\"\"\"),\"vnd.seemail\")","v":"vnd.seemail"},{"$f":"IFERROR(__xludf.DUMMYFUNCTION(\"\"\"COMPUTED_VALUE\"\"\"),\"vnd.seemail\")","v":"vnd.seemail"},{"$f":"IFERROR(__xludf.DUMMYFUNCTION(\"\"\"COMPUTED_VALUE\"\"\"),\"application/vnd.seemail\")","v":"application/vnd.seemail"},{"$f":"IFERROR(__xludf.DUMMYFUNCTION(\"\"\"COMPUTED_VALUE\"\"\"),\"en\")","v":"en"}]
[{"$f":"IFERROR(__xludf.DUMMYFUNCTION(\"\"\"COMPUTED_VALUE\"\"\"),\"https://www.iana.org/assignments/media-types/application/vnd.seis+json\")","v":"https://www.iana.org/assignments/media-types/application/vnd.seis+json"},{"$f":"IFERROR(__xludf.DUMMYFUNCTION(\"\"\"COMPUTED_VALUE\"\"\"),\"vnd.seis+json\")","v":"vnd.seis+json"},{"$f":"IFERROR(__xludf.DUMMYFUNCTION(\"\"\"COMPUTED_VALUE\"\"\"),\"vnd.seis+json\")","v":"vnd.seis+json"},{"$f":"IFERROR(__xludf.DUMMYFUNCTION(\"\"\"COMPUTED_VALUE\"\"\"),\"application/vnd.seis+json\")","v":"application/vnd.seis+json"},{"$f":"IFERROR(__xludf.DUMMYFUNCTION(\"\"\"COMPUTED_VALUE\"\"\"),\"en\")","v":"en"}]
[{"$f":"IFERROR(__xludf.DUMMYFUNCTION(\"\"\"COMPUTED_VALUE\"\"\"),\"https://www.iana.org/assignments/media-types/application/vnd.sema\")","v":"https://www.iana.org/assignments/media-types/application/vnd.sema"},{"$f":"IFERROR(__xludf.DUMMYFUNCTION(\"\"\"COMPUTED_VALUE\"\"\"),\"vnd.sema\")","v":"vnd.sema"},{"$f":"IFERROR(__xludf.DUMMYFUNCTION(\"\"\"COMPUTED_VALUE\"\"\"),\"vnd.sema\")","v":"vnd.sema"},{"$f":"IFERROR(__xludf.DUMMYFUNCTION(\"\"\"COMPUTED_VALUE\"\"\"),\"application/vnd.sema\")","v":"application/vnd.sema"},{"$f":"IFERROR(__xludf.DUMMYFUNCTION(\"\"\"COMPUTED_VALUE\"\"\"),\"en\")","v":"en"}]
[{"$f":"IFERROR(__xludf.DUMMYFUNCTION(\"\"\"COMPUTED_VALUE\"\"\"),\"https://www.iana.org/assignments/media-types/application/vnd.semd\")","v":"https://www.iana.org/assignments/media-types/application/vnd.semd"},{"$f":"IFERROR(__xludf.DUMMYFUNCTION(\"\"\"COMPUTED_VALUE\"\"\"),\"vnd.semd\")","v":"vnd.semd"},{"$f":"IFERROR(__xludf.DUMMYFUNCTION(\"\"\"COMPUTED_VALUE\"\"\"),\"vnd.semd\")","v":"vnd.semd"},{"$f":"IFERROR(__xludf.DUMMYFUNCTION(\"\"\"COMPUTED_VALUE\"\"\"),\"application/vnd.semd\")","v":"application/vnd.semd"},{"$f":"IFERROR(__xludf.DUMMYFUNCTION(\"\"\"COMPUTED_VALUE\"\"\"),\"en\")","v":"en"}]
[{"$f":"IFERROR(__xludf.DUMMYFUNCTION(\"\"\"COMPUTED_VALUE\"\"\"),\"https://www.iana.org/assignments/media-types/application/vnd.semf\")","v":"https://www.iana.org/assignments/media-types/application/vnd.semf"},{"$f":"IFERROR(__xludf.DUMMYFUNCTION(\"\"\"COMPUTED_VALUE\"\"\"),\"vnd.semf\")","v":"vnd.semf"},{"$f":"IFERROR(__xludf.DUMMYFUNCTION(\"\"\"COMPUTED_VALUE\"\"\"),\"vnd.semf\")","v":"vnd.semf"},{"$f":"IFERROR(__xludf.DUMMYFUNCTION(\"\"\"COMPUTED_VALUE\"\"\"),\"application/vnd.semf\")","v":"application/vnd.semf"},{"$f":"IFERROR(__xludf.DUMMYFUNCTION(\"\"\"COMPUTED_VALUE\"\"\"),\"en\")","v":"en"}]
[{"$f":"IFERROR(__xludf.DUMMYFUNCTION(\"\"\"COMPUTED_VALUE\"\"\"),\"https://www.iana.org/assignments/media-types/application/vnd.shade-save-file\")","v":"https://www.iana.org/assignments/media-types/application/vnd.shade-save-file"},{"$f":"IFERROR(__xludf.DUMMYFUNCTION(\"\"\"COMPUTED_VALUE\"\"\"),\"vnd.shade-save-file\")","v":"vnd.shade-save-file"},{"$f":"IFERROR(__xludf.DUMMYFUNCTION(\"\"\"COMPUTED_VALUE\"\"\"),\"vnd.shade-save-file\")","v":"vnd.shade-save-file"},{"$f":"IFERROR(__xludf.DUMMYFUNCTION(\"\"\"COMPUTED_VALUE\"\"\"),\"application/vnd.shade-save-file\")","v":"application/vnd.shade-save-file"},{"$f":"IFERROR(__xludf.DUMMYFUNCTION(\"\"\"COMPUTED_VALUE\"\"\"),\"en\")","v":"en"}]
[{"$f":"IFERROR(__xludf.DUMMYFUNCTION(\"\"\"COMPUTED_VALUE\"\"\"),\"https://www.iana.org/assignments/media-types/application/vnd.shana.informed.formdata\")","v":"https://www.iana.org/assignments/media-types/application/vnd.shana.informed.formdata"},{"$f":"IFERROR(__xludf.DUMMYFUNCTION(\"\"\"COMPUTED_VALUE\"\"\"),\"vnd.shana.informed.formdata\")","v":"vnd.shana.informed.formdata"},{"$f":"IFERROR(__xludf.DUMMYFUNCTION(\"\"\"COMPUTED_VALUE\"\"\"),\"vnd.shana.informed.formdata\")","v":"vnd.shana.informed.formdata"},{"$f":"IFERROR(__xludf.DUMMYFUNCTION(\"\"\"COMPUTED_VALUE\"\"\"),\"application/vnd.shana.informed.formdata\")","v":"application/vnd.shana.informed.formdata"},{"$f":"IFERROR(__xludf.DUMMYFUNCTION(\"\"\"COMPUTED_VALUE\"\"\"),\"en\")","v":"en"}]
[{"$f":"IFERROR(__xludf.DUMMYFUNCTION(\"\"\"COMPUTED_VALUE\"\"\"),\"https://www.iana.org/assignments/media-types/application/vnd.shana.informed.formtemplate\")","v":"https://www.iana.org/assignments/media-types/application/vnd.shana.informed.formtemplate"},{"$f":"IFERROR(__xludf.DUMMYFUNCTION(\"\"\"COMPUTED_VALUE\"\"\"),\"vnd.shana.informed.formtemplate\")","v":"vnd.shana.informed.formtemplate"},{"$f":"IFERROR(__xludf.DUMMYFUNCTION(\"\"\"COMPUTED_VALUE\"\"\"),\"vnd.shana.informed.formtemplate\")","v":"vnd.shana.informed.formtemplate"},{"$f":"IFERROR(__xludf.DUMMYFUNCTION(\"\"\"COMPUTED_VALUE\"\"\"),\"application/vnd.shana.informed.formtemplate\")","v":"application/vnd.shana.informed.formtemplate"},{"$f":"IFERROR(__xludf.DUMMYFUNCTION(\"\"\"COMPUTED_VALUE\"\"\"),\"en\")","v":"en"}]
[{"$f":"IFERROR(__xludf.DUMMYFUNCTION(\"\"\"COMPUTED_VALUE\"\"\"),\"https://www.iana.org/assignments/media-types/application/vnd.shana.informed.interchange\")","v":"https://www.iana.org/assignments/media-types/application/vnd.shana.informed.interchange"},{"$f":"IFERROR(__xludf.DUMMYFUNCTION(\"\"\"COMPUTED_VALUE\"\"\"),\"vnd.shana.informed.interchange\")","v":"vnd.shana.informed.interchange"},{"$f":"IFERROR(__xludf.DUMMYFUNCTION(\"\"\"COMPUTED_VALUE\"\"\"),\"vnd.shana.informed.interchange\")","v":"vnd.shana.informed.interchange"},{"$f":"IFERROR(__xludf.DUMMYFUNCTION(\"\"\"COMPUTED_VALUE\"\"\"),\"application/vnd.shana.informed.interchange\")","v":"application/vnd.shana.informed.interchange"},{"$f":"IFERROR(__xludf.DUMMYFUNCTION(\"\"\"COMPUTED_VALUE\"\"\"),\"en\")","v":"en"}]
[{"$f":"IFERROR(__xludf.DUMMYFUNCTION(\"\"\"COMPUTED_VALUE\"\"\"),\"https://www.iana.org/assignments/media-types/application/vnd.shana.informed.package\")","v":"https://www.iana.org/assignments/media-types/application/vnd.shana.informed.package"},{"$f":"IFERROR(__xludf.DUMMYFUNCTION(\"\"\"COMPUTED_VALUE\"\"\"),\"vnd.shana.informed.package\")","v":"vnd.shana.informed.package"},{"$f":"IFERROR(__xludf.DUMMYFUNCTION(\"\"\"COMPUTED_VALUE\"\"\"),\"vnd.shana.informed.package\")","v":"vnd.shana.informed.package"},{"$f":"IFERROR(__xludf.DUMMYFUNCTION(\"\"\"COMPUTED_VALUE\"\"\"),\"application/vnd.shana.informed.package\")","v":"application/vnd.shana.informed.package"},{"$f":"IFERROR(__xludf.DUMMYFUNCTION(\"\"\"COMPUTED_VALUE\"\"\"),\"en\")","v":"en"}]
[{"$f":"IFERROR(__xludf.DUMMYFUNCTION(\"\"\"COMPUTED_VALUE\"\"\"),\"https://www.iana.org/assignments/media-types/application/vnd.shootproof+json\")","v":"https://www.iana.org/assignments/media-types/application/vnd.shootproof+json"},{"$f":"IFERROR(__xludf.DUMMYFUNCTION(\"\"\"COMPUTED_VALUE\"\"\"),\"vnd.shootproof+json\")","v":"vnd.shootproof+json"},{"$f":"IFERROR(__xludf.DUMMYFUNCTION(\"\"\"COMPUTED_VALUE\"\"\"),\"vnd.shootproof+json\")","v":"vnd.shootproof+json"},{"$f":"IFERROR(__xludf.DUMMYFUNCTION(\"\"\"COMPUTED_VALUE\"\"\"),\"application/vnd.shootproof+json\")","v":"application/vnd.shootproof+json"},{"$f":"IFERROR(__xludf.DUMMYFUNCTION(\"\"\"COMPUTED_VALUE\"\"\"),\"en\")","v":"en"}]
[{"$f":"IFERROR(__xludf.DUMMYFUNCTION(\"\"\"COMPUTED_VALUE\"\"\"),\"https://www.iana.org/assignments/media-types/application/vnd.shopkick+json\")","v":"https://www.iana.org/assignments/media-types/application/vnd.shopkick+json"},{"$f":"IFERROR(__xludf.DUMMYFUNCTION(\"\"\"COMPUTED_VALUE\"\"\"),\"vnd.shopkick+json\")","v":"vnd.shopkick+json"},{"$f":"IFERROR(__xludf.DUMMYFUNCTION(\"\"\"COMPUTED_VALUE\"\"\"),\"vnd.shopkick+json\")","v":"vnd.shopkick+json"},{"$f":"IFERROR(__xludf.DUMMYFUNCTION(\"\"\"COMPUTED_VALUE\"\"\"),\"application/vnd.shopkick+json\")","v":"application/vnd.shopkick+json"},{"$f":"IFERROR(__xludf.DUMMYFUNCTION(\"\"\"COMPUTED_VALUE\"\"\"),\"en\")","v":"en"}]
[{"$f":"IFERROR(__xludf.DUMMYFUNCTION(\"\"\"COMPUTED_VALUE\"\"\"),\"https://www.iana.org/assignments/media-types/application/vnd.shp\")","v":"https://www.iana.org/assignments/media-types/application/vnd.shp"},{"$f":"IFERROR(__xludf.DUMMYFUNCTION(\"\"\"COMPUTED_VALUE\"\"\"),\"vnd.shp\")","v":"vnd.shp"},{"$f":"IFERROR(__xludf.DUMMYFUNCTION(\"\"\"COMPUTED_VALUE\"\"\"),\"vnd.shp\")","v":"vnd.shp"},{"$f":"IFERROR(__xludf.DUMMYFUNCTION(\"\"\"COMPUTED_VALUE\"\"\"),\"application/vnd.shp\")","v":"application/vnd.shp"},{"$f":"IFERROR(__xludf.DUMMYFUNCTION(\"\"\"COMPUTED_VALUE\"\"\"),\"en\")","v":"en"}]
[{"$f":"IFERROR(__xludf.DUMMYFUNCTION(\"\"\"COMPUTED_VALUE\"\"\"),\"https://www.iana.org/assignments/media-types/application/vnd.shx\")","v":"https://www.iana.org/assignments/media-types/application/vnd.shx"},{"$f":"IFERROR(__xludf.DUMMYFUNCTION(\"\"\"COMPUTED_VALUE\"\"\"),\"vnd.shx\")","v":"vnd.shx"},{"$f":"IFERROR(__xludf.DUMMYFUNCTION(\"\"\"COMPUTED_VALUE\"\"\"),\"vnd.shx\")","v":"vnd.shx"},{"$f":"IFERROR(__xludf.DUMMYFUNCTION(\"\"\"COMPUTED_VALUE\"\"\"),\"application/vnd.shx\")","v":"application/vnd.shx"},{"$f":"IFERROR(__xludf.DUMMYFUNCTION(\"\"\"COMPUTED_VALUE\"\"\"),\"en\")","v":"en"}]
[{"$f":"IFERROR(__xludf.DUMMYFUNCTION(\"\"\"COMPUTED_VALUE\"\"\"),\"https://www.iana.org/assignments/media-types/application/vnd.sigrok.session\")","v":"https://www.iana.org/assignments/media-types/application/vnd.sigrok.session"},{"$f":"IFERROR(__xludf.DUMMYFUNCTION(\"\"\"COMPUTED_VALUE\"\"\"),\"vnd.sigrok.session\")","v":"vnd.sigrok.session"},{"$f":"IFERROR(__xludf.DUMMYFUNCTION(\"\"\"COMPUTED_VALUE\"\"\"),\"vnd.sigrok.session\")","v":"vnd.sigrok.session"},{"$f":"IFERROR(__xludf.DUMMYFUNCTION(\"\"\"COMPUTED_VALUE\"\"\"),\"application/vnd.sigrok.session\")","v":"application/vnd.sigrok.session"},{"$f":"IFERROR(__xludf.DUMMYFUNCTION(\"\"\"COMPUTED_VALUE\"\"\"),\"en\")","v":"en"}]
[{"$f":"IFERROR(__xludf.DUMMYFUNCTION(\"\"\"COMPUTED_VALUE\"\"\"),\"https://www.iana.org/assignments/media-types/application/vnd.SimTech-MindMapper\")","v":"https://www.iana.org/assignments/media-types/application/vnd.SimTech-MindMapper"},{"$f":"IFERROR(__xludf.DUMMYFUNCTION(\"\"\"COMPUTED_VALUE\"\"\"),\"vnd.SimTech-MindMapper\")","v":"vnd.SimTech-MindMapper"},{"$f":"IFERROR(__xludf.DUMMYFUNCTION(\"\"\"COMPUTED_VALUE\"\"\"),\"vnd.SimTech-MindMapper\")","v":"vnd.SimTech-MindMapper"},{"$f":"IFERROR(__xludf.DUMMYFUNCTION(\"\"\"COMPUTED_VALUE\"\"\"),\"application/vnd.SimTech-MindMapper\")","v":"application/vnd.SimTech-MindMapper"},{"$f":"IFERROR(__xludf.DUMMYFUNCTION(\"\"\"COMPUTED_VALUE\"\"\"),\"en\")","v":"en"}]
[{"$f":"IFERROR(__xludf.DUMMYFUNCTION(\"\"\"COMPUTED_VALUE\"\"\"),\"https://www.iana.org/assignments/media-types/application/vnd.siren+json\")","v":"https://www.iana.org/assignments/media-types/application/vnd.siren+json"},{"$f":"IFERROR(__xludf.DUMMYFUNCTION(\"\"\"COMPUTED_VALUE\"\"\"),\"vnd.siren+json\")","v":"vnd.siren+json"},{"$f":"IFERROR(__xludf.DUMMYFUNCTION(\"\"\"COMPUTED_VALUE\"\"\"),\"vnd.siren+json\")","v":"vnd.siren+json"},{"$f":"IFERROR(__xludf.DUMMYFUNCTION(\"\"\"COMPUTED_VALUE\"\"\"),\"application/vnd.siren+json\")","v":"application/vnd.siren+json"},{"$f":"IFERROR(__xludf.DUMMYFUNCTION(\"\"\"COMPUTED_VALUE\"\"\"),\"en\")","v":"en"}]
[{"$f":"IFERROR(__xludf.DUMMYFUNCTION(\"\"\"COMPUTED_VALUE\"\"\"),\"https://www.iana.org/assignments/media-types/application/vnd.smaf\")","v":"https://www.iana.org/assignments/media-types/application/vnd.smaf"},{"$f":"IFERROR(__xludf.DUMMYFUNCTION(\"\"\"COMPUTED_VALUE\"\"\"),\"vnd.smaf\")","v":"vnd.smaf"},{"$f":"IFERROR(__xludf.DUMMYFUNCTION(\"\"\"COMPUTED_VALUE\"\"\"),\"vnd.smaf\")","v":"vnd.smaf"},{"$f":"IFERROR(__xludf.DUMMYFUNCTION(\"\"\"COMPUTED_VALUE\"\"\"),\"application/vnd.smaf\")","v":"application/vnd.smaf"},{"$f":"IFERROR(__xludf.DUMMYFUNCTION(\"\"\"COMPUTED_VALUE\"\"\"),\"en\")","v":"en"}]
[{"$f":"IFERROR(__xludf.DUMMYFUNCTION(\"\"\"COMPUTED_VALUE\"\"\"),\"https://www.iana.org/assignments/media-types/application/vnd.smart.notebook\")","v":"https://www.iana.org/assignments/media-types/application/vnd.smart.notebook"},{"$f":"IFERROR(__xludf.DUMMYFUNCTION(\"\"\"COMPUTED_VALUE\"\"\"),\"vnd.smart.notebook\")","v":"vnd.smart.notebook"},{"$f":"IFERROR(__xludf.DUMMYFUNCTION(\"\"\"COMPUTED_VALUE\"\"\"),\"vnd.smart.notebook\")","v":"vnd.smart.notebook"},{"$f":"IFERROR(__xludf.DUMMYFUNCTION(\"\"\"COMPUTED_VALUE\"\"\"),\"application/vnd.smart.notebook\")","v":"application/vnd.smart.notebook"},{"$f":"IFERROR(__xludf.DUMMYFUNCTION(\"\"\"COMPUTED_VALUE\"\"\"),\"en\")","v":"en"}]
[{"$f":"IFERROR(__xludf.DUMMYFUNCTION(\"\"\"COMPUTED_VALUE\"\"\"),\"https://www.iana.org/assignments/media-types/application/vnd.smart.teacher\")","v":"https://www.iana.org/assignments/media-types/application/vnd.smart.teacher"},{"$f":"IFERROR(__xludf.DUMMYFUNCTION(\"\"\"COMPUTED_VALUE\"\"\"),\"vnd.smart.teacher\")","v":"vnd.smart.teacher"},{"$f":"IFERROR(__xludf.DUMMYFUNCTION(\"\"\"COMPUTED_VALUE\"\"\"),\"vnd.smart.teacher\")","v":"vnd.smart.teacher"},{"$f":"IFERROR(__xludf.DUMMYFUNCTION(\"\"\"COMPUTED_VALUE\"\"\"),\"application/vnd.smart.teacher\")","v":"application/vnd.smart.teacher"},{"$f":"IFERROR(__xludf.DUMMYFUNCTION(\"\"\"COMPUTED_VALUE\"\"\"),\"en\")","v":"en"}]
[{"$f":"IFERROR(__xludf.DUMMYFUNCTION(\"\"\"COMPUTED_VALUE\"\"\"),\"https://www.iana.org/assignments/media-types/application/vnd.smintio.portals.archive\")","v":"https://www.iana.org/assignments/media-types/application/vnd.smintio.portals.archive"},{"$f":"IFERROR(__xludf.DUMMYFUNCTION(\"\"\"COMPUTED_VALUE\"\"\"),\"vnd.smintio.portals.archive\")","v":"vnd.smintio.portals.archive"},{"$f":"IFERROR(__xludf.DUMMYFUNCTION(\"\"\"COMPUTED_VALUE\"\"\"),\"vnd.smintio.portals.archive\")","v":"vnd.smintio.portals.archive"},{"$f":"IFERROR(__xludf.DUMMYFUNCTION(\"\"\"COMPUTED_VALUE\"\"\"),\"application/vnd.smintio.portals.archive\")","v":"application/vnd.smintio.portals.archive"},{"$f":"IFERROR(__xludf.DUMMYFUNCTION(\"\"\"COMPUTED_VALUE\"\"\"),\"en\")","v":"en"}]
[{"$f":"IFERROR(__xludf.DUMMYFUNCTION(\"\"\"COMPUTED_VALUE\"\"\"),\"https://www.iana.org/assignments/media-types/application/vnd.snesdev-page-table\")","v":"https://www.iana.org/assignments/media-types/application/vnd.snesdev-page-table"},{"$f":"IFERROR(__xludf.DUMMYFUNCTION(\"\"\"COMPUTED_VALUE\"\"\"),\"vnd.snesdev-page-table\")","v":"vnd.snesdev-page-table"},{"$f":"IFERROR(__xludf.DUMMYFUNCTION(\"\"\"COMPUTED_VALUE\"\"\"),\"vnd.snesdev-page-table\")","v":"vnd.snesdev-page-table"},{"$f":"IFERROR(__xludf.DUMMYFUNCTION(\"\"\"COMPUTED_VALUE\"\"\"),\"application/vnd.snesdev-page-table\")","v":"application/vnd.snesdev-page-table"},{"$f":"IFERROR(__xludf.DUMMYFUNCTION(\"\"\"COMPUTED_VALUE\"\"\"),\"en\")","v":"en"}]
[{"$f":"IFERROR(__xludf.DUMMYFUNCTION(\"\"\"COMPUTED_VALUE\"\"\"),\"https://www.iana.org/assignments/media-types/application/vnd.software602.filler.form+xml\")","v":"https://www.iana.org/assignments/media-types/application/vnd.software602.filler.form+xml"},{"$f":"IFERROR(__xludf.DUMMYFUNCTION(\"\"\"COMPUTED_VALUE\"\"\"),\"vnd.software602.filler.form+xml\")","v":"vnd.software602.filler.form+xml"},{"$f":"IFERROR(__xludf.DUMMYFUNCTION(\"\"\"COMPUTED_VALUE\"\"\"),\"vnd.software602.filler.form+xml\")","v":"vnd.software602.filler.form+xml"},{"$f":"IFERROR(__xludf.DUMMYFUNCTION(\"\"\"COMPUTED_VALUE\"\"\"),\"application/vnd.software602.filler.form+xml\")","v":"application/vnd.software602.filler.form+xml"},{"$f":"IFERROR(__xludf.DUMMYFUNCTION(\"\"\"COMPUTED_VALUE\"\"\"),\"en\")","v":"en"}]
[{"$f":"IFERROR(__xludf.DUMMYFUNCTION(\"\"\"COMPUTED_VALUE\"\"\"),\"https://www.iana.org/assignments/media-types/application/vnd.software602.filler.form-xml-zip\")","v":"https://www.iana.org/assignments/media-types/application/vnd.software602.filler.form-xml-zip"},{"$f":"IFERROR(__xludf.DUMMYFUNCTION(\"\"\"COMPUTED_VALUE\"\"\"),\"vnd.software602.filler.form-xml-zip\")","v":"vnd.software602.filler.form-xml-zip"},{"$f":"IFERROR(__xludf.DUMMYFUNCTION(\"\"\"COMPUTED_VALUE\"\"\"),\"vnd.software602.filler.form-xml-zip\")","v":"vnd.software602.filler.form-xml-zip"},{"$f":"IFERROR(__xludf.DUMMYFUNCTION(\"\"\"COMPUTED_VALUE\"\"\"),\"application/vnd.software602.filler.form-xml-zip\")","v":"application/vnd.software602.filler.form-xml-zip"},{"$f":"IFERROR(__xludf.DUMMYFUNCTION(\"\"\"COMPUTED_VALUE\"\"\"),\"en\")","v":"en"}]
[{"$f":"IFERROR(__xludf.DUMMYFUNCTION(\"\"\"COMPUTED_VALUE\"\"\"),\"https://www.iana.org/assignments/media-types/application/vnd.solent.sdkm+xml\")","v":"https://www.iana.org/assignments/media-types/application/vnd.solent.sdkm+xml"},{"$f":"IFERROR(__xludf.DUMMYFUNCTION(\"\"\"COMPUTED_VALUE\"\"\"),\"vnd.solent.sdkm+xml\")","v":"vnd.solent.sdkm+xml"},{"$f":"IFERROR(__xludf.DUMMYFUNCTION(\"\"\"COMPUTED_VALUE\"\"\"),\"vnd.solent.sdkm+xml\")","v":"vnd.solent.sdkm+xml"},{"$f":"IFERROR(__xludf.DUMMYFUNCTION(\"\"\"COMPUTED_VALUE\"\"\"),\"application/vnd.solent.sdkm+xml\")","v":"application/vnd.solent.sdkm+xml"},{"$f":"IFERROR(__xludf.DUMMYFUNCTION(\"\"\"COMPUTED_VALUE\"\"\"),\"en\")","v":"en"}]
[{"$f":"IFERROR(__xludf.DUMMYFUNCTION(\"\"\"COMPUTED_VALUE\"\"\"),\"https://www.iana.org/assignments/media-types/application/vnd.spotfire.dxp\")","v":"https://www.iana.org/assignments/media-types/application/vnd.spotfire.dxp"},{"$f":"IFERROR(__xludf.DUMMYFUNCTION(\"\"\"COMPUTED_VALUE\"\"\"),\"vnd.spotfire.dxp\")","v":"vnd.spotfire.dxp"},{"$f":"IFERROR(__xludf.DUMMYFUNCTION(\"\"\"COMPUTED_VALUE\"\"\"),\"vnd.spotfire.dxp\")","v":"vnd.spotfire.dxp"},{"$f":"IFERROR(__xludf.DUMMYFUNCTION(\"\"\"COMPUTED_VALUE\"\"\"),\"application/vnd.spotfire.dxp\")","v":"application/vnd.spotfire.dxp"},{"$f":"IFERROR(__xludf.DUMMYFUNCTION(\"\"\"COMPUTED_VALUE\"\"\"),\"en\")","v":"en"}]
[{"$f":"IFERROR(__xludf.DUMMYFUNCTION(\"\"\"COMPUTED_VALUE\"\"\"),\"https://www.iana.org/assignments/media-types/application/vnd.spotfire.sfs\")","v":"https://www.iana.org/assignments/media-types/application/vnd.spotfire.sfs"},{"$f":"IFERROR(__xludf.DUMMYFUNCTION(\"\"\"COMPUTED_VALUE\"\"\"),\"vnd.spotfire.sfs\")","v":"vnd.spotfire.sfs"},{"$f":"IFERROR(__xludf.DUMMYFUNCTION(\"\"\"COMPUTED_VALUE\"\"\"),\"vnd.spotfire.sfs\")","v":"vnd.spotfire.sfs"},{"$f":"IFERROR(__xludf.DUMMYFUNCTION(\"\"\"COMPUTED_VALUE\"\"\"),\"application/vnd.spotfire.sfs\")","v":"application/vnd.spotfire.sfs"},{"$f":"IFERROR(__xludf.DUMMYFUNCTION(\"\"\"COMPUTED_VALUE\"\"\"),\"en\")","v":"en"}]
[{"$f":"IFERROR(__xludf.DUMMYFUNCTION(\"\"\"COMPUTED_VALUE\"\"\"),\"https://www.iana.org/assignments/media-types/application/vnd.sqlite3\")","v":"https://www.iana.org/assignments/media-types/application/vnd.sqlite3"},{"$f":"IFERROR(__xludf.DUMMYFUNCTION(\"\"\"COMPUTED_VALUE\"\"\"),\"vnd.sqlite3\")","v":"vnd.sqlite3"},{"$f":"IFERROR(__xludf.DUMMYFUNCTION(\"\"\"COMPUTED_VALUE\"\"\"),\"vnd.sqlite3\")","v":"vnd.sqlite3"},{"$f":"IFERROR(__xludf.DUMMYFUNCTION(\"\"\"COMPUTED_VALUE\"\"\"),\"application/vnd.sqlite3\")","v":"application/vnd.sqlite3"},{"$f":"IFERROR(__xludf.DUMMYFUNCTION(\"\"\"COMPUTED_VALUE\"\"\"),\"en\")","v":"en"}]
[{"$f":"IFERROR(__xludf.DUMMYFUNCTION(\"\"\"COMPUTED_VALUE\"\"\"),\"https://www.iana.org/assignments/media-types/application/vnd.sss-cod\")","v":"https://www.iana.org/assignments/media-types/application/vnd.sss-cod"},{"$f":"IFERROR(__xludf.DUMMYFUNCTION(\"\"\"COMPUTED_VALUE\"\"\"),\"vnd.sss-cod\")","v":"vnd.sss-cod"},{"$f":"IFERROR(__xludf.DUMMYFUNCTION(\"\"\"COMPUTED_VALUE\"\"\"),\"vnd.sss-cod\")","v":"vnd.sss-cod"},{"$f":"IFERROR(__xludf.DUMMYFUNCTION(\"\"\"COMPUTED_VALUE\"\"\"),\"application/vnd.sss-cod\")","v":"application/vnd.sss-cod"},{"$f":"IFERROR(__xludf.DUMMYFUNCTION(\"\"\"COMPUTED_VALUE\"\"\"),\"en\")","v":"en"}]
[{"$f":"IFERROR(__xludf.DUMMYFUNCTION(\"\"\"COMPUTED_VALUE\"\"\"),\"https://www.iana.org/assignments/media-types/application/vnd.sss-dtf\")","v":"https://www.iana.org/assignments/media-types/application/vnd.sss-dtf"},{"$f":"IFERROR(__xludf.DUMMYFUNCTION(\"\"\"COMPUTED_VALUE\"\"\"),\"vnd.sss-dtf\")","v":"vnd.sss-dtf"},{"$f":"IFERROR(__xludf.DUMMYFUNCTION(\"\"\"COMPUTED_VALUE\"\"\"),\"vnd.sss-dtf\")","v":"vnd.sss-dtf"},{"$f":"IFERROR(__xludf.DUMMYFUNCTION(\"\"\"COMPUTED_VALUE\"\"\"),\"application/vnd.sss-dtf\")","v":"application/vnd.sss-dtf"},{"$f":"IFERROR(__xludf.DUMMYFUNCTION(\"\"\"COMPUTED_VALUE\"\"\"),\"en\")","v":"en"}]
[{"$f":"IFERROR(__xludf.DUMMYFUNCTION(\"\"\"COMPUTED_VALUE\"\"\"),\"https://www.iana.org/assignments/media-types/application/vnd.sss-ntf\")","v":"https://www.iana.org/assignments/media-types/application/vnd.sss-ntf"},{"$f":"IFERROR(__xludf.DUMMYFUNCTION(\"\"\"COMPUTED_VALUE\"\"\"),\"vnd.sss-ntf\")","v":"vnd.sss-ntf"},{"$f":"IFERROR(__xludf.DUMMYFUNCTION(\"\"\"COMPUTED_VALUE\"\"\"),\"vnd.sss-ntf\")","v":"vnd.sss-ntf"},{"$f":"IFERROR(__xludf.DUMMYFUNCTION(\"\"\"COMPUTED_VALUE\"\"\"),\"application/vnd.sss-ntf\")","v":"application/vnd.sss-ntf"},{"$f":"IFERROR(__xludf.DUMMYFUNCTION(\"\"\"COMPUTED_VALUE\"\"\"),\"en\")","v":"en"}]
[{"$f":"IFERROR(__xludf.DUMMYFUNCTION(\"\"\"COMPUTED_VALUE\"\"\"),\"https://www.iana.org/assignments/media-types/application/vnd.stepmania.package\")","v":"https://www.iana.org/assignments/media-types/application/vnd.stepmania.package"},{"$f":"IFERROR(__xludf.DUMMYFUNCTION(\"\"\"COMPUTED_VALUE\"\"\"),\"vnd.stepmania.package\")","v":"vnd.stepmania.package"},{"$f":"IFERROR(__xludf.DUMMYFUNCTION(\"\"\"COMPUTED_VALUE\"\"\"),\"vnd.stepmania.package\")","v":"vnd.stepmania.package"},{"$f":"IFERROR(__xludf.DUMMYFUNCTION(\"\"\"COMPUTED_VALUE\"\"\"),\"application/vnd.stepmania.package\")","v":"application/vnd.stepmania.package"},{"$f":"IFERROR(__xludf.DUMMYFUNCTION(\"\"\"COMPUTED_VALUE\"\"\"),\"en\")","v":"en"}]
[{"$f":"IFERROR(__xludf.DUMMYFUNCTION(\"\"\"COMPUTED_VALUE\"\"\"),\"https://www.iana.org/assignments/media-types/application/vnd.stepmania.stepchart\")","v":"https://www.iana.org/assignments/media-types/application/vnd.stepmania.stepchart"},{"$f":"IFERROR(__xludf.DUMMYFUNCTION(\"\"\"COMPUTED_VALUE\"\"\"),\"vnd.stepmania.stepchart\")","v":"vnd.stepmania.stepchart"},{"$f":"IFERROR(__xludf.DUMMYFUNCTION(\"\"\"COMPUTED_VALUE\"\"\"),\"vnd.stepmania.stepchart\")","v":"vnd.stepmania.stepchart"},{"$f":"IFERROR(__xludf.DUMMYFUNCTION(\"\"\"COMPUTED_VALUE\"\"\"),\"application/vnd.stepmania.stepchart\")","v":"application/vnd.stepmania.stepchart"},{"$f":"IFERROR(__xludf.DUMMYFUNCTION(\"\"\"COMPUTED_VALUE\"\"\"),\"en\")","v":"en"}]
[{"$f":"IFERROR(__xludf.DUMMYFUNCTION(\"\"\"COMPUTED_VALUE\"\"\"),\"https://www.iana.org/assignments/media-types/application/vnd.street-stream\")","v":"https://www.iana.org/assignments/media-types/application/vnd.street-stream"},{"$f":"IFERROR(__xludf.DUMMYFUNCTION(\"\"\"COMPUTED_VALUE\"\"\"),\"vnd.street-stream\")","v":"vnd.street-stream"},{"$f":"IFERROR(__xludf.DUMMYFUNCTION(\"\"\"COMPUTED_VALUE\"\"\"),\"vnd.street-stream\")","v":"vnd.street-stream"},{"$f":"IFERROR(__xludf.DUMMYFUNCTION(\"\"\"COMPUTED_VALUE\"\"\"),\"application/vnd.street-stream\")","v":"application/vnd.street-stream"},{"$f":"IFERROR(__xludf.DUMMYFUNCTION(\"\"\"COMPUTED_VALUE\"\"\"),\"en\")","v":"en"}]
[{"$f":"IFERROR(__xludf.DUMMYFUNCTION(\"\"\"COMPUTED_VALUE\"\"\"),\"https://www.iana.org/assignments/media-types/application/vnd.sun.wadl+xml\")","v":"https://www.iana.org/assignments/media-types/application/vnd.sun.wadl+xml"},{"$f":"IFERROR(__xludf.DUMMYFUNCTION(\"\"\"COMPUTED_VALUE\"\"\"),\"vnd.sun.wadl+xml\")","v":"vnd.sun.wadl+xml"},{"$f":"IFERROR(__xludf.DUMMYFUNCTION(\"\"\"COMPUTED_VALUE\"\"\"),\"vnd.sun.wadl+xml\")","v":"vnd.sun.wadl+xml"},{"$f":"IFERROR(__xludf.DUMMYFUNCTION(\"\"\"COMPUTED_VALUE\"\"\"),\"application/vnd.sun.wadl+xml\")","v":"application/vnd.sun.wadl+xml"},{"$f":"IFERROR(__xludf.DUMMYFUNCTION(\"\"\"COMPUTED_VALUE\"\"\"),\"en\")","v":"en"}]
[{"$f":"IFERROR(__xludf.DUMMYFUNCTION(\"\"\"COMPUTED_VALUE\"\"\"),\"https://www.iana.org/assignments/media-types/application/vnd.sus-calendar\")","v":"https://www.iana.org/assignments/media-types/application/vnd.sus-calendar"},{"$f":"IFERROR(__xludf.DUMMYFUNCTION(\"\"\"COMPUTED_VALUE\"\"\"),\"vnd.sus-calendar\")","v":"vnd.sus-calendar"},{"$f":"IFERROR(__xludf.DUMMYFUNCTION(\"\"\"COMPUTED_VALUE\"\"\"),\"vnd.sus-calendar\")","v":"vnd.sus-calendar"},{"$f":"IFERROR(__xludf.DUMMYFUNCTION(\"\"\"COMPUTED_VALUE\"\"\"),\"application/vnd.sus-calendar\")","v":"application/vnd.sus-calendar"},{"$f":"IFERROR(__xludf.DUMMYFUNCTION(\"\"\"COMPUTED_VALUE\"\"\"),\"en\")","v":"en"}]
[{"$f":"IFERROR(__xludf.DUMMYFUNCTION(\"\"\"COMPUTED_VALUE\"\"\"),\"https://www.iana.org/assignments/media-types/application/vnd.svd\")","v":"https://www.iana.org/assignments/media-types/application/vnd.svd"},{"$f":"IFERROR(__xludf.DUMMYFUNCTION(\"\"\"COMPUTED_VALUE\"\"\"),\"vnd.svd\")","v":"vnd.svd"},{"$f":"IFERROR(__xludf.DUMMYFUNCTION(\"\"\"COMPUTED_VALUE\"\"\"),\"vnd.svd\")","v":"vnd.svd"},{"$f":"IFERROR(__xludf.DUMMYFUNCTION(\"\"\"COMPUTED_VALUE\"\"\"),\"application/vnd.svd\")","v":"application/vnd.svd"},{"$f":"IFERROR(__xludf.DUMMYFUNCTION(\"\"\"COMPUTED_VALUE\"\"\"),\"en\")","v":"en"}]
[{"$f":"IFERROR(__xludf.DUMMYFUNCTION(\"\"\"COMPUTED_VALUE\"\"\"),\"https://www.iana.org/assignments/media-types/application/vnd.swiftview-ics\")","v":"https://www.iana.org/assignments/media-types/application/vnd.swiftview-ics"},{"$f":"IFERROR(__xludf.DUMMYFUNCTION(\"\"\"COMPUTED_VALUE\"\"\"),\"vnd.swiftview-ics\")","v":"vnd.swiftview-ics"},{"$f":"IFERROR(__xludf.DUMMYFUNCTION(\"\"\"COMPUTED_VALUE\"\"\"),\"vnd.swiftview-ics\")","v":"vnd.swiftview-ics"},{"$f":"IFERROR(__xludf.DUMMYFUNCTION(\"\"\"COMPUTED_VALUE\"\"\"),\"application/vnd.swiftview-ics\")","v":"application/vnd.swiftview-ics"},{"$f":"IFERROR(__xludf.DUMMYFUNCTION(\"\"\"COMPUTED_VALUE\"\"\"),\"en\")","v":"en"}]
[{"$f":"IFERROR(__xludf.DUMMYFUNCTION(\"\"\"COMPUTED_VALUE\"\"\"),\"https://www.iana.org/assignments/media-types/application/vnd.sybyl.mol2\")","v":"https://www.iana.org/assignments/media-types/application/vnd.sybyl.mol2"},{"$f":"IFERROR(__xludf.DUMMYFUNCTION(\"\"\"COMPUTED_VALUE\"\"\"),\"vnd.sybyl.mol2\")","v":"vnd.sybyl.mol2"},{"$f":"IFERROR(__xludf.DUMMYFUNCTION(\"\"\"COMPUTED_VALUE\"\"\"),\"vnd.sybyl.mol2\")","v":"vnd.sybyl.mol2"},{"$f":"IFERROR(__xludf.DUMMYFUNCTION(\"\"\"COMPUTED_VALUE\"\"\"),\"application/vnd.sybyl.mol2\")","v":"application/vnd.sybyl.mol2"},{"$f":"IFERROR(__xludf.DUMMYFUNCTION(\"\"\"COMPUTED_VALUE\"\"\"),\"en\")","v":"en"}]
[{"$f":"IFERROR(__xludf.DUMMYFUNCTION(\"\"\"COMPUTED_VALUE\"\"\"),\"https://www.iana.org/assignments/media-types/application/vnd.sycle+xml\")","v":"https://www.iana.org/assignments/media-types/application/vnd.sycle+xml"},{"$f":"IFERROR(__xludf.DUMMYFUNCTION(\"\"\"COMPUTED_VALUE\"\"\"),\"vnd.sycle+xml\")","v":"vnd.sycle+xml"},{"$f":"IFERROR(__xludf.DUMMYFUNCTION(\"\"\"COMPUTED_VALUE\"\"\"),\"vnd.sycle+xml\")","v":"vnd.sycle+xml"},{"$f":"IFERROR(__xludf.DUMMYFUNCTION(\"\"\"COMPUTED_VALUE\"\"\"),\"application/vnd.sycle+xml\")","v":"application/vnd.sycle+xml"},{"$f":"IFERROR(__xludf.DUMMYFUNCTION(\"\"\"COMPUTED_VALUE\"\"\"),\"en\")","v":"en"}]
[{"$f":"IFERROR(__xludf.DUMMYFUNCTION(\"\"\"COMPUTED_VALUE\"\"\"),\"https://www.iana.org/assignments/media-types/application/vnd.syft+json\")","v":"https://www.iana.org/assignments/media-types/application/vnd.syft+json"},{"$f":"IFERROR(__xludf.DUMMYFUNCTION(\"\"\"COMPUTED_VALUE\"\"\"),\"vnd.syft+json\")","v":"vnd.syft+json"},{"$f":"IFERROR(__xludf.DUMMYFUNCTION(\"\"\"COMPUTED_VALUE\"\"\"),\"vnd.syft+json\")","v":"vnd.syft+json"},{"$f":"IFERROR(__xludf.DUMMYFUNCTION(\"\"\"COMPUTED_VALUE\"\"\"),\"application/vnd.syft+json\")","v":"application/vnd.syft+json"},{"$f":"IFERROR(__xludf.DUMMYFUNCTION(\"\"\"COMPUTED_VALUE\"\"\"),\"en\")","v":"en"}]
[{"$f":"IFERROR(__xludf.DUMMYFUNCTION(\"\"\"COMPUTED_VALUE\"\"\"),\"https://www.iana.org/assignments/media-types/application/vnd.syncml.dm.notification\")","v":"https://www.iana.org/assignments/media-types/application/vnd.syncml.dm.notification"},{"$f":"IFERROR(__xludf.DUMMYFUNCTION(\"\"\"COMPUTED_VALUE\"\"\"),\"vnd.syncml.dm.notification\")","v":"vnd.syncml.dm.notification"},{"$f":"IFERROR(__xludf.DUMMYFUNCTION(\"\"\"COMPUTED_VALUE\"\"\"),\"vnd.syncml.dm.notification\")","v":"vnd.syncml.dm.notification"},{"$f":"IFERROR(__xludf.DUMMYFUNCTION(\"\"\"COMPUTED_VALUE\"\"\"),\"application/vnd.syncml.dm.notification\")","v":"application/vnd.syncml.dm.notification"},{"$f":"IFERROR(__xludf.DUMMYFUNCTION(\"\"\"COMPUTED_VALUE\"\"\"),\"en\")","v":"en"}]
[{"$f":"IFERROR(__xludf.DUMMYFUNCTION(\"\"\"COMPUTED_VALUE\"\"\"),\"https://www.iana.org/assignments/media-types/application/vnd.syncml.dmddf+xml\")","v":"https://www.iana.org/assignments/media-types/application/vnd.syncml.dmddf+xml"},{"$f":"IFERROR(__xludf.DUMMYFUNCTION(\"\"\"COMPUTED_VALUE\"\"\"),\"vnd.syncml.dmddf+xml\")","v":"vnd.syncml.dmddf+xml"},{"$f":"IFERROR(__xludf.DUMMYFUNCTION(\"\"\"COMPUTED_VALUE\"\"\"),\"vnd.syncml.dmddf+xml\")","v":"vnd.syncml.dmddf+xml"},{"$f":"IFERROR(__xludf.DUMMYFUNCTION(\"\"\"COMPUTED_VALUE\"\"\"),\"application/vnd.syncml.dmddf+xml\")","v":"application/vnd.syncml.dmddf+xml"},{"$f":"IFERROR(__xludf.DUMMYFUNCTION(\"\"\"COMPUTED_VALUE\"\"\"),\"en\")","v":"en"}]
[{"$f":"IFERROR(__xludf.DUMMYFUNCTION(\"\"\"COMPUTED_VALUE\"\"\"),\"https://www.iana.org/assignments/media-types/application/vnd.syncml.dmtnds+wbxml\")","v":"https://www.iana.org/assignments/media-types/application/vnd.syncml.dmtnds+wbxml"},{"$f":"IFERROR(__xludf.DUMMYFUNCTION(\"\"\"COMPUTED_VALUE\"\"\"),\"vnd.syncml.dmtnds+wbxml\")","v":"vnd.syncml.dmtnds+wbxml"},{"$f":"IFERROR(__xludf.DUMMYFUNCTION(\"\"\"COMPUTED_VALUE\"\"\"),\"vnd.syncml.dmtnds+wbxml\")","v":"vnd.syncml.dmtnds+wbxml"},{"$f":"IFERROR(__xludf.DUMMYFUNCTION(\"\"\"COMPUTED_VALUE\"\"\"),\"application/vnd.syncml.dmtnds+wbxml\")","v":"application/vnd.syncml.dmtnds+wbxml"},{"$f":"IFERROR(__xludf.DUMMYFUNCTION(\"\"\"COMPUTED_VALUE\"\"\"),\"en\")","v":"en"}]
[{"$f":"IFERROR(__xludf.DUMMYFUNCTION(\"\"\"COMPUTED_VALUE\"\"\"),\"https://www.iana.org/assignments/media-types/application/vnd.syncml.dmtnds+xml\")","v":"https://www.iana.org/assignments/media-types/application/vnd.syncml.dmtnds+xml"},{"$f":"IFERROR(__xludf.DUMMYFUNCTION(\"\"\"COMPUTED_VALUE\"\"\"),\"vnd.syncml.dmtnds+xml\")","v":"vnd.syncml.dmtnds+xml"},{"$f":"IFERROR(__xludf.DUMMYFUNCTION(\"\"\"COMPUTED_VALUE\"\"\"),\"vnd.syncml.dmtnds+xml\")","v":"vnd.syncml.dmtnds+xml"},{"$f":"IFERROR(__xludf.DUMMYFUNCTION(\"\"\"COMPUTED_VALUE\"\"\"),\"application/vnd.syncml.dmtnds+xml\")","v":"application/vnd.syncml.dmtnds+xml"},{"$f":"IFERROR(__xludf.DUMMYFUNCTION(\"\"\"COMPUTED_VALUE\"\"\"),\"en\")","v":"en"}]
[{"$f":"IFERROR(__xludf.DUMMYFUNCTION(\"\"\"COMPUTED_VALUE\"\"\"),\"https://www.iana.org/assignments/media-types/application/vnd.syncml.dmddf+wbxml\")","v":"https://www.iana.org/assignments/media-types/application/vnd.syncml.dmddf+wbxml"},{"$f":"IFERROR(__xludf.DUMMYFUNCTION(\"\"\"COMPUTED_VALUE\"\"\"),\"vnd.syncml.dmddf+wbxml\")","v":"vnd.syncml.dmddf+wbxml"},{"$f":"IFERROR(__xludf.DUMMYFUNCTION(\"\"\"COMPUTED_VALUE\"\"\"),\"vnd.syncml.dmddf+wbxml\")","v":"vnd.syncml.dmddf+wbxml"},{"$f":"IFERROR(__xludf.DUMMYFUNCTION(\"\"\"COMPUTED_VALUE\"\"\"),\"application/vnd.syncml.dmddf+wbxml\")","v":"application/vnd.syncml.dmddf+wbxml"},{"$f":"IFERROR(__xludf.DUMMYFUNCTION(\"\"\"COMPUTED_VALUE\"\"\"),\"en\")","v":"en"}]
[{"$f":"IFERROR(__xludf.DUMMYFUNCTION(\"\"\"COMPUTED_VALUE\"\"\"),\"https://www.iana.org/assignments/media-types/application/vnd.syncml.dm+wbxml\")","v":"https://www.iana.org/assignments/media-types/application/vnd.syncml.dm+wbxml"},{"$f":"IFERROR(__xludf.DUMMYFUNCTION(\"\"\"COMPUTED_VALUE\"\"\"),\"vnd.syncml.dm+wbxml\")","v":"vnd.syncml.dm+wbxml"},{"$f":"IFERROR(__xludf.DUMMYFUNCTION(\"\"\"COMPUTED_VALUE\"\"\"),\"vnd.syncml.dm+wbxml\")","v":"vnd.syncml.dm+wbxml"},{"$f":"IFERROR(__xludf.DUMMYFUNCTION(\"\"\"COMPUTED_VALUE\"\"\"),\"application/vnd.syncml.dm+wbxml\")","v":"application/vnd.syncml.dm+wbxml"},{"$f":"IFERROR(__xludf.DUMMYFUNCTION(\"\"\"COMPUTED_VALUE\"\"\"),\"en\")","v":"en"}]
[{"$f":"IFERROR(__xludf.DUMMYFUNCTION(\"\"\"COMPUTED_VALUE\"\"\"),\"https://www.iana.org/assignments/media-types/application/vnd.syncml.dm+xml\")","v":"https://www.iana.org/assignments/media-types/application/vnd.syncml.dm+xml"},{"$f":"IFERROR(__xludf.DUMMYFUNCTION(\"\"\"COMPUTED_VALUE\"\"\"),\"vnd.syncml.dm+xml\")","v":"vnd.syncml.dm+xml"},{"$f":"IFERROR(__xludf.DUMMYFUNCTION(\"\"\"COMPUTED_VALUE\"\"\"),\"vnd.syncml.dm+xml\")","v":"vnd.syncml.dm+xml"},{"$f":"IFERROR(__xludf.DUMMYFUNCTION(\"\"\"COMPUTED_VALUE\"\"\"),\"application/vnd.syncml.dm+xml\")","v":"application/vnd.syncml.dm+xml"},{"$f":"IFERROR(__xludf.DUMMYFUNCTION(\"\"\"COMPUTED_VALUE\"\"\"),\"en\")","v":"en"}]
[{"$f":"IFERROR(__xludf.DUMMYFUNCTION(\"\"\"COMPUTED_VALUE\"\"\"),\"https://www.iana.org/assignments/media-types/application/vnd.syncml.ds.notification\")","v":"https://www.iana.org/assignments/media-types/application/vnd.syncml.ds.notification"},{"$f":"IFERROR(__xludf.DUMMYFUNCTION(\"\"\"COMPUTED_VALUE\"\"\"),\"vnd.syncml.ds.notification\")","v":"vnd.syncml.ds.notification"},{"$f":"IFERROR(__xludf.DUMMYFUNCTION(\"\"\"COMPUTED_VALUE\"\"\"),\"vnd.syncml.ds.notification\")","v":"vnd.syncml.ds.notification"},{"$f":"IFERROR(__xludf.DUMMYFUNCTION(\"\"\"COMPUTED_VALUE\"\"\"),\"application/vnd.syncml.ds.notification\")","v":"application/vnd.syncml.ds.notification"},{"$f":"IFERROR(__xludf.DUMMYFUNCTION(\"\"\"COMPUTED_VALUE\"\"\"),\"en\")","v":"en"}]
[{"$f":"IFERROR(__xludf.DUMMYFUNCTION(\"\"\"COMPUTED_VALUE\"\"\"),\"https://www.iana.org/assignments/media-types/application/vnd.syncml+xml\")","v":"https://www.iana.org/assignments/media-types/application/vnd.syncml+xml"},{"$f":"IFERROR(__xludf.DUMMYFUNCTION(\"\"\"COMPUTED_VALUE\"\"\"),\"vnd.syncml+xml\")","v":"vnd.syncml+xml"},{"$f":"IFERROR(__xludf.DUMMYFUNCTION(\"\"\"COMPUTED_VALUE\"\"\"),\"vnd.syncml+xml\")","v":"vnd.syncml+xml"},{"$f":"IFERROR(__xludf.DUMMYFUNCTION(\"\"\"COMPUTED_VALUE\"\"\"),\"application/vnd.syncml+xml\")","v":"application/vnd.syncml+xml"},{"$f":"IFERROR(__xludf.DUMMYFUNCTION(\"\"\"COMPUTED_VALUE\"\"\"),\"en\")","v":"en"}]
[{"$f":"IFERROR(__xludf.DUMMYFUNCTION(\"\"\"COMPUTED_VALUE\"\"\"),\"https://www.iana.org/assignments/media-types/application/vnd.tableschema+json\")","v":"https://www.iana.org/assignments/media-types/application/vnd.tableschema+json"},{"$f":"IFERROR(__xludf.DUMMYFUNCTION(\"\"\"COMPUTED_VALUE\"\"\"),\"vnd.tableschema+json\")","v":"vnd.tableschema+json"},{"$f":"IFERROR(__xludf.DUMMYFUNCTION(\"\"\"COMPUTED_VALUE\"\"\"),\"vnd.tableschema+json\")","v":"vnd.tableschema+json"},{"$f":"IFERROR(__xludf.DUMMYFUNCTION(\"\"\"COMPUTED_VALUE\"\"\"),\"application/vnd.tableschema+json\")","v":"application/vnd.tableschema+json"},{"$f":"IFERROR(__xludf.DUMMYFUNCTION(\"\"\"COMPUTED_VALUE\"\"\"),\"en\")","v":"en"}]
[{"$f":"IFERROR(__xludf.DUMMYFUNCTION(\"\"\"COMPUTED_VALUE\"\"\"),\"https://www.iana.org/assignments/media-types/application/vnd.tao.intent-module-archive\")","v":"https://www.iana.org/assignments/media-types/application/vnd.tao.intent-module-archive"},{"$f":"IFERROR(__xludf.DUMMYFUNCTION(\"\"\"COMPUTED_VALUE\"\"\"),\"vnd.tao.intent-module-archive\")","v":"vnd.tao.intent-module-archive"},{"$f":"IFERROR(__xludf.DUMMYFUNCTION(\"\"\"COMPUTED_VALUE\"\"\"),\"vnd.tao.intent-module-archive\")","v":"vnd.tao.intent-module-archive"},{"$f":"IFERROR(__xludf.DUMMYFUNCTION(\"\"\"COMPUTED_VALUE\"\"\"),\"application/vnd.tao.intent-module-archive\")","v":"application/vnd.tao.intent-module-archive"},{"$f":"IFERROR(__xludf.DUMMYFUNCTION(\"\"\"COMPUTED_VALUE\"\"\"),\"en\")","v":"en"}]
[{"$f":"IFERROR(__xludf.DUMMYFUNCTION(\"\"\"COMPUTED_VALUE\"\"\"),\"https://www.iana.org/assignments/media-types/application/vnd.tcpdump.pcap\")","v":"https://www.iana.org/assignments/media-types/application/vnd.tcpdump.pcap"},{"$f":"IFERROR(__xludf.DUMMYFUNCTION(\"\"\"COMPUTED_VALUE\"\"\"),\"vnd.tcpdump.pcap\")","v":"vnd.tcpdump.pcap"},{"$f":"IFERROR(__xludf.DUMMYFUNCTION(\"\"\"COMPUTED_VALUE\"\"\"),\"vnd.tcpdump.pcap\")","v":"vnd.tcpdump.pcap"},{"$f":"IFERROR(__xludf.DUMMYFUNCTION(\"\"\"COMPUTED_VALUE\"\"\"),\"application/vnd.tcpdump.pcap\")","v":"application/vnd.tcpdump.pcap"},{"$f":"IFERROR(__xludf.DUMMYFUNCTION(\"\"\"COMPUTED_VALUE\"\"\"),\"en\")","v":"en"}]
[{"$f":"IFERROR(__xludf.DUMMYFUNCTION(\"\"\"COMPUTED_VALUE\"\"\"),\"https://www.iana.org/assignments/media-types/application/vnd.think-cell.ppttc+json\")","v":"https://www.iana.org/assignments/media-types/application/vnd.think-cell.ppttc+json"},{"$f":"IFERROR(__xludf.DUMMYFUNCTION(\"\"\"COMPUTED_VALUE\"\"\"),\"vnd.think-cell.ppttc+json\")","v":"vnd.think-cell.ppttc+json"},{"$f":"IFERROR(__xludf.DUMMYFUNCTION(\"\"\"COMPUTED_VALUE\"\"\"),\"vnd.think-cell.ppttc+json\")","v":"vnd.think-cell.ppttc+json"},{"$f":"IFERROR(__xludf.DUMMYFUNCTION(\"\"\"COMPUTED_VALUE\"\"\"),\"application/vnd.think-cell.ppttc+json\")","v":"application/vnd.think-cell.ppttc+json"},{"$f":"IFERROR(__xludf.DUMMYFUNCTION(\"\"\"COMPUTED_VALUE\"\"\"),\"en\")","v":"en"}]
[{"$f":"IFERROR(__xludf.DUMMYFUNCTION(\"\"\"COMPUTED_VALUE\"\"\"),\"https://www.iana.org/assignments/media-types/application/vnd.tml\")","v":"https://www.iana.org/assignments/media-types/application/vnd.tml"},{"$f":"IFERROR(__xludf.DUMMYFUNCTION(\"\"\"COMPUTED_VALUE\"\"\"),\"vnd.tml\")","v":"vnd.tml"},{"$f":"IFERROR(__xludf.DUMMYFUNCTION(\"\"\"COMPUTED_VALUE\"\"\"),\"vnd.tml\")","v":"vnd.tml"},{"$f":"IFERROR(__xludf.DUMMYFUNCTION(\"\"\"COMPUTED_VALUE\"\"\"),\"application/vnd.tml\")","v":"application/vnd.tml"},{"$f":"IFERROR(__xludf.DUMMYFUNCTION(\"\"\"COMPUTED_VALUE\"\"\"),\"en\")","v":"en"}]
[{"$f":"IFERROR(__xludf.DUMMYFUNCTION(\"\"\"COMPUTED_VALUE\"\"\"),\"https://www.iana.org/assignments/media-types/application/vnd.tmd.mediaflex.api+xml\")","v":"https://www.iana.org/assignments/media-types/application/vnd.tmd.mediaflex.api+xml"},{"$f":"IFERROR(__xludf.DUMMYFUNCTION(\"\"\"COMPUTED_VALUE\"\"\"),\"vnd.tmd.mediaflex.api+xml\")","v":"vnd.tmd.mediaflex.api+xml"},{"$f":"IFERROR(__xludf.DUMMYFUNCTION(\"\"\"COMPUTED_VALUE\"\"\"),\"vnd.tmd.mediaflex.api+xml\")","v":"vnd.tmd.mediaflex.api+xml"},{"$f":"IFERROR(__xludf.DUMMYFUNCTION(\"\"\"COMPUTED_VALUE\"\"\"),\"application/vnd.tmd.mediaflex.api+xml\")","v":"application/vnd.tmd.mediaflex.api+xml"},{"$f":"IFERROR(__xludf.DUMMYFUNCTION(\"\"\"COMPUTED_VALUE\"\"\"),\"en\")","v":"en"}]
[{"$f":"IFERROR(__xludf.DUMMYFUNCTION(\"\"\"COMPUTED_VALUE\"\"\"),\"https://www.iana.org/assignments/media-types/application/vnd.tmobile-livetv\")","v":"https://www.iana.org/assignments/media-types/application/vnd.tmobile-livetv"},{"$f":"IFERROR(__xludf.DUMMYFUNCTION(\"\"\"COMPUTED_VALUE\"\"\"),\"vnd.tmobile-livetv\")","v":"vnd.tmobile-livetv"},{"$f":"IFERROR(__xludf.DUMMYFUNCTION(\"\"\"COMPUTED_VALUE\"\"\"),\"vnd.tmobile-livetv\")","v":"vnd.tmobile-livetv"},{"$f":"IFERROR(__xludf.DUMMYFUNCTION(\"\"\"COMPUTED_VALUE\"\"\"),\"application/vnd.tmobile-livetv\")","v":"application/vnd.tmobile-livetv"},{"$f":"IFERROR(__xludf.DUMMYFUNCTION(\"\"\"COMPUTED_VALUE\"\"\"),\"en\")","v":"en"}]
[{"$f":"IFERROR(__xludf.DUMMYFUNCTION(\"\"\"COMPUTED_VALUE\"\"\"),\"https://www.iana.org/assignments/media-types/application/vnd.tri.onesource\")","v":"https://www.iana.org/assignments/media-types/application/vnd.tri.onesource"},{"$f":"IFERROR(__xludf.DUMMYFUNCTION(\"\"\"COMPUTED_VALUE\"\"\"),\"vnd.tri.onesource\")","v":"vnd.tri.onesource"},{"$f":"IFERROR(__xludf.DUMMYFUNCTION(\"\"\"COMPUTED_VALUE\"\"\"),\"vnd.tri.onesource\")","v":"vnd.tri.onesource"},{"$f":"IFERROR(__xludf.DUMMYFUNCTION(\"\"\"COMPUTED_VALUE\"\"\"),\"application/vnd.tri.onesource\")","v":"application/vnd.tri.onesource"},{"$f":"IFERROR(__xludf.DUMMYFUNCTION(\"\"\"COMPUTED_VALUE\"\"\"),\"en\")","v":"en"}]
[{"$f":"IFERROR(__xludf.DUMMYFUNCTION(\"\"\"COMPUTED_VALUE\"\"\"),\"https://www.iana.org/assignments/media-types/application/vnd.trid.tpt\")","v":"https://www.iana.org/assignments/media-types/application/vnd.trid.tpt"},{"$f":"IFERROR(__xludf.DUMMYFUNCTION(\"\"\"COMPUTED_VALUE\"\"\"),\"vnd.trid.tpt\")","v":"vnd.trid.tpt"},{"$f":"IFERROR(__xludf.DUMMYFUNCTION(\"\"\"COMPUTED_VALUE\"\"\"),\"vnd.trid.tpt\")","v":"vnd.trid.tpt"},{"$f":"IFERROR(__xludf.DUMMYFUNCTION(\"\"\"COMPUTED_VALUE\"\"\"),\"application/vnd.trid.tpt\")","v":"application/vnd.trid.tpt"},{"$f":"IFERROR(__xludf.DUMMYFUNCTION(\"\"\"COMPUTED_VALUE\"\"\"),\"en\")","v":"en"}]
[{"$f":"IFERROR(__xludf.DUMMYFUNCTION(\"\"\"COMPUTED_VALUE\"\"\"),\"https://www.iana.org/assignments/media-types/application/vnd.triscape.mxs\")","v":"https://www.iana.org/assignments/media-types/application/vnd.triscape.mxs"},{"$f":"IFERROR(__xludf.DUMMYFUNCTION(\"\"\"COMPUTED_VALUE\"\"\"),\"vnd.triscape.mxs\")","v":"vnd.triscape.mxs"},{"$f":"IFERROR(__xludf.DUMMYFUNCTION(\"\"\"COMPUTED_VALUE\"\"\"),\"vnd.triscape.mxs\")","v":"vnd.triscape.mxs"},{"$f":"IFERROR(__xludf.DUMMYFUNCTION(\"\"\"COMPUTED_VALUE\"\"\"),\"application/vnd.triscape.mxs\")","v":"application/vnd.triscape.mxs"},{"$f":"IFERROR(__xludf.DUMMYFUNCTION(\"\"\"COMPUTED_VALUE\"\"\"),\"en\")","v":"en"}]
[{"$f":"IFERROR(__xludf.DUMMYFUNCTION(\"\"\"COMPUTED_VALUE\"\"\"),\"https://www.iana.org/assignments/media-types/application/vnd.trueapp\")","v":"https://www.iana.org/assignments/media-types/application/vnd.trueapp"},{"$f":"IFERROR(__xludf.DUMMYFUNCTION(\"\"\"COMPUTED_VALUE\"\"\"),\"vnd.trueapp\")","v":"vnd.trueapp"},{"$f":"IFERROR(__xludf.DUMMYFUNCTION(\"\"\"COMPUTED_VALUE\"\"\"),\"vnd.trueapp\")","v":"vnd.trueapp"},{"$f":"IFERROR(__xludf.DUMMYFUNCTION(\"\"\"COMPUTED_VALUE\"\"\"),\"application/vnd.trueapp\")","v":"application/vnd.trueapp"},{"$f":"IFERROR(__xludf.DUMMYFUNCTION(\"\"\"COMPUTED_VALUE\"\"\"),\"en\")","v":"en"}]
[{"$f":"IFERROR(__xludf.DUMMYFUNCTION(\"\"\"COMPUTED_VALUE\"\"\"),\"https://www.iana.org/assignments/media-types/application/vnd.truedoc\")","v":"https://www.iana.org/assignments/media-types/application/vnd.truedoc"},{"$f":"IFERROR(__xludf.DUMMYFUNCTION(\"\"\"COMPUTED_VALUE\"\"\"),\"vnd.truedoc\")","v":"vnd.truedoc"},{"$f":"IFERROR(__xludf.DUMMYFUNCTION(\"\"\"COMPUTED_VALUE\"\"\"),\"vnd.truedoc\")","v":"vnd.truedoc"},{"$f":"IFERROR(__xludf.DUMMYFUNCTION(\"\"\"COMPUTED_VALUE\"\"\"),\"application/vnd.truedoc\")","v":"application/vnd.truedoc"},{"$f":"IFERROR(__xludf.DUMMYFUNCTION(\"\"\"COMPUTED_VALUE\"\"\"),\"en\")","v":"en"}]
[{"$f":"IFERROR(__xludf.DUMMYFUNCTION(\"\"\"COMPUTED_VALUE\"\"\"),\"https://www.iana.org/assignments/media-types/application/vnd.ubisoft.webplayer\")","v":"https://www.iana.org/assignments/media-types/application/vnd.ubisoft.webplayer"},{"$f":"IFERROR(__xludf.DUMMYFUNCTION(\"\"\"COMPUTED_VALUE\"\"\"),\"vnd.ubisoft.webplayer\")","v":"vnd.ubisoft.webplayer"},{"$f":"IFERROR(__xludf.DUMMYFUNCTION(\"\"\"COMPUTED_VALUE\"\"\"),\"vnd.ubisoft.webplayer\")","v":"vnd.ubisoft.webplayer"},{"$f":"IFERROR(__xludf.DUMMYFUNCTION(\"\"\"COMPUTED_VALUE\"\"\"),\"application/vnd.ubisoft.webplayer\")","v":"application/vnd.ubisoft.webplayer"},{"$f":"IFERROR(__xludf.DUMMYFUNCTION(\"\"\"COMPUTED_VALUE\"\"\"),\"en\")","v":"en"}]
[{"$f":"IFERROR(__xludf.DUMMYFUNCTION(\"\"\"COMPUTED_VALUE\"\"\"),\"https://www.iana.org/assignments/media-types/application/vnd.ufdl\")","v":"https://www.iana.org/assignments/media-types/application/vnd.ufdl"},{"$f":"IFERROR(__xludf.DUMMYFUNCTION(\"\"\"COMPUTED_VALUE\"\"\"),\"vnd.ufdl\")","v":"vnd.ufdl"},{"$f":"IFERROR(__xludf.DUMMYFUNCTION(\"\"\"COMPUTED_VALUE\"\"\"),\"vnd.ufdl\")","v":"vnd.ufdl"},{"$f":"IFERROR(__xludf.DUMMYFUNCTION(\"\"\"COMPUTED_VALUE\"\"\"),\"application/vnd.ufdl\")","v":"application/vnd.ufdl"},{"$f":"IFERROR(__xludf.DUMMYFUNCTION(\"\"\"COMPUTED_VALUE\"\"\"),\"en\")","v":"en"}]
[{"$f":"IFERROR(__xludf.DUMMYFUNCTION(\"\"\"COMPUTED_VALUE\"\"\"),\"https://www.iana.org/assignments/media-types/application/vnd.uiq.theme\")","v":"https://www.iana.org/assignments/media-types/application/vnd.uiq.theme"},{"$f":"IFERROR(__xludf.DUMMYFUNCTION(\"\"\"COMPUTED_VALUE\"\"\"),\"vnd.uiq.theme\")","v":"vnd.uiq.theme"},{"$f":"IFERROR(__xludf.DUMMYFUNCTION(\"\"\"COMPUTED_VALUE\"\"\"),\"vnd.uiq.theme\")","v":"vnd.uiq.theme"},{"$f":"IFERROR(__xludf.DUMMYFUNCTION(\"\"\"COMPUTED_VALUE\"\"\"),\"application/vnd.uiq.theme\")","v":"application/vnd.uiq.theme"},{"$f":"IFERROR(__xludf.DUMMYFUNCTION(\"\"\"COMPUTED_VALUE\"\"\"),\"en\")","v":"en"}]
[{"$f":"IFERROR(__xludf.DUMMYFUNCTION(\"\"\"COMPUTED_VALUE\"\"\"),\"https://www.iana.org/assignments/media-types/application/vnd.umajin\")","v":"https://www.iana.org/assignments/media-types/application/vnd.umajin"},{"$f":"IFERROR(__xludf.DUMMYFUNCTION(\"\"\"COMPUTED_VALUE\"\"\"),\"vnd.umajin\")","v":"vnd.umajin"},{"$f":"IFERROR(__xludf.DUMMYFUNCTION(\"\"\"COMPUTED_VALUE\"\"\"),\"vnd.umajin\")","v":"vnd.umajin"},{"$f":"IFERROR(__xludf.DUMMYFUNCTION(\"\"\"COMPUTED_VALUE\"\"\"),\"application/vnd.umajin\")","v":"application/vnd.umajin"},{"$f":"IFERROR(__xludf.DUMMYFUNCTION(\"\"\"COMPUTED_VALUE\"\"\"),\"en\")","v":"en"}]
[{"$f":"IFERROR(__xludf.DUMMYFUNCTION(\"\"\"COMPUTED_VALUE\"\"\"),\"https://www.iana.org/assignments/media-types/application/vnd.unity\")","v":"https://www.iana.org/assignments/media-types/application/vnd.unity"},{"$f":"IFERROR(__xludf.DUMMYFUNCTION(\"\"\"COMPUTED_VALUE\"\"\"),\"vnd.unity\")","v":"vnd.unity"},{"$f":"IFERROR(__xludf.DUMMYFUNCTION(\"\"\"COMPUTED_VALUE\"\"\"),\"vnd.unity\")","v":"vnd.unity"},{"$f":"IFERROR(__xludf.DUMMYFUNCTION(\"\"\"COMPUTED_VALUE\"\"\"),\"application/vnd.unity\")","v":"application/vnd.unity"},{"$f":"IFERROR(__xludf.DUMMYFUNCTION(\"\"\"COMPUTED_VALUE\"\"\"),\"en\")","v":"en"}]
[{"$f":"IFERROR(__xludf.DUMMYFUNCTION(\"\"\"COMPUTED_VALUE\"\"\"),\"https://www.iana.org/assignments/media-types/application/vnd.uoml+xml\")","v":"https://www.iana.org/assignments/media-types/application/vnd.uoml+xml"},{"$f":"IFERROR(__xludf.DUMMYFUNCTION(\"\"\"COMPUTED_VALUE\"\"\"),\"vnd.uoml+xml\")","v":"vnd.uoml+xml"},{"$f":"IFERROR(__xludf.DUMMYFUNCTION(\"\"\"COMPUTED_VALUE\"\"\"),\"vnd.uoml+xml\")","v":"vnd.uoml+xml"},{"$f":"IFERROR(__xludf.DUMMYFUNCTION(\"\"\"COMPUTED_VALUE\"\"\"),\"application/vnd.uoml+xml\")","v":"application/vnd.uoml+xml"},{"$f":"IFERROR(__xludf.DUMMYFUNCTION(\"\"\"COMPUTED_VALUE\"\"\"),\"en\")","v":"en"}]
[{"$f":"IFERROR(__xludf.DUMMYFUNCTION(\"\"\"COMPUTED_VALUE\"\"\"),\"https://www.iana.org/assignments/media-types/application/vnd.uplanet.alert\")","v":"https://www.iana.org/assignments/media-types/application/vnd.uplanet.alert"},{"$f":"IFERROR(__xludf.DUMMYFUNCTION(\"\"\"COMPUTED_VALUE\"\"\"),\"vnd.uplanet.alert\")","v":"vnd.uplanet.alert"},{"$f":"IFERROR(__xludf.DUMMYFUNCTION(\"\"\"COMPUTED_VALUE\"\"\"),\"vnd.uplanet.alert\")","v":"vnd.uplanet.alert"},{"$f":"IFERROR(__xludf.DUMMYFUNCTION(\"\"\"COMPUTED_VALUE\"\"\"),\"application/vnd.uplanet.alert\")","v":"application/vnd.uplanet.alert"},{"$f":"IFERROR(__xludf.DUMMYFUNCTION(\"\"\"COMPUTED_VALUE\"\"\"),\"en\")","v":"en"}]
[{"$f":"IFERROR(__xludf.DUMMYFUNCTION(\"\"\"COMPUTED_VALUE\"\"\"),\"https://www.iana.org/assignments/media-types/application/vnd.uplanet.alert-wbxml\")","v":"https://www.iana.org/assignments/media-types/application/vnd.uplanet.alert-wbxml"},{"$f":"IFERROR(__xludf.DUMMYFUNCTION(\"\"\"COMPUTED_VALUE\"\"\"),\"vnd.uplanet.alert-wbxml\")","v":"vnd.uplanet.alert-wbxml"},{"$f":"IFERROR(__xludf.DUMMYFUNCTION(\"\"\"COMPUTED_VALUE\"\"\"),\"vnd.uplanet.alert-wbxml\")","v":"vnd.uplanet.alert-wbxml"},{"$f":"IFERROR(__xludf.DUMMYFUNCTION(\"\"\"COMPUTED_VALUE\"\"\"),\"application/vnd.uplanet.alert-wbxml\")","v":"application/vnd.uplanet.alert-wbxml"},{"$f":"IFERROR(__xludf.DUMMYFUNCTION(\"\"\"COMPUTED_VALUE\"\"\"),\"en\")","v":"en"}]
[{"$f":"IFERROR(__xludf.DUMMYFUNCTION(\"\"\"COMPUTED_VALUE\"\"\"),\"https://www.iana.org/assignments/media-types/application/vnd.uplanet.bearer-choice\")","v":"https://www.iana.org/assignments/media-types/application/vnd.uplanet.bearer-choice"},{"$f":"IFERROR(__xludf.DUMMYFUNCTION(\"\"\"COMPUTED_VALUE\"\"\"),\"vnd.uplanet.bearer-choice\")","v":"vnd.uplanet.bearer-choice"},{"$f":"IFERROR(__xludf.DUMMYFUNCTION(\"\"\"COMPUTED_VALUE\"\"\"),\"vnd.uplanet.bearer-choice\")","v":"vnd.uplanet.bearer-choice"},{"$f":"IFERROR(__xludf.DUMMYFUNCTION(\"\"\"COMPUTED_VALUE\"\"\"),\"application/vnd.uplanet.bearer-choice\")","v":"application/vnd.uplanet.bearer-choice"},{"$f":"IFERROR(__xludf.DUMMYFUNCTION(\"\"\"COMPUTED_VALUE\"\"\"),\"en\")","v":"en"}]
[{"$f":"IFERROR(__xludf.DUMMYFUNCTION(\"\"\"COMPUTED_VALUE\"\"\"),\"https://www.iana.org/assignments/media-types/application/vnd.uplanet.bearer-choice-wbxml\")","v":"https://www.iana.org/assignments/media-types/application/vnd.uplanet.bearer-choice-wbxml"},{"$f":"IFERROR(__xludf.DUMMYFUNCTION(\"\"\"COMPUTED_VALUE\"\"\"),\"vnd.uplanet.bearer-choice-wbxml\")","v":"vnd.uplanet.bearer-choice-wbxml"},{"$f":"IFERROR(__xludf.DUMMYFUNCTION(\"\"\"COMPUTED_VALUE\"\"\"),\"vnd.uplanet.bearer-choice-wbxml\")","v":"vnd.uplanet.bearer-choice-wbxml"},{"$f":"IFERROR(__xludf.DUMMYFUNCTION(\"\"\"COMPUTED_VALUE\"\"\"),\"application/vnd.uplanet.bearer-choice-wbxml\")","v":"application/vnd.uplanet.bearer-choice-wbxml"},{"$f":"IFERROR(__xludf.DUMMYFUNCTION(\"\"\"COMPUTED_VALUE\"\"\"),\"en\")","v":"en"}]
[{"$f":"IFERROR(__xludf.DUMMYFUNCTION(\"\"\"COMPUTED_VALUE\"\"\"),\"https://www.iana.org/assignments/media-types/application/vnd.uplanet.cacheop\")","v":"https://www.iana.org/assignments/media-types/application/vnd.uplanet.cacheop"},{"$f":"IFERROR(__xludf.DUMMYFUNCTION(\"\"\"COMPUTED_VALUE\"\"\"),\"vnd.uplanet.cacheop\")","v":"vnd.uplanet.cacheop"},{"$f":"IFERROR(__xludf.DUMMYFUNCTION(\"\"\"COMPUTED_VALUE\"\"\"),\"vnd.uplanet.cacheop\")","v":"vnd.uplanet.cacheop"},{"$f":"IFERROR(__xludf.DUMMYFUNCTION(\"\"\"COMPUTED_VALUE\"\"\"),\"application/vnd.uplanet.cacheop\")","v":"application/vnd.uplanet.cacheop"},{"$f":"IFERROR(__xludf.DUMMYFUNCTION(\"\"\"COMPUTED_VALUE\"\"\"),\"en\")","v":"en"}]
[{"$f":"IFERROR(__xludf.DUMMYFUNCTION(\"\"\"COMPUTED_VALUE\"\"\"),\"https://www.iana.org/assignments/media-types/application/vnd.uplanet.cacheop-wbxml\")","v":"https://www.iana.org/assignments/media-types/application/vnd.uplanet.cacheop-wbxml"},{"$f":"IFERROR(__xludf.DUMMYFUNCTION(\"\"\"COMPUTED_VALUE\"\"\"),\"vnd.uplanet.cacheop-wbxml\")","v":"vnd.uplanet.cacheop-wbxml"},{"$f":"IFERROR(__xludf.DUMMYFUNCTION(\"\"\"COMPUTED_VALUE\"\"\"),\"vnd.uplanet.cacheop-wbxml\")","v":"vnd.uplanet.cacheop-wbxml"},{"$f":"IFERROR(__xludf.DUMMYFUNCTION(\"\"\"COMPUTED_VALUE\"\"\"),\"application/vnd.uplanet.cacheop-wbxml\")","v":"application/vnd.uplanet.cacheop-wbxml"},{"$f":"IFERROR(__xludf.DUMMYFUNCTION(\"\"\"COMPUTED_VALUE\"\"\"),\"en\")","v":"en"}]
[{"$f":"IFERROR(__xludf.DUMMYFUNCTION(\"\"\"COMPUTED_VALUE\"\"\"),\"https://www.iana.org/assignments/media-types/application/vnd.uplanet.channel\")","v":"https://www.iana.org/assignments/media-types/application/vnd.uplanet.channel"},{"$f":"IFERROR(__xludf.DUMMYFUNCTION(\"\"\"COMPUTED_VALUE\"\"\"),\"vnd.uplanet.channel\")","v":"vnd.uplanet.channel"},{"$f":"IFERROR(__xludf.DUMMYFUNCTION(\"\"\"COMPUTED_VALUE\"\"\"),\"vnd.uplanet.channel\")","v":"vnd.uplanet.channel"},{"$f":"IFERROR(__xludf.DUMMYFUNCTION(\"\"\"COMPUTED_VALUE\"\"\"),\"application/vnd.uplanet.channel\")","v":"application/vnd.uplanet.channel"},{"$f":"IFERROR(__xludf.DUMMYFUNCTION(\"\"\"COMPUTED_VALUE\"\"\"),\"en\")","v":"en"}]
[{"$f":"IFERROR(__xludf.DUMMYFUNCTION(\"\"\"COMPUTED_VALUE\"\"\"),\"https://www.iana.org/assignments/media-types/application/vnd.uplanet.channel-wbxml\")","v":"https://www.iana.org/assignments/media-types/application/vnd.uplanet.channel-wbxml"},{"$f":"IFERROR(__xludf.DUMMYFUNCTION(\"\"\"COMPUTED_VALUE\"\"\"),\"vnd.uplanet.channel-wbxml\")","v":"vnd.uplanet.channel-wbxml"},{"$f":"IFERROR(__xludf.DUMMYFUNCTION(\"\"\"COMPUTED_VALUE\"\"\"),\"vnd.uplanet.channel-wbxml\")","v":"vnd.uplanet.channel-wbxml"},{"$f":"IFERROR(__xludf.DUMMYFUNCTION(\"\"\"COMPUTED_VALUE\"\"\"),\"application/vnd.uplanet.channel-wbxml\")","v":"application/vnd.uplanet.channel-wbxml"},{"$f":"IFERROR(__xludf.DUMMYFUNCTION(\"\"\"COMPUTED_VALUE\"\"\"),\"en\")","v":"en"}]
[{"$f":"IFERROR(__xludf.DUMMYFUNCTION(\"\"\"COMPUTED_VALUE\"\"\"),\"https://www.iana.org/assignments/media-types/application/vnd.uplanet.list\")","v":"https://www.iana.org/assignments/media-types/application/vnd.uplanet.list"},{"$f":"IFERROR(__xludf.DUMMYFUNCTION(\"\"\"COMPUTED_VALUE\"\"\"),\"vnd.uplanet.list\")","v":"vnd.uplanet.list"},{"$f":"IFERROR(__xludf.DUMMYFUNCTION(\"\"\"COMPUTED_VALUE\"\"\"),\"vnd.uplanet.list\")","v":"vnd.uplanet.list"},{"$f":"IFERROR(__xludf.DUMMYFUNCTION(\"\"\"COMPUTED_VALUE\"\"\"),\"application/vnd.uplanet.list\")","v":"application/vnd.uplanet.list"},{"$f":"IFERROR(__xludf.DUMMYFUNCTION(\"\"\"COMPUTED_VALUE\"\"\"),\"en\")","v":"en"}]
[{"$f":"IFERROR(__xludf.DUMMYFUNCTION(\"\"\"COMPUTED_VALUE\"\"\"),\"https://www.iana.org/assignments/media-types/application/vnd.uplanet.listcmd\")","v":"https://www.iana.org/assignments/media-types/application/vnd.uplanet.listcmd"},{"$f":"IFERROR(__xludf.DUMMYFUNCTION(\"\"\"COMPUTED_VALUE\"\"\"),\"vnd.uplanet.listcmd\")","v":"vnd.uplanet.listcmd"},{"$f":"IFERROR(__xludf.DUMMYFUNCTION(\"\"\"COMPUTED_VALUE\"\"\"),\"vnd.uplanet.listcmd\")","v":"vnd.uplanet.listcmd"},{"$f":"IFERROR(__xludf.DUMMYFUNCTION(\"\"\"COMPUTED_VALUE\"\"\"),\"application/vnd.uplanet.listcmd\")","v":"application/vnd.uplanet.listcmd"},{"$f":"IFERROR(__xludf.DUMMYFUNCTION(\"\"\"COMPUTED_VALUE\"\"\"),\"en\")","v":"en"}]
[{"$f":"IFERROR(__xludf.DUMMYFUNCTION(\"\"\"COMPUTED_VALUE\"\"\"),\"https://www.iana.org/assignments/media-types/application/vnd.uplanet.listcmd-wbxml\")","v":"https://www.iana.org/assignments/media-types/application/vnd.uplanet.listcmd-wbxml"},{"$f":"IFERROR(__xludf.DUMMYFUNCTION(\"\"\"COMPUTED_VALUE\"\"\"),\"vnd.uplanet.listcmd-wbxml\")","v":"vnd.uplanet.listcmd-wbxml"},{"$f":"IFERROR(__xludf.DUMMYFUNCTION(\"\"\"COMPUTED_VALUE\"\"\"),\"vnd.uplanet.listcmd-wbxml\")","v":"vnd.uplanet.listcmd-wbxml"},{"$f":"IFERROR(__xludf.DUMMYFUNCTION(\"\"\"COMPUTED_VALUE\"\"\"),\"application/vnd.uplanet.listcmd-wbxml\")","v":"application/vnd.uplanet.listcmd-wbxml"},{"$f":"IFERROR(__xludf.DUMMYFUNCTION(\"\"\"COMPUTED_VALUE\"\"\"),\"en\")","v":"en"}]
[{"$f":"IFERROR(__xludf.DUMMYFUNCTION(\"\"\"COMPUTED_VALUE\"\"\"),\"https://www.iana.org/assignments/media-types/application/vnd.uplanet.list-wbxml\")","v":"https://www.iana.org/assignments/media-types/application/vnd.uplanet.list-wbxml"},{"$f":"IFERROR(__xludf.DUMMYFUNCTION(\"\"\"COMPUTED_VALUE\"\"\"),\"vnd.uplanet.list-wbxml\")","v":"vnd.uplanet.list-wbxml"},{"$f":"IFERROR(__xludf.DUMMYFUNCTION(\"\"\"COMPUTED_VALUE\"\"\"),\"vnd.uplanet.list-wbxml\")","v":"vnd.uplanet.list-wbxml"},{"$f":"IFERROR(__xludf.DUMMYFUNCTION(\"\"\"COMPUTED_VALUE\"\"\"),\"application/vnd.uplanet.list-wbxml\")","v":"application/vnd.uplanet.list-wbxml"},{"$f":"IFERROR(__xludf.DUMMYFUNCTION(\"\"\"COMPUTED_VALUE\"\"\"),\"en\")","v":"en"}]
[{"$f":"IFERROR(__xludf.DUMMYFUNCTION(\"\"\"COMPUTED_VALUE\"\"\"),\"https://www.iana.org/assignments/media-types/application/vnd.uri-map\")","v":"https://www.iana.org/assignments/media-types/application/vnd.uri-map"},{"$f":"IFERROR(__xludf.DUMMYFUNCTION(\"\"\"COMPUTED_VALUE\"\"\"),\"vnd.uri-map\")","v":"vnd.uri-map"},{"$f":"IFERROR(__xludf.DUMMYFUNCTION(\"\"\"COMPUTED_VALUE\"\"\"),\"vnd.uri-map\")","v":"vnd.uri-map"},{"$f":"IFERROR(__xludf.DUMMYFUNCTION(\"\"\"COMPUTED_VALUE\"\"\"),\"application/vnd.uri-map\")","v":"application/vnd.uri-map"},{"$f":"IFERROR(__xludf.DUMMYFUNCTION(\"\"\"COMPUTED_VALUE\"\"\"),\"en\")","v":"en"}]
[{"$f":"IFERROR(__xludf.DUMMYFUNCTION(\"\"\"COMPUTED_VALUE\"\"\"),\"https://www.iana.org/assignments/media-types/application/vnd.uplanet.signal\")","v":"https://www.iana.org/assignments/media-types/application/vnd.uplanet.signal"},{"$f":"IFERROR(__xludf.DUMMYFUNCTION(\"\"\"COMPUTED_VALUE\"\"\"),\"vnd.uplanet.signal\")","v":"vnd.uplanet.signal"},{"$f":"IFERROR(__xludf.DUMMYFUNCTION(\"\"\"COMPUTED_VALUE\"\"\"),\"vnd.uplanet.signal\")","v":"vnd.uplanet.signal"},{"$f":"IFERROR(__xludf.DUMMYFUNCTION(\"\"\"COMPUTED_VALUE\"\"\"),\"application/vnd.uplanet.signal\")","v":"application/vnd.uplanet.signal"},{"$f":"IFERROR(__xludf.DUMMYFUNCTION(\"\"\"COMPUTED_VALUE\"\"\"),\"en\")","v":"en"}]
[{"$f":"IFERROR(__xludf.DUMMYFUNCTION(\"\"\"COMPUTED_VALUE\"\"\"),\"https://www.iana.org/assignments/media-types/application/vnd.valve.source.material\")","v":"https://www.iana.org/assignments/media-types/application/vnd.valve.source.material"},{"$f":"IFERROR(__xludf.DUMMYFUNCTION(\"\"\"COMPUTED_VALUE\"\"\"),\"vnd.valve.source.material\")","v":"vnd.valve.source.material"},{"$f":"IFERROR(__xludf.DUMMYFUNCTION(\"\"\"COMPUTED_VALUE\"\"\"),\"vnd.valve.source.material\")","v":"vnd.valve.source.material"},{"$f":"IFERROR(__xludf.DUMMYFUNCTION(\"\"\"COMPUTED_VALUE\"\"\"),\"application/vnd.valve.source.material\")","v":"application/vnd.valve.source.material"},{"$f":"IFERROR(__xludf.DUMMYFUNCTION(\"\"\"COMPUTED_VALUE\"\"\"),\"en\")","v":"en"}]
[{"$f":"IFERROR(__xludf.DUMMYFUNCTION(\"\"\"COMPUTED_VALUE\"\"\"),\"https://www.iana.org/assignments/media-types/application/vnd.vcx\")","v":"https://www.iana.org/assignments/media-types/application/vnd.vcx"},{"$f":"IFERROR(__xludf.DUMMYFUNCTION(\"\"\"COMPUTED_VALUE\"\"\"),\"vnd.vcx\")","v":"vnd.vcx"},{"$f":"IFERROR(__xludf.DUMMYFUNCTION(\"\"\"COMPUTED_VALUE\"\"\"),\"vnd.vcx\")","v":"vnd.vcx"},{"$f":"IFERROR(__xludf.DUMMYFUNCTION(\"\"\"COMPUTED_VALUE\"\"\"),\"application/vnd.vcx\")","v":"application/vnd.vcx"},{"$f":"IFERROR(__xludf.DUMMYFUNCTION(\"\"\"COMPUTED_VALUE\"\"\"),\"en\")","v":"en"}]
[{"$f":"IFERROR(__xludf.DUMMYFUNCTION(\"\"\"COMPUTED_VALUE\"\"\"),\"https://www.iana.org/assignments/media-types/application/vnd.vd-study\")","v":"https://www.iana.org/assignments/media-types/application/vnd.vd-study"},{"$f":"IFERROR(__xludf.DUMMYFUNCTION(\"\"\"COMPUTED_VALUE\"\"\"),\"vnd.vd-study\")","v":"vnd.vd-study"},{"$f":"IFERROR(__xludf.DUMMYFUNCTION(\"\"\"COMPUTED_VALUE\"\"\"),\"vnd.vd-study\")","v":"vnd.vd-study"},{"$f":"IFERROR(__xludf.DUMMYFUNCTION(\"\"\"COMPUTED_VALUE\"\"\"),\"application/vnd.vd-study\")","v":"application/vnd.vd-study"},{"$f":"IFERROR(__xludf.DUMMYFUNCTION(\"\"\"COMPUTED_VALUE\"\"\"),\"en\")","v":"en"}]
[{"$f":"IFERROR(__xludf.DUMMYFUNCTION(\"\"\"COMPUTED_VALUE\"\"\"),\"https://www.iana.org/assignments/media-types/application/vnd.vectorworks\")","v":"https://www.iana.org/assignments/media-types/application/vnd.vectorworks"},{"$f":"IFERROR(__xludf.DUMMYFUNCTION(\"\"\"COMPUTED_VALUE\"\"\"),\"vnd.vectorworks\")","v":"vnd.vectorworks"},{"$f":"IFERROR(__xludf.DUMMYFUNCTION(\"\"\"COMPUTED_VALUE\"\"\"),\"vnd.vectorworks\")","v":"vnd.vectorworks"},{"$f":"IFERROR(__xludf.DUMMYFUNCTION(\"\"\"COMPUTED_VALUE\"\"\"),\"application/vnd.vectorworks\")","v":"application/vnd.vectorworks"},{"$f":"IFERROR(__xludf.DUMMYFUNCTION(\"\"\"COMPUTED_VALUE\"\"\"),\"en\")","v":"en"}]
[{"$f":"IFERROR(__xludf.DUMMYFUNCTION(\"\"\"COMPUTED_VALUE\"\"\"),\"https://www.iana.org/assignments/media-types/application/vnd.vel+json\")","v":"https://www.iana.org/assignments/media-types/application/vnd.vel+json"},{"$f":"IFERROR(__xludf.DUMMYFUNCTION(\"\"\"COMPUTED_VALUE\"\"\"),\"vnd.vel+json\")","v":"vnd.vel+json"},{"$f":"IFERROR(__xludf.DUMMYFUNCTION(\"\"\"COMPUTED_VALUE\"\"\"),\"vnd.vel+json\")","v":"vnd.vel+json"},{"$f":"IFERROR(__xludf.DUMMYFUNCTION(\"\"\"COMPUTED_VALUE\"\"\"),\"application/vnd.vel+json\")","v":"application/vnd.vel+json"},{"$f":"IFERROR(__xludf.DUMMYFUNCTION(\"\"\"COMPUTED_VALUE\"\"\"),\"en\")","v":"en"}]
[{"$f":"IFERROR(__xludf.DUMMYFUNCTION(\"\"\"COMPUTED_VALUE\"\"\"),\"https://www.iana.org/assignments/media-types/application/vnd.verimatrix.vcas\")","v":"https://www.iana.org/assignments/media-types/application/vnd.verimatrix.vcas"},{"$f":"IFERROR(__xludf.DUMMYFUNCTION(\"\"\"COMPUTED_VALUE\"\"\"),\"vnd.verimatrix.vcas\")","v":"vnd.verimatrix.vcas"},{"$f":"IFERROR(__xludf.DUMMYFUNCTION(\"\"\"COMPUTED_VALUE\"\"\"),\"vnd.verimatrix.vcas\")","v":"vnd.verimatrix.vcas"},{"$f":"IFERROR(__xludf.DUMMYFUNCTION(\"\"\"COMPUTED_VALUE\"\"\"),\"application/vnd.verimatrix.vcas\")","v":"application/vnd.verimatrix.vcas"},{"$f":"IFERROR(__xludf.DUMMYFUNCTION(\"\"\"COMPUTED_VALUE\"\"\"),\"en\")","v":"en"}]
[{"$f":"IFERROR(__xludf.DUMMYFUNCTION(\"\"\"COMPUTED_VALUE\"\"\"),\"https://www.iana.org/assignments/media-types/application/vnd.veritone.aion+json\")","v":"https://www.iana.org/assignments/media-types/application/vnd.veritone.aion+json"},{"$f":"IFERROR(__xludf.DUMMYFUNCTION(\"\"\"COMPUTED_VALUE\"\"\"),\"vnd.veritone.aion+json\")","v":"vnd.veritone.aion+json"},{"$f":"IFERROR(__xludf.DUMMYFUNCTION(\"\"\"COMPUTED_VALUE\"\"\"),\"vnd.veritone.aion+json\")","v":"vnd.veritone.aion+json"},{"$f":"IFERROR(__xludf.DUMMYFUNCTION(\"\"\"COMPUTED_VALUE\"\"\"),\"application/vnd.veritone.aion+json\")","v":"application/vnd.veritone.aion+json"},{"$f":"IFERROR(__xludf.DUMMYFUNCTION(\"\"\"COMPUTED_VALUE\"\"\"),\"en\")","v":"en"}]
[{"$f":"IFERROR(__xludf.DUMMYFUNCTION(\"\"\"COMPUTED_VALUE\"\"\"),\"https://www.iana.org/assignments/media-types/application/vnd.veryant.thin\")","v":"https://www.iana.org/assignments/media-types/application/vnd.veryant.thin"},{"$f":"IFERROR(__xludf.DUMMYFUNCTION(\"\"\"COMPUTED_VALUE\"\"\"),\"vnd.veryant.thin\")","v":"vnd.veryant.thin"},{"$f":"IFERROR(__xludf.DUMMYFUNCTION(\"\"\"COMPUTED_VALUE\"\"\"),\"vnd.veryant.thin\")","v":"vnd.veryant.thin"},{"$f":"IFERROR(__xludf.DUMMYFUNCTION(\"\"\"COMPUTED_VALUE\"\"\"),\"application/vnd.veryant.thin\")","v":"application/vnd.veryant.thin"},{"$f":"IFERROR(__xludf.DUMMYFUNCTION(\"\"\"COMPUTED_VALUE\"\"\"),\"en\")","v":"en"}]
[{"$f":"IFERROR(__xludf.DUMMYFUNCTION(\"\"\"COMPUTED_VALUE\"\"\"),\"https://www.iana.org/assignments/media-types/application/vnd.ves.encrypted\")","v":"https://www.iana.org/assignments/media-types/application/vnd.ves.encrypted"},{"$f":"IFERROR(__xludf.DUMMYFUNCTION(\"\"\"COMPUTED_VALUE\"\"\"),\"vnd.ves.encrypted\")","v":"vnd.ves.encrypted"},{"$f":"IFERROR(__xludf.DUMMYFUNCTION(\"\"\"COMPUTED_VALUE\"\"\"),\"vnd.ves.encrypted\")","v":"vnd.ves.encrypted"},{"$f":"IFERROR(__xludf.DUMMYFUNCTION(\"\"\"COMPUTED_VALUE\"\"\"),\"application/vnd.ves.encrypted\")","v":"application/vnd.ves.encrypted"},{"$f":"IFERROR(__xludf.DUMMYFUNCTION(\"\"\"COMPUTED_VALUE\"\"\"),\"en\")","v":"en"}]
[{"$f":"IFERROR(__xludf.DUMMYFUNCTION(\"\"\"COMPUTED_VALUE\"\"\"),\"https://www.iana.org/assignments/media-types/application/vnd.vidsoft.vidconference\")","v":"https://www.iana.org/assignments/media-types/application/vnd.vidsoft.vidconference"},{"$f":"IFERROR(__xludf.DUMMYFUNCTION(\"\"\"COMPUTED_VALUE\"\"\"),\"vnd.vidsoft.vidconference\")","v":"vnd.vidsoft.vidconference"},{"$f":"IFERROR(__xludf.DUMMYFUNCTION(\"\"\"COMPUTED_VALUE\"\"\"),\"vnd.vidsoft.vidconference\")","v":"vnd.vidsoft.vidconference"},{"$f":"IFERROR(__xludf.DUMMYFUNCTION(\"\"\"COMPUTED_VALUE\"\"\"),\"application/vnd.vidsoft.vidconference\")","v":"application/vnd.vidsoft.vidconference"},{"$f":"IFERROR(__xludf.DUMMYFUNCTION(\"\"\"COMPUTED_VALUE\"\"\"),\"en\")","v":"en"}]
[{"$f":"IFERROR(__xludf.DUMMYFUNCTION(\"\"\"COMPUTED_VALUE\"\"\"),\"https://www.iana.org/assignments/media-types/application/vnd.visio\")","v":"https://www.iana.org/assignments/media-types/application/vnd.visio"},{"$f":"IFERROR(__xludf.DUMMYFUNCTION(\"\"\"COMPUTED_VALUE\"\"\"),\"vnd.visio\")","v":"vnd.visio"},{"$f":"IFERROR(__xludf.DUMMYFUNCTION(\"\"\"COMPUTED_VALUE\"\"\"),\"vnd.visio\")","v":"vnd.visio"},{"$f":"IFERROR(__xludf.DUMMYFUNCTION(\"\"\"COMPUTED_VALUE\"\"\"),\"application/vnd.visio\")","v":"application/vnd.visio"},{"$f":"IFERROR(__xludf.DUMMYFUNCTION(\"\"\"COMPUTED_VALUE\"\"\"),\"en\")","v":"en"}]
[{"$f":"IFERROR(__xludf.DUMMYFUNCTION(\"\"\"COMPUTED_VALUE\"\"\"),\"https://www.iana.org/assignments/media-types/application/vnd.visionary\")","v":"https://www.iana.org/assignments/media-types/application/vnd.visionary"},{"$f":"IFERROR(__xludf.DUMMYFUNCTION(\"\"\"COMPUTED_VALUE\"\"\"),\"vnd.visionary\")","v":"vnd.visionary"},{"$f":"IFERROR(__xludf.DUMMYFUNCTION(\"\"\"COMPUTED_VALUE\"\"\"),\"vnd.visionary\")","v":"vnd.visionary"},{"$f":"IFERROR(__xludf.DUMMYFUNCTION(\"\"\"COMPUTED_VALUE\"\"\"),\"application/vnd.visionary\")","v":"application/vnd.visionary"},{"$f":"IFERROR(__xludf.DUMMYFUNCTION(\"\"\"COMPUTED_VALUE\"\"\"),\"en\")","v":"en"}]
[{"$f":"IFERROR(__xludf.DUMMYFUNCTION(\"\"\"COMPUTED_VALUE\"\"\"),\"https://www.iana.org/assignments/media-types/application/vnd.vividence.scriptfile\")","v":"https://www.iana.org/assignments/media-types/application/vnd.vividence.scriptfile"},{"$f":"IFERROR(__xludf.DUMMYFUNCTION(\"\"\"COMPUTED_VALUE\"\"\"),\"vnd.vividence.scriptfile\")","v":"vnd.vividence.scriptfile"},{"$f":"IFERROR(__xludf.DUMMYFUNCTION(\"\"\"COMPUTED_VALUE\"\"\"),\"vnd.vividence.scriptfile\")","v":"vnd.vividence.scriptfile"},{"$f":"IFERROR(__xludf.DUMMYFUNCTION(\"\"\"COMPUTED_VALUE\"\"\"),\"application/vnd.vividence.scriptfile\")","v":"application/vnd.vividence.scriptfile"},{"$f":"IFERROR(__xludf.DUMMYFUNCTION(\"\"\"COMPUTED_VALUE\"\"\"),\"en\")","v":"en"}]
[{"$f":"IFERROR(__xludf.DUMMYFUNCTION(\"\"\"COMPUTED_VALUE\"\"\"),\"https://www.iana.org/assignments/media-types/application/vnd.vsf\")","v":"https://www.iana.org/assignments/media-types/application/vnd.vsf"},{"$f":"IFERROR(__xludf.DUMMYFUNCTION(\"\"\"COMPUTED_VALUE\"\"\"),\"vnd.vsf\")","v":"vnd.vsf"},{"$f":"IFERROR(__xludf.DUMMYFUNCTION(\"\"\"COMPUTED_VALUE\"\"\"),\"vnd.vsf\")","v":"vnd.vsf"},{"$f":"IFERROR(__xludf.DUMMYFUNCTION(\"\"\"COMPUTED_VALUE\"\"\"),\"application/vnd.vsf\")","v":"application/vnd.vsf"},{"$f":"IFERROR(__xludf.DUMMYFUNCTION(\"\"\"COMPUTED_VALUE\"\"\"),\"en\")","v":"en"}]
[{"$f":"IFERROR(__xludf.DUMMYFUNCTION(\"\"\"COMPUTED_VALUE\"\"\"),\"https://www.iana.org/assignments/media-types/application/vnd.wap.sic\")","v":"https://www.iana.org/assignments/media-types/application/vnd.wap.sic"},{"$f":"IFERROR(__xludf.DUMMYFUNCTION(\"\"\"COMPUTED_VALUE\"\"\"),\"vnd.wap.sic\")","v":"vnd.wap.sic"},{"$f":"IFERROR(__xludf.DUMMYFUNCTION(\"\"\"COMPUTED_VALUE\"\"\"),\"vnd.wap.sic\")","v":"vnd.wap.sic"},{"$f":"IFERROR(__xludf.DUMMYFUNCTION(\"\"\"COMPUTED_VALUE\"\"\"),\"application/vnd.wap.sic\")","v":"application/vnd.wap.sic"},{"$f":"IFERROR(__xludf.DUMMYFUNCTION(\"\"\"COMPUTED_VALUE\"\"\"),\"en\")","v":"en"}]
[{"$f":"IFERROR(__xludf.DUMMYFUNCTION(\"\"\"COMPUTED_VALUE\"\"\"),\"https://www.iana.org/assignments/media-types/application/vnd.wap.slc\")","v":"https://www.iana.org/assignments/media-types/application/vnd.wap.slc"},{"$f":"IFERROR(__xludf.DUMMYFUNCTION(\"\"\"COMPUTED_VALUE\"\"\"),\"vnd.wap.slc\")","v":"vnd.wap.slc"},{"$f":"IFERROR(__xludf.DUMMYFUNCTION(\"\"\"COMPUTED_VALUE\"\"\"),\"vnd.wap.slc\")","v":"vnd.wap.slc"},{"$f":"IFERROR(__xludf.DUMMYFUNCTION(\"\"\"COMPUTED_VALUE\"\"\"),\"application/vnd.wap.slc\")","v":"application/vnd.wap.slc"},{"$f":"IFERROR(__xludf.DUMMYFUNCTION(\"\"\"COMPUTED_VALUE\"\"\"),\"en\")","v":"en"}]
[{"$f":"IFERROR(__xludf.DUMMYFUNCTION(\"\"\"COMPUTED_VALUE\"\"\"),\"https://www.iana.org/assignments/media-types/application/vnd.wap.wbxml\")","v":"https://www.iana.org/assignments/media-types/application/vnd.wap.wbxml"},{"$f":"IFERROR(__xludf.DUMMYFUNCTION(\"\"\"COMPUTED_VALUE\"\"\"),\"vnd.wap.wbxml\")","v":"vnd.wap.wbxml"},{"$f":"IFERROR(__xludf.DUMMYFUNCTION(\"\"\"COMPUTED_VALUE\"\"\"),\"vnd.wap.wbxml\")","v":"vnd.wap.wbxml"},{"$f":"IFERROR(__xludf.DUMMYFUNCTION(\"\"\"COMPUTED_VALUE\"\"\"),\"application/vnd.wap.wbxml\")","v":"application/vnd.wap.wbxml"},{"$f":"IFERROR(__xludf.DUMMYFUNCTION(\"\"\"COMPUTED_VALUE\"\"\"),\"en\")","v":"en"}]
[{"$f":"IFERROR(__xludf.DUMMYFUNCTION(\"\"\"COMPUTED_VALUE\"\"\"),\"https://www.iana.org/assignments/media-types/application/vnd.wap.wmlc\")","v":"https://www.iana.org/assignments/media-types/application/vnd.wap.wmlc"},{"$f":"IFERROR(__xludf.DUMMYFUNCTION(\"\"\"COMPUTED_VALUE\"\"\"),\"vnd.wap.wmlc\")","v":"vnd.wap.wmlc"},{"$f":"IFERROR(__xludf.DUMMYFUNCTION(\"\"\"COMPUTED_VALUE\"\"\"),\"vnd.wap.wmlc\")","v":"vnd.wap.wmlc"},{"$f":"IFERROR(__xludf.DUMMYFUNCTION(\"\"\"COMPUTED_VALUE\"\"\"),\"application/vnd.wap.wmlc\")","v":"application/vnd.wap.wmlc"},{"$f":"IFERROR(__xludf.DUMMYFUNCTION(\"\"\"COMPUTED_VALUE\"\"\"),\"en\")","v":"en"}]
[{"$f":"IFERROR(__xludf.DUMMYFUNCTION(\"\"\"COMPUTED_VALUE\"\"\"),\"https://www.iana.org/assignments/media-types/application/vnd.wap.wmlscriptc\")","v":"https://www.iana.org/assignments/media-types/application/vnd.wap.wmlscriptc"},{"$f":"IFERROR(__xludf.DUMMYFUNCTION(\"\"\"COMPUTED_VALUE\"\"\"),\"vnd.wap.wmlscriptc\")","v":"vnd.wap.wmlscriptc"},{"$f":"IFERROR(__xludf.DUMMYFUNCTION(\"\"\"COMPUTED_VALUE\"\"\"),\"vnd.wap.wmlscriptc\")","v":"vnd.wap.wmlscriptc"},{"$f":"IFERROR(__xludf.DUMMYFUNCTION(\"\"\"COMPUTED_VALUE\"\"\"),\"application/vnd.wap.wmlscriptc\")","v":"application/vnd.wap.wmlscriptc"},{"$f":"IFERROR(__xludf.DUMMYFUNCTION(\"\"\"COMPUTED_VALUE\"\"\"),\"en\")","v":"en"}]
[{"$f":"IFERROR(__xludf.DUMMYFUNCTION(\"\"\"COMPUTED_VALUE\"\"\"),\"https://www.iana.org/assignments/media-types/application/vnd.wasmflow.wafl\")","v":"https://www.iana.org/assignments/media-types/application/vnd.wasmflow.wafl"},{"$f":"IFERROR(__xludf.DUMMYFUNCTION(\"\"\"COMPUTED_VALUE\"\"\"),\"vnd.wasmflow.wafl\")","v":"vnd.wasmflow.wafl"},{"$f":"IFERROR(__xludf.DUMMYFUNCTION(\"\"\"COMPUTED_VALUE\"\"\"),\"vnd.wasmflow.wafl\")","v":"vnd.wasmflow.wafl"},{"$f":"IFERROR(__xludf.DUMMYFUNCTION(\"\"\"COMPUTED_VALUE\"\"\"),\"application/vnd.wasmflow.wafl\")","v":"application/vnd.wasmflow.wafl"},{"$f":"IFERROR(__xludf.DUMMYFUNCTION(\"\"\"COMPUTED_VALUE\"\"\"),\"en\")","v":"en"}]
[{"$f":"IFERROR(__xludf.DUMMYFUNCTION(\"\"\"COMPUTED_VALUE\"\"\"),\"https://www.iana.org/assignments/media-types/application/vnd.webturbo\")","v":"https://www.iana.org/assignments/media-types/application/vnd.webturbo"},{"$f":"IFERROR(__xludf.DUMMYFUNCTION(\"\"\"COMPUTED_VALUE\"\"\"),\"vnd.webturbo\")","v":"vnd.webturbo"},{"$f":"IFERROR(__xludf.DUMMYFUNCTION(\"\"\"COMPUTED_VALUE\"\"\"),\"vnd.webturbo\")","v":"vnd.webturbo"},{"$f":"IFERROR(__xludf.DUMMYFUNCTION(\"\"\"COMPUTED_VALUE\"\"\"),\"application/vnd.webturbo\")","v":"application/vnd.webturbo"},{"$f":"IFERROR(__xludf.DUMMYFUNCTION(\"\"\"COMPUTED_VALUE\"\"\"),\"en\")","v":"en"}]
[{"$f":"IFERROR(__xludf.DUMMYFUNCTION(\"\"\"COMPUTED_VALUE\"\"\"),\"https://www.iana.org/assignments/media-types/application/vnd.wfa.dpp\")","v":"https://www.iana.org/assignments/media-types/application/vnd.wfa.dpp"},{"$f":"IFERROR(__xludf.DUMMYFUNCTION(\"\"\"COMPUTED_VALUE\"\"\"),\"vnd.wfa.dpp\")","v":"vnd.wfa.dpp"},{"$f":"IFERROR(__xludf.DUMMYFUNCTION(\"\"\"COMPUTED_VALUE\"\"\"),\"vnd.wfa.dpp\")","v":"vnd.wfa.dpp"},{"$f":"IFERROR(__xludf.DUMMYFUNCTION(\"\"\"COMPUTED_VALUE\"\"\"),\"application/vnd.wfa.dpp\")","v":"application/vnd.wfa.dpp"},{"$f":"IFERROR(__xludf.DUMMYFUNCTION(\"\"\"COMPUTED_VALUE\"\"\"),\"en\")","v":"en"}]
[{"$f":"IFERROR(__xludf.DUMMYFUNCTION(\"\"\"COMPUTED_VALUE\"\"\"),\"https://www.iana.org/assignments/media-types/application/vnd.wfa.p2p\")","v":"https://www.iana.org/assignments/media-types/application/vnd.wfa.p2p"},{"$f":"IFERROR(__xludf.DUMMYFUNCTION(\"\"\"COMPUTED_VALUE\"\"\"),\"vnd.wfa.p2p\")","v":"vnd.wfa.p2p"},{"$f":"IFERROR(__xludf.DUMMYFUNCTION(\"\"\"COMPUTED_VALUE\"\"\"),\"vnd.wfa.p2p\")","v":"vnd.wfa.p2p"},{"$f":"IFERROR(__xludf.DUMMYFUNCTION(\"\"\"COMPUTED_VALUE\"\"\"),\"application/vnd.wfa.p2p\")","v":"application/vnd.wfa.p2p"},{"$f":"IFERROR(__xludf.DUMMYFUNCTION(\"\"\"COMPUTED_VALUE\"\"\"),\"en\")","v":"en"}]
[{"$f":"IFERROR(__xludf.DUMMYFUNCTION(\"\"\"COMPUTED_VALUE\"\"\"),\"https://www.iana.org/assignments/media-types/application/vnd.wfa.wsc\")","v":"https://www.iana.org/assignments/media-types/application/vnd.wfa.wsc"},{"$f":"IFERROR(__xludf.DUMMYFUNCTION(\"\"\"COMPUTED_VALUE\"\"\"),\"vnd.wfa.wsc\")","v":"vnd.wfa.wsc"},{"$f":"IFERROR(__xludf.DUMMYFUNCTION(\"\"\"COMPUTED_VALUE\"\"\"),\"vnd.wfa.wsc\")","v":"vnd.wfa.wsc"},{"$f":"IFERROR(__xludf.DUMMYFUNCTION(\"\"\"COMPUTED_VALUE\"\"\"),\"application/vnd.wfa.wsc\")","v":"application/vnd.wfa.wsc"},{"$f":"IFERROR(__xludf.DUMMYFUNCTION(\"\"\"COMPUTED_VALUE\"\"\"),\"en\")","v":"en"}]
[{"$f":"IFERROR(__xludf.DUMMYFUNCTION(\"\"\"COMPUTED_VALUE\"\"\"),\"https://www.iana.org/assignments/media-types/application/vnd.windows.devicepairing\")","v":"https://www.iana.org/assignments/media-types/application/vnd.windows.devicepairing"},{"$f":"IFERROR(__xludf.DUMMYFUNCTION(\"\"\"COMPUTED_VALUE\"\"\"),\"vnd.windows.devicepairing\")","v":"vnd.windows.devicepairing"},{"$f":"IFERROR(__xludf.DUMMYFUNCTION(\"\"\"COMPUTED_VALUE\"\"\"),\"vnd.windows.devicepairing\")","v":"vnd.windows.devicepairing"},{"$f":"IFERROR(__xludf.DUMMYFUNCTION(\"\"\"COMPUTED_VALUE\"\"\"),\"application/vnd.windows.devicepairing\")","v":"application/vnd.windows.devicepairing"},{"$f":"IFERROR(__xludf.DUMMYFUNCTION(\"\"\"COMPUTED_VALUE\"\"\"),\"en\")","v":"en"}]
[{"$f":"IFERROR(__xludf.DUMMYFUNCTION(\"\"\"COMPUTED_VALUE\"\"\"),\"https://www.iana.org/assignments/media-types/application/vnd.wmc\")","v":"https://www.iana.org/assignments/media-types/application/vnd.wmc"},{"$f":"IFERROR(__xludf.DUMMYFUNCTION(\"\"\"COMPUTED_VALUE\"\"\"),\"vnd.wmc\")","v":"vnd.wmc"},{"$f":"IFERROR(__xludf.DUMMYFUNCTION(\"\"\"COMPUTED_VALUE\"\"\"),\"vnd.wmc\")","v":"vnd.wmc"},{"$f":"IFERROR(__xludf.DUMMYFUNCTION(\"\"\"COMPUTED_VALUE\"\"\"),\"application/vnd.wmc\")","v":"application/vnd.wmc"},{"$f":"IFERROR(__xludf.DUMMYFUNCTION(\"\"\"COMPUTED_VALUE\"\"\"),\"en\")","v":"en"}]
[{"$f":"IFERROR(__xludf.DUMMYFUNCTION(\"\"\"COMPUTED_VALUE\"\"\"),\"https://www.iana.org/assignments/media-types/application/vnd.wmf.bootstrap\")","v":"https://www.iana.org/assignments/media-types/application/vnd.wmf.bootstrap"},{"$f":"IFERROR(__xludf.DUMMYFUNCTION(\"\"\"COMPUTED_VALUE\"\"\"),\"vnd.wmf.bootstrap\")","v":"vnd.wmf.bootstrap"},{"$f":"IFERROR(__xludf.DUMMYFUNCTION(\"\"\"COMPUTED_VALUE\"\"\"),\"vnd.wmf.bootstrap\")","v":"vnd.wmf.bootstrap"},{"$f":"IFERROR(__xludf.DUMMYFUNCTION(\"\"\"COMPUTED_VALUE\"\"\"),\"application/vnd.wmf.bootstrap\")","v":"application/vnd.wmf.bootstrap"},{"$f":"IFERROR(__xludf.DUMMYFUNCTION(\"\"\"COMPUTED_VALUE\"\"\"),\"en\")","v":"en"}]
[{"$f":"IFERROR(__xludf.DUMMYFUNCTION(\"\"\"COMPUTED_VALUE\"\"\"),\"https://www.iana.org/assignments/media-types/application/vnd.wolfram.mathematica\")","v":"https://www.iana.org/assignments/media-types/application/vnd.wolfram.mathematica"},{"$f":"IFERROR(__xludf.DUMMYFUNCTION(\"\"\"COMPUTED_VALUE\"\"\"),\"vnd.wolfram.mathematica\")","v":"vnd.wolfram.mathematica"},{"$f":"IFERROR(__xludf.DUMMYFUNCTION(\"\"\"COMPUTED_VALUE\"\"\"),\"vnd.wolfram.mathematica\")","v":"vnd.wolfram.mathematica"},{"$f":"IFERROR(__xludf.DUMMYFUNCTION(\"\"\"COMPUTED_VALUE\"\"\"),\"application/vnd.wolfram.mathematica\")","v":"application/vnd.wolfram.mathematica"},{"$f":"IFERROR(__xludf.DUMMYFUNCTION(\"\"\"COMPUTED_VALUE\"\"\"),\"en\")","v":"en"}]
[{"$f":"IFERROR(__xludf.DUMMYFUNCTION(\"\"\"COMPUTED_VALUE\"\"\"),\"https://www.iana.org/assignments/media-types/application/vnd.wolfram.mathematica.package\")","v":"https://www.iana.org/assignments/media-types/application/vnd.wolfram.mathematica.package"},{"$f":"IFERROR(__xludf.DUMMYFUNCTION(\"\"\"COMPUTED_VALUE\"\"\"),\"vnd.wolfram.mathematica.package\")","v":"vnd.wolfram.mathematica.package"},{"$f":"IFERROR(__xludf.DUMMYFUNCTION(\"\"\"COMPUTED_VALUE\"\"\"),\"vnd.wolfram.mathematica.package\")","v":"vnd.wolfram.mathematica.package"},{"$f":"IFERROR(__xludf.DUMMYFUNCTION(\"\"\"COMPUTED_VALUE\"\"\"),\"application/vnd.wolfram.mathematica.package\")","v":"application/vnd.wolfram.mathematica.package"},{"$f":"IFERROR(__xludf.DUMMYFUNCTION(\"\"\"COMPUTED_VALUE\"\"\"),\"en\")","v":"en"}]
[{"$f":"IFERROR(__xludf.DUMMYFUNCTION(\"\"\"COMPUTED_VALUE\"\"\"),\"https://www.iana.org/assignments/media-types/application/vnd.wolfram.player\")","v":"https://www.iana.org/assignments/media-types/application/vnd.wolfram.player"},{"$f":"IFERROR(__xludf.DUMMYFUNCTION(\"\"\"COMPUTED_VALUE\"\"\"),\"vnd.wolfram.player\")","v":"vnd.wolfram.player"},{"$f":"IFERROR(__xludf.DUMMYFUNCTION(\"\"\"COMPUTED_VALUE\"\"\"),\"vnd.wolfram.player\")","v":"vnd.wolfram.player"},{"$f":"IFERROR(__xludf.DUMMYFUNCTION(\"\"\"COMPUTED_VALUE\"\"\"),\"application/vnd.wolfram.player\")","v":"application/vnd.wolfram.player"},{"$f":"IFERROR(__xludf.DUMMYFUNCTION(\"\"\"COMPUTED_VALUE\"\"\"),\"en\")","v":"en"}]
[{"$f":"IFERROR(__xludf.DUMMYFUNCTION(\"\"\"COMPUTED_VALUE\"\"\"),\"https://www.iana.org/assignments/media-types/application/vnd.wordlift\")","v":"https://www.iana.org/assignments/media-types/application/vnd.wordlift"},{"$f":"IFERROR(__xludf.DUMMYFUNCTION(\"\"\"COMPUTED_VALUE\"\"\"),\"vnd.wordlift\")","v":"vnd.wordlift"},{"$f":"IFERROR(__xludf.DUMMYFUNCTION(\"\"\"COMPUTED_VALUE\"\"\"),\"vnd.wordlift\")","v":"vnd.wordlift"},{"$f":"IFERROR(__xludf.DUMMYFUNCTION(\"\"\"COMPUTED_VALUE\"\"\"),\"application/vnd.wordlift\")","v":"application/vnd.wordlift"},{"$f":"IFERROR(__xludf.DUMMYFUNCTION(\"\"\"COMPUTED_VALUE\"\"\"),\"en\")","v":"en"}]
[{"$f":"IFERROR(__xludf.DUMMYFUNCTION(\"\"\"COMPUTED_VALUE\"\"\"),\"https://www.iana.org/assignments/media-types/application/vnd.wordperfect\")","v":"https://www.iana.org/assignments/media-types/application/vnd.wordperfect"},{"$f":"IFERROR(__xludf.DUMMYFUNCTION(\"\"\"COMPUTED_VALUE\"\"\"),\"vnd.wordperfect\")","v":"vnd.wordperfect"},{"$f":"IFERROR(__xludf.DUMMYFUNCTION(\"\"\"COMPUTED_VALUE\"\"\"),\"vnd.wordperfect\")","v":"vnd.wordperfect"},{"$f":"IFERROR(__xludf.DUMMYFUNCTION(\"\"\"COMPUTED_VALUE\"\"\"),\"application/vnd.wordperfect\")","v":"application/vnd.wordperfect"},{"$f":"IFERROR(__xludf.DUMMYFUNCTION(\"\"\"COMPUTED_VALUE\"\"\"),\"en\")","v":"en"}]
[{"$f":"IFERROR(__xludf.DUMMYFUNCTION(\"\"\"COMPUTED_VALUE\"\"\"),\"https://www.iana.org/assignments/media-types/application/vnd.wqd\")","v":"https://www.iana.org/assignments/media-types/application/vnd.wqd"},{"$f":"IFERROR(__xludf.DUMMYFUNCTION(\"\"\"COMPUTED_VALUE\"\"\"),\"vnd.wqd\")","v":"vnd.wqd"},{"$f":"IFERROR(__xludf.DUMMYFUNCTION(\"\"\"COMPUTED_VALUE\"\"\"),\"vnd.wqd\")","v":"vnd.wqd"},{"$f":"IFERROR(__xludf.DUMMYFUNCTION(\"\"\"COMPUTED_VALUE\"\"\"),\"application/vnd.wqd\")","v":"application/vnd.wqd"},{"$f":"IFERROR(__xludf.DUMMYFUNCTION(\"\"\"COMPUTED_VALUE\"\"\"),\"en\")","v":"en"}]
[{"$f":"IFERROR(__xludf.DUMMYFUNCTION(\"\"\"COMPUTED_VALUE\"\"\"),\"https://www.iana.org/assignments/media-types/application/vnd.wrq-hp3000-labelled\")","v":"https://www.iana.org/assignments/media-types/application/vnd.wrq-hp3000-labelled"},{"$f":"IFERROR(__xludf.DUMMYFUNCTION(\"\"\"COMPUTED_VALUE\"\"\"),\"vnd.wrq-hp3000-labelled\")","v":"vnd.wrq-hp3000-labelled"},{"$f":"IFERROR(__xludf.DUMMYFUNCTION(\"\"\"COMPUTED_VALUE\"\"\"),\"vnd.wrq-hp3000-labelled\")","v":"vnd.wrq-hp3000-labelled"},{"$f":"IFERROR(__xludf.DUMMYFUNCTION(\"\"\"COMPUTED_VALUE\"\"\"),\"application/vnd.wrq-hp3000-labelled\")","v":"application/vnd.wrq-hp3000-labelled"},{"$f":"IFERROR(__xludf.DUMMYFUNCTION(\"\"\"COMPUTED_VALUE\"\"\"),\"en\")","v":"en"}]
[{"$f":"IFERROR(__xludf.DUMMYFUNCTION(\"\"\"COMPUTED_VALUE\"\"\"),\"https://www.iana.org/assignments/media-types/application/vnd.wt.stf\")","v":"https://www.iana.org/assignments/media-types/application/vnd.wt.stf"},{"$f":"IFERROR(__xludf.DUMMYFUNCTION(\"\"\"COMPUTED_VALUE\"\"\"),\"vnd.wt.stf\")","v":"vnd.wt.stf"},{"$f":"IFERROR(__xludf.DUMMYFUNCTION(\"\"\"COMPUTED_VALUE\"\"\"),\"vnd.wt.stf\")","v":"vnd.wt.stf"},{"$f":"IFERROR(__xludf.DUMMYFUNCTION(\"\"\"COMPUTED_VALUE\"\"\"),\"application/vnd.wt.stf\")","v":"application/vnd.wt.stf"},{"$f":"IFERROR(__xludf.DUMMYFUNCTION(\"\"\"COMPUTED_VALUE\"\"\"),\"en\")","v":"en"}]
[{"$f":"IFERROR(__xludf.DUMMYFUNCTION(\"\"\"COMPUTED_VALUE\"\"\"),\"https://www.iana.org/assignments/media-types/application/vnd.wv.csp+xml\")","v":"https://www.iana.org/assignments/media-types/application/vnd.wv.csp+xml"},{"$f":"IFERROR(__xludf.DUMMYFUNCTION(\"\"\"COMPUTED_VALUE\"\"\"),\"vnd.wv.csp+xml\")","v":"vnd.wv.csp+xml"},{"$f":"IFERROR(__xludf.DUMMYFUNCTION(\"\"\"COMPUTED_VALUE\"\"\"),\"vnd.wv.csp+xml\")","v":"vnd.wv.csp+xml"},{"$f":"IFERROR(__xludf.DUMMYFUNCTION(\"\"\"COMPUTED_VALUE\"\"\"),\"application/vnd.wv.csp+xml\")","v":"application/vnd.wv.csp+xml"},{"$f":"IFERROR(__xludf.DUMMYFUNCTION(\"\"\"COMPUTED_VALUE\"\"\"),\"en\")","v":"en"}]
[{"$f":"IFERROR(__xludf.DUMMYFUNCTION(\"\"\"COMPUTED_VALUE\"\"\"),\"https://www.iana.org/assignments/media-types/application/vnd.wv.csp+wbxml\")","v":"https://www.iana.org/assignments/media-types/application/vnd.wv.csp+wbxml"},{"$f":"IFERROR(__xludf.DUMMYFUNCTION(\"\"\"COMPUTED_VALUE\"\"\"),\"vnd.wv.csp+wbxml\")","v":"vnd.wv.csp+wbxml"},{"$f":"IFERROR(__xludf.DUMMYFUNCTION(\"\"\"COMPUTED_VALUE\"\"\"),\"vnd.wv.csp+wbxml\")","v":"vnd.wv.csp+wbxml"},{"$f":"IFERROR(__xludf.DUMMYFUNCTION(\"\"\"COMPUTED_VALUE\"\"\"),\"application/vnd.wv.csp+wbxml\")","v":"application/vnd.wv.csp+wbxml"},{"$f":"IFERROR(__xludf.DUMMYFUNCTION(\"\"\"COMPUTED_VALUE\"\"\"),\"en\")","v":"en"}]
[{"$f":"IFERROR(__xludf.DUMMYFUNCTION(\"\"\"COMPUTED_VALUE\"\"\"),\"https://www.iana.org/assignments/media-types/application/vnd.wv.ssp+xml\")","v":"https://www.iana.org/assignments/media-types/application/vnd.wv.ssp+xml"},{"$f":"IFERROR(__xludf.DUMMYFUNCTION(\"\"\"COMPUTED_VALUE\"\"\"),\"vnd.wv.ssp+xml\")","v":"vnd.wv.ssp+xml"},{"$f":"IFERROR(__xludf.DUMMYFUNCTION(\"\"\"COMPUTED_VALUE\"\"\"),\"vnd.wv.ssp+xml\")","v":"vnd.wv.ssp+xml"},{"$f":"IFERROR(__xludf.DUMMYFUNCTION(\"\"\"COMPUTED_VALUE\"\"\"),\"application/vnd.wv.ssp+xml\")","v":"application/vnd.wv.ssp+xml"},{"$f":"IFERROR(__xludf.DUMMYFUNCTION(\"\"\"COMPUTED_VALUE\"\"\"),\"en\")","v":"en"}]
[{"$f":"IFERROR(__xludf.DUMMYFUNCTION(\"\"\"COMPUTED_VALUE\"\"\"),\"https://www.iana.org/assignments/media-types/application/vnd.xacml+json\")","v":"https://www.iana.org/assignments/media-types/application/vnd.xacml+json"},{"$f":"IFERROR(__xludf.DUMMYFUNCTION(\"\"\"COMPUTED_VALUE\"\"\"),\"vnd.xacml+json\")","v":"vnd.xacml+json"},{"$f":"IFERROR(__xludf.DUMMYFUNCTION(\"\"\"COMPUTED_VALUE\"\"\"),\"vnd.xacml+json\")","v":"vnd.xacml+json"},{"$f":"IFERROR(__xludf.DUMMYFUNCTION(\"\"\"COMPUTED_VALUE\"\"\"),\"application/vnd.xacml+json\")","v":"application/vnd.xacml+json"},{"$f":"IFERROR(__xludf.DUMMYFUNCTION(\"\"\"COMPUTED_VALUE\"\"\"),\"en\")","v":"en"}]
[{"$f":"IFERROR(__xludf.DUMMYFUNCTION(\"\"\"COMPUTED_VALUE\"\"\"),\"https://www.iana.org/assignments/media-types/application/vnd.xara\")","v":"https://www.iana.org/assignments/media-types/application/vnd.xara"},{"$f":"IFERROR(__xludf.DUMMYFUNCTION(\"\"\"COMPUTED_VALUE\"\"\"),\"vnd.xara\")","v":"vnd.xara"},{"$f":"IFERROR(__xludf.DUMMYFUNCTION(\"\"\"COMPUTED_VALUE\"\"\"),\"vnd.xara\")","v":"vnd.xara"},{"$f":"IFERROR(__xludf.DUMMYFUNCTION(\"\"\"COMPUTED_VALUE\"\"\"),\"application/vnd.xara\")","v":"application/vnd.xara"},{"$f":"IFERROR(__xludf.DUMMYFUNCTION(\"\"\"COMPUTED_VALUE\"\"\"),\"en\")","v":"en"}]
[{"$f":"IFERROR(__xludf.DUMMYFUNCTION(\"\"\"COMPUTED_VALUE\"\"\"),\"https://www.iana.org/assignments/media-types/application/vnd.xfdl\")","v":"https://www.iana.org/assignments/media-types/application/vnd.xfdl"},{"$f":"IFERROR(__xludf.DUMMYFUNCTION(\"\"\"COMPUTED_VALUE\"\"\"),\"vnd.xfdl\")","v":"vnd.xfdl"},{"$f":"IFERROR(__xludf.DUMMYFUNCTION(\"\"\"COMPUTED_VALUE\"\"\"),\"vnd.xfdl\")","v":"vnd.xfdl"},{"$f":"IFERROR(__xludf.DUMMYFUNCTION(\"\"\"COMPUTED_VALUE\"\"\"),\"application/vnd.xfdl\")","v":"application/vnd.xfdl"},{"$f":"IFERROR(__xludf.DUMMYFUNCTION(\"\"\"COMPUTED_VALUE\"\"\"),\"en\")","v":"en"}]
[{"$f":"IFERROR(__xludf.DUMMYFUNCTION(\"\"\"COMPUTED_VALUE\"\"\"),\"https://www.iana.org/assignments/media-types/application/vnd.xfdl.webform\")","v":"https://www.iana.org/assignments/media-types/application/vnd.xfdl.webform"},{"$f":"IFERROR(__xludf.DUMMYFUNCTION(\"\"\"COMPUTED_VALUE\"\"\"),\"vnd.xfdl.webform\")","v":"vnd.xfdl.webform"},{"$f":"IFERROR(__xludf.DUMMYFUNCTION(\"\"\"COMPUTED_VALUE\"\"\"),\"vnd.xfdl.webform\")","v":"vnd.xfdl.webform"},{"$f":"IFERROR(__xludf.DUMMYFUNCTION(\"\"\"COMPUTED_VALUE\"\"\"),\"application/vnd.xfdl.webform\")","v":"application/vnd.xfdl.webform"},{"$f":"IFERROR(__xludf.DUMMYFUNCTION(\"\"\"COMPUTED_VALUE\"\"\"),\"en\")","v":"en"}]
[{"$f":"IFERROR(__xludf.DUMMYFUNCTION(\"\"\"COMPUTED_VALUE\"\"\"),\"https://www.iana.org/assignments/media-types/application/vnd.xmi+xml\")","v":"https://www.iana.org/assignments/media-types/application/vnd.xmi+xml"},{"$f":"IFERROR(__xludf.DUMMYFUNCTION(\"\"\"COMPUTED_VALUE\"\"\"),\"vnd.xmi+xml\")","v":"vnd.xmi+xml"},{"$f":"IFERROR(__xludf.DUMMYFUNCTION(\"\"\"COMPUTED_VALUE\"\"\"),\"vnd.xmi+xml\")","v":"vnd.xmi+xml"},{"$f":"IFERROR(__xludf.DUMMYFUNCTION(\"\"\"COMPUTED_VALUE\"\"\"),\"application/vnd.xmi+xml\")","v":"application/vnd.xmi+xml"},{"$f":"IFERROR(__xludf.DUMMYFUNCTION(\"\"\"COMPUTED_VALUE\"\"\"),\"en\")","v":"en"}]
[{"$f":"IFERROR(__xludf.DUMMYFUNCTION(\"\"\"COMPUTED_VALUE\"\"\"),\"https://www.iana.org/assignments/media-types/application/vnd.xmpie.cpkg\")","v":"https://www.iana.org/assignments/media-types/application/vnd.xmpie.cpkg"},{"$f":"IFERROR(__xludf.DUMMYFUNCTION(\"\"\"COMPUTED_VALUE\"\"\"),\"vnd.xmpie.cpkg\")","v":"vnd.xmpie.cpkg"},{"$f":"IFERROR(__xludf.DUMMYFUNCTION(\"\"\"COMPUTED_VALUE\"\"\"),\"vnd.xmpie.cpkg\")","v":"vnd.xmpie.cpkg"},{"$f":"IFERROR(__xludf.DUMMYFUNCTION(\"\"\"COMPUTED_VALUE\"\"\"),\"application/vnd.xmpie.cpkg\")","v":"application/vnd.xmpie.cpkg"},{"$f":"IFERROR(__xludf.DUMMYFUNCTION(\"\"\"COMPUTED_VALUE\"\"\"),\"en\")","v":"en"}]
[{"$f":"IFERROR(__xludf.DUMMYFUNCTION(\"\"\"COMPUTED_VALUE\"\"\"),\"https://www.iana.org/assignments/media-types/application/vnd.xmpie.dpkg\")","v":"https://www.iana.org/assignments/media-types/application/vnd.xmpie.dpkg"},{"$f":"IFERROR(__xludf.DUMMYFUNCTION(\"\"\"COMPUTED_VALUE\"\"\"),\"vnd.xmpie.dpkg\")","v":"vnd.xmpie.dpkg"},{"$f":"IFERROR(__xludf.DUMMYFUNCTION(\"\"\"COMPUTED_VALUE\"\"\"),\"vnd.xmpie.dpkg\")","v":"vnd.xmpie.dpkg"},{"$f":"IFERROR(__xludf.DUMMYFUNCTION(\"\"\"COMPUTED_VALUE\"\"\"),\"application/vnd.xmpie.dpkg\")","v":"application/vnd.xmpie.dpkg"},{"$f":"IFERROR(__xludf.DUMMYFUNCTION(\"\"\"COMPUTED_VALUE\"\"\"),\"en\")","v":"en"}]
[{"$f":"IFERROR(__xludf.DUMMYFUNCTION(\"\"\"COMPUTED_VALUE\"\"\"),\"https://www.iana.org/assignments/media-types/application/vnd.xmpie.plan\")","v":"https://www.iana.org/assignments/media-types/application/vnd.xmpie.plan"},{"$f":"IFERROR(__xludf.DUMMYFUNCTION(\"\"\"COMPUTED_VALUE\"\"\"),\"vnd.xmpie.plan\")","v":"vnd.xmpie.plan"},{"$f":"IFERROR(__xludf.DUMMYFUNCTION(\"\"\"COMPUTED_VALUE\"\"\"),\"vnd.xmpie.plan\")","v":"vnd.xmpie.plan"},{"$f":"IFERROR(__xludf.DUMMYFUNCTION(\"\"\"COMPUTED_VALUE\"\"\"),\"application/vnd.xmpie.plan\")","v":"application/vnd.xmpie.plan"},{"$f":"IFERROR(__xludf.DUMMYFUNCTION(\"\"\"COMPUTED_VALUE\"\"\"),\"en\")","v":"en"}]
[{"$f":"IFERROR(__xludf.DUMMYFUNCTION(\"\"\"COMPUTED_VALUE\"\"\"),\"https://www.iana.org/assignments/media-types/application/vnd.xmpie.ppkg\")","v":"https://www.iana.org/assignments/media-types/application/vnd.xmpie.ppkg"},{"$f":"IFERROR(__xludf.DUMMYFUNCTION(\"\"\"COMPUTED_VALUE\"\"\"),\"vnd.xmpie.ppkg\")","v":"vnd.xmpie.ppkg"},{"$f":"IFERROR(__xludf.DUMMYFUNCTION(\"\"\"COMPUTED_VALUE\"\"\"),\"vnd.xmpie.ppkg\")","v":"vnd.xmpie.ppkg"},{"$f":"IFERROR(__xludf.DUMMYFUNCTION(\"\"\"COMPUTED_VALUE\"\"\"),\"application/vnd.xmpie.ppkg\")","v":"application/vnd.xmpie.ppkg"},{"$f":"IFERROR(__xludf.DUMMYFUNCTION(\"\"\"COMPUTED_VALUE\"\"\"),\"en\")","v":"en"}]
[{"$f":"IFERROR(__xludf.DUMMYFUNCTION(\"\"\"COMPUTED_VALUE\"\"\"),\"https://www.iana.org/assignments/media-types/application/vnd.xmpie.xlim\")","v":"https://www.iana.org/assignments/media-types/application/vnd.xmpie.xlim"},{"$f":"IFERROR(__xludf.DUMMYFUNCTION(\"\"\"COMPUTED_VALUE\"\"\"),\"vnd.xmpie.xlim\")","v":"vnd.xmpie.xlim"},{"$f":"IFERROR(__xludf.DUMMYFUNCTION(\"\"\"COMPUTED_VALUE\"\"\"),\"vnd.xmpie.xlim\")","v":"vnd.xmpie.xlim"},{"$f":"IFERROR(__xludf.DUMMYFUNCTION(\"\"\"COMPUTED_VALUE\"\"\"),\"application/vnd.xmpie.xlim\")","v":"application/vnd.xmpie.xlim"},{"$f":"IFERROR(__xludf.DUMMYFUNCTION(\"\"\"COMPUTED_VALUE\"\"\"),\"en\")","v":"en"}]
[{"$f":"IFERROR(__xludf.DUMMYFUNCTION(\"\"\"COMPUTED_VALUE\"\"\"),\"https://www.iana.org/assignments/media-types/application/vnd.yamaha.hv-dic\")","v":"https://www.iana.org/assignments/media-types/application/vnd.yamaha.hv-dic"},{"$f":"IFERROR(__xludf.DUMMYFUNCTION(\"\"\"COMPUTED_VALUE\"\"\"),\"vnd.yamaha.hv-dic\")","v":"vnd.yamaha.hv-dic"},{"$f":"IFERROR(__xludf.DUMMYFUNCTION(\"\"\"COMPUTED_VALUE\"\"\"),\"vnd.yamaha.hv-dic\")","v":"vnd.yamaha.hv-dic"},{"$f":"IFERROR(__xludf.DUMMYFUNCTION(\"\"\"COMPUTED_VALUE\"\"\"),\"application/vnd.yamaha.hv-dic\")","v":"application/vnd.yamaha.hv-dic"},{"$f":"IFERROR(__xludf.DUMMYFUNCTION(\"\"\"COMPUTED_VALUE\"\"\"),\"en\")","v":"en"}]
[{"$f":"IFERROR(__xludf.DUMMYFUNCTION(\"\"\"COMPUTED_VALUE\"\"\"),\"https://www.iana.org/assignments/media-types/application/vnd.yamaha.hv-script\")","v":"https://www.iana.org/assignments/media-types/application/vnd.yamaha.hv-script"},{"$f":"IFERROR(__xludf.DUMMYFUNCTION(\"\"\"COMPUTED_VALUE\"\"\"),\"vnd.yamaha.hv-script\")","v":"vnd.yamaha.hv-script"},{"$f":"IFERROR(__xludf.DUMMYFUNCTION(\"\"\"COMPUTED_VALUE\"\"\"),\"vnd.yamaha.hv-script\")","v":"vnd.yamaha.hv-script"},{"$f":"IFERROR(__xludf.DUMMYFUNCTION(\"\"\"COMPUTED_VALUE\"\"\"),\"application/vnd.yamaha.hv-script\")","v":"application/vnd.yamaha.hv-script"},{"$f":"IFERROR(__xludf.DUMMYFUNCTION(\"\"\"COMPUTED_VALUE\"\"\"),\"en\")","v":"en"}]
[{"$f":"IFERROR(__xludf.DUMMYFUNCTION(\"\"\"COMPUTED_VALUE\"\"\"),\"https://www.iana.org/assignments/media-types/application/vnd.yamaha.hv-voice\")","v":"https://www.iana.org/assignments/media-types/application/vnd.yamaha.hv-voice"},{"$f":"IFERROR(__xludf.DUMMYFUNCTION(\"\"\"COMPUTED_VALUE\"\"\"),\"vnd.yamaha.hv-voice\")","v":"vnd.yamaha.hv-voice"},{"$f":"IFERROR(__xludf.DUMMYFUNCTION(\"\"\"COMPUTED_VALUE\"\"\"),\"vnd.yamaha.hv-voice\")","v":"vnd.yamaha.hv-voice"},{"$f":"IFERROR(__xludf.DUMMYFUNCTION(\"\"\"COMPUTED_VALUE\"\"\"),\"application/vnd.yamaha.hv-voice\")","v":"application/vnd.yamaha.hv-voice"},{"$f":"IFERROR(__xludf.DUMMYFUNCTION(\"\"\"COMPUTED_VALUE\"\"\"),\"en\")","v":"en"}]
[{"$f":"IFERROR(__xludf.DUMMYFUNCTION(\"\"\"COMPUTED_VALUE\"\"\"),\"https://www.iana.org/assignments/media-types/application/vnd.yamaha.openscoreformat.osfpvg+xml\")","v":"https://www.iana.org/assignments/media-types/application/vnd.yamaha.openscoreformat.osfpvg+xml"},{"$f":"IFERROR(__xludf.DUMMYFUNCTION(\"\"\"COMPUTED_VALUE\"\"\"),\"vnd.yamaha.openscoreformat.osfpvg+xml\")","v":"vnd.yamaha.openscoreformat.osfpvg+xml"},{"$f":"IFERROR(__xludf.DUMMYFUNCTION(\"\"\"COMPUTED_VALUE\"\"\"),\"vnd.yamaha.openscoreformat.osfpvg+xml\")","v":"vnd.yamaha.openscoreformat.osfpvg+xml"},{"$f":"IFERROR(__xludf.DUMMYFUNCTION(\"\"\"COMPUTED_VALUE\"\"\"),\"application/vnd.yamaha.openscoreformat.osfpvg+xml\")","v":"application/vnd.yamaha.openscoreformat.osfpvg+xml"},{"$f":"IFERROR(__xludf.DUMMYFUNCTION(\"\"\"COMPUTED_VALUE\"\"\"),\"en\")","v":"en"}]
[{"$f":"IFERROR(__xludf.DUMMYFUNCTION(\"\"\"COMPUTED_VALUE\"\"\"),\"https://www.iana.org/assignments/media-types/application/vnd.yamaha.openscoreformat\")","v":"https://www.iana.org/assignments/media-types/application/vnd.yamaha.openscoreformat"},{"$f":"IFERROR(__xludf.DUMMYFUNCTION(\"\"\"COMPUTED_VALUE\"\"\"),\"vnd.yamaha.openscoreformat\")","v":"vnd.yamaha.openscoreformat"},{"$f":"IFERROR(__xludf.DUMMYFUNCTION(\"\"\"COMPUTED_VALUE\"\"\"),\"vnd.yamaha.openscoreformat\")","v":"vnd.yamaha.openscoreformat"},{"$f":"IFERROR(__xludf.DUMMYFUNCTION(\"\"\"COMPUTED_VALUE\"\"\"),\"application/vnd.yamaha.openscoreformat\")","v":"application/vnd.yamaha.openscoreformat"},{"$f":"IFERROR(__xludf.DUMMYFUNCTION(\"\"\"COMPUTED_VALUE\"\"\"),\"en\")","v":"en"}]
[{"$f":"IFERROR(__xludf.DUMMYFUNCTION(\"\"\"COMPUTED_VALUE\"\"\"),\"https://www.iana.org/assignments/media-types/application/vnd.yamaha.remote-setup\")","v":"https://www.iana.org/assignments/media-types/application/vnd.yamaha.remote-setup"},{"$f":"IFERROR(__xludf.DUMMYFUNCTION(\"\"\"COMPUTED_VALUE\"\"\"),\"vnd.yamaha.remote-setup\")","v":"vnd.yamaha.remote-setup"},{"$f":"IFERROR(__xludf.DUMMYFUNCTION(\"\"\"COMPUTED_VALUE\"\"\"),\"vnd.yamaha.remote-setup\")","v":"vnd.yamaha.remote-setup"},{"$f":"IFERROR(__xludf.DUMMYFUNCTION(\"\"\"COMPUTED_VALUE\"\"\"),\"application/vnd.yamaha.remote-setup\")","v":"application/vnd.yamaha.remote-setup"},{"$f":"IFERROR(__xludf.DUMMYFUNCTION(\"\"\"COMPUTED_VALUE\"\"\"),\"en\")","v":"en"}]
[{"$f":"IFERROR(__xludf.DUMMYFUNCTION(\"\"\"COMPUTED_VALUE\"\"\"),\"https://www.iana.org/assignments/media-types/application/vnd.yamaha.smaf-audio\")","v":"https://www.iana.org/assignments/media-types/application/vnd.yamaha.smaf-audio"},{"$f":"IFERROR(__xludf.DUMMYFUNCTION(\"\"\"COMPUTED_VALUE\"\"\"),\"vnd.yamaha.smaf-audio\")","v":"vnd.yamaha.smaf-audio"},{"$f":"IFERROR(__xludf.DUMMYFUNCTION(\"\"\"COMPUTED_VALUE\"\"\"),\"vnd.yamaha.smaf-audio\")","v":"vnd.yamaha.smaf-audio"},{"$f":"IFERROR(__xludf.DUMMYFUNCTION(\"\"\"COMPUTED_VALUE\"\"\"),\"application/vnd.yamaha.smaf-audio\")","v":"application/vnd.yamaha.smaf-audio"},{"$f":"IFERROR(__xludf.DUMMYFUNCTION(\"\"\"COMPUTED_VALUE\"\"\"),\"en\")","v":"en"}]
[{"$f":"IFERROR(__xludf.DUMMYFUNCTION(\"\"\"COMPUTED_VALUE\"\"\"),\"https://www.iana.org/assignments/media-types/application/vnd.yamaha.smaf-phrase\")","v":"https://www.iana.org/assignments/media-types/application/vnd.yamaha.smaf-phrase"},{"$f":"IFERROR(__xludf.DUMMYFUNCTION(\"\"\"COMPUTED_VALUE\"\"\"),\"vnd.yamaha.smaf-phrase\")","v":"vnd.yamaha.smaf-phrase"},{"$f":"IFERROR(__xludf.DUMMYFUNCTION(\"\"\"COMPUTED_VALUE\"\"\"),\"vnd.yamaha.smaf-phrase\")","v":"vnd.yamaha.smaf-phrase"},{"$f":"IFERROR(__xludf.DUMMYFUNCTION(\"\"\"COMPUTED_VALUE\"\"\"),\"application/vnd.yamaha.smaf-phrase\")","v":"application/vnd.yamaha.smaf-phrase"},{"$f":"IFERROR(__xludf.DUMMYFUNCTION(\"\"\"COMPUTED_VALUE\"\"\"),\"en\")","v":"en"}]
[{"$f":"IFERROR(__xludf.DUMMYFUNCTION(\"\"\"COMPUTED_VALUE\"\"\"),\"https://www.iana.org/assignments/media-types/application/vnd.yamaha.through-ngn\")","v":"https://www.iana.org/assignments/media-types/application/vnd.yamaha.through-ngn"},{"$f":"IFERROR(__xludf.DUMMYFUNCTION(\"\"\"COMPUTED_VALUE\"\"\"),\"vnd.yamaha.through-ngn\")","v":"vnd.yamaha.through-ngn"},{"$f":"IFERROR(__xludf.DUMMYFUNCTION(\"\"\"COMPUTED_VALUE\"\"\"),\"vnd.yamaha.through-ngn\")","v":"vnd.yamaha.through-ngn"},{"$f":"IFERROR(__xludf.DUMMYFUNCTION(\"\"\"COMPUTED_VALUE\"\"\"),\"application/vnd.yamaha.through-ngn\")","v":"application/vnd.yamaha.through-ngn"},{"$f":"IFERROR(__xludf.DUMMYFUNCTION(\"\"\"COMPUTED_VALUE\"\"\"),\"en\")","v":"en"}]
[{"$f":"IFERROR(__xludf.DUMMYFUNCTION(\"\"\"COMPUTED_VALUE\"\"\"),\"https://www.iana.org/assignments/media-types/application/vnd.yamaha.tunnel-udpencap\")","v":"https://www.iana.org/assignments/media-types/application/vnd.yamaha.tunnel-udpencap"},{"$f":"IFERROR(__xludf.DUMMYFUNCTION(\"\"\"COMPUTED_VALUE\"\"\"),\"vnd.yamaha.tunnel-udpencap\")","v":"vnd.yamaha.tunnel-udpencap"},{"$f":"IFERROR(__xludf.DUMMYFUNCTION(\"\"\"COMPUTED_VALUE\"\"\"),\"vnd.yamaha.tunnel-udpencap\")","v":"vnd.yamaha.tunnel-udpencap"},{"$f":"IFERROR(__xludf.DUMMYFUNCTION(\"\"\"COMPUTED_VALUE\"\"\"),\"application/vnd.yamaha.tunnel-udpencap\")","v":"application/vnd.yamaha.tunnel-udpencap"},{"$f":"IFERROR(__xludf.DUMMYFUNCTION(\"\"\"COMPUTED_VALUE\"\"\"),\"en\")","v":"en"}]
[{"$f":"IFERROR(__xludf.DUMMYFUNCTION(\"\"\"COMPUTED_VALUE\"\"\"),\"https://www.iana.org/assignments/media-types/application/vnd.yaoweme\")","v":"https://www.iana.org/assignments/media-types/application/vnd.yaoweme"},{"$f":"IFERROR(__xludf.DUMMYFUNCTION(\"\"\"COMPUTED_VALUE\"\"\"),\"vnd.yaoweme\")","v":"vnd.yaoweme"},{"$f":"IFERROR(__xludf.DUMMYFUNCTION(\"\"\"COMPUTED_VALUE\"\"\"),\"vnd.yaoweme\")","v":"vnd.yaoweme"},{"$f":"IFERROR(__xludf.DUMMYFUNCTION(\"\"\"COMPUTED_VALUE\"\"\"),\"application/vnd.yaoweme\")","v":"application/vnd.yaoweme"},{"$f":"IFERROR(__xludf.DUMMYFUNCTION(\"\"\"COMPUTED_VALUE\"\"\"),\"en\")","v":"en"}]
[{"$f":"IFERROR(__xludf.DUMMYFUNCTION(\"\"\"COMPUTED_VALUE\"\"\"),\"https://www.iana.org/assignments/media-types/application/vnd.yellowriver-custom-menu\")","v":"https://www.iana.org/assignments/media-types/application/vnd.yellowriver-custom-menu"},{"$f":"IFERROR(__xludf.DUMMYFUNCTION(\"\"\"COMPUTED_VALUE\"\"\"),\"vnd.yellowriver-custom-menu\")","v":"vnd.yellowriver-custom-menu"},{"$f":"IFERROR(__xludf.DUMMYFUNCTION(\"\"\"COMPUTED_VALUE\"\"\"),\"vnd.yellowriver-custom-menu\")","v":"vnd.yellowriver-custom-menu"},{"$f":"IFERROR(__xludf.DUMMYFUNCTION(\"\"\"COMPUTED_VALUE\"\"\"),\"application/vnd.yellowriver-custom-menu\")","v":"application/vnd.yellowriver-custom-menu"},{"$f":"IFERROR(__xludf.DUMMYFUNCTION(\"\"\"COMPUTED_VALUE\"\"\"),\"en\")","v":"en"}]
[{"$f":"IFERROR(__xludf.DUMMYFUNCTION(\"\"\"COMPUTED_VALUE\"\"\"),\"https://www.iana.org/assignments/media-types/application/vnd.youtube.yt\")","v":"https://www.iana.org/assignments/media-types/application/vnd.youtube.yt"},{"$f":"IFERROR(__xludf.DUMMYFUNCTION(\"\"\"COMPUTED_VALUE\"\"\"),\"vnd.youtube.yt (OBSOLETED in favor of video/vnd.youtube.yt)\")","v":"vnd.youtube.yt (OBSOLETED in favor of video/vnd.youtube.yt)"},{"$f":"IFERROR(__xludf.DUMMYFUNCTION(\"\"\"COMPUTED_VALUE\"\"\"),\"vnd.youtube.yt (OBSOLETED in favor of video/vnd.youtube.yt)\")","v":"vnd.youtube.yt (OBSOLETED in favor of video/vnd.youtube.yt)"},{"$f":"IFERROR(__xludf.DUMMYFUNCTION(\"\"\"COMPUTED_VALUE\"\"\"),\"application/vnd.youtube.yt\")","v":"application/vnd.youtube.yt"},{"$f":"IFERROR(__xludf.DUMMYFUNCTION(\"\"\"COMPUTED_VALUE\"\"\"),\"en\")","v":"en"}]
[{"$f":"IFERROR(__xludf.DUMMYFUNCTION(\"\"\"COMPUTED_VALUE\"\"\"),\"https://www.iana.org/assignments/media-types/application/vnd.zul\")","v":"https://www.iana.org/assignments/media-types/application/vnd.zul"},{"$f":"IFERROR(__xludf.DUMMYFUNCTION(\"\"\"COMPUTED_VALUE\"\"\"),\"vnd.zul\")","v":"vnd.zul"},{"$f":"IFERROR(__xludf.DUMMYFUNCTION(\"\"\"COMPUTED_VALUE\"\"\"),\"vnd.zul\")","v":"vnd.zul"},{"$f":"IFERROR(__xludf.DUMMYFUNCTION(\"\"\"COMPUTED_VALUE\"\"\"),\"application/vnd.zul\")","v":"application/vnd.zul"},{"$f":"IFERROR(__xludf.DUMMYFUNCTION(\"\"\"COMPUTED_VALUE\"\"\"),\"en\")","v":"en"}]
[{"$f":"IFERROR(__xludf.DUMMYFUNCTION(\"\"\"COMPUTED_VALUE\"\"\"),\"https://www.iana.org/assignments/media-types/application/vnd.zzazz.deck+xml\")","v":"https://www.iana.org/assignments/media-types/application/vnd.zzazz.deck+xml"},{"$f":"IFERROR(__xludf.DUMMYFUNCTION(\"\"\"COMPUTED_VALUE\"\"\"),\"vnd.zzazz.deck+xml\")","v":"vnd.zzazz.deck+xml"},{"$f":"IFERROR(__xludf.DUMMYFUNCTION(\"\"\"COMPUTED_VALUE\"\"\"),\"vnd.zzazz.deck+xml\")","v":"vnd.zzazz.deck+xml"},{"$f":"IFERROR(__xludf.DUMMYFUNCTION(\"\"\"COMPUTED_VALUE\"\"\"),\"application/vnd.zzazz.deck+xml\")","v":"application/vnd.zzazz.deck+xml"},{"$f":"IFERROR(__xludf.DUMMYFUNCTION(\"\"\"COMPUTED_VALUE\"\"\"),\"en\")","v":"en"}]
[{"$f":"IFERROR(__xludf.DUMMYFUNCTION(\"\"\"COMPUTED_VALUE\"\"\"),\"https://www.iana.org/assignments/media-types/application/voicexml+xml\")","v":"https://www.iana.org/assignments/media-types/application/voicexml+xml"},{"$f":"IFERROR(__xludf.DUMMYFUNCTION(\"\"\"COMPUTED_VALUE\"\"\"),\"voicexml+xml\")","v":"voicexml+xml"},{"$f":"IFERROR(__xludf.DUMMYFUNCTION(\"\"\"COMPUTED_VALUE\"\"\"),\"voicexml+xml\")","v":"voicexml+xml"},{"$f":"IFERROR(__xludf.DUMMYFUNCTION(\"\"\"COMPUTED_VALUE\"\"\"),\"application/voicexml+xml\")","v":"application/voicexml+xml"},{"$f":"IFERROR(__xludf.DUMMYFUNCTION(\"\"\"COMPUTED_VALUE\"\"\"),\"en\")","v":"en"}]
[{"$f":"IFERROR(__xludf.DUMMYFUNCTION(\"\"\"COMPUTED_VALUE\"\"\"),\"https://www.iana.org/assignments/media-types/application/voucher-cms+json\")","v":"https://www.iana.org/assignments/media-types/application/voucher-cms+json"},{"$f":"IFERROR(__xludf.DUMMYFUNCTION(\"\"\"COMPUTED_VALUE\"\"\"),\"voucher-cms+json\")","v":"voucher-cms+json"},{"$f":"IFERROR(__xludf.DUMMYFUNCTION(\"\"\"COMPUTED_VALUE\"\"\"),\"voucher-cms+json\")","v":"voucher-cms+json"},{"$f":"IFERROR(__xludf.DUMMYFUNCTION(\"\"\"COMPUTED_VALUE\"\"\"),\"application/voucher-cms+json\")","v":"application/voucher-cms+json"},{"$f":"IFERROR(__xludf.DUMMYFUNCTION(\"\"\"COMPUTED_VALUE\"\"\"),\"en\")","v":"en"}]
[{"$f":"IFERROR(__xludf.DUMMYFUNCTION(\"\"\"COMPUTED_VALUE\"\"\"),\"https://www.iana.org/assignments/media-types/application/vq-rtcpxr\")","v":"https://www.iana.org/assignments/media-types/application/vq-rtcpxr"},{"$f":"IFERROR(__xludf.DUMMYFUNCTION(\"\"\"COMPUTED_VALUE\"\"\"),\"vq-rtcpxr\")","v":"vq-rtcpxr"},{"$f":"IFERROR(__xludf.DUMMYFUNCTION(\"\"\"COMPUTED_VALUE\"\"\"),\"vq-rtcpxr\")","v":"vq-rtcpxr"},{"$f":"IFERROR(__xludf.DUMMYFUNCTION(\"\"\"COMPUTED_VALUE\"\"\"),\"application/vq-rtcpxr\")","v":"application/vq-rtcpxr"},{"$f":"IFERROR(__xludf.DUMMYFUNCTION(\"\"\"COMPUTED_VALUE\"\"\"),\"en\")","v":"en"}]
[{"$f":"IFERROR(__xludf.DUMMYFUNCTION(\"\"\"COMPUTED_VALUE\"\"\"),\"https://www.iana.org/assignments/media-types/application/wasm\")","v":"https://www.iana.org/assignments/media-types/application/wasm"},{"$f":"IFERROR(__xludf.DUMMYFUNCTION(\"\"\"COMPUTED_VALUE\"\"\"),\"wasm\")","v":"wasm"},{"$f":"IFERROR(__xludf.DUMMYFUNCTION(\"\"\"COMPUTED_VALUE\"\"\"),\"wasm\")","v":"wasm"},{"$f":"IFERROR(__xludf.DUMMYFUNCTION(\"\"\"COMPUTED_VALUE\"\"\"),\"application/wasm\")","v":"application/wasm"},{"$f":"IFERROR(__xludf.DUMMYFUNCTION(\"\"\"COMPUTED_VALUE\"\"\"),\"en\")","v":"en"}]
[{"$f":"IFERROR(__xludf.DUMMYFUNCTION(\"\"\"COMPUTED_VALUE\"\"\"),\"https://www.iana.org/assignments/media-types/application/watcherinfo+xml\")","v":"https://www.iana.org/assignments/media-types/application/watcherinfo+xml"},{"$f":"IFERROR(__xludf.DUMMYFUNCTION(\"\"\"COMPUTED_VALUE\"\"\"),\"watcherinfo+xml\")","v":"watcherinfo+xml"},{"$f":"IFERROR(__xludf.DUMMYFUNCTION(\"\"\"COMPUTED_VALUE\"\"\"),\"watcherinfo+xml\")","v":"watcherinfo+xml"},{"$f":"IFERROR(__xludf.DUMMYFUNCTION(\"\"\"COMPUTED_VALUE\"\"\"),\"application/watcherinfo+xml\")","v":"application/watcherinfo+xml"},{"$f":"IFERROR(__xludf.DUMMYFUNCTION(\"\"\"COMPUTED_VALUE\"\"\"),\"en\")","v":"en"}]
[{"$f":"IFERROR(__xludf.DUMMYFUNCTION(\"\"\"COMPUTED_VALUE\"\"\"),\"https://www.iana.org/assignments/media-types/application/webpush-options+json\")","v":"https://www.iana.org/assignments/media-types/application/webpush-options+json"},{"$f":"IFERROR(__xludf.DUMMYFUNCTION(\"\"\"COMPUTED_VALUE\"\"\"),\"webpush-options+json\")","v":"webpush-options+json"},{"$f":"IFERROR(__xludf.DUMMYFUNCTION(\"\"\"COMPUTED_VALUE\"\"\"),\"webpush-options+json\")","v":"webpush-options+json"},{"$f":"IFERROR(__xludf.DUMMYFUNCTION(\"\"\"COMPUTED_VALUE\"\"\"),\"application/webpush-options+json\")","v":"application/webpush-options+json"},{"$f":"IFERROR(__xludf.DUMMYFUNCTION(\"\"\"COMPUTED_VALUE\"\"\"),\"en\")","v":"en"}]
[{"$f":"IFERROR(__xludf.DUMMYFUNCTION(\"\"\"COMPUTED_VALUE\"\"\"),\"https://www.iana.org/assignments/media-types/application/whoispp-query\")","v":"https://www.iana.org/assignments/media-types/application/whoispp-query"},{"$f":"IFERROR(__xludf.DUMMYFUNCTION(\"\"\"COMPUTED_VALUE\"\"\"),\"whoispp-query\")","v":"whoispp-query"},{"$f":"IFERROR(__xludf.DUMMYFUNCTION(\"\"\"COMPUTED_VALUE\"\"\"),\"whoispp-query\")","v":"whoispp-query"},{"$f":"IFERROR(__xludf.DUMMYFUNCTION(\"\"\"COMPUTED_VALUE\"\"\"),\"application/whoispp-query\")","v":"application/whoispp-query"},{"$f":"IFERROR(__xludf.DUMMYFUNCTION(\"\"\"COMPUTED_VALUE\"\"\"),\"en\")","v":"en"}]
[{"$f":"IFERROR(__xludf.DUMMYFUNCTION(\"\"\"COMPUTED_VALUE\"\"\"),\"https://www.iana.org/assignments/media-types/application/whoispp-response\")","v":"https://www.iana.org/assignments/media-types/application/whoispp-response"},{"$f":"IFERROR(__xludf.DUMMYFUNCTION(\"\"\"COMPUTED_VALUE\"\"\"),\"whoispp-response\")","v":"whoispp-response"},{"$f":"IFERROR(__xludf.DUMMYFUNCTION(\"\"\"COMPUTED_VALUE\"\"\"),\"whoispp-response\")","v":"whoispp-response"},{"$f":"IFERROR(__xludf.DUMMYFUNCTION(\"\"\"COMPUTED_VALUE\"\"\"),\"application/whoispp-response\")","v":"application/whoispp-response"},{"$f":"IFERROR(__xludf.DUMMYFUNCTION(\"\"\"COMPUTED_VALUE\"\"\"),\"en\")","v":"en"}]
[{"$f":"IFERROR(__xludf.DUMMYFUNCTION(\"\"\"COMPUTED_VALUE\"\"\"),\"https://www.iana.org/assignments/media-types/application/widget\")","v":"https://www.iana.org/assignments/media-types/application/widget"},{"$f":"IFERROR(__xludf.DUMMYFUNCTION(\"\"\"COMPUTED_VALUE\"\"\"),\"widget\")","v":"widget"},{"$f":"IFERROR(__xludf.DUMMYFUNCTION(\"\"\"COMPUTED_VALUE\"\"\"),\"widget\")","v":"widget"},{"$f":"IFERROR(__xludf.DUMMYFUNCTION(\"\"\"COMPUTED_VALUE\"\"\"),\"application/widget\")","v":"application/widget"},{"$f":"IFERROR(__xludf.DUMMYFUNCTION(\"\"\"COMPUTED_VALUE\"\"\"),\"en\")","v":"en"}]
[{"$f":"IFERROR(__xludf.DUMMYFUNCTION(\"\"\"COMPUTED_VALUE\"\"\"),\"https://www.iana.org/assignments/media-types/application/wita\")","v":"https://www.iana.org/assignments/media-types/application/wita"},{"$f":"IFERROR(__xludf.DUMMYFUNCTION(\"\"\"COMPUTED_VALUE\"\"\"),\"wita\")","v":"wita"},{"$f":"IFERROR(__xludf.DUMMYFUNCTION(\"\"\"COMPUTED_VALUE\"\"\"),\"wita\")","v":"wita"},{"$f":"IFERROR(__xludf.DUMMYFUNCTION(\"\"\"COMPUTED_VALUE\"\"\"),\"application/wita\")","v":"application/wita"},{"$f":"IFERROR(__xludf.DUMMYFUNCTION(\"\"\"COMPUTED_VALUE\"\"\"),\"en\")","v":"en"}]
[{"$f":"IFERROR(__xludf.DUMMYFUNCTION(\"\"\"COMPUTED_VALUE\"\"\"),\"https://www.iana.org/assignments/media-types/application/wordperfect5.1\")","v":"https://www.iana.org/assignments/media-types/application/wordperfect5.1"},{"$f":"IFERROR(__xludf.DUMMYFUNCTION(\"\"\"COMPUTED_VALUE\"\"\"),\"wordperfect5.1\")","v":"wordperfect5.1"},{"$f":"IFERROR(__xludf.DUMMYFUNCTION(\"\"\"COMPUTED_VALUE\"\"\"),\"wordperfect5.1\")","v":"wordperfect5.1"},{"$f":"IFERROR(__xludf.DUMMYFUNCTION(\"\"\"COMPUTED_VALUE\"\"\"),\"application/wordperfect5.1\")","v":"application/wordperfect5.1"},{"$f":"IFERROR(__xludf.DUMMYFUNCTION(\"\"\"COMPUTED_VALUE\"\"\"),\"en\")","v":"en"}]
[{"$f":"IFERROR(__xludf.DUMMYFUNCTION(\"\"\"COMPUTED_VALUE\"\"\"),\"https://www.iana.org/assignments/media-types/application/wsdl+xml\")","v":"https://www.iana.org/assignments/media-types/application/wsdl+xml"},{"$f":"IFERROR(__xludf.DUMMYFUNCTION(\"\"\"COMPUTED_VALUE\"\"\"),\"wsdl+xml\")","v":"wsdl+xml"},{"$f":"IFERROR(__xludf.DUMMYFUNCTION(\"\"\"COMPUTED_VALUE\"\"\"),\"wsdl+xml\")","v":"wsdl+xml"},{"$f":"IFERROR(__xludf.DUMMYFUNCTION(\"\"\"COMPUTED_VALUE\"\"\"),\"application/wsdl+xml\")","v":"application/wsdl+xml"},{"$f":"IFERROR(__xludf.DUMMYFUNCTION(\"\"\"COMPUTED_VALUE\"\"\"),\"en\")","v":"en"}]
[{"$f":"IFERROR(__xludf.DUMMYFUNCTION(\"\"\"COMPUTED_VALUE\"\"\"),\"https://www.iana.org/assignments/media-types/application/wspolicy+xml\")","v":"https://www.iana.org/assignments/media-types/application/wspolicy+xml"},{"$f":"IFERROR(__xludf.DUMMYFUNCTION(\"\"\"COMPUTED_VALUE\"\"\"),\"wspolicy+xml\")","v":"wspolicy+xml"},{"$f":"IFERROR(__xludf.DUMMYFUNCTION(\"\"\"COMPUTED_VALUE\"\"\"),\"wspolicy+xml\")","v":"wspolicy+xml"},{"$f":"IFERROR(__xludf.DUMMYFUNCTION(\"\"\"COMPUTED_VALUE\"\"\"),\"application/wspolicy+xml\")","v":"application/wspolicy+xml"},{"$f":"IFERROR(__xludf.DUMMYFUNCTION(\"\"\"COMPUTED_VALUE\"\"\"),\"en\")","v":"en"}]
[{"$f":"IFERROR(__xludf.DUMMYFUNCTION(\"\"\"COMPUTED_VALUE\"\"\"),\"https://www.iana.org/assignments/media-types/application/x-pki-message\")","v":"https://www.iana.org/assignments/media-types/application/x-pki-message"},{"$f":"IFERROR(__xludf.DUMMYFUNCTION(\"\"\"COMPUTED_VALUE\"\"\"),\"x-pki-message\")","v":"x-pki-message"},{"$f":"IFERROR(__xludf.DUMMYFUNCTION(\"\"\"COMPUTED_VALUE\"\"\"),\"x-pki-message\")","v":"x-pki-message"},{"$f":"IFERROR(__xludf.DUMMYFUNCTION(\"\"\"COMPUTED_VALUE\"\"\"),\"application/x-pki-message\")","v":"application/x-pki-message"},{"$f":"IFERROR(__xludf.DUMMYFUNCTION(\"\"\"COMPUTED_VALUE\"\"\"),\"en\")","v":"en"}]
[{"$f":"IFERROR(__xludf.DUMMYFUNCTION(\"\"\"COMPUTED_VALUE\"\"\"),\"https://www.iana.org/assignments/media-types/application/x-www-form-urlencoded\")","v":"https://www.iana.org/assignments/media-types/application/x-www-form-urlencoded"},{"$f":"IFERROR(__xludf.DUMMYFUNCTION(\"\"\"COMPUTED_VALUE\"\"\"),\"x-www-form-urlencoded\")","v":"x-www-form-urlencoded"},{"$f":"IFERROR(__xludf.DUMMYFUNCTION(\"\"\"COMPUTED_VALUE\"\"\"),\"x-www-form-urlencoded\")","v":"x-www-form-urlencoded"},{"$f":"IFERROR(__xludf.DUMMYFUNCTION(\"\"\"COMPUTED_VALUE\"\"\"),\"application/x-www-form-urlencoded\")","v":"application/x-www-form-urlencoded"},{"$f":"IFERROR(__xludf.DUMMYFUNCTION(\"\"\"COMPUTED_VALUE\"\"\"),\"en\")","v":"en"}]
[{"$f":"IFERROR(__xludf.DUMMYFUNCTION(\"\"\"COMPUTED_VALUE\"\"\"),\"https://www.iana.org/assignments/media-types/application/x-x509-ca-cert\")","v":"https://www.iana.org/assignments/media-types/application/x-x509-ca-cert"},{"$f":"IFERROR(__xludf.DUMMYFUNCTION(\"\"\"COMPUTED_VALUE\"\"\"),\"x-x509-ca-cert\")","v":"x-x509-ca-cert"},{"$f":"IFERROR(__xludf.DUMMYFUNCTION(\"\"\"COMPUTED_VALUE\"\"\"),\"x-x509-ca-cert\")","v":"x-x509-ca-cert"},{"$f":"IFERROR(__xludf.DUMMYFUNCTION(\"\"\"COMPUTED_VALUE\"\"\"),\"application/x-x509-ca-cert\")","v":"application/x-x509-ca-cert"},{"$f":"IFERROR(__xludf.DUMMYFUNCTION(\"\"\"COMPUTED_VALUE\"\"\"),\"en\")","v":"en"}]
[{"$f":"IFERROR(__xludf.DUMMYFUNCTION(\"\"\"COMPUTED_VALUE\"\"\"),\"https://www.iana.org/assignments/media-types/application/x-x509-ca-ra-cert\")","v":"https://www.iana.org/assignments/media-types/application/x-x509-ca-ra-cert"},{"$f":"IFERROR(__xludf.DUMMYFUNCTION(\"\"\"COMPUTED_VALUE\"\"\"),\"x-x509-ca-ra-cert\")","v":"x-x509-ca-ra-cert"},{"$f":"IFERROR(__xludf.DUMMYFUNCTION(\"\"\"COMPUTED_VALUE\"\"\"),\"x-x509-ca-ra-cert\")","v":"x-x509-ca-ra-cert"},{"$f":"IFERROR(__xludf.DUMMYFUNCTION(\"\"\"COMPUTED_VALUE\"\"\"),\"application/x-x509-ca-ra-cert\")","v":"application/x-x509-ca-ra-cert"},{"$f":"IFERROR(__xludf.DUMMYFUNCTION(\"\"\"COMPUTED_VALUE\"\"\"),\"en\")","v":"en"}]
[{"$f":"IFERROR(__xludf.DUMMYFUNCTION(\"\"\"COMPUTED_VALUE\"\"\"),\"https://www.iana.org/assignments/media-types/application/x-x509-next-ca-cert\")","v":"https://www.iana.org/assignments/media-types/application/x-x509-next-ca-cert"},{"$f":"IFERROR(__xludf.DUMMYFUNCTION(\"\"\"COMPUTED_VALUE\"\"\"),\"x-x509-next-ca-cert\")","v":"x-x509-next-ca-cert"},{"$f":"IFERROR(__xludf.DUMMYFUNCTION(\"\"\"COMPUTED_VALUE\"\"\"),\"x-x509-next-ca-cert\")","v":"x-x509-next-ca-cert"},{"$f":"IFERROR(__xludf.DUMMYFUNCTION(\"\"\"COMPUTED_VALUE\"\"\"),\"application/x-x509-next-ca-cert\")","v":"application/x-x509-next-ca-cert"},{"$f":"IFERROR(__xludf.DUMMYFUNCTION(\"\"\"COMPUTED_VALUE\"\"\"),\"en\")","v":"en"}]
[{"$f":"IFERROR(__xludf.DUMMYFUNCTION(\"\"\"COMPUTED_VALUE\"\"\"),\"https://www.iana.org/assignments/media-types/application/x400-bp\")","v":"https://www.iana.org/assignments/media-types/application/x400-bp"},{"$f":"IFERROR(__xludf.DUMMYFUNCTION(\"\"\"COMPUTED_VALUE\"\"\"),\"x400-bp\")","v":"x400-bp"},{"$f":"IFERROR(__xludf.DUMMYFUNCTION(\"\"\"COMPUTED_VALUE\"\"\"),\"x400-bp\")","v":"x400-bp"},{"$f":"IFERROR(__xludf.DUMMYFUNCTION(\"\"\"COMPUTED_VALUE\"\"\"),\"application/x400-bp\")","v":"application/x400-bp"},{"$f":"IFERROR(__xludf.DUMMYFUNCTION(\"\"\"COMPUTED_VALUE\"\"\"),\"en\")","v":"en"}]
[{"$f":"IFERROR(__xludf.DUMMYFUNCTION(\"\"\"COMPUTED_VALUE\"\"\"),\"https://www.iana.org/assignments/media-types/application/xacml+xml\")","v":"https://www.iana.org/assignments/media-types/application/xacml+xml"},{"$f":"IFERROR(__xludf.DUMMYFUNCTION(\"\"\"COMPUTED_VALUE\"\"\"),\"xacml+xml\")","v":"xacml+xml"},{"$f":"IFERROR(__xludf.DUMMYFUNCTION(\"\"\"COMPUTED_VALUE\"\"\"),\"xacml+xml\")","v":"xacml+xml"},{"$f":"IFERROR(__xludf.DUMMYFUNCTION(\"\"\"COMPUTED_VALUE\"\"\"),\"application/xacml+xml\")","v":"application/xacml+xml"},{"$f":"IFERROR(__xludf.DUMMYFUNCTION(\"\"\"COMPUTED_VALUE\"\"\"),\"en\")","v":"en"}]
[{"$f":"IFERROR(__xludf.DUMMYFUNCTION(\"\"\"COMPUTED_VALUE\"\"\"),\"https://www.iana.org/assignments/media-types/application/xcap-att+xml\")","v":"https://www.iana.org/assignments/media-types/application/xcap-att+xml"},{"$f":"IFERROR(__xludf.DUMMYFUNCTION(\"\"\"COMPUTED_VALUE\"\"\"),\"xcap-att+xml\")","v":"xcap-att+xml"},{"$f":"IFERROR(__xludf.DUMMYFUNCTION(\"\"\"COMPUTED_VALUE\"\"\"),\"xcap-att+xml\")","v":"xcap-att+xml"},{"$f":"IFERROR(__xludf.DUMMYFUNCTION(\"\"\"COMPUTED_VALUE\"\"\"),\"application/xcap-att+xml\")","v":"application/xcap-att+xml"},{"$f":"IFERROR(__xludf.DUMMYFUNCTION(\"\"\"COMPUTED_VALUE\"\"\"),\"en\")","v":"en"}]
[{"$f":"IFERROR(__xludf.DUMMYFUNCTION(\"\"\"COMPUTED_VALUE\"\"\"),\"https://www.iana.org/assignments/media-types/application/xcap-caps+xml\")","v":"https://www.iana.org/assignments/media-types/application/xcap-caps+xml"},{"$f":"IFERROR(__xludf.DUMMYFUNCTION(\"\"\"COMPUTED_VALUE\"\"\"),\"xcap-caps+xml\")","v":"xcap-caps+xml"},{"$f":"IFERROR(__xludf.DUMMYFUNCTION(\"\"\"COMPUTED_VALUE\"\"\"),\"xcap-caps+xml\")","v":"xcap-caps+xml"},{"$f":"IFERROR(__xludf.DUMMYFUNCTION(\"\"\"COMPUTED_VALUE\"\"\"),\"application/xcap-caps+xml\")","v":"application/xcap-caps+xml"},{"$f":"IFERROR(__xludf.DUMMYFUNCTION(\"\"\"COMPUTED_VALUE\"\"\"),\"en\")","v":"en"}]
[{"$f":"IFERROR(__xludf.DUMMYFUNCTION(\"\"\"COMPUTED_VALUE\"\"\"),\"https://www.iana.org/assignments/media-types/application/xcap-diff+xml\")","v":"https://www.iana.org/assignments/media-types/application/xcap-diff+xml"},{"$f":"IFERROR(__xludf.DUMMYFUNCTION(\"\"\"COMPUTED_VALUE\"\"\"),\"xcap-diff+xml\")","v":"xcap-diff+xml"},{"$f":"IFERROR(__xludf.DUMMYFUNCTION(\"\"\"COMPUTED_VALUE\"\"\"),\"xcap-diff+xml\")","v":"xcap-diff+xml"},{"$f":"IFERROR(__xludf.DUMMYFUNCTION(\"\"\"COMPUTED_VALUE\"\"\"),\"application/xcap-diff+xml\")","v":"application/xcap-diff+xml"},{"$f":"IFERROR(__xludf.DUMMYFUNCTION(\"\"\"COMPUTED_VALUE\"\"\"),\"en\")","v":"en"}]
[{"$f":"IFERROR(__xludf.DUMMYFUNCTION(\"\"\"COMPUTED_VALUE\"\"\"),\"https://www.iana.org/assignments/media-types/application/xcap-el+xml\")","v":"https://www.iana.org/assignments/media-types/application/xcap-el+xml"},{"$f":"IFERROR(__xludf.DUMMYFUNCTION(\"\"\"COMPUTED_VALUE\"\"\"),\"xcap-el+xml\")","v":"xcap-el+xml"},{"$f":"IFERROR(__xludf.DUMMYFUNCTION(\"\"\"COMPUTED_VALUE\"\"\"),\"xcap-el+xml\")","v":"xcap-el+xml"},{"$f":"IFERROR(__xludf.DUMMYFUNCTION(\"\"\"COMPUTED_VALUE\"\"\"),\"application/xcap-el+xml\")","v":"application/xcap-el+xml"},{"$f":"IFERROR(__xludf.DUMMYFUNCTION(\"\"\"COMPUTED_VALUE\"\"\"),\"en\")","v":"en"}]
[{"$f":"IFERROR(__xludf.DUMMYFUNCTION(\"\"\"COMPUTED_VALUE\"\"\"),\"https://www.iana.org/assignments/media-types/application/xcap-error+xml\")","v":"https://www.iana.org/assignments/media-types/application/xcap-error+xml"},{"$f":"IFERROR(__xludf.DUMMYFUNCTION(\"\"\"COMPUTED_VALUE\"\"\"),\"xcap-error+xml\")","v":"xcap-error+xml"},{"$f":"IFERROR(__xludf.DUMMYFUNCTION(\"\"\"COMPUTED_VALUE\"\"\"),\"xcap-error+xml\")","v":"xcap-error+xml"},{"$f":"IFERROR(__xludf.DUMMYFUNCTION(\"\"\"COMPUTED_VALUE\"\"\"),\"application/xcap-error+xml\")","v":"application/xcap-error+xml"},{"$f":"IFERROR(__xludf.DUMMYFUNCTION(\"\"\"COMPUTED_VALUE\"\"\"),\"en\")","v":"en"}]
[{"$f":"IFERROR(__xludf.DUMMYFUNCTION(\"\"\"COMPUTED_VALUE\"\"\"),\"https://www.iana.org/assignments/media-types/application/xcap-ns+xml\")","v":"https://www.iana.org/assignments/media-types/application/xcap-ns+xml"},{"$f":"IFERROR(__xludf.DUMMYFUNCTION(\"\"\"COMPUTED_VALUE\"\"\"),\"xcap-ns+xml\")","v":"xcap-ns+xml"},{"$f":"IFERROR(__xludf.DUMMYFUNCTION(\"\"\"COMPUTED_VALUE\"\"\"),\"xcap-ns+xml\")","v":"xcap-ns+xml"},{"$f":"IFERROR(__xludf.DUMMYFUNCTION(\"\"\"COMPUTED_VALUE\"\"\"),\"application/xcap-ns+xml\")","v":"application/xcap-ns+xml"},{"$f":"IFERROR(__xludf.DUMMYFUNCTION(\"\"\"COMPUTED_VALUE\"\"\"),\"en\")","v":"en"}]
[{"$f":"IFERROR(__xludf.DUMMYFUNCTION(\"\"\"COMPUTED_VALUE\"\"\"),\"https://www.iana.org/assignments/media-types/application/xcon-conference-info-diff+xml\")","v":"https://www.iana.org/assignments/media-types/application/xcon-conference-info-diff+xml"},{"$f":"IFERROR(__xludf.DUMMYFUNCTION(\"\"\"COMPUTED_VALUE\"\"\"),\"xcon-conference-info-diff+xml\")","v":"xcon-conference-info-diff+xml"},{"$f":"IFERROR(__xludf.DUMMYFUNCTION(\"\"\"COMPUTED_VALUE\"\"\"),\"xcon-conference-info-diff+xml\")","v":"xcon-conference-info-diff+xml"},{"$f":"IFERROR(__xludf.DUMMYFUNCTION(\"\"\"COMPUTED_VALUE\"\"\"),\"application/xcon-conference-info-diff+xml\")","v":"application/xcon-conference-info-diff+xml"},{"$f":"IFERROR(__xludf.DUMMYFUNCTION(\"\"\"COMPUTED_VALUE\"\"\"),\"en\")","v":"en"}]
[{"$f":"IFERROR(__xludf.DUMMYFUNCTION(\"\"\"COMPUTED_VALUE\"\"\"),\"https://www.iana.org/assignments/media-types/application/xcon-conference-info+xml\")","v":"https://www.iana.org/assignments/media-types/application/xcon-conference-info+xml"},{"$f":"IFERROR(__xludf.DUMMYFUNCTION(\"\"\"COMPUTED_VALUE\"\"\"),\"xcon-conference-info+xml\")","v":"xcon-conference-info+xml"},{"$f":"IFERROR(__xludf.DUMMYFUNCTION(\"\"\"COMPUTED_VALUE\"\"\"),\"xcon-conference-info+xml\")","v":"xcon-conference-info+xml"},{"$f":"IFERROR(__xludf.DUMMYFUNCTION(\"\"\"COMPUTED_VALUE\"\"\"),\"application/xcon-conference-info+xml\")","v":"application/xcon-conference-info+xml"},{"$f":"IFERROR(__xludf.DUMMYFUNCTION(\"\"\"COMPUTED_VALUE\"\"\"),\"en\")","v":"en"}]
[{"$f":"IFERROR(__xludf.DUMMYFUNCTION(\"\"\"COMPUTED_VALUE\"\"\"),\"https://www.iana.org/assignments/media-types/application/xenc+xml\")","v":"https://www.iana.org/assignments/media-types/application/xenc+xml"},{"$f":"IFERROR(__xludf.DUMMYFUNCTION(\"\"\"COMPUTED_VALUE\"\"\"),\"xenc+xml\")","v":"xenc+xml"},{"$f":"IFERROR(__xludf.DUMMYFUNCTION(\"\"\"COMPUTED_VALUE\"\"\"),\"xenc+xml\")","v":"xenc+xml"},{"$f":"IFERROR(__xludf.DUMMYFUNCTION(\"\"\"COMPUTED_VALUE\"\"\"),\"application/xenc+xml\")","v":"application/xenc+xml"},{"$f":"IFERROR(__xludf.DUMMYFUNCTION(\"\"\"COMPUTED_VALUE\"\"\"),\"en\")","v":"en"}]
[{"$f":"IFERROR(__xludf.DUMMYFUNCTION(\"\"\"COMPUTED_VALUE\"\"\"),\"https://www.iana.org/assignments/media-types/application/xfdf\")","v":"https://www.iana.org/assignments/media-types/application/xfdf"},{"$f":"IFERROR(__xludf.DUMMYFUNCTION(\"\"\"COMPUTED_VALUE\"\"\"),\"xfdf\")","v":"xfdf"},{"$f":"IFERROR(__xludf.DUMMYFUNCTION(\"\"\"COMPUTED_VALUE\"\"\"),\"xfdf\")","v":"xfdf"},{"$f":"IFERROR(__xludf.DUMMYFUNCTION(\"\"\"COMPUTED_VALUE\"\"\"),\"application/xfdf\")","v":"application/xfdf"},{"$f":"IFERROR(__xludf.DUMMYFUNCTION(\"\"\"COMPUTED_VALUE\"\"\"),\"en\")","v":"en"}]
[{"$f":"IFERROR(__xludf.DUMMYFUNCTION(\"\"\"COMPUTED_VALUE\"\"\"),\"https://www.iana.org/assignments/media-types/application/xhtml+xml\")","v":"https://www.iana.org/assignments/media-types/application/xhtml+xml"},{"$f":"IFERROR(__xludf.DUMMYFUNCTION(\"\"\"COMPUTED_VALUE\"\"\"),\"xhtml+xml\")","v":"xhtml+xml"},{"$f":"IFERROR(__xludf.DUMMYFUNCTION(\"\"\"COMPUTED_VALUE\"\"\"),\"xhtml+xml\")","v":"xhtml+xml"},{"$f":"IFERROR(__xludf.DUMMYFUNCTION(\"\"\"COMPUTED_VALUE\"\"\"),\"application/xhtml+xml\")","v":"application/xhtml+xml"},{"$f":"IFERROR(__xludf.DUMMYFUNCTION(\"\"\"COMPUTED_VALUE\"\"\"),\"en\")","v":"en"}]
[{"$f":"IFERROR(__xludf.DUMMYFUNCTION(\"\"\"COMPUTED_VALUE\"\"\"),\"https://www.iana.org/assignments/media-types/application/xliff+xml\")","v":"https://www.iana.org/assignments/media-types/application/xliff+xml"},{"$f":"IFERROR(__xludf.DUMMYFUNCTION(\"\"\"COMPUTED_VALUE\"\"\"),\"xliff+xml\")","v":"xliff+xml"},{"$f":"IFERROR(__xludf.DUMMYFUNCTION(\"\"\"COMPUTED_VALUE\"\"\"),\"xliff+xml\")","v":"xliff+xml"},{"$f":"IFERROR(__xludf.DUMMYFUNCTION(\"\"\"COMPUTED_VALUE\"\"\"),\"application/xliff+xml\")","v":"application/xliff+xml"},{"$f":"IFERROR(__xludf.DUMMYFUNCTION(\"\"\"COMPUTED_VALUE\"\"\"),\"en\")","v":"en"}]
[{"$f":"IFERROR(__xludf.DUMMYFUNCTION(\"\"\"COMPUTED_VALUE\"\"\"),\"https://www.iana.org/assignments/media-types/application/xml\")","v":"https://www.iana.org/assignments/media-types/application/xml"},{"$f":"IFERROR(__xludf.DUMMYFUNCTION(\"\"\"COMPUTED_VALUE\"\"\"),\"xml\")","v":"xml"},{"$f":"IFERROR(__xludf.DUMMYFUNCTION(\"\"\"COMPUTED_VALUE\"\"\"),\"xml\")","v":"xml"},{"$f":"IFERROR(__xludf.DUMMYFUNCTION(\"\"\"COMPUTED_VALUE\"\"\"),\"application/xml\")","v":"application/xml"},{"$f":"IFERROR(__xludf.DUMMYFUNCTION(\"\"\"COMPUTED_VALUE\"\"\"),\"en\")","v":"en"}]
[{"$f":"IFERROR(__xludf.DUMMYFUNCTION(\"\"\"COMPUTED_VALUE\"\"\"),\"https://www.iana.org/assignments/media-types/application/xml-dtd\")","v":"https://www.iana.org/assignments/media-types/application/xml-dtd"},{"$f":"IFERROR(__xludf.DUMMYFUNCTION(\"\"\"COMPUTED_VALUE\"\"\"),\"xml-dtd\")","v":"xml-dtd"},{"$f":"IFERROR(__xludf.DUMMYFUNCTION(\"\"\"COMPUTED_VALUE\"\"\"),\"xml-dtd\")","v":"xml-dtd"},{"$f":"IFERROR(__xludf.DUMMYFUNCTION(\"\"\"COMPUTED_VALUE\"\"\"),\"application/xml-dtd\")","v":"application/xml-dtd"},{"$f":"IFERROR(__xludf.DUMMYFUNCTION(\"\"\"COMPUTED_VALUE\"\"\"),\"en\")","v":"en"}]
[{"$f":"IFERROR(__xludf.DUMMYFUNCTION(\"\"\"COMPUTED_VALUE\"\"\"),\"https://www.iana.org/assignments/media-types/application/xml-external-parsed-entity\")","v":"https://www.iana.org/assignments/media-types/application/xml-external-parsed-entity"},{"$f":"IFERROR(__xludf.DUMMYFUNCTION(\"\"\"COMPUTED_VALUE\"\"\"),\"xml-external-parsed-entity\")","v":"xml-external-parsed-entity"},{"$f":"IFERROR(__xludf.DUMMYFUNCTION(\"\"\"COMPUTED_VALUE\"\"\"),\"xml-external-parsed-entity\")","v":"xml-external-parsed-entity"},{"$f":"IFERROR(__xludf.DUMMYFUNCTION(\"\"\"COMPUTED_VALUE\"\"\"),\"application/xml-external-parsed-entity\")","v":"application/xml-external-parsed-entity"},{"$f":"IFERROR(__xludf.DUMMYFUNCTION(\"\"\"COMPUTED_VALUE\"\"\"),\"en\")","v":"en"}]
[{"$f":"IFERROR(__xludf.DUMMYFUNCTION(\"\"\"COMPUTED_VALUE\"\"\"),\"https://www.iana.org/assignments/media-types/application/xml-patch+xml\")","v":"https://www.iana.org/assignments/media-types/application/xml-patch+xml"},{"$f":"IFERROR(__xludf.DUMMYFUNCTION(\"\"\"COMPUTED_VALUE\"\"\"),\"xml-patch+xml\")","v":"xml-patch+xml"},{"$f":"IFERROR(__xludf.DUMMYFUNCTION(\"\"\"COMPUTED_VALUE\"\"\"),\"xml-patch+xml\")","v":"xml-patch+xml"},{"$f":"IFERROR(__xludf.DUMMYFUNCTION(\"\"\"COMPUTED_VALUE\"\"\"),\"application/xml-patch+xml\")","v":"application/xml-patch+xml"},{"$f":"IFERROR(__xludf.DUMMYFUNCTION(\"\"\"COMPUTED_VALUE\"\"\"),\"en\")","v":"en"}]
[{"$f":"IFERROR(__xludf.DUMMYFUNCTION(\"\"\"COMPUTED_VALUE\"\"\"),\"https://www.iana.org/assignments/media-types/application/xmpp+xml\")","v":"https://www.iana.org/assignments/media-types/application/xmpp+xml"},{"$f":"IFERROR(__xludf.DUMMYFUNCTION(\"\"\"COMPUTED_VALUE\"\"\"),\"xmpp+xml\")","v":"xmpp+xml"},{"$f":"IFERROR(__xludf.DUMMYFUNCTION(\"\"\"COMPUTED_VALUE\"\"\"),\"xmpp+xml\")","v":"xmpp+xml"},{"$f":"IFERROR(__xludf.DUMMYFUNCTION(\"\"\"COMPUTED_VALUE\"\"\"),\"application/xmpp+xml\")","v":"application/xmpp+xml"},{"$f":"IFERROR(__xludf.DUMMYFUNCTION(\"\"\"COMPUTED_VALUE\"\"\"),\"en\")","v":"en"}]
[{"$f":"IFERROR(__xludf.DUMMYFUNCTION(\"\"\"COMPUTED_VALUE\"\"\"),\"https://www.iana.org/assignments/media-types/application/xop+xml\")","v":"https://www.iana.org/assignments/media-types/application/xop+xml"},{"$f":"IFERROR(__xludf.DUMMYFUNCTION(\"\"\"COMPUTED_VALUE\"\"\"),\"xop+xml\")","v":"xop+xml"},{"$f":"IFERROR(__xludf.DUMMYFUNCTION(\"\"\"COMPUTED_VALUE\"\"\"),\"xop+xml\")","v":"xop+xml"},{"$f":"IFERROR(__xludf.DUMMYFUNCTION(\"\"\"COMPUTED_VALUE\"\"\"),\"application/xop+xml\")","v":"application/xop+xml"},{"$f":"IFERROR(__xludf.DUMMYFUNCTION(\"\"\"COMPUTED_VALUE\"\"\"),\"en\")","v":"en"}]
[{"$f":"IFERROR(__xludf.DUMMYFUNCTION(\"\"\"COMPUTED_VALUE\"\"\"),\"https://www.iana.org/assignments/media-types/application/xslt+xml\")","v":"https://www.iana.org/assignments/media-types/application/xslt+xml"},{"$f":"IFERROR(__xludf.DUMMYFUNCTION(\"\"\"COMPUTED_VALUE\"\"\"),\"xslt+xml\")","v":"xslt+xml"},{"$f":"IFERROR(__xludf.DUMMYFUNCTION(\"\"\"COMPUTED_VALUE\"\"\"),\"xslt+xml\")","v":"xslt+xml"},{"$f":"IFERROR(__xludf.DUMMYFUNCTION(\"\"\"COMPUTED_VALUE\"\"\"),\"application/xslt+xml\")","v":"application/xslt+xml"},{"$f":"IFERROR(__xludf.DUMMYFUNCTION(\"\"\"COMPUTED_VALUE\"\"\"),\"en\")","v":"en"}]
[{"$f":"IFERROR(__xludf.DUMMYFUNCTION(\"\"\"COMPUTED_VALUE\"\"\"),\"https://www.iana.org/assignments/media-types/application/xv+xml\")","v":"https://www.iana.org/assignments/media-types/application/xv+xml"},{"$f":"IFERROR(__xludf.DUMMYFUNCTION(\"\"\"COMPUTED_VALUE\"\"\"),\"xv+xml\")","v":"xv+xml"},{"$f":"IFERROR(__xludf.DUMMYFUNCTION(\"\"\"COMPUTED_VALUE\"\"\"),\"xv+xml\")","v":"xv+xml"},{"$f":"IFERROR(__xludf.DUMMYFUNCTION(\"\"\"COMPUTED_VALUE\"\"\"),\"application/xv+xml\")","v":"application/xv+xml"},{"$f":"IFERROR(__xludf.DUMMYFUNCTION(\"\"\"COMPUTED_VALUE\"\"\"),\"en\")","v":"en"}]
[{"$f":"IFERROR(__xludf.DUMMYFUNCTION(\"\"\"COMPUTED_VALUE\"\"\"),\"https://www.iana.org/assignments/media-types/application/yang\")","v":"https://www.iana.org/assignments/media-types/application/yang"},{"$f":"IFERROR(__xludf.DUMMYFUNCTION(\"\"\"COMPUTED_VALUE\"\"\"),\"yang\")","v":"yang"},{"$f":"IFERROR(__xludf.DUMMYFUNCTION(\"\"\"COMPUTED_VALUE\"\"\"),\"yang\")","v":"yang"},{"$f":"IFERROR(__xludf.DUMMYFUNCTION(\"\"\"COMPUTED_VALUE\"\"\"),\"application/yang\")","v":"application/yang"},{"$f":"IFERROR(__xludf.DUMMYFUNCTION(\"\"\"COMPUTED_VALUE\"\"\"),\"en\")","v":"en"}]
[{"$f":"IFERROR(__xludf.DUMMYFUNCTION(\"\"\"COMPUTED_VALUE\"\"\"),\"https://www.iana.org/assignments/media-types/application/yang-data+cbor\")","v":"https://www.iana.org/assignments/media-types/application/yang-data+cbor"},{"$f":"IFERROR(__xludf.DUMMYFUNCTION(\"\"\"COMPUTED_VALUE\"\"\"),\"yang-data+cbor\")","v":"yang-data+cbor"},{"$f":"IFERROR(__xludf.DUMMYFUNCTION(\"\"\"COMPUTED_VALUE\"\"\"),\"yang-data+cbor\")","v":"yang-data+cbor"},{"$f":"IFERROR(__xludf.DUMMYFUNCTION(\"\"\"COMPUTED_VALUE\"\"\"),\"application/yang-data+cbor\")","v":"application/yang-data+cbor"},{"$f":"IFERROR(__xludf.DUMMYFUNCTION(\"\"\"COMPUTED_VALUE\"\"\"),\"en\")","v":"en"}]
[{"$f":"IFERROR(__xludf.DUMMYFUNCTION(\"\"\"COMPUTED_VALUE\"\"\"),\"https://www.iana.org/assignments/media-types/application/yang-data+json\")","v":"https://www.iana.org/assignments/media-types/application/yang-data+json"},{"$f":"IFERROR(__xludf.DUMMYFUNCTION(\"\"\"COMPUTED_VALUE\"\"\"),\"yang-data+json\")","v":"yang-data+json"},{"$f":"IFERROR(__xludf.DUMMYFUNCTION(\"\"\"COMPUTED_VALUE\"\"\"),\"yang-data+json\")","v":"yang-data+json"},{"$f":"IFERROR(__xludf.DUMMYFUNCTION(\"\"\"COMPUTED_VALUE\"\"\"),\"application/yang-data+json\")","v":"application/yang-data+json"},{"$f":"IFERROR(__xludf.DUMMYFUNCTION(\"\"\"COMPUTED_VALUE\"\"\"),\"en\")","v":"en"}]
[{"$f":"IFERROR(__xludf.DUMMYFUNCTION(\"\"\"COMPUTED_VALUE\"\"\"),\"https://www.iana.org/assignments/media-types/application/yang-data+xml\")","v":"https://www.iana.org/assignments/media-types/application/yang-data+xml"},{"$f":"IFERROR(__xludf.DUMMYFUNCTION(\"\"\"COMPUTED_VALUE\"\"\"),\"yang-data+xml\")","v":"yang-data+xml"},{"$f":"IFERROR(__xludf.DUMMYFUNCTION(\"\"\"COMPUTED_VALUE\"\"\"),\"yang-data+xml\")","v":"yang-data+xml"},{"$f":"IFERROR(__xludf.DUMMYFUNCTION(\"\"\"COMPUTED_VALUE\"\"\"),\"application/yang-data+xml\")","v":"application/yang-data+xml"},{"$f":"IFERROR(__xludf.DUMMYFUNCTION(\"\"\"COMPUTED_VALUE\"\"\"),\"en\")","v":"en"}]
[{"$f":"IFERROR(__xludf.DUMMYFUNCTION(\"\"\"COMPUTED_VALUE\"\"\"),\"https://www.iana.org/assignments/media-types/application/yang-patch+json\")","v":"https://www.iana.org/assignments/media-types/application/yang-patch+json"},{"$f":"IFERROR(__xludf.DUMMYFUNCTION(\"\"\"COMPUTED_VALUE\"\"\"),\"yang-patch+json\")","v":"yang-patch+json"},{"$f":"IFERROR(__xludf.DUMMYFUNCTION(\"\"\"COMPUTED_VALUE\"\"\"),\"yang-patch+json\")","v":"yang-patch+json"},{"$f":"IFERROR(__xludf.DUMMYFUNCTION(\"\"\"COMPUTED_VALUE\"\"\"),\"application/yang-patch+json\")","v":"application/yang-patch+json"},{"$f":"IFERROR(__xludf.DUMMYFUNCTION(\"\"\"COMPUTED_VALUE\"\"\"),\"en\")","v":"en"}]
[{"$f":"IFERROR(__xludf.DUMMYFUNCTION(\"\"\"COMPUTED_VALUE\"\"\"),\"https://www.iana.org/assignments/media-types/application/yang-patch+xml\")","v":"https://www.iana.org/assignments/media-types/application/yang-patch+xml"},{"$f":"IFERROR(__xludf.DUMMYFUNCTION(\"\"\"COMPUTED_VALUE\"\"\"),\"yang-patch+xml\")","v":"yang-patch+xml"},{"$f":"IFERROR(__xludf.DUMMYFUNCTION(\"\"\"COMPUTED_VALUE\"\"\"),\"yang-patch+xml\")","v":"yang-patch+xml"},{"$f":"IFERROR(__xludf.DUMMYFUNCTION(\"\"\"COMPUTED_VALUE\"\"\"),\"application/yang-patch+xml\")","v":"application/yang-patch+xml"},{"$f":"IFERROR(__xludf.DUMMYFUNCTION(\"\"\"COMPUTED_VALUE\"\"\"),\"en\")","v":"en"}]
[{"$f":"IFERROR(__xludf.DUMMYFUNCTION(\"\"\"COMPUTED_VALUE\"\"\"),\"https://www.iana.org/assignments/media-types/application/yin+xml\")","v":"https://www.iana.org/assignments/media-types/application/yin+xml"},{"$f":"IFERROR(__xludf.DUMMYFUNCTION(\"\"\"COMPUTED_VALUE\"\"\"),\"yin+xml\")","v":"yin+xml"},{"$f":"IFERROR(__xludf.DUMMYFUNCTION(\"\"\"COMPUTED_VALUE\"\"\"),\"yin+xml\")","v":"yin+xml"},{"$f":"IFERROR(__xludf.DUMMYFUNCTION(\"\"\"COMPUTED_VALUE\"\"\"),\"application/yin+xml\")","v":"application/yin+xml"},{"$f":"IFERROR(__xludf.DUMMYFUNCTION(\"\"\"COMPUTED_VALUE\"\"\"),\"en\")","v":"en"}]
[{"$f":"IFERROR(__xludf.DUMMYFUNCTION(\"\"\"COMPUTED_VALUE\"\"\"),\"https://www.iana.org/assignments/media-types/application/zip\")","v":"https://www.iana.org/assignments/media-types/application/zip"},{"$f":"IFERROR(__xludf.DUMMYFUNCTION(\"\"\"COMPUTED_VALUE\"\"\"),\"zip\")","v":"zip"},{"$f":"IFERROR(__xludf.DUMMYFUNCTION(\"\"\"COMPUTED_VALUE\"\"\"),\"zip\")","v":"zip"},{"$f":"IFERROR(__xludf.DUMMYFUNCTION(\"\"\"COMPUTED_VALUE\"\"\"),\"application/zip\")","v":"application/zip"},{"$f":"IFERROR(__xludf.DUMMYFUNCTION(\"\"\"COMPUTED_VALUE\"\"\"),\"en\")","v":"en"}]
[{"$f":"IFERROR(__xludf.DUMMYFUNCTION(\"\"\"COMPUTED_VALUE\"\"\"),\"https://www.iana.org/assignments/media-types/application/zlib\")","v":"https://www.iana.org/assignments/media-types/application/zlib"},{"$f":"IFERROR(__xludf.DUMMYFUNCTION(\"\"\"COMPUTED_VALUE\"\"\"),\"zlib\")","v":"zlib"},{"$f":"IFERROR(__xludf.DUMMYFUNCTION(\"\"\"COMPUTED_VALUE\"\"\"),\"zlib\")","v":"zlib"},{"$f":"IFERROR(__xludf.DUMMYFUNCTION(\"\"\"COMPUTED_VALUE\"\"\"),\"application/zlib\")","v":"application/zlib"},{"$f":"IFERROR(__xludf.DUMMYFUNCTION(\"\"\"COMPUTED_VALUE\"\"\"),\"en\")","v":"en"}]
[{"$f":"IFERROR(__xludf.DUMMYFUNCTION(\"\"\"COMPUTED_VALUE\"\"\"),\"https://www.iana.org/assignments/media-types/application/zstd\")","v":"https://www.iana.org/assignments/media-types/application/zstd"},{"$f":"IFERROR(__xludf.DUMMYFUNCTION(\"\"\"COMPUTED_VALUE\"\"\"),\"zstd\")","v":"zstd"},{"$f":"IFERROR(__xludf.DUMMYFUNCTION(\"\"\"COMPUTED_VALUE\"\"\"),\"zstd\")","v":"zstd"},{"$f":"IFERROR(__xludf.DUMMYFUNCTION(\"\"\"COMPUTED_VALUE\"\"\"),\"application/zstd\")","v":"application/zstd"},{"$f":"IFERROR(__xludf.DUMMYFUNCTION(\"\"\"COMPUTED_VALUE\"\"\"),\"en\")","v":"en"}]
[{"$f":"IFERROR(__xludf.DUMMYFUNCTION(\"\"\"COMPUTED_VALUE\"\"\"),\"https://www.iana.org/assignments/media-types/text/1d-interleaved-parityfec\")","v":"https://www.iana.org/assignments/media-types/text/1d-interleaved-parityfec"},{"$f":"IFERROR(__xludf.DUMMYFUNCTION(\"\"\"COMPUTED_VALUE\"\"\"),\"1d-interleaved-parityfec\")","v":"1d-interleaved-parityfec"},{"$f":"IFERROR(__xludf.DUMMYFUNCTION(\"\"\"COMPUTED_VALUE\"\"\"),\"1d-interleaved-parityfec\")","v":"1d-interleaved-parityfec"},{"$f":"IFERROR(__xludf.DUMMYFUNCTION(\"\"\"COMPUTED_VALUE\"\"\"),\"text/1d-interleaved-parityfec\")","v":"text/1d-interleaved-parityfec"},{"$f":"IFERROR(__xludf.DUMMYFUNCTION(\"\"\"COMPUTED_VALUE\"\"\"),\"en\")","v":"en"}]
[{"$f":"IFERROR(__xludf.DUMMYFUNCTION(\"\"\"COMPUTED_VALUE\"\"\"),\"https://www.iana.org/assignments/media-types/text/cache-manifest\")","v":"https://www.iana.org/assignments/media-types/text/cache-manifest"},{"$f":"IFERROR(__xludf.DUMMYFUNCTION(\"\"\"COMPUTED_VALUE\"\"\"),\"cache-manifest\")","v":"cache-manifest"},{"$f":"IFERROR(__xludf.DUMMYFUNCTION(\"\"\"COMPUTED_VALUE\"\"\"),\"cache-manifest\")","v":"cache-manifest"},{"$f":"IFERROR(__xludf.DUMMYFUNCTION(\"\"\"COMPUTED_VALUE\"\"\"),\"text/cache-manifest\")","v":"text/cache-manifest"},{"$f":"IFERROR(__xludf.DUMMYFUNCTION(\"\"\"COMPUTED_VALUE\"\"\"),\"en\")","v":"en"}]
[{"$f":"IFERROR(__xludf.DUMMYFUNCTION(\"\"\"COMPUTED_VALUE\"\"\"),\"https://www.iana.org/assignments/media-types/text/calendar\")","v":"https://www.iana.org/assignments/media-types/text/calendar"},{"$f":"IFERROR(__xludf.DUMMYFUNCTION(\"\"\"COMPUTED_VALUE\"\"\"),\"calendar\")","v":"calendar"},{"$f":"IFERROR(__xludf.DUMMYFUNCTION(\"\"\"COMPUTED_VALUE\"\"\"),\"calendar\")","v":"calendar"},{"$f":"IFERROR(__xludf.DUMMYFUNCTION(\"\"\"COMPUTED_VALUE\"\"\"),\"text/calendar\")","v":"text/calendar"},{"$f":"IFERROR(__xludf.DUMMYFUNCTION(\"\"\"COMPUTED_VALUE\"\"\"),\"en\")","v":"en"}]
[{"$f":"IFERROR(__xludf.DUMMYFUNCTION(\"\"\"COMPUTED_VALUE\"\"\"),\"https://www.iana.org/assignments/media-types/text/cql\")","v":"https://www.iana.org/assignments/media-types/text/cql"},{"$f":"IFERROR(__xludf.DUMMYFUNCTION(\"\"\"COMPUTED_VALUE\"\"\"),\"cql\")","v":"cql"},{"$f":"IFERROR(__xludf.DUMMYFUNCTION(\"\"\"COMPUTED_VALUE\"\"\"),\"cql\")","v":"cql"},{"$f":"IFERROR(__xludf.DUMMYFUNCTION(\"\"\"COMPUTED_VALUE\"\"\"),\"text/cql\")","v":"text/cql"},{"$f":"IFERROR(__xludf.DUMMYFUNCTION(\"\"\"COMPUTED_VALUE\"\"\"),\"en\")","v":"en"}]
[{"$f":"IFERROR(__xludf.DUMMYFUNCTION(\"\"\"COMPUTED_VALUE\"\"\"),\"https://www.iana.org/assignments/media-types/text/cql-expression\")","v":"https://www.iana.org/assignments/media-types/text/cql-expression"},{"$f":"IFERROR(__xludf.DUMMYFUNCTION(\"\"\"COMPUTED_VALUE\"\"\"),\"cql-expression\")","v":"cql-expression"},{"$f":"IFERROR(__xludf.DUMMYFUNCTION(\"\"\"COMPUTED_VALUE\"\"\"),\"cql-expression\")","v":"cql-expression"},{"$f":"IFERROR(__xludf.DUMMYFUNCTION(\"\"\"COMPUTED_VALUE\"\"\"),\"text/cql-expression\")","v":"text/cql-expression"},{"$f":"IFERROR(__xludf.DUMMYFUNCTION(\"\"\"COMPUTED_VALUE\"\"\"),\"en\")","v":"en"}]
[{"$f":"IFERROR(__xludf.DUMMYFUNCTION(\"\"\"COMPUTED_VALUE\"\"\"),\"https://www.iana.org/assignments/media-types/text/cql-identifier\")","v":"https://www.iana.org/assignments/media-types/text/cql-identifier"},{"$f":"IFERROR(__xludf.DUMMYFUNCTION(\"\"\"COMPUTED_VALUE\"\"\"),\"cql-identifier\")","v":"cql-identifier"},{"$f":"IFERROR(__xludf.DUMMYFUNCTION(\"\"\"COMPUTED_VALUE\"\"\"),\"cql-identifier\")","v":"cql-identifier"},{"$f":"IFERROR(__xludf.DUMMYFUNCTION(\"\"\"COMPUTED_VALUE\"\"\"),\"text/cql-identifier\")","v":"text/cql-identifier"},{"$f":"IFERROR(__xludf.DUMMYFUNCTION(\"\"\"COMPUTED_VALUE\"\"\"),\"en\")","v":"en"}]
[{"$f":"IFERROR(__xludf.DUMMYFUNCTION(\"\"\"COMPUTED_VALUE\"\"\"),\"https://www.iana.org/assignments/media-types/text/css\")","v":"https://www.iana.org/assignments/media-types/text/css"},{"$f":"IFERROR(__xludf.DUMMYFUNCTION(\"\"\"COMPUTED_VALUE\"\"\"),\"css\")","v":"css"},{"$f":"IFERROR(__xludf.DUMMYFUNCTION(\"\"\"COMPUTED_VALUE\"\"\"),\"css\")","v":"css"},{"$f":"IFERROR(__xludf.DUMMYFUNCTION(\"\"\"COMPUTED_VALUE\"\"\"),\"text/css\")","v":"text/css"},{"$f":"IFERROR(__xludf.DUMMYFUNCTION(\"\"\"COMPUTED_VALUE\"\"\"),\"en\")","v":"en"}]
[{"$f":"IFERROR(__xludf.DUMMYFUNCTION(\"\"\"COMPUTED_VALUE\"\"\"),\"https://www.iana.org/assignments/media-types/text/csv\")","v":"https://www.iana.org/assignments/media-types/text/csv"},{"$f":"IFERROR(__xludf.DUMMYFUNCTION(\"\"\"COMPUTED_VALUE\"\"\"),\"csv\")","v":"csv"},{"$f":"IFERROR(__xludf.DUMMYFUNCTION(\"\"\"COMPUTED_VALUE\"\"\"),\"csv\")","v":"csv"},{"$f":"IFERROR(__xludf.DUMMYFUNCTION(\"\"\"COMPUTED_VALUE\"\"\"),\"text/csv\")","v":"text/csv"},{"$f":"IFERROR(__xludf.DUMMYFUNCTION(\"\"\"COMPUTED_VALUE\"\"\"),\"en\")","v":"en"}]
[{"$f":"IFERROR(__xludf.DUMMYFUNCTION(\"\"\"COMPUTED_VALUE\"\"\"),\"https://www.iana.org/assignments/media-types/text/csv-schema\")","v":"https://www.iana.org/assignments/media-types/text/csv-schema"},{"$f":"IFERROR(__xludf.DUMMYFUNCTION(\"\"\"COMPUTED_VALUE\"\"\"),\"csv-schema\")","v":"csv-schema"},{"$f":"IFERROR(__xludf.DUMMYFUNCTION(\"\"\"COMPUTED_VALUE\"\"\"),\"csv-schema\")","v":"csv-schema"},{"$f":"IFERROR(__xludf.DUMMYFUNCTION(\"\"\"COMPUTED_VALUE\"\"\"),\"text/csv-schema\")","v":"text/csv-schema"},{"$f":"IFERROR(__xludf.DUMMYFUNCTION(\"\"\"COMPUTED_VALUE\"\"\"),\"en\")","v":"en"}]
[{"$f":"IFERROR(__xludf.DUMMYFUNCTION(\"\"\"COMPUTED_VALUE\"\"\"),\"https://www.iana.org/assignments/media-types/text/directory\")","v":"https://www.iana.org/assignments/media-types/text/directory"},{"$f":"IFERROR(__xludf.DUMMYFUNCTION(\"\"\"COMPUTED_VALUE\"\"\"),\"directory - DEPRECATED by RFC6350\")","v":"directory - DEPRECATED by RFC6350"},{"$f":"IFERROR(__xludf.DUMMYFUNCTION(\"\"\"COMPUTED_VALUE\"\"\"),\"directory - DEPRECATED by RFC6350\")","v":"directory - DEPRECATED by RFC6350"},{"$f":"IFERROR(__xludf.DUMMYFUNCTION(\"\"\"COMPUTED_VALUE\"\"\"),\"text/directory\")","v":"text/directory"},{"$f":"IFERROR(__xludf.DUMMYFUNCTION(\"\"\"COMPUTED_VALUE\"\"\"),\"en\")","v":"en"}]
[{"$f":"IFERROR(__xludf.DUMMYFUNCTION(\"\"\"COMPUTED_VALUE\"\"\"),\"https://www.iana.org/assignments/media-types/text/dns\")","v":"https://www.iana.org/assignments/media-types/text/dns"},{"$f":"IFERROR(__xludf.DUMMYFUNCTION(\"\"\"COMPUTED_VALUE\"\"\"),\"dns\")","v":"dns"},{"$f":"IFERROR(__xludf.DUMMYFUNCTION(\"\"\"COMPUTED_VALUE\"\"\"),\"dns\")","v":"dns"},{"$f":"IFERROR(__xludf.DUMMYFUNCTION(\"\"\"COMPUTED_VALUE\"\"\"),\"text/dns\")","v":"text/dns"},{"$f":"IFERROR(__xludf.DUMMYFUNCTION(\"\"\"COMPUTED_VALUE\"\"\"),\"en\")","v":"en"}]
[{"$f":"IFERROR(__xludf.DUMMYFUNCTION(\"\"\"COMPUTED_VALUE\"\"\"),\"https://www.iana.org/assignments/media-types/text/ecmascript\")","v":"https://www.iana.org/assignments/media-types/text/ecmascript"},{"$f":"IFERROR(__xludf.DUMMYFUNCTION(\"\"\"COMPUTED_VALUE\"\"\"),\"ecmascript (OBSOLETED in favor of text/javascript)\")","v":"ecmascript (OBSOLETED in favor of text/javascript)"},{"$f":"IFERROR(__xludf.DUMMYFUNCTION(\"\"\"COMPUTED_VALUE\"\"\"),\"ecmascript (OBSOLETED in favor of text/javascript)\")","v":"ecmascript (OBSOLETED in favor of text/javascript)"},{"$f":"IFERROR(__xludf.DUMMYFUNCTION(\"\"\"COMPUTED_VALUE\"\"\"),\"text/ecmascript\")","v":"text/ecmascript"},{"$f":"IFERROR(__xludf.DUMMYFUNCTION(\"\"\"COMPUTED_VALUE\"\"\"),\"en\")","v":"en"}]
[{"$f":"IFERROR(__xludf.DUMMYFUNCTION(\"\"\"COMPUTED_VALUE\"\"\"),\"https://www.iana.org/assignments/media-types/text/encaprtp\")","v":"https://www.iana.org/assignments/media-types/text/encaprtp"},{"$f":"IFERROR(__xludf.DUMMYFUNCTION(\"\"\"COMPUTED_VALUE\"\"\"),\"encaprtp\")","v":"encaprtp"},{"$f":"IFERROR(__xludf.DUMMYFUNCTION(\"\"\"COMPUTED_VALUE\"\"\"),\"encaprtp\")","v":"encaprtp"},{"$f":"IFERROR(__xludf.DUMMYFUNCTION(\"\"\"COMPUTED_VALUE\"\"\"),\"text/encaprtp\")","v":"text/encaprtp"},{"$f":"IFERROR(__xludf.DUMMYFUNCTION(\"\"\"COMPUTED_VALUE\"\"\"),\"en\")","v":"en"}]
[{"$f":"IFERROR(__xludf.DUMMYFUNCTION(\"\"\"COMPUTED_VALUE\"\"\"),\"https://www.iana.org/assignments/media-types/\")","v":"https://www.iana.org/assignments/media-types/"},{"$f":"IFERROR(__xludf.DUMMYFUNCTION(\"\"\"COMPUTED_VALUE\"\"\"),\"enriched\")","v":"enriched"},{"$f":"IFERROR(__xludf.DUMMYFUNCTION(\"\"\"COMPUTED_VALUE\"\"\"),\"enriched\")","v":"enriched"},null,{"$f":"IFERROR(__xludf.DUMMYFUNCTION(\"\"\"COMPUTED_VALUE\"\"\"),\"en\")","v":"en"}]
[{"$f":"IFERROR(__xludf.DUMMYFUNCTION(\"\"\"COMPUTED_VALUE\"\"\"),\"https://www.iana.org/assignments/media-types/text/example\")","v":"https://www.iana.org/assignments/media-types/text/example"},{"$f":"IFERROR(__xludf.DUMMYFUNCTION(\"\"\"COMPUTED_VALUE\"\"\"),\"example\")","v":"example"},{"$f":"IFERROR(__xludf.DUMMYFUNCTION(\"\"\"COMPUTED_VALUE\"\"\"),\"example\")","v":"example"},{"$f":"IFERROR(__xludf.DUMMYFUNCTION(\"\"\"COMPUTED_VALUE\"\"\"),\"text/example\")","v":"text/example"},{"$f":"IFERROR(__xludf.DUMMYFUNCTION(\"\"\"COMPUTED_VALUE\"\"\"),\"en\")","v":"en"}]
[{"$f":"IFERROR(__xludf.DUMMYFUNCTION(\"\"\"COMPUTED_VALUE\"\"\"),\"https://www.iana.org/assignments/media-types/text/fhirpath\")","v":"https://www.iana.org/assignments/media-types/text/fhirpath"},{"$f":"IFERROR(__xludf.DUMMYFUNCTION(\"\"\"COMPUTED_VALUE\"\"\"),\"fhirpath\")","v":"fhirpath"},{"$f":"IFERROR(__xludf.DUMMYFUNCTION(\"\"\"COMPUTED_VALUE\"\"\"),\"fhirpath\")","v":"fhirpath"},{"$f":"IFERROR(__xludf.DUMMYFUNCTION(\"\"\"COMPUTED_VALUE\"\"\"),\"text/fhirpath\")","v":"text/fhirpath"},{"$f":"IFERROR(__xludf.DUMMYFUNCTION(\"\"\"COMPUTED_VALUE\"\"\"),\"en\")","v":"en"}]
[{"$f":"IFERROR(__xludf.DUMMYFUNCTION(\"\"\"COMPUTED_VALUE\"\"\"),\"https://www.iana.org/assignments/media-types/text/flexfec\")","v":"https://www.iana.org/assignments/media-types/text/flexfec"},{"$f":"IFERROR(__xludf.DUMMYFUNCTION(\"\"\"COMPUTED_VALUE\"\"\"),\"flexfec\")","v":"flexfec"},{"$f":"IFERROR(__xludf.DUMMYFUNCTION(\"\"\"COMPUTED_VALUE\"\"\"),\"flexfec\")","v":"flexfec"},{"$f":"IFERROR(__xludf.DUMMYFUNCTION(\"\"\"COMPUTED_VALUE\"\"\"),\"text/flexfec\")","v":"text/flexfec"},{"$f":"IFERROR(__xludf.DUMMYFUNCTION(\"\"\"COMPUTED_VALUE\"\"\"),\"en\")","v":"en"}]
[{"$f":"IFERROR(__xludf.DUMMYFUNCTION(\"\"\"COMPUTED_VALUE\"\"\"),\"https://www.iana.org/assignments/media-types/text/fwdred\")","v":"https://www.iana.org/assignments/media-types/text/fwdred"},{"$f":"IFERROR(__xludf.DUMMYFUNCTION(\"\"\"COMPUTED_VALUE\"\"\"),\"fwdred\")","v":"fwdred"},{"$f":"IFERROR(__xludf.DUMMYFUNCTION(\"\"\"COMPUTED_VALUE\"\"\"),\"fwdred\")","v":"fwdred"},{"$f":"IFERROR(__xludf.DUMMYFUNCTION(\"\"\"COMPUTED_VALUE\"\"\"),\"text/fwdred\")","v":"text/fwdred"},{"$f":"IFERROR(__xludf.DUMMYFUNCTION(\"\"\"COMPUTED_VALUE\"\"\"),\"en\")","v":"en"}]
[{"$f":"IFERROR(__xludf.DUMMYFUNCTION(\"\"\"COMPUTED_VALUE\"\"\"),\"https://www.iana.org/assignments/media-types/text/gff3\")","v":"https://www.iana.org/assignments/media-types/text/gff3"},{"$f":"IFERROR(__xludf.DUMMYFUNCTION(\"\"\"COMPUTED_VALUE\"\"\"),\"gff3\")","v":"gff3"},{"$f":"IFERROR(__xludf.DUMMYFUNCTION(\"\"\"COMPUTED_VALUE\"\"\"),\"gff3\")","v":"gff3"},{"$f":"IFERROR(__xludf.DUMMYFUNCTION(\"\"\"COMPUTED_VALUE\"\"\"),\"text/gff3\")","v":"text/gff3"},{"$f":"IFERROR(__xludf.DUMMYFUNCTION(\"\"\"COMPUTED_VALUE\"\"\"),\"en\")","v":"en"}]
[{"$f":"IFERROR(__xludf.DUMMYFUNCTION(\"\"\"COMPUTED_VALUE\"\"\"),\"https://www.iana.org/assignments/media-types/text/grammar-ref-list\")","v":"https://www.iana.org/assignments/media-types/text/grammar-ref-list"},{"$f":"IFERROR(__xludf.DUMMYFUNCTION(\"\"\"COMPUTED_VALUE\"\"\"),\"grammar-ref-list\")","v":"grammar-ref-list"},{"$f":"IFERROR(__xludf.DUMMYFUNCTION(\"\"\"COMPUTED_VALUE\"\"\"),\"grammar-ref-list\")","v":"grammar-ref-list"},{"$f":"IFERROR(__xludf.DUMMYFUNCTION(\"\"\"COMPUTED_VALUE\"\"\"),\"text/grammar-ref-list\")","v":"text/grammar-ref-list"},{"$f":"IFERROR(__xludf.DUMMYFUNCTION(\"\"\"COMPUTED_VALUE\"\"\"),\"en\")","v":"en"}]
[{"$f":"IFERROR(__xludf.DUMMYFUNCTION(\"\"\"COMPUTED_VALUE\"\"\"),\"https://www.iana.org/assignments/media-types/text/hl7v2\")","v":"https://www.iana.org/assignments/media-types/text/hl7v2"},{"$f":"IFERROR(__xludf.DUMMYFUNCTION(\"\"\"COMPUTED_VALUE\"\"\"),\"hl7v2\")","v":"hl7v2"},{"$f":"IFERROR(__xludf.DUMMYFUNCTION(\"\"\"COMPUTED_VALUE\"\"\"),\"hl7v2\")","v":"hl7v2"},{"$f":"IFERROR(__xludf.DUMMYFUNCTION(\"\"\"COMPUTED_VALUE\"\"\"),\"text/hl7v2\")","v":"text/hl7v2"},{"$f":"IFERROR(__xludf.DUMMYFUNCTION(\"\"\"COMPUTED_VALUE\"\"\"),\"en\")","v":"en"}]
[{"$f":"IFERROR(__xludf.DUMMYFUNCTION(\"\"\"COMPUTED_VALUE\"\"\"),\"https://www.iana.org/assignments/media-types/text/html\")","v":"https://www.iana.org/assignments/media-types/text/html"},{"$f":"IFERROR(__xludf.DUMMYFUNCTION(\"\"\"COMPUTED_VALUE\"\"\"),\"html\")","v":"html"},{"$f":"IFERROR(__xludf.DUMMYFUNCTION(\"\"\"COMPUTED_VALUE\"\"\"),\"html\")","v":"html"},{"$f":"IFERROR(__xludf.DUMMYFUNCTION(\"\"\"COMPUTED_VALUE\"\"\"),\"text/html\")","v":"text/html"},{"$f":"IFERROR(__xludf.DUMMYFUNCTION(\"\"\"COMPUTED_VALUE\"\"\"),\"en\")","v":"en"}]
[{"$f":"IFERROR(__xludf.DUMMYFUNCTION(\"\"\"COMPUTED_VALUE\"\"\"),\"https://www.iana.org/assignments/media-types/text/javascript\")","v":"https://www.iana.org/assignments/media-types/text/javascript"},{"$f":"IFERROR(__xludf.DUMMYFUNCTION(\"\"\"COMPUTED_VALUE\"\"\"),\"javascript\")","v":"javascript"},{"$f":"IFERROR(__xludf.DUMMYFUNCTION(\"\"\"COMPUTED_VALUE\"\"\"),\"javascript\")","v":"javascript"},{"$f":"IFERROR(__xludf.DUMMYFUNCTION(\"\"\"COMPUTED_VALUE\"\"\"),\"text/javascript\")","v":"text/javascript"},{"$f":"IFERROR(__xludf.DUMMYFUNCTION(\"\"\"COMPUTED_VALUE\"\"\"),\"en\")","v":"en"}]
[{"$f":"IFERROR(__xludf.DUMMYFUNCTION(\"\"\"COMPUTED_VALUE\"\"\"),\"https://www.iana.org/assignments/media-types/text/jcr-cnd\")","v":"https://www.iana.org/assignments/media-types/text/jcr-cnd"},{"$f":"IFERROR(__xludf.DUMMYFUNCTION(\"\"\"COMPUTED_VALUE\"\"\"),\"jcr-cnd\")","v":"jcr-cnd"},{"$f":"IFERROR(__xludf.DUMMYFUNCTION(\"\"\"COMPUTED_VALUE\"\"\"),\"jcr-cnd\")","v":"jcr-cnd"},{"$f":"IFERROR(__xludf.DUMMYFUNCTION(\"\"\"COMPUTED_VALUE\"\"\"),\"text/jcr-cnd\")","v":"text/jcr-cnd"},{"$f":"IFERROR(__xludf.DUMMYFUNCTION(\"\"\"COMPUTED_VALUE\"\"\"),\"en\")","v":"en"}]
[{"$f":"IFERROR(__xludf.DUMMYFUNCTION(\"\"\"COMPUTED_VALUE\"\"\"),\"https://www.iana.org/assignments/media-types/text/markdown\")","v":"https://www.iana.org/assignments/media-types/text/markdown"},{"$f":"IFERROR(__xludf.DUMMYFUNCTION(\"\"\"COMPUTED_VALUE\"\"\"),\"markdown\")","v":"markdown"},{"$f":"IFERROR(__xludf.DUMMYFUNCTION(\"\"\"COMPUTED_VALUE\"\"\"),\"markdown\")","v":"markdown"},{"$f":"IFERROR(__xludf.DUMMYFUNCTION(\"\"\"COMPUTED_VALUE\"\"\"),\"text/markdown\")","v":"text/markdown"},{"$f":"IFERROR(__xludf.DUMMYFUNCTION(\"\"\"COMPUTED_VALUE\"\"\"),\"en\")","v":"en"}]
[{"$f":"IFERROR(__xludf.DUMMYFUNCTION(\"\"\"COMPUTED_VALUE\"\"\"),\"https://www.iana.org/assignments/media-types/text/mizar\")","v":"https://www.iana.org/assignments/media-types/text/mizar"},{"$f":"IFERROR(__xludf.DUMMYFUNCTION(\"\"\"COMPUTED_VALUE\"\"\"),\"mizar\")","v":"mizar"},{"$f":"IFERROR(__xludf.DUMMYFUNCTION(\"\"\"COMPUTED_VALUE\"\"\"),\"mizar\")","v":"mizar"},{"$f":"IFERROR(__xludf.DUMMYFUNCTION(\"\"\"COMPUTED_VALUE\"\"\"),\"text/mizar\")","v":"text/mizar"},{"$f":"IFERROR(__xludf.DUMMYFUNCTION(\"\"\"COMPUTED_VALUE\"\"\"),\"en\")","v":"en"}]
[{"$f":"IFERROR(__xludf.DUMMYFUNCTION(\"\"\"COMPUTED_VALUE\"\"\"),\"https://www.iana.org/assignments/media-types/text/n3\")","v":"https://www.iana.org/assignments/media-types/text/n3"},{"$f":"IFERROR(__xludf.DUMMYFUNCTION(\"\"\"COMPUTED_VALUE\"\"\"),\"n3\")","v":"n3"},{"$f":"IFERROR(__xludf.DUMMYFUNCTION(\"\"\"COMPUTED_VALUE\"\"\"),\"n3\")","v":"n3"},{"$f":"IFERROR(__xludf.DUMMYFUNCTION(\"\"\"COMPUTED_VALUE\"\"\"),\"text/n3\")","v":"text/n3"},{"$f":"IFERROR(__xludf.DUMMYFUNCTION(\"\"\"COMPUTED_VALUE\"\"\"),\"en\")","v":"en"}]
[{"$f":"IFERROR(__xludf.DUMMYFUNCTION(\"\"\"COMPUTED_VALUE\"\"\"),\"https://www.iana.org/assignments/media-types/text/parameters\")","v":"https://www.iana.org/assignments/media-types/text/parameters"},{"$f":"IFERROR(__xludf.DUMMYFUNCTION(\"\"\"COMPUTED_VALUE\"\"\"),\"parameters\")","v":"parameters"},{"$f":"IFERROR(__xludf.DUMMYFUNCTION(\"\"\"COMPUTED_VALUE\"\"\"),\"parameters\")","v":"parameters"},{"$f":"IFERROR(__xludf.DUMMYFUNCTION(\"\"\"COMPUTED_VALUE\"\"\"),\"text/parameters\")","v":"text/parameters"},{"$f":"IFERROR(__xludf.DUMMYFUNCTION(\"\"\"COMPUTED_VALUE\"\"\"),\"en\")","v":"en"}]
[{"$f":"IFERROR(__xludf.DUMMYFUNCTION(\"\"\"COMPUTED_VALUE\"\"\"),\"https://www.iana.org/assignments/media-types/text/parityfec\")","v":"https://www.iana.org/assignments/media-types/text/parityfec"},{"$f":"IFERROR(__xludf.DUMMYFUNCTION(\"\"\"COMPUTED_VALUE\"\"\"),\"parityfec\")","v":"parityfec"},{"$f":"IFERROR(__xludf.DUMMYFUNCTION(\"\"\"COMPUTED_VALUE\"\"\"),\"parityfec\")","v":"parityfec"},{"$f":"IFERROR(__xludf.DUMMYFUNCTION(\"\"\"COMPUTED_VALUE\"\"\"),\"text/parityfec\")","v":"text/parityfec"},{"$f":"IFERROR(__xludf.DUMMYFUNCTION(\"\"\"COMPUTED_VALUE\"\"\"),\"en\")","v":"en"}]
[{"$f":"IFERROR(__xludf.DUMMYFUNCTION(\"\"\"COMPUTED_VALUE\"\"\"),\"https://www.iana.org/assignments/media-types/\")","v":"https://www.iana.org/assignments/media-types/"},{"$f":"IFERROR(__xludf.DUMMYFUNCTION(\"\"\"COMPUTED_VALUE\"\"\"),\"plain\")","v":"plain"},{"$f":"IFERROR(__xludf.DUMMYFUNCTION(\"\"\"COMPUTED_VALUE\"\"\"),\"plain\")","v":"plain"},null,{"$f":"IFERROR(__xludf.DUMMYFUNCTION(\"\"\"COMPUTED_VALUE\"\"\"),\"en\")","v":"en"}]
[{"$f":"IFERROR(__xludf.DUMMYFUNCTION(\"\"\"COMPUTED_VALUE\"\"\"),\"https://www.iana.org/assignments/media-types/text/provenance-notation\")","v":"https://www.iana.org/assignments/media-types/text/provenance-notation"},{"$f":"IFERROR(__xludf.DUMMYFUNCTION(\"\"\"COMPUTED_VALUE\"\"\"),\"provenance-notation\")","v":"provenance-notation"},{"$f":"IFERROR(__xludf.DUMMYFUNCTION(\"\"\"COMPUTED_VALUE\"\"\"),\"provenance-notation\")","v":"provenance-notation"},{"$f":"IFERROR(__xludf.DUMMYFUNCTION(\"\"\"COMPUTED_VALUE\"\"\"),\"text/provenance-notation\")","v":"text/provenance-notation"},{"$f":"IFERROR(__xludf.DUMMYFUNCTION(\"\"\"COMPUTED_VALUE\"\"\"),\"en\")","v":"en"}]
[{"$f":"IFERROR(__xludf.DUMMYFUNCTION(\"\"\"COMPUTED_VALUE\"\"\"),\"https://www.iana.org/assignments/media-types/text/prs.fallenstein.rst\")","v":"https://www.iana.org/assignments/media-types/text/prs.fallenstein.rst"},{"$f":"IFERROR(__xludf.DUMMYFUNCTION(\"\"\"COMPUTED_VALUE\"\"\"),\"prs.fallenstein.rst\")","v":"prs.fallenstein.rst"},{"$f":"IFERROR(__xludf.DUMMYFUNCTION(\"\"\"COMPUTED_VALUE\"\"\"),\"prs.fallenstein.rst\")","v":"prs.fallenstein.rst"},{"$f":"IFERROR(__xludf.DUMMYFUNCTION(\"\"\"COMPUTED_VALUE\"\"\"),\"text/prs.fallenstein.rst\")","v":"text/prs.fallenstein.rst"},{"$f":"IFERROR(__xludf.DUMMYFUNCTION(\"\"\"COMPUTED_VALUE\"\"\"),\"en\")","v":"en"}]
[{"$f":"IFERROR(__xludf.DUMMYFUNCTION(\"\"\"COMPUTED_VALUE\"\"\"),\"https://www.iana.org/assignments/media-types/text/prs.lines.tag\")","v":"https://www.iana.org/assignments/media-types/text/prs.lines.tag"},{"$f":"IFERROR(__xludf.DUMMYFUNCTION(\"\"\"COMPUTED_VALUE\"\"\"),\"prs.lines.tag\")","v":"prs.lines.tag"},{"$f":"IFERROR(__xludf.DUMMYFUNCTION(\"\"\"COMPUTED_VALUE\"\"\"),\"prs.lines.tag\")","v":"prs.lines.tag"},{"$f":"IFERROR(__xludf.DUMMYFUNCTION(\"\"\"COMPUTED_VALUE\"\"\"),\"text/prs.lines.tag\")","v":"text/prs.lines.tag"},{"$f":"IFERROR(__xludf.DUMMYFUNCTION(\"\"\"COMPUTED_VALUE\"\"\"),\"en\")","v":"en"}]
[{"$f":"IFERROR(__xludf.DUMMYFUNCTION(\"\"\"COMPUTED_VALUE\"\"\"),\"https://www.iana.org/assignments/media-types/text/prs.prop.logic\")","v":"https://www.iana.org/assignments/media-types/text/prs.prop.logic"},{"$f":"IFERROR(__xludf.DUMMYFUNCTION(\"\"\"COMPUTED_VALUE\"\"\"),\"prs.prop.logic\")","v":"prs.prop.logic"},{"$f":"IFERROR(__xludf.DUMMYFUNCTION(\"\"\"COMPUTED_VALUE\"\"\"),\"prs.prop.logic\")","v":"prs.prop.logic"},{"$f":"IFERROR(__xludf.DUMMYFUNCTION(\"\"\"COMPUTED_VALUE\"\"\"),\"text/prs.prop.logic\")","v":"text/prs.prop.logic"},{"$f":"IFERROR(__xludf.DUMMYFUNCTION(\"\"\"COMPUTED_VALUE\"\"\"),\"en\")","v":"en"}]
[{"$f":"IFERROR(__xludf.DUMMYFUNCTION(\"\"\"COMPUTED_VALUE\"\"\"),\"https://www.iana.org/assignments/media-types/text/raptorfec\")","v":"https://www.iana.org/assignments/media-types/text/raptorfec"},{"$f":"IFERROR(__xludf.DUMMYFUNCTION(\"\"\"COMPUTED_VALUE\"\"\"),\"raptorfec\")","v":"raptorfec"},{"$f":"IFERROR(__xludf.DUMMYFUNCTION(\"\"\"COMPUTED_VALUE\"\"\"),\"raptorfec\")","v":"raptorfec"},{"$f":"IFERROR(__xludf.DUMMYFUNCTION(\"\"\"COMPUTED_VALUE\"\"\"),\"text/raptorfec\")","v":"text/raptorfec"},{"$f":"IFERROR(__xludf.DUMMYFUNCTION(\"\"\"COMPUTED_VALUE\"\"\"),\"en\")","v":"en"}]
[{"$f":"IFERROR(__xludf.DUMMYFUNCTION(\"\"\"COMPUTED_VALUE\"\"\"),\"https://www.iana.org/assignments/media-types/text/RED\")","v":"https://www.iana.org/assignments/media-types/text/RED"},{"$f":"IFERROR(__xludf.DUMMYFUNCTION(\"\"\"COMPUTED_VALUE\"\"\"),\"RED\")","v":"RED"},{"$f":"IFERROR(__xludf.DUMMYFUNCTION(\"\"\"COMPUTED_VALUE\"\"\"),\"RED\")","v":"RED"},{"$f":"IFERROR(__xludf.DUMMYFUNCTION(\"\"\"COMPUTED_VALUE\"\"\"),\"text/RED\")","v":"text/RED"},{"$f":"IFERROR(__xludf.DUMMYFUNCTION(\"\"\"COMPUTED_VALUE\"\"\"),\"en\")","v":"en"}]
[{"$f":"IFERROR(__xludf.DUMMYFUNCTION(\"\"\"COMPUTED_VALUE\"\"\"),\"https://www.iana.org/assignments/media-types/text/rfc822-headers\")","v":"https://www.iana.org/assignments/media-types/text/rfc822-headers"},{"$f":"IFERROR(__xludf.DUMMYFUNCTION(\"\"\"COMPUTED_VALUE\"\"\"),\"rfc822-headers\")","v":"rfc822-headers"},{"$f":"IFERROR(__xludf.DUMMYFUNCTION(\"\"\"COMPUTED_VALUE\"\"\"),\"rfc822-headers\")","v":"rfc822-headers"},{"$f":"IFERROR(__xludf.DUMMYFUNCTION(\"\"\"COMPUTED_VALUE\"\"\"),\"text/rfc822-headers\")","v":"text/rfc822-headers"},{"$f":"IFERROR(__xludf.DUMMYFUNCTION(\"\"\"COMPUTED_VALUE\"\"\"),\"en\")","v":"en"}]
[{"$f":"IFERROR(__xludf.DUMMYFUNCTION(\"\"\"COMPUTED_VALUE\"\"\"),\"https://www.iana.org/assignments/media-types/\")","v":"https://www.iana.org/assignments/media-types/"},{"$f":"IFERROR(__xludf.DUMMYFUNCTION(\"\"\"COMPUTED_VALUE\"\"\"),\"richtext\")","v":"richtext"},{"$f":"IFERROR(__xludf.DUMMYFUNCTION(\"\"\"COMPUTED_VALUE\"\"\"),\"richtext\")","v":"richtext"},null,{"$f":"IFERROR(__xludf.DUMMYFUNCTION(\"\"\"COMPUTED_VALUE\"\"\"),\"en\")","v":"en"}]
[{"$f":"IFERROR(__xludf.DUMMYFUNCTION(\"\"\"COMPUTED_VALUE\"\"\"),\"https://www.iana.org/assignments/media-types/text/rtf\")","v":"https://www.iana.org/assignments/media-types/text/rtf"},{"$f":"IFERROR(__xludf.DUMMYFUNCTION(\"\"\"COMPUTED_VALUE\"\"\"),\"rtf\")","v":"rtf"},{"$f":"IFERROR(__xludf.DUMMYFUNCTION(\"\"\"COMPUTED_VALUE\"\"\"),\"rtf\")","v":"rtf"},{"$f":"IFERROR(__xludf.DUMMYFUNCTION(\"\"\"COMPUTED_VALUE\"\"\"),\"text/rtf\")","v":"text/rtf"},{"$f":"IFERROR(__xludf.DUMMYFUNCTION(\"\"\"COMPUTED_VALUE\"\"\"),\"en\")","v":"en"}]
[{"$f":"IFERROR(__xludf.DUMMYFUNCTION(\"\"\"COMPUTED_VALUE\"\"\"),\"https://www.iana.org/assignments/media-types/text/rtp-enc-aescm128\")","v":"https://www.iana.org/assignments/media-types/text/rtp-enc-aescm128"},{"$f":"IFERROR(__xludf.DUMMYFUNCTION(\"\"\"COMPUTED_VALUE\"\"\"),\"rtp-enc-aescm128\")","v":"rtp-enc-aescm128"},{"$f":"IFERROR(__xludf.DUMMYFUNCTION(\"\"\"COMPUTED_VALUE\"\"\"),\"rtp-enc-aescm128\")","v":"rtp-enc-aescm128"},{"$f":"IFERROR(__xludf.DUMMYFUNCTION(\"\"\"COMPUTED_VALUE\"\"\"),\"text/rtp-enc-aescm128\")","v":"text/rtp-enc-aescm128"},{"$f":"IFERROR(__xludf.DUMMYFUNCTION(\"\"\"COMPUTED_VALUE\"\"\"),\"en\")","v":"en"}]
[{"$f":"IFERROR(__xludf.DUMMYFUNCTION(\"\"\"COMPUTED_VALUE\"\"\"),\"https://www.iana.org/assignments/media-types/text/rtploopback\")","v":"https://www.iana.org/assignments/media-types/text/rtploopback"},{"$f":"IFERROR(__xludf.DUMMYFUNCTION(\"\"\"COMPUTED_VALUE\"\"\"),\"rtploopback\")","v":"rtploopback"},{"$f":"IFERROR(__xludf.DUMMYFUNCTION(\"\"\"COMPUTED_VALUE\"\"\"),\"rtploopback\")","v":"rtploopback"},{"$f":"IFERROR(__xludf.DUMMYFUNCTION(\"\"\"COMPUTED_VALUE\"\"\"),\"text/rtploopback\")","v":"text/rtploopback"},{"$f":"IFERROR(__xludf.DUMMYFUNCTION(\"\"\"COMPUTED_VALUE\"\"\"),\"en\")","v":"en"}]
[{"$f":"IFERROR(__xludf.DUMMYFUNCTION(\"\"\"COMPUTED_VALUE\"\"\"),\"https://www.iana.org/assignments/media-types/text/rtx\")","v":"https://www.iana.org/assignments/media-types/text/rtx"},{"$f":"IFERROR(__xludf.DUMMYFUNCTION(\"\"\"COMPUTED_VALUE\"\"\"),\"rtx\")","v":"rtx"},{"$f":"IFERROR(__xludf.DUMMYFUNCTION(\"\"\"COMPUTED_VALUE\"\"\"),\"rtx\")","v":"rtx"},{"$f":"IFERROR(__xludf.DUMMYFUNCTION(\"\"\"COMPUTED_VALUE\"\"\"),\"text/rtx\")","v":"text/rtx"},{"$f":"IFERROR(__xludf.DUMMYFUNCTION(\"\"\"COMPUTED_VALUE\"\"\"),\"en\")","v":"en"}]
[{"$f":"IFERROR(__xludf.DUMMYFUNCTION(\"\"\"COMPUTED_VALUE\"\"\"),\"https://www.iana.org/assignments/media-types/text/SGML\")","v":"https://www.iana.org/assignments/media-types/text/SGML"},{"$f":"IFERROR(__xludf.DUMMYFUNCTION(\"\"\"COMPUTED_VALUE\"\"\"),\"SGML\")","v":"SGML"},{"$f":"IFERROR(__xludf.DUMMYFUNCTION(\"\"\"COMPUTED_VALUE\"\"\"),\"SGML\")","v":"SGML"},{"$f":"IFERROR(__xludf.DUMMYFUNCTION(\"\"\"COMPUTED_VALUE\"\"\"),\"text/SGML\")","v":"text/SGML"},{"$f":"IFERROR(__xludf.DUMMYFUNCTION(\"\"\"COMPUTED_VALUE\"\"\"),\"en\")","v":"en"}]
[{"$f":"IFERROR(__xludf.DUMMYFUNCTION(\"\"\"COMPUTED_VALUE\"\"\"),\"https://www.iana.org/assignments/media-types/text/shaclc\")","v":"https://www.iana.org/assignments/media-types/text/shaclc"},{"$f":"IFERROR(__xludf.DUMMYFUNCTION(\"\"\"COMPUTED_VALUE\"\"\"),\"shaclc\")","v":"shaclc"},{"$f":"IFERROR(__xludf.DUMMYFUNCTION(\"\"\"COMPUTED_VALUE\"\"\"),\"shaclc\")","v":"shaclc"},{"$f":"IFERROR(__xludf.DUMMYFUNCTION(\"\"\"COMPUTED_VALUE\"\"\"),\"text/shaclc\")","v":"text/shaclc"},{"$f":"IFERROR(__xludf.DUMMYFUNCTION(\"\"\"COMPUTED_VALUE\"\"\"),\"en\")","v":"en"}]
[{"$f":"IFERROR(__xludf.DUMMYFUNCTION(\"\"\"COMPUTED_VALUE\"\"\"),\"https://www.iana.org/assignments/media-types/text/shex\")","v":"https://www.iana.org/assignments/media-types/text/shex"},{"$f":"IFERROR(__xludf.DUMMYFUNCTION(\"\"\"COMPUTED_VALUE\"\"\"),\"shex\")","v":"shex"},{"$f":"IFERROR(__xludf.DUMMYFUNCTION(\"\"\"COMPUTED_VALUE\"\"\"),\"shex\")","v":"shex"},{"$f":"IFERROR(__xludf.DUMMYFUNCTION(\"\"\"COMPUTED_VALUE\"\"\"),\"text/shex\")","v":"text/shex"},{"$f":"IFERROR(__xludf.DUMMYFUNCTION(\"\"\"COMPUTED_VALUE\"\"\"),\"en\")","v":"en"}]
[{"$f":"IFERROR(__xludf.DUMMYFUNCTION(\"\"\"COMPUTED_VALUE\"\"\"),\"https://www.iana.org/assignments/media-types/text/spdx\")","v":"https://www.iana.org/assignments/media-types/text/spdx"},{"$f":"IFERROR(__xludf.DUMMYFUNCTION(\"\"\"COMPUTED_VALUE\"\"\"),\"spdx\")","v":"spdx"},{"$f":"IFERROR(__xludf.DUMMYFUNCTION(\"\"\"COMPUTED_VALUE\"\"\"),\"spdx\")","v":"spdx"},{"$f":"IFERROR(__xludf.DUMMYFUNCTION(\"\"\"COMPUTED_VALUE\"\"\"),\"text/spdx\")","v":"text/spdx"},{"$f":"IFERROR(__xludf.DUMMYFUNCTION(\"\"\"COMPUTED_VALUE\"\"\"),\"en\")","v":"en"}]
[{"$f":"IFERROR(__xludf.DUMMYFUNCTION(\"\"\"COMPUTED_VALUE\"\"\"),\"https://www.iana.org/assignments/media-types/text/strings\")","v":"https://www.iana.org/assignments/media-types/text/strings"},{"$f":"IFERROR(__xludf.DUMMYFUNCTION(\"\"\"COMPUTED_VALUE\"\"\"),\"strings\")","v":"strings"},{"$f":"IFERROR(__xludf.DUMMYFUNCTION(\"\"\"COMPUTED_VALUE\"\"\"),\"strings\")","v":"strings"},{"$f":"IFERROR(__xludf.DUMMYFUNCTION(\"\"\"COMPUTED_VALUE\"\"\"),\"text/strings\")","v":"text/strings"},{"$f":"IFERROR(__xludf.DUMMYFUNCTION(\"\"\"COMPUTED_VALUE\"\"\"),\"en\")","v":"en"}]
[{"$f":"IFERROR(__xludf.DUMMYFUNCTION(\"\"\"COMPUTED_VALUE\"\"\"),\"https://www.iana.org/assignments/media-types/text/t140\")","v":"https://www.iana.org/assignments/media-types/text/t140"},{"$f":"IFERROR(__xludf.DUMMYFUNCTION(\"\"\"COMPUTED_VALUE\"\"\"),\"t140\")","v":"t140"},{"$f":"IFERROR(__xludf.DUMMYFUNCTION(\"\"\"COMPUTED_VALUE\"\"\"),\"t140\")","v":"t140"},{"$f":"IFERROR(__xludf.DUMMYFUNCTION(\"\"\"COMPUTED_VALUE\"\"\"),\"text/t140\")","v":"text/t140"},{"$f":"IFERROR(__xludf.DUMMYFUNCTION(\"\"\"COMPUTED_VALUE\"\"\"),\"en\")","v":"en"}]
[{"$f":"IFERROR(__xludf.DUMMYFUNCTION(\"\"\"COMPUTED_VALUE\"\"\"),\"https://www.iana.org/assignments/media-types/text/tab-separated-values\")","v":"https://www.iana.org/assignments/media-types/text/tab-separated-values"},{"$f":"IFERROR(__xludf.DUMMYFUNCTION(\"\"\"COMPUTED_VALUE\"\"\"),\"tab-separated-values\")","v":"tab-separated-values"},{"$f":"IFERROR(__xludf.DUMMYFUNCTION(\"\"\"COMPUTED_VALUE\"\"\"),\"tab-separated-values\")","v":"tab-separated-values"},{"$f":"IFERROR(__xludf.DUMMYFUNCTION(\"\"\"COMPUTED_VALUE\"\"\"),\"text/tab-separated-values\")","v":"text/tab-separated-values"},{"$f":"IFERROR(__xludf.DUMMYFUNCTION(\"\"\"COMPUTED_VALUE\"\"\"),\"en\")","v":"en"}]
[{"$f":"IFERROR(__xludf.DUMMYFUNCTION(\"\"\"COMPUTED_VALUE\"\"\"),\"https://www.iana.org/assignments/media-types/text/troff\")","v":"https://www.iana.org/assignments/media-types/text/troff"},{"$f":"IFERROR(__xludf.DUMMYFUNCTION(\"\"\"COMPUTED_VALUE\"\"\"),\"troff\")","v":"troff"},{"$f":"IFERROR(__xludf.DUMMYFUNCTION(\"\"\"COMPUTED_VALUE\"\"\"),\"troff\")","v":"troff"},{"$f":"IFERROR(__xludf.DUMMYFUNCTION(\"\"\"COMPUTED_VALUE\"\"\"),\"text/troff\")","v":"text/troff"},{"$f":"IFERROR(__xludf.DUMMYFUNCTION(\"\"\"COMPUTED_VALUE\"\"\"),\"en\")","v":"en"}]
[{"$f":"IFERROR(__xludf.DUMMYFUNCTION(\"\"\"COMPUTED_VALUE\"\"\"),\"https://www.iana.org/assignments/media-types/text/turtle\")","v":"https://www.iana.org/assignments/media-types/text/turtle"},{"$f":"IFERROR(__xludf.DUMMYFUNCTION(\"\"\"COMPUTED_VALUE\"\"\"),\"turtle\")","v":"turtle"},{"$f":"IFERROR(__xludf.DUMMYFUNCTION(\"\"\"COMPUTED_VALUE\"\"\"),\"turtle\")","v":"turtle"},{"$f":"IFERROR(__xludf.DUMMYFUNCTION(\"\"\"COMPUTED_VALUE\"\"\"),\"text/turtle\")","v":"text/turtle"},{"$f":"IFERROR(__xludf.DUMMYFUNCTION(\"\"\"COMPUTED_VALUE\"\"\"),\"en\")","v":"en"}]
[{"$f":"IFERROR(__xludf.DUMMYFUNCTION(\"\"\"COMPUTED_VALUE\"\"\"),\"https://www.iana.org/assignments/media-types/text/ulpfec\")","v":"https://www.iana.org/assignments/media-types/text/ulpfec"},{"$f":"IFERROR(__xludf.DUMMYFUNCTION(\"\"\"COMPUTED_VALUE\"\"\"),\"ulpfec\")","v":"ulpfec"},{"$f":"IFERROR(__xludf.DUMMYFUNCTION(\"\"\"COMPUTED_VALUE\"\"\"),\"ulpfec\")","v":"ulpfec"},{"$f":"IFERROR(__xludf.DUMMYFUNCTION(\"\"\"COMPUTED_VALUE\"\"\"),\"text/ulpfec\")","v":"text/ulpfec"},{"$f":"IFERROR(__xludf.DUMMYFUNCTION(\"\"\"COMPUTED_VALUE\"\"\"),\"en\")","v":"en"}]
[{"$f":"IFERROR(__xludf.DUMMYFUNCTION(\"\"\"COMPUTED_VALUE\"\"\"),\"https://www.iana.org/assignments/media-types/text/uri-list\")","v":"https://www.iana.org/assignments/media-types/text/uri-list"},{"$f":"IFERROR(__xludf.DUMMYFUNCTION(\"\"\"COMPUTED_VALUE\"\"\"),\"uri-list\")","v":"uri-list"},{"$f":"IFERROR(__xludf.DUMMYFUNCTION(\"\"\"COMPUTED_VALUE\"\"\"),\"uri-list\")","v":"uri-list"},{"$f":"IFERROR(__xludf.DUMMYFUNCTION(\"\"\"COMPUTED_VALUE\"\"\"),\"text/uri-list\")","v":"text/uri-list"},{"$f":"IFERROR(__xludf.DUMMYFUNCTION(\"\"\"COMPUTED_VALUE\"\"\"),\"en\")","v":"en"}]
[{"$f":"IFERROR(__xludf.DUMMYFUNCTION(\"\"\"COMPUTED_VALUE\"\"\"),\"https://www.iana.org/assignments/media-types/text/vcard\")","v":"https://www.iana.org/assignments/media-types/text/vcard"},{"$f":"IFERROR(__xludf.DUMMYFUNCTION(\"\"\"COMPUTED_VALUE\"\"\"),\"vcard\")","v":"vcard"},{"$f":"IFERROR(__xludf.DUMMYFUNCTION(\"\"\"COMPUTED_VALUE\"\"\"),\"vcard\")","v":"vcard"},{"$f":"IFERROR(__xludf.DUMMYFUNCTION(\"\"\"COMPUTED_VALUE\"\"\"),\"text/vcard\")","v":"text/vcard"},{"$f":"IFERROR(__xludf.DUMMYFUNCTION(\"\"\"COMPUTED_VALUE\"\"\"),\"en\")","v":"en"}]
[{"$f":"IFERROR(__xludf.DUMMYFUNCTION(\"\"\"COMPUTED_VALUE\"\"\"),\"https://www.iana.org/assignments/media-types/text/vnd.a\")","v":"https://www.iana.org/assignments/media-types/text/vnd.a"},{"$f":"IFERROR(__xludf.DUMMYFUNCTION(\"\"\"COMPUTED_VALUE\"\"\"),\"vnd.a\")","v":"vnd.a"},{"$f":"IFERROR(__xludf.DUMMYFUNCTION(\"\"\"COMPUTED_VALUE\"\"\"),\"vnd.a\")","v":"vnd.a"},{"$f":"IFERROR(__xludf.DUMMYFUNCTION(\"\"\"COMPUTED_VALUE\"\"\"),\"text/vnd.a\")","v":"text/vnd.a"},{"$f":"IFERROR(__xludf.DUMMYFUNCTION(\"\"\"COMPUTED_VALUE\"\"\"),\"en\")","v":"en"}]
[{"$f":"IFERROR(__xludf.DUMMYFUNCTION(\"\"\"COMPUTED_VALUE\"\"\"),\"https://www.iana.org/assignments/media-types/text/vnd.abc\")","v":"https://www.iana.org/assignments/media-types/text/vnd.abc"},{"$f":"IFERROR(__xludf.DUMMYFUNCTION(\"\"\"COMPUTED_VALUE\"\"\"),\"vnd.abc\")","v":"vnd.abc"},{"$f":"IFERROR(__xludf.DUMMYFUNCTION(\"\"\"COMPUTED_VALUE\"\"\"),\"vnd.abc\")","v":"vnd.abc"},{"$f":"IFERROR(__xludf.DUMMYFUNCTION(\"\"\"COMPUTED_VALUE\"\"\"),\"text/vnd.abc\")","v":"text/vnd.abc"},{"$f":"IFERROR(__xludf.DUMMYFUNCTION(\"\"\"COMPUTED_VALUE\"\"\"),\"en\")","v":"en"}]
[{"$f":"IFERROR(__xludf.DUMMYFUNCTION(\"\"\"COMPUTED_VALUE\"\"\"),\"https://www.iana.org/assignments/media-types/text/vnd.ascii-art\")","v":"https://www.iana.org/assignments/media-types/text/vnd.ascii-art"},{"$f":"IFERROR(__xludf.DUMMYFUNCTION(\"\"\"COMPUTED_VALUE\"\"\"),\"vnd.ascii-art\")","v":"vnd.ascii-art"},{"$f":"IFERROR(__xludf.DUMMYFUNCTION(\"\"\"COMPUTED_VALUE\"\"\"),\"vnd.ascii-art\")","v":"vnd.ascii-art"},{"$f":"IFERROR(__xludf.DUMMYFUNCTION(\"\"\"COMPUTED_VALUE\"\"\"),\"text/vnd.ascii-art\")","v":"text/vnd.ascii-art"},{"$f":"IFERROR(__xludf.DUMMYFUNCTION(\"\"\"COMPUTED_VALUE\"\"\"),\"en\")","v":"en"}]
[{"$f":"IFERROR(__xludf.DUMMYFUNCTION(\"\"\"COMPUTED_VALUE\"\"\"),\"https://www.iana.org/assignments/media-types/text/vnd.curl\")","v":"https://www.iana.org/assignments/media-types/text/vnd.curl"},{"$f":"IFERROR(__xludf.DUMMYFUNCTION(\"\"\"COMPUTED_VALUE\"\"\"),\"vnd.curl\")","v":"vnd.curl"},{"$f":"IFERROR(__xludf.DUMMYFUNCTION(\"\"\"COMPUTED_VALUE\"\"\"),\"vnd.curl\")","v":"vnd.curl"},{"$f":"IFERROR(__xludf.DUMMYFUNCTION(\"\"\"COMPUTED_VALUE\"\"\"),\"text/vnd.curl\")","v":"text/vnd.curl"},{"$f":"IFERROR(__xludf.DUMMYFUNCTION(\"\"\"COMPUTED_VALUE\"\"\"),\"en\")","v":"en"}]
[{"$f":"IFERROR(__xludf.DUMMYFUNCTION(\"\"\"COMPUTED_VALUE\"\"\"),\"https://www.iana.org/assignments/media-types/text/vnd.debian.copyright\")","v":"https://www.iana.org/assignments/media-types/text/vnd.debian.copyright"},{"$f":"IFERROR(__xludf.DUMMYFUNCTION(\"\"\"COMPUTED_VALUE\"\"\"),\"vnd.debian.copyright\")","v":"vnd.debian.copyright"},{"$f":"IFERROR(__xludf.DUMMYFUNCTION(\"\"\"COMPUTED_VALUE\"\"\"),\"vnd.debian.copyright\")","v":"vnd.debian.copyright"},{"$f":"IFERROR(__xludf.DUMMYFUNCTION(\"\"\"COMPUTED_VALUE\"\"\"),\"text/vnd.debian.copyright\")","v":"text/vnd.debian.copyright"},{"$f":"IFERROR(__xludf.DUMMYFUNCTION(\"\"\"COMPUTED_VALUE\"\"\"),\"en\")","v":"en"}]
[{"$f":"IFERROR(__xludf.DUMMYFUNCTION(\"\"\"COMPUTED_VALUE\"\"\"),\"https://www.iana.org/assignments/media-types/text/vnd.DMClientScript\")","v":"https://www.iana.org/assignments/media-types/text/vnd.DMClientScript"},{"$f":"IFERROR(__xludf.DUMMYFUNCTION(\"\"\"COMPUTED_VALUE\"\"\"),\"vnd.DMClientScript\")","v":"vnd.DMClientScript"},{"$f":"IFERROR(__xludf.DUMMYFUNCTION(\"\"\"COMPUTED_VALUE\"\"\"),\"vnd.DMClientScript\")","v":"vnd.DMClientScript"},{"$f":"IFERROR(__xludf.DUMMYFUNCTION(\"\"\"COMPUTED_VALUE\"\"\"),\"text/vnd.DMClientScript\")","v":"text/vnd.DMClientScript"},{"$f":"IFERROR(__xludf.DUMMYFUNCTION(\"\"\"COMPUTED_VALUE\"\"\"),\"en\")","v":"en"}]
[{"$f":"IFERROR(__xludf.DUMMYFUNCTION(\"\"\"COMPUTED_VALUE\"\"\"),\"https://www.iana.org/assignments/media-types/text/vnd.dvb.subtitle\")","v":"https://www.iana.org/assignments/media-types/text/vnd.dvb.subtitle"},{"$f":"IFERROR(__xludf.DUMMYFUNCTION(\"\"\"COMPUTED_VALUE\"\"\"),\"vnd.dvb.subtitle\")","v":"vnd.dvb.subtitle"},{"$f":"IFERROR(__xludf.DUMMYFUNCTION(\"\"\"COMPUTED_VALUE\"\"\"),\"vnd.dvb.subtitle\")","v":"vnd.dvb.subtitle"},{"$f":"IFERROR(__xludf.DUMMYFUNCTION(\"\"\"COMPUTED_VALUE\"\"\"),\"text/vnd.dvb.subtitle\")","v":"text/vnd.dvb.subtitle"},{"$f":"IFERROR(__xludf.DUMMYFUNCTION(\"\"\"COMPUTED_VALUE\"\"\"),\"en\")","v":"en"}]
[{"$f":"IFERROR(__xludf.DUMMYFUNCTION(\"\"\"COMPUTED_VALUE\"\"\"),\"https://www.iana.org/assignments/media-types/text/vnd.esmertec.theme-descriptor\")","v":"https://www.iana.org/assignments/media-types/text/vnd.esmertec.theme-descriptor"},{"$f":"IFERROR(__xludf.DUMMYFUNCTION(\"\"\"COMPUTED_VALUE\"\"\"),\"vnd.esmertec.theme-descriptor\")","v":"vnd.esmertec.theme-descriptor"},{"$f":"IFERROR(__xludf.DUMMYFUNCTION(\"\"\"COMPUTED_VALUE\"\"\"),\"vnd.esmertec.theme-descriptor\")","v":"vnd.esmertec.theme-descriptor"},{"$f":"IFERROR(__xludf.DUMMYFUNCTION(\"\"\"COMPUTED_VALUE\"\"\"),\"text/vnd.esmertec.theme-descriptor\")","v":"text/vnd.esmertec.theme-descriptor"},{"$f":"IFERROR(__xludf.DUMMYFUNCTION(\"\"\"COMPUTED_VALUE\"\"\"),\"en\")","v":"en"}]
[{"$f":"IFERROR(__xludf.DUMMYFUNCTION(\"\"\"COMPUTED_VALUE\"\"\"),\"https://www.iana.org/assignments/media-types/text/vnd.exchangeable\")","v":"https://www.iana.org/assignments/media-types/text/vnd.exchangeable"},{"$f":"IFERROR(__xludf.DUMMYFUNCTION(\"\"\"COMPUTED_VALUE\"\"\"),\"vnd.exchangeable\")","v":"vnd.exchangeable"},{"$f":"IFERROR(__xludf.DUMMYFUNCTION(\"\"\"COMPUTED_VALUE\"\"\"),\"vnd.exchangeable\")","v":"vnd.exchangeable"},{"$f":"IFERROR(__xludf.DUMMYFUNCTION(\"\"\"COMPUTED_VALUE\"\"\"),\"text/vnd.exchangeable\")","v":"text/vnd.exchangeable"},{"$f":"IFERROR(__xludf.DUMMYFUNCTION(\"\"\"COMPUTED_VALUE\"\"\"),\"en\")","v":"en"}]
[{"$f":"IFERROR(__xludf.DUMMYFUNCTION(\"\"\"COMPUTED_VALUE\"\"\"),\"https://www.iana.org/assignments/media-types/text/vnd.familysearch.gedcom\")","v":"https://www.iana.org/assignments/media-types/text/vnd.familysearch.gedcom"},{"$f":"IFERROR(__xludf.DUMMYFUNCTION(\"\"\"COMPUTED_VALUE\"\"\"),\"vnd.familysearch.gedcom\")","v":"vnd.familysearch.gedcom"},{"$f":"IFERROR(__xludf.DUMMYFUNCTION(\"\"\"COMPUTED_VALUE\"\"\"),\"vnd.familysearch.gedcom\")","v":"vnd.familysearch.gedcom"},{"$f":"IFERROR(__xludf.DUMMYFUNCTION(\"\"\"COMPUTED_VALUE\"\"\"),\"text/vnd.familysearch.gedcom\")","v":"text/vnd.familysearch.gedcom"},{"$f":"IFERROR(__xludf.DUMMYFUNCTION(\"\"\"COMPUTED_VALUE\"\"\"),\"en\")","v":"en"}]
[{"$f":"IFERROR(__xludf.DUMMYFUNCTION(\"\"\"COMPUTED_VALUE\"\"\"),\"https://www.iana.org/assignments/media-types/text/vnd.ficlab.flt\")","v":"https://www.iana.org/assignments/media-types/text/vnd.ficlab.flt"},{"$f":"IFERROR(__xludf.DUMMYFUNCTION(\"\"\"COMPUTED_VALUE\"\"\"),\"vnd.ficlab.flt\")","v":"vnd.ficlab.flt"},{"$f":"IFERROR(__xludf.DUMMYFUNCTION(\"\"\"COMPUTED_VALUE\"\"\"),\"vnd.ficlab.flt\")","v":"vnd.ficlab.flt"},{"$f":"IFERROR(__xludf.DUMMYFUNCTION(\"\"\"COMPUTED_VALUE\"\"\"),\"text/vnd.ficlab.flt\")","v":"text/vnd.ficlab.flt"},{"$f":"IFERROR(__xludf.DUMMYFUNCTION(\"\"\"COMPUTED_VALUE\"\"\"),\"en\")","v":"en"}]
[{"$f":"IFERROR(__xludf.DUMMYFUNCTION(\"\"\"COMPUTED_VALUE\"\"\"),\"https://www.iana.org/assignments/media-types/text/vnd.fly\")","v":"https://www.iana.org/assignments/media-types/text/vnd.fly"},{"$f":"IFERROR(__xludf.DUMMYFUNCTION(\"\"\"COMPUTED_VALUE\"\"\"),\"vnd.fly\")","v":"vnd.fly"},{"$f":"IFERROR(__xludf.DUMMYFUNCTION(\"\"\"COMPUTED_VALUE\"\"\"),\"vnd.fly\")","v":"vnd.fly"},{"$f":"IFERROR(__xludf.DUMMYFUNCTION(\"\"\"COMPUTED_VALUE\"\"\"),\"text/vnd.fly\")","v":"text/vnd.fly"},{"$f":"IFERROR(__xludf.DUMMYFUNCTION(\"\"\"COMPUTED_VALUE\"\"\"),\"en\")","v":"en"}]
[{"$f":"IFERROR(__xludf.DUMMYFUNCTION(\"\"\"COMPUTED_VALUE\"\"\"),\"https://www.iana.org/assignments/media-types/text/vnd.fmi.flexstor\")","v":"https://www.iana.org/assignments/media-types/text/vnd.fmi.flexstor"},{"$f":"IFERROR(__xludf.DUMMYFUNCTION(\"\"\"COMPUTED_VALUE\"\"\"),\"vnd.fmi.flexstor\")","v":"vnd.fmi.flexstor"},{"$f":"IFERROR(__xludf.DUMMYFUNCTION(\"\"\"COMPUTED_VALUE\"\"\"),\"vnd.fmi.flexstor\")","v":"vnd.fmi.flexstor"},{"$f":"IFERROR(__xludf.DUMMYFUNCTION(\"\"\"COMPUTED_VALUE\"\"\"),\"text/vnd.fmi.flexstor\")","v":"text/vnd.fmi.flexstor"},{"$f":"IFERROR(__xludf.DUMMYFUNCTION(\"\"\"COMPUTED_VALUE\"\"\"),\"en\")","v":"en"}]
[{"$f":"IFERROR(__xludf.DUMMYFUNCTION(\"\"\"COMPUTED_VALUE\"\"\"),\"https://www.iana.org/assignments/media-types/text/vnd.gml\")","v":"https://www.iana.org/assignments/media-types/text/vnd.gml"},{"$f":"IFERROR(__xludf.DUMMYFUNCTION(\"\"\"COMPUTED_VALUE\"\"\"),\"vnd.gml\")","v":"vnd.gml"},{"$f":"IFERROR(__xludf.DUMMYFUNCTION(\"\"\"COMPUTED_VALUE\"\"\"),\"vnd.gml\")","v":"vnd.gml"},{"$f":"IFERROR(__xludf.DUMMYFUNCTION(\"\"\"COMPUTED_VALUE\"\"\"),\"text/vnd.gml\")","v":"text/vnd.gml"},{"$f":"IFERROR(__xludf.DUMMYFUNCTION(\"\"\"COMPUTED_VALUE\"\"\"),\"en\")","v":"en"}]
[{"$f":"IFERROR(__xludf.DUMMYFUNCTION(\"\"\"COMPUTED_VALUE\"\"\"),\"https://www.iana.org/assignments/media-types/text/vnd.graphviz\")","v":"https://www.iana.org/assignments/media-types/text/vnd.graphviz"},{"$f":"IFERROR(__xludf.DUMMYFUNCTION(\"\"\"COMPUTED_VALUE\"\"\"),\"vnd.graphviz\")","v":"vnd.graphviz"},{"$f":"IFERROR(__xludf.DUMMYFUNCTION(\"\"\"COMPUTED_VALUE\"\"\"),\"vnd.graphviz\")","v":"vnd.graphviz"},{"$f":"IFERROR(__xludf.DUMMYFUNCTION(\"\"\"COMPUTED_VALUE\"\"\"),\"text/vnd.graphviz\")","v":"text/vnd.graphviz"},{"$f":"IFERROR(__xludf.DUMMYFUNCTION(\"\"\"COMPUTED_VALUE\"\"\"),\"en\")","v":"en"}]
[{"$f":"IFERROR(__xludf.DUMMYFUNCTION(\"\"\"COMPUTED_VALUE\"\"\"),\"https://www.iana.org/assignments/media-types/text/vnd.hans\")","v":"https://www.iana.org/assignments/media-types/text/vnd.hans"},{"$f":"IFERROR(__xludf.DUMMYFUNCTION(\"\"\"COMPUTED_VALUE\"\"\"),\"vnd.hans\")","v":"vnd.hans"},{"$f":"IFERROR(__xludf.DUMMYFUNCTION(\"\"\"COMPUTED_VALUE\"\"\"),\"vnd.hans\")","v":"vnd.hans"},{"$f":"IFERROR(__xludf.DUMMYFUNCTION(\"\"\"COMPUTED_VALUE\"\"\"),\"text/vnd.hans\")","v":"text/vnd.hans"},{"$f":"IFERROR(__xludf.DUMMYFUNCTION(\"\"\"COMPUTED_VALUE\"\"\"),\"en\")","v":"en"}]
[{"$f":"IFERROR(__xludf.DUMMYFUNCTION(\"\"\"COMPUTED_VALUE\"\"\"),\"https://www.iana.org/assignments/media-types/text/vnd.hgl\")","v":"https://www.iana.org/assignments/media-types/text/vnd.hgl"},{"$f":"IFERROR(__xludf.DUMMYFUNCTION(\"\"\"COMPUTED_VALUE\"\"\"),\"vnd.hgl\")","v":"vnd.hgl"},{"$f":"IFERROR(__xludf.DUMMYFUNCTION(\"\"\"COMPUTED_VALUE\"\"\"),\"vnd.hgl\")","v":"vnd.hgl"},{"$f":"IFERROR(__xludf.DUMMYFUNCTION(\"\"\"COMPUTED_VALUE\"\"\"),\"text/vnd.hgl\")","v":"text/vnd.hgl"},{"$f":"IFERROR(__xludf.DUMMYFUNCTION(\"\"\"COMPUTED_VALUE\"\"\"),\"en\")","v":"en"}]
[{"$f":"IFERROR(__xludf.DUMMYFUNCTION(\"\"\"COMPUTED_VALUE\"\"\"),\"https://www.iana.org/assignments/media-types/text/vnd.in3d.3dml\")","v":"https://www.iana.org/assignments/media-types/text/vnd.in3d.3dml"},{"$f":"IFERROR(__xludf.DUMMYFUNCTION(\"\"\"COMPUTED_VALUE\"\"\"),\"vnd.in3d.3dml\")","v":"vnd.in3d.3dml"},{"$f":"IFERROR(__xludf.DUMMYFUNCTION(\"\"\"COMPUTED_VALUE\"\"\"),\"vnd.in3d.3dml\")","v":"vnd.in3d.3dml"},{"$f":"IFERROR(__xludf.DUMMYFUNCTION(\"\"\"COMPUTED_VALUE\"\"\"),\"text/vnd.in3d.3dml\")","v":"text/vnd.in3d.3dml"},{"$f":"IFERROR(__xludf.DUMMYFUNCTION(\"\"\"COMPUTED_VALUE\"\"\"),\"en\")","v":"en"}]
[{"$f":"IFERROR(__xludf.DUMMYFUNCTION(\"\"\"COMPUTED_VALUE\"\"\"),\"https://www.iana.org/assignments/media-types/text/vnd.in3d.spot\")","v":"https://www.iana.org/assignments/media-types/text/vnd.in3d.spot"},{"$f":"IFERROR(__xludf.DUMMYFUNCTION(\"\"\"COMPUTED_VALUE\"\"\"),\"vnd.in3d.spot\")","v":"vnd.in3d.spot"},{"$f":"IFERROR(__xludf.DUMMYFUNCTION(\"\"\"COMPUTED_VALUE\"\"\"),\"vnd.in3d.spot\")","v":"vnd.in3d.spot"},{"$f":"IFERROR(__xludf.DUMMYFUNCTION(\"\"\"COMPUTED_VALUE\"\"\"),\"text/vnd.in3d.spot\")","v":"text/vnd.in3d.spot"},{"$f":"IFERROR(__xludf.DUMMYFUNCTION(\"\"\"COMPUTED_VALUE\"\"\"),\"en\")","v":"en"}]
[{"$f":"IFERROR(__xludf.DUMMYFUNCTION(\"\"\"COMPUTED_VALUE\"\"\"),\"https://www.iana.org/assignments/media-types/text/vnd.IPTC.NewsML\")","v":"https://www.iana.org/assignments/media-types/text/vnd.IPTC.NewsML"},{"$f":"IFERROR(__xludf.DUMMYFUNCTION(\"\"\"COMPUTED_VALUE\"\"\"),\"vnd.IPTC.NewsML\")","v":"vnd.IPTC.NewsML"},{"$f":"IFERROR(__xludf.DUMMYFUNCTION(\"\"\"COMPUTED_VALUE\"\"\"),\"vnd.IPTC.NewsML\")","v":"vnd.IPTC.NewsML"},{"$f":"IFERROR(__xludf.DUMMYFUNCTION(\"\"\"COMPUTED_VALUE\"\"\"),\"text/vnd.IPTC.NewsML\")","v":"text/vnd.IPTC.NewsML"},{"$f":"IFERROR(__xludf.DUMMYFUNCTION(\"\"\"COMPUTED_VALUE\"\"\"),\"en\")","v":"en"}]
[{"$f":"IFERROR(__xludf.DUMMYFUNCTION(\"\"\"COMPUTED_VALUE\"\"\"),\"https://www.iana.org/assignments/media-types/text/vnd.IPTC.NITF\")","v":"https://www.iana.org/assignments/media-types/text/vnd.IPTC.NITF"},{"$f":"IFERROR(__xludf.DUMMYFUNCTION(\"\"\"COMPUTED_VALUE\"\"\"),\"vnd.IPTC.NITF\")","v":"vnd.IPTC.NITF"},{"$f":"IFERROR(__xludf.DUMMYFUNCTION(\"\"\"COMPUTED_VALUE\"\"\"),\"vnd.IPTC.NITF\")","v":"vnd.IPTC.NITF"},{"$f":"IFERROR(__xludf.DUMMYFUNCTION(\"\"\"COMPUTED_VALUE\"\"\"),\"text/vnd.IPTC.NITF\")","v":"text/vnd.IPTC.NITF"},{"$f":"IFERROR(__xludf.DUMMYFUNCTION(\"\"\"COMPUTED_VALUE\"\"\"),\"en\")","v":"en"}]
[{"$f":"IFERROR(__xludf.DUMMYFUNCTION(\"\"\"COMPUTED_VALUE\"\"\"),\"https://www.iana.org/assignments/media-types/text/vnd.latex-z\")","v":"https://www.iana.org/assignments/media-types/text/vnd.latex-z"},{"$f":"IFERROR(__xludf.DUMMYFUNCTION(\"\"\"COMPUTED_VALUE\"\"\"),\"vnd.latex-z\")","v":"vnd.latex-z"},{"$f":"IFERROR(__xludf.DUMMYFUNCTION(\"\"\"COMPUTED_VALUE\"\"\"),\"vnd.latex-z\")","v":"vnd.latex-z"},{"$f":"IFERROR(__xludf.DUMMYFUNCTION(\"\"\"COMPUTED_VALUE\"\"\"),\"text/vnd.latex-z\")","v":"text/vnd.latex-z"},{"$f":"IFERROR(__xludf.DUMMYFUNCTION(\"\"\"COMPUTED_VALUE\"\"\"),\"en\")","v":"en"}]
[{"$f":"IFERROR(__xludf.DUMMYFUNCTION(\"\"\"COMPUTED_VALUE\"\"\"),\"https://www.iana.org/assignments/media-types/text/vnd.motorola.reflex\")","v":"https://www.iana.org/assignments/media-types/text/vnd.motorola.reflex"},{"$f":"IFERROR(__xludf.DUMMYFUNCTION(\"\"\"COMPUTED_VALUE\"\"\"),\"vnd.motorola.reflex\")","v":"vnd.motorola.reflex"},{"$f":"IFERROR(__xludf.DUMMYFUNCTION(\"\"\"COMPUTED_VALUE\"\"\"),\"vnd.motorola.reflex\")","v":"vnd.motorola.reflex"},{"$f":"IFERROR(__xludf.DUMMYFUNCTION(\"\"\"COMPUTED_VALUE\"\"\"),\"text/vnd.motorola.reflex\")","v":"text/vnd.motorola.reflex"},{"$f":"IFERROR(__xludf.DUMMYFUNCTION(\"\"\"COMPUTED_VALUE\"\"\"),\"en\")","v":"en"}]
[{"$f":"IFERROR(__xludf.DUMMYFUNCTION(\"\"\"COMPUTED_VALUE\"\"\"),\"https://www.iana.org/assignments/media-types/text/vnd.ms-mediapackage\")","v":"https://www.iana.org/assignments/media-types/text/vnd.ms-mediapackage"},{"$f":"IFERROR(__xludf.DUMMYFUNCTION(\"\"\"COMPUTED_VALUE\"\"\"),\"vnd.ms-mediapackage\")","v":"vnd.ms-mediapackage"},{"$f":"IFERROR(__xludf.DUMMYFUNCTION(\"\"\"COMPUTED_VALUE\"\"\"),\"vnd.ms-mediapackage\")","v":"vnd.ms-mediapackage"},{"$f":"IFERROR(__xludf.DUMMYFUNCTION(\"\"\"COMPUTED_VALUE\"\"\"),\"text/vnd.ms-mediapackage\")","v":"text/vnd.ms-mediapackage"},{"$f":"IFERROR(__xludf.DUMMYFUNCTION(\"\"\"COMPUTED_VALUE\"\"\"),\"en\")","v":"en"}]
[{"$f":"IFERROR(__xludf.DUMMYFUNCTION(\"\"\"COMPUTED_VALUE\"\"\"),\"https://www.iana.org/assignments/media-types/text/vnd.net2phone.commcenter.command\")","v":"https://www.iana.org/assignments/media-types/text/vnd.net2phone.commcenter.command"},{"$f":"IFERROR(__xludf.DUMMYFUNCTION(\"\"\"COMPUTED_VALUE\"\"\"),\"vnd.net2phone.commcenter.command\")","v":"vnd.net2phone.commcenter.command"},{"$f":"IFERROR(__xludf.DUMMYFUNCTION(\"\"\"COMPUTED_VALUE\"\"\"),\"vnd.net2phone.commcenter.command\")","v":"vnd.net2phone.commcenter.command"},{"$f":"IFERROR(__xludf.DUMMYFUNCTION(\"\"\"COMPUTED_VALUE\"\"\"),\"text/vnd.net2phone.commcenter.command\")","v":"text/vnd.net2phone.commcenter.command"},{"$f":"IFERROR(__xludf.DUMMYFUNCTION(\"\"\"COMPUTED_VALUE\"\"\"),\"en\")","v":"en"}]
[{"$f":"IFERROR(__xludf.DUMMYFUNCTION(\"\"\"COMPUTED_VALUE\"\"\"),\"https://www.iana.org/assignments/media-types/text/vnd.radisys.msml-basic-layout\")","v":"https://www.iana.org/assignments/media-types/text/vnd.radisys.msml-basic-layout"},{"$f":"IFERROR(__xludf.DUMMYFUNCTION(\"\"\"COMPUTED_VALUE\"\"\"),\"vnd.radisys.msml-basic-layout\")","v":"vnd.radisys.msml-basic-layout"},{"$f":"IFERROR(__xludf.DUMMYFUNCTION(\"\"\"COMPUTED_VALUE\"\"\"),\"vnd.radisys.msml-basic-layout\")","v":"vnd.radisys.msml-basic-layout"},{"$f":"IFERROR(__xludf.DUMMYFUNCTION(\"\"\"COMPUTED_VALUE\"\"\"),\"text/vnd.radisys.msml-basic-layout\")","v":"text/vnd.radisys.msml-basic-layout"},{"$f":"IFERROR(__xludf.DUMMYFUNCTION(\"\"\"COMPUTED_VALUE\"\"\"),\"en\")","v":"en"}]
[{"$f":"IFERROR(__xludf.DUMMYFUNCTION(\"\"\"COMPUTED_VALUE\"\"\"),\"https://www.iana.org/assignments/media-types/text/vnd.senx.warpscript\")","v":"https://www.iana.org/assignments/media-types/text/vnd.senx.warpscript"},{"$f":"IFERROR(__xludf.DUMMYFUNCTION(\"\"\"COMPUTED_VALUE\"\"\"),\"vnd.senx.warpscript\")","v":"vnd.senx.warpscript"},{"$f":"IFERROR(__xludf.DUMMYFUNCTION(\"\"\"COMPUTED_VALUE\"\"\"),\"vnd.senx.warpscript\")","v":"vnd.senx.warpscript"},{"$f":"IFERROR(__xludf.DUMMYFUNCTION(\"\"\"COMPUTED_VALUE\"\"\"),\"text/vnd.senx.warpscript\")","v":"text/vnd.senx.warpscript"},{"$f":"IFERROR(__xludf.DUMMYFUNCTION(\"\"\"COMPUTED_VALUE\"\"\"),\"en\")","v":"en"}]
[{"$f":"IFERROR(__xludf.DUMMYFUNCTION(\"\"\"COMPUTED_VALUE\"\"\"),\"https://www.iana.org/assignments/media-types/text/vnd.si.uricatalogue\")","v":"https://www.iana.org/assignments/media-types/text/vnd.si.uricatalogue"},{"$f":"IFERROR(__xludf.DUMMYFUNCTION(\"\"\"COMPUTED_VALUE\"\"\"),\"vnd.si.uricatalogue (OBSOLETED by request)\")","v":"vnd.si.uricatalogue (OBSOLETED by request)"},{"$f":"IFERROR(__xludf.DUMMYFUNCTION(\"\"\"COMPUTED_VALUE\"\"\"),\"vnd.si.uricatalogue (OBSOLETED by request)\")","v":"vnd.si.uricatalogue (OBSOLETED by request)"},{"$f":"IFERROR(__xludf.DUMMYFUNCTION(\"\"\"COMPUTED_VALUE\"\"\"),\"text/vnd.si.uricatalogue\")","v":"text/vnd.si.uricatalogue"},{"$f":"IFERROR(__xludf.DUMMYFUNCTION(\"\"\"COMPUTED_VALUE\"\"\"),\"en\")","v":"en"}]
[{"$f":"IFERROR(__xludf.DUMMYFUNCTION(\"\"\"COMPUTED_VALUE\"\"\"),\"https://www.iana.org/assignments/media-types/text/vnd.sun.j2me.app-descriptor\")","v":"https://www.iana.org/assignments/media-types/text/vnd.sun.j2me.app-descriptor"},{"$f":"IFERROR(__xludf.DUMMYFUNCTION(\"\"\"COMPUTED_VALUE\"\"\"),\"vnd.sun.j2me.app-descriptor\")","v":"vnd.sun.j2me.app-descriptor"},{"$f":"IFERROR(__xludf.DUMMYFUNCTION(\"\"\"COMPUTED_VALUE\"\"\"),\"vnd.sun.j2me.app-descriptor\")","v":"vnd.sun.j2me.app-descriptor"},{"$f":"IFERROR(__xludf.DUMMYFUNCTION(\"\"\"COMPUTED_VALUE\"\"\"),\"text/vnd.sun.j2me.app-descriptor\")","v":"text/vnd.sun.j2me.app-descriptor"},{"$f":"IFERROR(__xludf.DUMMYFUNCTION(\"\"\"COMPUTED_VALUE\"\"\"),\"en\")","v":"en"}]
[{"$f":"IFERROR(__xludf.DUMMYFUNCTION(\"\"\"COMPUTED_VALUE\"\"\"),\"https://www.iana.org/assignments/media-types/text/vnd.sosi\")","v":"https://www.iana.org/assignments/media-types/text/vnd.sosi"},{"$f":"IFERROR(__xludf.DUMMYFUNCTION(\"\"\"COMPUTED_VALUE\"\"\"),\"vnd.sosi\")","v":"vnd.sosi"},{"$f":"IFERROR(__xludf.DUMMYFUNCTION(\"\"\"COMPUTED_VALUE\"\"\"),\"vnd.sosi\")","v":"vnd.sosi"},{"$f":"IFERROR(__xludf.DUMMYFUNCTION(\"\"\"COMPUTED_VALUE\"\"\"),\"text/vnd.sosi\")","v":"text/vnd.sosi"},{"$f":"IFERROR(__xludf.DUMMYFUNCTION(\"\"\"COMPUTED_VALUE\"\"\"),\"en\")","v":"en"}]
[{"$f":"IFERROR(__xludf.DUMMYFUNCTION(\"\"\"COMPUTED_VALUE\"\"\"),\"https://www.iana.org/assignments/media-types/text/vnd.trolltech.linguist\")","v":"https://www.iana.org/assignments/media-types/text/vnd.trolltech.linguist"},{"$f":"IFERROR(__xludf.DUMMYFUNCTION(\"\"\"COMPUTED_VALUE\"\"\"),\"vnd.trolltech.linguist\")","v":"vnd.trolltech.linguist"},{"$f":"IFERROR(__xludf.DUMMYFUNCTION(\"\"\"COMPUTED_VALUE\"\"\"),\"vnd.trolltech.linguist\")","v":"vnd.trolltech.linguist"},{"$f":"IFERROR(__xludf.DUMMYFUNCTION(\"\"\"COMPUTED_VALUE\"\"\"),\"text/vnd.trolltech.linguist\")","v":"text/vnd.trolltech.linguist"},{"$f":"IFERROR(__xludf.DUMMYFUNCTION(\"\"\"COMPUTED_VALUE\"\"\"),\"en\")","v":"en"}]
[{"$f":"IFERROR(__xludf.DUMMYFUNCTION(\"\"\"COMPUTED_VALUE\"\"\"),\"https://www.iana.org/assignments/media-types/text/vnd.wap.si\")","v":"https://www.iana.org/assignments/media-types/text/vnd.wap.si"},{"$f":"IFERROR(__xludf.DUMMYFUNCTION(\"\"\"COMPUTED_VALUE\"\"\"),\"vnd.wap.si\")","v":"vnd.wap.si"},{"$f":"IFERROR(__xludf.DUMMYFUNCTION(\"\"\"COMPUTED_VALUE\"\"\"),\"vnd.wap.si\")","v":"vnd.wap.si"},{"$f":"IFERROR(__xludf.DUMMYFUNCTION(\"\"\"COMPUTED_VALUE\"\"\"),\"text/vnd.wap.si\")","v":"text/vnd.wap.si"},{"$f":"IFERROR(__xludf.DUMMYFUNCTION(\"\"\"COMPUTED_VALUE\"\"\"),\"en\")","v":"en"}]
[{"$f":"IFERROR(__xludf.DUMMYFUNCTION(\"\"\"COMPUTED_VALUE\"\"\"),\"https://www.iana.org/assignments/media-types/text/vnd.wap.sl\")","v":"https://www.iana.org/assignments/media-types/text/vnd.wap.sl"},{"$f":"IFERROR(__xludf.DUMMYFUNCTION(\"\"\"COMPUTED_VALUE\"\"\"),\"vnd.wap.sl\")","v":"vnd.wap.sl"},{"$f":"IFERROR(__xludf.DUMMYFUNCTION(\"\"\"COMPUTED_VALUE\"\"\"),\"vnd.wap.sl\")","v":"vnd.wap.sl"},{"$f":"IFERROR(__xludf.DUMMYFUNCTION(\"\"\"COMPUTED_VALUE\"\"\"),\"text/vnd.wap.sl\")","v":"text/vnd.wap.sl"},{"$f":"IFERROR(__xludf.DUMMYFUNCTION(\"\"\"COMPUTED_VALUE\"\"\"),\"en\")","v":"en"}]
[{"$f":"IFERROR(__xludf.DUMMYFUNCTION(\"\"\"COMPUTED_VALUE\"\"\"),\"https://www.iana.org/assignments/media-types/text/vnd.wap.wml\")","v":"https://www.iana.org/assignments/media-types/text/vnd.wap.wml"},{"$f":"IFERROR(__xludf.DUMMYFUNCTION(\"\"\"COMPUTED_VALUE\"\"\"),\"vnd.wap.wml\")","v":"vnd.wap.wml"},{"$f":"IFERROR(__xludf.DUMMYFUNCTION(\"\"\"COMPUTED_VALUE\"\"\"),\"vnd.wap.wml\")","v":"vnd.wap.wml"},{"$f":"IFERROR(__xludf.DUMMYFUNCTION(\"\"\"COMPUTED_VALUE\"\"\"),\"text/vnd.wap.wml\")","v":"text/vnd.wap.wml"},{"$f":"IFERROR(__xludf.DUMMYFUNCTION(\"\"\"COMPUTED_VALUE\"\"\"),\"en\")","v":"en"}]
[{"$f":"IFERROR(__xludf.DUMMYFUNCTION(\"\"\"COMPUTED_VALUE\"\"\"),\"https://www.iana.org/assignments/media-types/text/vnd.wap.wmlscript\")","v":"https://www.iana.org/assignments/media-types/text/vnd.wap.wmlscript"},{"$f":"IFERROR(__xludf.DUMMYFUNCTION(\"\"\"COMPUTED_VALUE\"\"\"),\"vnd.wap.wmlscript\")","v":"vnd.wap.wmlscript"},{"$f":"IFERROR(__xludf.DUMMYFUNCTION(\"\"\"COMPUTED_VALUE\"\"\"),\"vnd.wap.wmlscript\")","v":"vnd.wap.wmlscript"},{"$f":"IFERROR(__xludf.DUMMYFUNCTION(\"\"\"COMPUTED_VALUE\"\"\"),\"text/vnd.wap.wmlscript\")","v":"text/vnd.wap.wmlscript"},{"$f":"IFERROR(__xludf.DUMMYFUNCTION(\"\"\"COMPUTED_VALUE\"\"\"),\"en\")","v":"en"}]
[{"$f":"IFERROR(__xludf.DUMMYFUNCTION(\"\"\"COMPUTED_VALUE\"\"\"),\"https://www.iana.org/assignments/media-types/text/vtt\")","v":"https://www.iana.org/assignments/media-types/text/vtt"},{"$f":"IFERROR(__xludf.DUMMYFUNCTION(\"\"\"COMPUTED_VALUE\"\"\"),\"vtt\")","v":"vtt"},{"$f":"IFERROR(__xludf.DUMMYFUNCTION(\"\"\"COMPUTED_VALUE\"\"\"),\"vtt\")","v":"vtt"},{"$f":"IFERROR(__xludf.DUMMYFUNCTION(\"\"\"COMPUTED_VALUE\"\"\"),\"text/vtt\")","v":"text/vtt"},{"$f":"IFERROR(__xludf.DUMMYFUNCTION(\"\"\"COMPUTED_VALUE\"\"\"),\"en\")","v":"en"}]
[{"$f":"IFERROR(__xludf.DUMMYFUNCTION(\"\"\"COMPUTED_VALUE\"\"\"),\"https://www.iana.org/assignments/media-types/text/wgsl\")","v":"https://www.iana.org/assignments/media-types/text/wgsl"},{"$f":"IFERROR(__xludf.DUMMYFUNCTION(\"\"\"COMPUTED_VALUE\"\"\"),\"wgsl\")","v":"wgsl"},{"$f":"IFERROR(__xludf.DUMMYFUNCTION(\"\"\"COMPUTED_VALUE\"\"\"),\"wgsl\")","v":"wgsl"},{"$f":"IFERROR(__xludf.DUMMYFUNCTION(\"\"\"COMPUTED_VALUE\"\"\"),\"text/wgsl\")","v":"text/wgsl"},{"$f":"IFERROR(__xludf.DUMMYFUNCTION(\"\"\"COMPUTED_VALUE\"\"\"),\"en\")","v":"en"}]
[{"$f":"IFERROR(__xludf.DUMMYFUNCTION(\"\"\"COMPUTED_VALUE\"\"\"),\"https://www.iana.org/assignments/media-types/text/xml\")","v":"https://www.iana.org/assignments/media-types/text/xml"},{"$f":"IFERROR(__xludf.DUMMYFUNCTION(\"\"\"COMPUTED_VALUE\"\"\"),\"xml\")","v":"xml"},{"$f":"IFERROR(__xludf.DUMMYFUNCTION(\"\"\"COMPUTED_VALUE\"\"\"),\"xml\")","v":"xml"},{"$f":"IFERROR(__xludf.DUMMYFUNCTION(\"\"\"COMPUTED_VALUE\"\"\"),\"text/xml\")","v":"text/xml"},{"$f":"IFERROR(__xludf.DUMMYFUNCTION(\"\"\"COMPUTED_VALUE\"\"\"),\"en\")","v":"en"}]
[{"$f":"IFERROR(__xludf.DUMMYFUNCTION(\"\"\"COMPUTED_VALUE\"\"\"),\"https://www.iana.org/assignments/media-types/text/xml-external-parsed-entity\")","v":"https://www.iana.org/assignments/media-types/text/xml-external-parsed-entity"},{"$f":"IFERROR(__xludf.DUMMYFUNCTION(\"\"\"COMPUTED_VALUE\"\"\"),\"xml-external-parsed-entity\")","v":"xml-external-parsed-entity"},{"$f":"IFERROR(__xludf.DUMMYFUNCTION(\"\"\"COMPUTED_VALUE\"\"\"),\"xml-external-parsed-entity\")","v":"xml-external-parsed-entity"},{"$f":"IFERROR(__xludf.DUMMYFUNCTION(\"\"\"COMPUTED_VALUE\"\"\"),\"text/xml-external-parsed-entity\")","v":"text/xml-external-parsed-entity"},{"$f":"IFERROR(__xludf.DUMMYFUNCTION(\"\"\"COMPUTED_VALUE\"\"\"),\"en\")","v":"en"}]
[{"$f":"IFERROR(__xludf.DUMMYFUNCTION(\"\"\"COMPUTED_VALUE\"\"\"),\"https://www.iana.org/assignments/media-types/image/aces\")","v":"https://www.iana.org/assignments/media-types/image/aces"},{"$f":"IFERROR(__xludf.DUMMYFUNCTION(\"\"\"COMPUTED_VALUE\"\"\"),\"aces\")","v":"aces"},{"$f":"IFERROR(__xludf.DUMMYFUNCTION(\"\"\"COMPUTED_VALUE\"\"\"),\"aces\")","v":"aces"},{"$f":"IFERROR(__xludf.DUMMYFUNCTION(\"\"\"COMPUTED_VALUE\"\"\"),\"image/aces\")","v":"image/aces"},{"$f":"IFERROR(__xludf.DUMMYFUNCTION(\"\"\"COMPUTED_VALUE\"\"\"),\"en\")","v":"en"}]
[{"$f":"IFERROR(__xludf.DUMMYFUNCTION(\"\"\"COMPUTED_VALUE\"\"\"),\"https://www.iana.org/assignments/media-types/image/apng\")","v":"https://www.iana.org/assignments/media-types/image/apng"},{"$f":"IFERROR(__xludf.DUMMYFUNCTION(\"\"\"COMPUTED_VALUE\"\"\"),\"apng\")","v":"apng"},{"$f":"IFERROR(__xludf.DUMMYFUNCTION(\"\"\"COMPUTED_VALUE\"\"\"),\"apng\")","v":"apng"},{"$f":"IFERROR(__xludf.DUMMYFUNCTION(\"\"\"COMPUTED_VALUE\"\"\"),\"image/apng\")","v":"image/apng"},{"$f":"IFERROR(__xludf.DUMMYFUNCTION(\"\"\"COMPUTED_VALUE\"\"\"),\"en\")","v":"en"}]
[{"$f":"IFERROR(__xludf.DUMMYFUNCTION(\"\"\"COMPUTED_VALUE\"\"\"),\"https://www.iana.org/assignments/media-types/image/avci\")","v":"https://www.iana.org/assignments/media-types/image/avci"},{"$f":"IFERROR(__xludf.DUMMYFUNCTION(\"\"\"COMPUTED_VALUE\"\"\"),\"avci\")","v":"avci"},{"$f":"IFERROR(__xludf.DUMMYFUNCTION(\"\"\"COMPUTED_VALUE\"\"\"),\"avci\")","v":"avci"},{"$f":"IFERROR(__xludf.DUMMYFUNCTION(\"\"\"COMPUTED_VALUE\"\"\"),\"image/avci\")","v":"image/avci"},{"$f":"IFERROR(__xludf.DUMMYFUNCTION(\"\"\"COMPUTED_VALUE\"\"\"),\"en\")","v":"en"}]
[{"$f":"IFERROR(__xludf.DUMMYFUNCTION(\"\"\"COMPUTED_VALUE\"\"\"),\"https://www.iana.org/assignments/media-types/image/avcs\")","v":"https://www.iana.org/assignments/media-types/image/avcs"},{"$f":"IFERROR(__xludf.DUMMYFUNCTION(\"\"\"COMPUTED_VALUE\"\"\"),\"avcs\")","v":"avcs"},{"$f":"IFERROR(__xludf.DUMMYFUNCTION(\"\"\"COMPUTED_VALUE\"\"\"),\"avcs\")","v":"avcs"},{"$f":"IFERROR(__xludf.DUMMYFUNCTION(\"\"\"COMPUTED_VALUE\"\"\"),\"image/avcs\")","v":"image/avcs"},{"$f":"IFERROR(__xludf.DUMMYFUNCTION(\"\"\"COMPUTED_VALUE\"\"\"),\"en\")","v":"en"}]
[{"$f":"IFERROR(__xludf.DUMMYFUNCTION(\"\"\"COMPUTED_VALUE\"\"\"),\"https://www.iana.org/assignments/media-types/image/avif\")","v":"https://www.iana.org/assignments/media-types/image/avif"},{"$f":"IFERROR(__xludf.DUMMYFUNCTION(\"\"\"COMPUTED_VALUE\"\"\"),\"avif\")","v":"avif"},{"$f":"IFERROR(__xludf.DUMMYFUNCTION(\"\"\"COMPUTED_VALUE\"\"\"),\"avif\")","v":"avif"},{"$f":"IFERROR(__xludf.DUMMYFUNCTION(\"\"\"COMPUTED_VALUE\"\"\"),\"image/avif\")","v":"image/avif"},{"$f":"IFERROR(__xludf.DUMMYFUNCTION(\"\"\"COMPUTED_VALUE\"\"\"),\"en\")","v":"en"}]
[{"$f":"IFERROR(__xludf.DUMMYFUNCTION(\"\"\"COMPUTED_VALUE\"\"\"),\"https://www.iana.org/assignments/media-types/image/bmp\")","v":"https://www.iana.org/assignments/media-types/image/bmp"},{"$f":"IFERROR(__xludf.DUMMYFUNCTION(\"\"\"COMPUTED_VALUE\"\"\"),\"bmp\")","v":"bmp"},{"$f":"IFERROR(__xludf.DUMMYFUNCTION(\"\"\"COMPUTED_VALUE\"\"\"),\"bmp\")","v":"bmp"},{"$f":"IFERROR(__xludf.DUMMYFUNCTION(\"\"\"COMPUTED_VALUE\"\"\"),\"image/bmp\")","v":"image/bmp"},{"$f":"IFERROR(__xludf.DUMMYFUNCTION(\"\"\"COMPUTED_VALUE\"\"\"),\"en\")","v":"en"}]
[{"$f":"IFERROR(__xludf.DUMMYFUNCTION(\"\"\"COMPUTED_VALUE\"\"\"),\"https://www.iana.org/assignments/media-types/image/cgm\")","v":"https://www.iana.org/assignments/media-types/image/cgm"},{"$f":"IFERROR(__xludf.DUMMYFUNCTION(\"\"\"COMPUTED_VALUE\"\"\"),\"cgm\")","v":"cgm"},{"$f":"IFERROR(__xludf.DUMMYFUNCTION(\"\"\"COMPUTED_VALUE\"\"\"),\"cgm\")","v":"cgm"},{"$f":"IFERROR(__xludf.DUMMYFUNCTION(\"\"\"COMPUTED_VALUE\"\"\"),\"image/cgm\")","v":"image/cgm"},{"$f":"IFERROR(__xludf.DUMMYFUNCTION(\"\"\"COMPUTED_VALUE\"\"\"),\"en\")","v":"en"}]
[{"$f":"IFERROR(__xludf.DUMMYFUNCTION(\"\"\"COMPUTED_VALUE\"\"\"),\"https://www.iana.org/assignments/media-types/image/dicom-rle\")","v":"https://www.iana.org/assignments/media-types/image/dicom-rle"},{"$f":"IFERROR(__xludf.DUMMYFUNCTION(\"\"\"COMPUTED_VALUE\"\"\"),\"dicom-rle\")","v":"dicom-rle"},{"$f":"IFERROR(__xludf.DUMMYFUNCTION(\"\"\"COMPUTED_VALUE\"\"\"),\"dicom-rle\")","v":"dicom-rle"},{"$f":"IFERROR(__xludf.DUMMYFUNCTION(\"\"\"COMPUTED_VALUE\"\"\"),\"image/dicom-rle\")","v":"image/dicom-rle"},{"$f":"IFERROR(__xludf.DUMMYFUNCTION(\"\"\"COMPUTED_VALUE\"\"\"),\"en\")","v":"en"}]
[{"$f":"IFERROR(__xludf.DUMMYFUNCTION(\"\"\"COMPUTED_VALUE\"\"\"),\"https://www.iana.org/assignments/media-types/image/dpx\")","v":"https://www.iana.org/assignments/media-types/image/dpx"},{"$f":"IFERROR(__xludf.DUMMYFUNCTION(\"\"\"COMPUTED_VALUE\"\"\"),\"dpx\")","v":"dpx"},{"$f":"IFERROR(__xludf.DUMMYFUNCTION(\"\"\"COMPUTED_VALUE\"\"\"),\"dpx\")","v":"dpx"},{"$f":"IFERROR(__xludf.DUMMYFUNCTION(\"\"\"COMPUTED_VALUE\"\"\"),\"image/dpx\")","v":"image/dpx"},{"$f":"IFERROR(__xludf.DUMMYFUNCTION(\"\"\"COMPUTED_VALUE\"\"\"),\"en\")","v":"en"}]
[{"$f":"IFERROR(__xludf.DUMMYFUNCTION(\"\"\"COMPUTED_VALUE\"\"\"),\"https://www.iana.org/assignments/media-types/image/emf\")","v":"https://www.iana.org/assignments/media-types/image/emf"},{"$f":"IFERROR(__xludf.DUMMYFUNCTION(\"\"\"COMPUTED_VALUE\"\"\"),\"emf\")","v":"emf"},{"$f":"IFERROR(__xludf.DUMMYFUNCTION(\"\"\"COMPUTED_VALUE\"\"\"),\"emf\")","v":"emf"},{"$f":"IFERROR(__xludf.DUMMYFUNCTION(\"\"\"COMPUTED_VALUE\"\"\"),\"image/emf\")","v":"image/emf"},{"$f":"IFERROR(__xludf.DUMMYFUNCTION(\"\"\"COMPUTED_VALUE\"\"\"),\"en\")","v":"en"}]
[{"$f":"IFERROR(__xludf.DUMMYFUNCTION(\"\"\"COMPUTED_VALUE\"\"\"),\"https://www.iana.org/assignments/media-types/image/example\")","v":"https://www.iana.org/assignments/media-types/image/example"},{"$f":"IFERROR(__xludf.DUMMYFUNCTION(\"\"\"COMPUTED_VALUE\"\"\"),\"example\")","v":"example"},{"$f":"IFERROR(__xludf.DUMMYFUNCTION(\"\"\"COMPUTED_VALUE\"\"\"),\"example\")","v":"example"},{"$f":"IFERROR(__xludf.DUMMYFUNCTION(\"\"\"COMPUTED_VALUE\"\"\"),\"image/example\")","v":"image/example"},{"$f":"IFERROR(__xludf.DUMMYFUNCTION(\"\"\"COMPUTED_VALUE\"\"\"),\"en\")","v":"en"}]
[{"$f":"IFERROR(__xludf.DUMMYFUNCTION(\"\"\"COMPUTED_VALUE\"\"\"),\"https://www.iana.org/assignments/media-types/image/fits\")","v":"https://www.iana.org/assignments/media-types/image/fits"},{"$f":"IFERROR(__xludf.DUMMYFUNCTION(\"\"\"COMPUTED_VALUE\"\"\"),\"fits\")","v":"fits"},{"$f":"IFERROR(__xludf.DUMMYFUNCTION(\"\"\"COMPUTED_VALUE\"\"\"),\"fits\")","v":"fits"},{"$f":"IFERROR(__xludf.DUMMYFUNCTION(\"\"\"COMPUTED_VALUE\"\"\"),\"image/fits\")","v":"image/fits"},{"$f":"IFERROR(__xludf.DUMMYFUNCTION(\"\"\"COMPUTED_VALUE\"\"\"),\"en\")","v":"en"}]
[{"$f":"IFERROR(__xludf.DUMMYFUNCTION(\"\"\"COMPUTED_VALUE\"\"\"),\"https://www.iana.org/assignments/media-types/image/g3fax\")","v":"https://www.iana.org/assignments/media-types/image/g3fax"},{"$f":"IFERROR(__xludf.DUMMYFUNCTION(\"\"\"COMPUTED_VALUE\"\"\"),\"g3fax\")","v":"g3fax"},{"$f":"IFERROR(__xludf.DUMMYFUNCTION(\"\"\"COMPUTED_VALUE\"\"\"),\"g3fax\")","v":"g3fax"},{"$f":"IFERROR(__xludf.DUMMYFUNCTION(\"\"\"COMPUTED_VALUE\"\"\"),\"image/g3fax\")","v":"image/g3fax"},{"$f":"IFERROR(__xludf.DUMMYFUNCTION(\"\"\"COMPUTED_VALUE\"\"\"),\"en\")","v":"en"}]
[{"$f":"IFERROR(__xludf.DUMMYFUNCTION(\"\"\"COMPUTED_VALUE\"\"\"),\"https://www.iana.org/assignments/media-types/\")","v":"https://www.iana.org/assignments/media-types/"},{"$f":"IFERROR(__xludf.DUMMYFUNCTION(\"\"\"COMPUTED_VALUE\"\"\"),\"gif\")","v":"gif"},{"$f":"IFERROR(__xludf.DUMMYFUNCTION(\"\"\"COMPUTED_VALUE\"\"\"),\"gif\")","v":"gif"},null,{"$f":"IFERROR(__xludf.DUMMYFUNCTION(\"\"\"COMPUTED_VALUE\"\"\"),\"en\")","v":"en"}]
[{"$f":"IFERROR(__xludf.DUMMYFUNCTION(\"\"\"COMPUTED_VALUE\"\"\"),\"https://www.iana.org/assignments/media-types/image/heic\")","v":"https://www.iana.org/assignments/media-types/image/heic"},{"$f":"IFERROR(__xludf.DUMMYFUNCTION(\"\"\"COMPUTED_VALUE\"\"\"),\"heic\")","v":"heic"},{"$f":"IFERROR(__xludf.DUMMYFUNCTION(\"\"\"COMPUTED_VALUE\"\"\"),\"heic\")","v":"heic"},{"$f":"IFERROR(__xludf.DUMMYFUNCTION(\"\"\"COMPUTED_VALUE\"\"\"),\"image/heic\")","v":"image/heic"},{"$f":"IFERROR(__xludf.DUMMYFUNCTION(\"\"\"COMPUTED_VALUE\"\"\"),\"en\")","v":"en"}]
[{"$f":"IFERROR(__xludf.DUMMYFUNCTION(\"\"\"COMPUTED_VALUE\"\"\"),\"https://www.iana.org/assignments/media-types/image/heic-sequence\")","v":"https://www.iana.org/assignments/media-types/image/heic-sequence"},{"$f":"IFERROR(__xludf.DUMMYFUNCTION(\"\"\"COMPUTED_VALUE\"\"\"),\"heic-sequence\")","v":"heic-sequence"},{"$f":"IFERROR(__xludf.DUMMYFUNCTION(\"\"\"COMPUTED_VALUE\"\"\"),\"heic-sequence\")","v":"heic-sequence"},{"$f":"IFERROR(__xludf.DUMMYFUNCTION(\"\"\"COMPUTED_VALUE\"\"\"),\"image/heic-sequence\")","v":"image/heic-sequence"},{"$f":"IFERROR(__xludf.DUMMYFUNCTION(\"\"\"COMPUTED_VALUE\"\"\"),\"en\")","v":"en"}]
[{"$f":"IFERROR(__xludf.DUMMYFUNCTION(\"\"\"COMPUTED_VALUE\"\"\"),\"https://www.iana.org/assignments/media-types/image/heif\")","v":"https://www.iana.org/assignments/media-types/image/heif"},{"$f":"IFERROR(__xludf.DUMMYFUNCTION(\"\"\"COMPUTED_VALUE\"\"\"),\"heif\")","v":"heif"},{"$f":"IFERROR(__xludf.DUMMYFUNCTION(\"\"\"COMPUTED_VALUE\"\"\"),\"heif\")","v":"heif"},{"$f":"IFERROR(__xludf.DUMMYFUNCTION(\"\"\"COMPUTED_VALUE\"\"\"),\"image/heif\")","v":"image/heif"},{"$f":"IFERROR(__xludf.DUMMYFUNCTION(\"\"\"COMPUTED_VALUE\"\"\"),\"en\")","v":"en"}]
[{"$f":"IFERROR(__xludf.DUMMYFUNCTION(\"\"\"COMPUTED_VALUE\"\"\"),\"https://www.iana.org/assignments/media-types/image/heif-sequence\")","v":"https://www.iana.org/assignments/media-types/image/heif-sequence"},{"$f":"IFERROR(__xludf.DUMMYFUNCTION(\"\"\"COMPUTED_VALUE\"\"\"),\"heif-sequence\")","v":"heif-sequence"},{"$f":"IFERROR(__xludf.DUMMYFUNCTION(\"\"\"COMPUTED_VALUE\"\"\"),\"heif-sequence\")","v":"heif-sequence"},{"$f":"IFERROR(__xludf.DUMMYFUNCTION(\"\"\"COMPUTED_VALUE\"\"\"),\"image/heif-sequence\")","v":"image/heif-sequence"},{"$f":"IFERROR(__xludf.DUMMYFUNCTION(\"\"\"COMPUTED_VALUE\"\"\"),\"en\")","v":"en"}]
[{"$f":"IFERROR(__xludf.DUMMYFUNCTION(\"\"\"COMPUTED_VALUE\"\"\"),\"https://www.iana.org/assignments/media-types/image/hej2k\")","v":"https://www.iana.org/assignments/media-types/image/hej2k"},{"$f":"IFERROR(__xludf.DUMMYFUNCTION(\"\"\"COMPUTED_VALUE\"\"\"),\"hej2k\")","v":"hej2k"},{"$f":"IFERROR(__xludf.DUMMYFUNCTION(\"\"\"COMPUTED_VALUE\"\"\"),\"hej2k\")","v":"hej2k"},{"$f":"IFERROR(__xludf.DUMMYFUNCTION(\"\"\"COMPUTED_VALUE\"\"\"),\"image/hej2k\")","v":"image/hej2k"},{"$f":"IFERROR(__xludf.DUMMYFUNCTION(\"\"\"COMPUTED_VALUE\"\"\"),\"en\")","v":"en"}]
[{"$f":"IFERROR(__xludf.DUMMYFUNCTION(\"\"\"COMPUTED_VALUE\"\"\"),\"https://www.iana.org/assignments/media-types/image/hsj2\")","v":"https://www.iana.org/assignments/media-types/image/hsj2"},{"$f":"IFERROR(__xludf.DUMMYFUNCTION(\"\"\"COMPUTED_VALUE\"\"\"),\"hsj2\")","v":"hsj2"},{"$f":"IFERROR(__xludf.DUMMYFUNCTION(\"\"\"COMPUTED_VALUE\"\"\"),\"hsj2\")","v":"hsj2"},{"$f":"IFERROR(__xludf.DUMMYFUNCTION(\"\"\"COMPUTED_VALUE\"\"\"),\"image/hsj2\")","v":"image/hsj2"},{"$f":"IFERROR(__xludf.DUMMYFUNCTION(\"\"\"COMPUTED_VALUE\"\"\"),\"en\")","v":"en"}]
[{"$f":"IFERROR(__xludf.DUMMYFUNCTION(\"\"\"COMPUTED_VALUE\"\"\"),\"https://www.iana.org/assignments/media-types/\")","v":"https://www.iana.org/assignments/media-types/"},{"$f":"IFERROR(__xludf.DUMMYFUNCTION(\"\"\"COMPUTED_VALUE\"\"\"),\"ief\")","v":"ief"},{"$f":"IFERROR(__xludf.DUMMYFUNCTION(\"\"\"COMPUTED_VALUE\"\"\"),\"ief\")","v":"ief"},null,{"$f":"IFERROR(__xludf.DUMMYFUNCTION(\"\"\"COMPUTED_VALUE\"\"\"),\"en\")","v":"en"}]
[{"$f":"IFERROR(__xludf.DUMMYFUNCTION(\"\"\"COMPUTED_VALUE\"\"\"),\"https://www.iana.org/assignments/media-types/image/jls\")","v":"https://www.iana.org/assignments/media-types/image/jls"},{"$f":"IFERROR(__xludf.DUMMYFUNCTION(\"\"\"COMPUTED_VALUE\"\"\"),\"jls\")","v":"jls"},{"$f":"IFERROR(__xludf.DUMMYFUNCTION(\"\"\"COMPUTED_VALUE\"\"\"),\"jls\")","v":"jls"},{"$f":"IFERROR(__xludf.DUMMYFUNCTION(\"\"\"COMPUTED_VALUE\"\"\"),\"image/jls\")","v":"image/jls"},{"$f":"IFERROR(__xludf.DUMMYFUNCTION(\"\"\"COMPUTED_VALUE\"\"\"),\"en\")","v":"en"}]
[{"$f":"IFERROR(__xludf.DUMMYFUNCTION(\"\"\"COMPUTED_VALUE\"\"\"),\"https://www.iana.org/assignments/media-types/image/jp2\")","v":"https://www.iana.org/assignments/media-types/image/jp2"},{"$f":"IFERROR(__xludf.DUMMYFUNCTION(\"\"\"COMPUTED_VALUE\"\"\"),\"jp2\")","v":"jp2"},{"$f":"IFERROR(__xludf.DUMMYFUNCTION(\"\"\"COMPUTED_VALUE\"\"\"),\"jp2\")","v":"jp2"},{"$f":"IFERROR(__xludf.DUMMYFUNCTION(\"\"\"COMPUTED_VALUE\"\"\"),\"image/jp2\")","v":"image/jp2"},{"$f":"IFERROR(__xludf.DUMMYFUNCTION(\"\"\"COMPUTED_VALUE\"\"\"),\"en\")","v":"en"}]
[{"$f":"IFERROR(__xludf.DUMMYFUNCTION(\"\"\"COMPUTED_VALUE\"\"\"),\"https://www.iana.org/assignments/media-types/\")","v":"https://www.iana.org/assignments/media-types/"},{"$f":"IFERROR(__xludf.DUMMYFUNCTION(\"\"\"COMPUTED_VALUE\"\"\"),\"jpeg\")","v":"jpeg"},{"$f":"IFERROR(__xludf.DUMMYFUNCTION(\"\"\"COMPUTED_VALUE\"\"\"),\"jpeg\")","v":"jpeg"},null,{"$f":"IFERROR(__xludf.DUMMYFUNCTION(\"\"\"COMPUTED_VALUE\"\"\"),\"en\")","v":"en"}]
[{"$f":"IFERROR(__xludf.DUMMYFUNCTION(\"\"\"COMPUTED_VALUE\"\"\"),\"https://www.iana.org/assignments/media-types/image/jph\")","v":"https://www.iana.org/assignments/media-types/image/jph"},{"$f":"IFERROR(__xludf.DUMMYFUNCTION(\"\"\"COMPUTED_VALUE\"\"\"),\"jph\")","v":"jph"},{"$f":"IFERROR(__xludf.DUMMYFUNCTION(\"\"\"COMPUTED_VALUE\"\"\"),\"jph\")","v":"jph"},{"$f":"IFERROR(__xludf.DUMMYFUNCTION(\"\"\"COMPUTED_VALUE\"\"\"),\"image/jph\")","v":"image/jph"},{"$f":"IFERROR(__xludf.DUMMYFUNCTION(\"\"\"COMPUTED_VALUE\"\"\"),\"en\")","v":"en"}]
[{"$f":"IFERROR(__xludf.DUMMYFUNCTION(\"\"\"COMPUTED_VALUE\"\"\"),\"https://www.iana.org/assignments/media-types/image/jphc\")","v":"https://www.iana.org/assignments/media-types/image/jphc"},{"$f":"IFERROR(__xludf.DUMMYFUNCTION(\"\"\"COMPUTED_VALUE\"\"\"),\"jphc\")","v":"jphc"},{"$f":"IFERROR(__xludf.DUMMYFUNCTION(\"\"\"COMPUTED_VALUE\"\"\"),\"jphc\")","v":"jphc"},{"$f":"IFERROR(__xludf.DUMMYFUNCTION(\"\"\"COMPUTED_VALUE\"\"\"),\"image/jphc\")","v":"image/jphc"},{"$f":"IFERROR(__xludf.DUMMYFUNCTION(\"\"\"COMPUTED_VALUE\"\"\"),\"en\")","v":"en"}]
[{"$f":"IFERROR(__xludf.DUMMYFUNCTION(\"\"\"COMPUTED_VALUE\"\"\"),\"https://www.iana.org/assignments/media-types/image/jpm\")","v":"https://www.iana.org/assignments/media-types/image/jpm"},{"$f":"IFERROR(__xludf.DUMMYFUNCTION(\"\"\"COMPUTED_VALUE\"\"\"),\"jpm\")","v":"jpm"},{"$f":"IFERROR(__xludf.DUMMYFUNCTION(\"\"\"COMPUTED_VALUE\"\"\"),\"jpm\")","v":"jpm"},{"$f":"IFERROR(__xludf.DUMMYFUNCTION(\"\"\"COMPUTED_VALUE\"\"\"),\"image/jpm\")","v":"image/jpm"},{"$f":"IFERROR(__xludf.DUMMYFUNCTION(\"\"\"COMPUTED_VALUE\"\"\"),\"en\")","v":"en"}]
[{"$f":"IFERROR(__xludf.DUMMYFUNCTION(\"\"\"COMPUTED_VALUE\"\"\"),\"https://www.iana.org/assignments/media-types/image/jpx\")","v":"https://www.iana.org/assignments/media-types/image/jpx"},{"$f":"IFERROR(__xludf.DUMMYFUNCTION(\"\"\"COMPUTED_VALUE\"\"\"),\"jpx\")","v":"jpx"},{"$f":"IFERROR(__xludf.DUMMYFUNCTION(\"\"\"COMPUTED_VALUE\"\"\"),\"jpx\")","v":"jpx"},{"$f":"IFERROR(__xludf.DUMMYFUNCTION(\"\"\"COMPUTED_VALUE\"\"\"),\"image/jpx\")","v":"image/jpx"},{"$f":"IFERROR(__xludf.DUMMYFUNCTION(\"\"\"COMPUTED_VALUE\"\"\"),\"en\")","v":"en"}]
[{"$f":"IFERROR(__xludf.DUMMYFUNCTION(\"\"\"COMPUTED_VALUE\"\"\"),\"https://www.iana.org/assignments/media-types/image/jxr\")","v":"https://www.iana.org/assignments/media-types/image/jxr"},{"$f":"IFERROR(__xludf.DUMMYFUNCTION(\"\"\"COMPUTED_VALUE\"\"\"),\"jxr\")","v":"jxr"},{"$f":"IFERROR(__xludf.DUMMYFUNCTION(\"\"\"COMPUTED_VALUE\"\"\"),\"jxr\")","v":"jxr"},{"$f":"IFERROR(__xludf.DUMMYFUNCTION(\"\"\"COMPUTED_VALUE\"\"\"),\"image/jxr\")","v":"image/jxr"},{"$f":"IFERROR(__xludf.DUMMYFUNCTION(\"\"\"COMPUTED_VALUE\"\"\"),\"en\")","v":"en"}]
[{"$f":"IFERROR(__xludf.DUMMYFUNCTION(\"\"\"COMPUTED_VALUE\"\"\"),\"https://www.iana.org/assignments/media-types/image/jxrA\")","v":"https://www.iana.org/assignments/media-types/image/jxrA"},{"$f":"IFERROR(__xludf.DUMMYFUNCTION(\"\"\"COMPUTED_VALUE\"\"\"),\"jxrA\")","v":"jxrA"},{"$f":"IFERROR(__xludf.DUMMYFUNCTION(\"\"\"COMPUTED_VALUE\"\"\"),\"jxrA\")","v":"jxrA"},{"$f":"IFERROR(__xludf.DUMMYFUNCTION(\"\"\"COMPUTED_VALUE\"\"\"),\"image/jxrA\")","v":"image/jxrA"},{"$f":"IFERROR(__xludf.DUMMYFUNCTION(\"\"\"COMPUTED_VALUE\"\"\"),\"en\")","v":"en"}]
[{"$f":"IFERROR(__xludf.DUMMYFUNCTION(\"\"\"COMPUTED_VALUE\"\"\"),\"https://www.iana.org/assignments/media-types/image/jxrS\")","v":"https://www.iana.org/assignments/media-types/image/jxrS"},{"$f":"IFERROR(__xludf.DUMMYFUNCTION(\"\"\"COMPUTED_VALUE\"\"\"),\"jxrS\")","v":"jxrS"},{"$f":"IFERROR(__xludf.DUMMYFUNCTION(\"\"\"COMPUTED_VALUE\"\"\"),\"jxrS\")","v":"jxrS"},{"$f":"IFERROR(__xludf.DUMMYFUNCTION(\"\"\"COMPUTED_VALUE\"\"\"),\"image/jxrS\")","v":"image/jxrS"},{"$f":"IFERROR(__xludf.DUMMYFUNCTION(\"\"\"COMPUTED_VALUE\"\"\"),\"en\")","v":"en"}]
[{"$f":"IFERROR(__xludf.DUMMYFUNCTION(\"\"\"COMPUTED_VALUE\"\"\"),\"https://www.iana.org/assignments/media-types/image/jxs\")","v":"https://www.iana.org/assignments/media-types/image/jxs"},{"$f":"IFERROR(__xludf.DUMMYFUNCTION(\"\"\"COMPUTED_VALUE\"\"\"),\"jxs\")","v":"jxs"},{"$f":"IFERROR(__xludf.DUMMYFUNCTION(\"\"\"COMPUTED_VALUE\"\"\"),\"jxs\")","v":"jxs"},{"$f":"IFERROR(__xludf.DUMMYFUNCTION(\"\"\"COMPUTED_VALUE\"\"\"),\"image/jxs\")","v":"image/jxs"},{"$f":"IFERROR(__xludf.DUMMYFUNCTION(\"\"\"COMPUTED_VALUE\"\"\"),\"en\")","v":"en"}]
[{"$f":"IFERROR(__xludf.DUMMYFUNCTION(\"\"\"COMPUTED_VALUE\"\"\"),\"https://www.iana.org/assignments/media-types/image/jxsc\")","v":"https://www.iana.org/assignments/media-types/image/jxsc"},{"$f":"IFERROR(__xludf.DUMMYFUNCTION(\"\"\"COMPUTED_VALUE\"\"\"),\"jxsc\")","v":"jxsc"},{"$f":"IFERROR(__xludf.DUMMYFUNCTION(\"\"\"COMPUTED_VALUE\"\"\"),\"jxsc\")","v":"jxsc"},{"$f":"IFERROR(__xludf.DUMMYFUNCTION(\"\"\"COMPUTED_VALUE\"\"\"),\"image/jxsc\")","v":"image/jxsc"},{"$f":"IFERROR(__xludf.DUMMYFUNCTION(\"\"\"COMPUTED_VALUE\"\"\"),\"en\")","v":"en"}]
[{"$f":"IFERROR(__xludf.DUMMYFUNCTION(\"\"\"COMPUTED_VALUE\"\"\"),\"https://www.iana.org/assignments/media-types/image/jxsi\")","v":"https://www.iana.org/assignments/media-types/image/jxsi"},{"$f":"IFERROR(__xludf.DUMMYFUNCTION(\"\"\"COMPUTED_VALUE\"\"\"),\"jxsi\")","v":"jxsi"},{"$f":"IFERROR(__xludf.DUMMYFUNCTION(\"\"\"COMPUTED_VALUE\"\"\"),\"jxsi\")","v":"jxsi"},{"$f":"IFERROR(__xludf.DUMMYFUNCTION(\"\"\"COMPUTED_VALUE\"\"\"),\"image/jxsi\")","v":"image/jxsi"},{"$f":"IFERROR(__xludf.DUMMYFUNCTION(\"\"\"COMPUTED_VALUE\"\"\"),\"en\")","v":"en"}]
[{"$f":"IFERROR(__xludf.DUMMYFUNCTION(\"\"\"COMPUTED_VALUE\"\"\"),\"https://www.iana.org/assignments/media-types/image/jxss\")","v":"https://www.iana.org/assignments/media-types/image/jxss"},{"$f":"IFERROR(__xludf.DUMMYFUNCTION(\"\"\"COMPUTED_VALUE\"\"\"),\"jxss\")","v":"jxss"},{"$f":"IFERROR(__xludf.DUMMYFUNCTION(\"\"\"COMPUTED_VALUE\"\"\"),\"jxss\")","v":"jxss"},{"$f":"IFERROR(__xludf.DUMMYFUNCTION(\"\"\"COMPUTED_VALUE\"\"\"),\"image/jxss\")","v":"image/jxss"},{"$f":"IFERROR(__xludf.DUMMYFUNCTION(\"\"\"COMPUTED_VALUE\"\"\"),\"en\")","v":"en"}]
[{"$f":"IFERROR(__xludf.DUMMYFUNCTION(\"\"\"COMPUTED_VALUE\"\"\"),\"https://www.iana.org/assignments/media-types/image/ktx\")","v":"https://www.iana.org/assignments/media-types/image/ktx"},{"$f":"IFERROR(__xludf.DUMMYFUNCTION(\"\"\"COMPUTED_VALUE\"\"\"),\"ktx\")","v":"ktx"},{"$f":"IFERROR(__xludf.DUMMYFUNCTION(\"\"\"COMPUTED_VALUE\"\"\"),\"ktx\")","v":"ktx"},{"$f":"IFERROR(__xludf.DUMMYFUNCTION(\"\"\"COMPUTED_VALUE\"\"\"),\"image/ktx\")","v":"image/ktx"},{"$f":"IFERROR(__xludf.DUMMYFUNCTION(\"\"\"COMPUTED_VALUE\"\"\"),\"en\")","v":"en"}]
[{"$f":"IFERROR(__xludf.DUMMYFUNCTION(\"\"\"COMPUTED_VALUE\"\"\"),\"https://www.iana.org/assignments/media-types/image/ktx2\")","v":"https://www.iana.org/assignments/media-types/image/ktx2"},{"$f":"IFERROR(__xludf.DUMMYFUNCTION(\"\"\"COMPUTED_VALUE\"\"\"),\"ktx2\")","v":"ktx2"},{"$f":"IFERROR(__xludf.DUMMYFUNCTION(\"\"\"COMPUTED_VALUE\"\"\"),\"ktx2\")","v":"ktx2"},{"$f":"IFERROR(__xludf.DUMMYFUNCTION(\"\"\"COMPUTED_VALUE\"\"\"),\"image/ktx2\")","v":"image/ktx2"},{"$f":"IFERROR(__xludf.DUMMYFUNCTION(\"\"\"COMPUTED_VALUE\"\"\"),\"en\")","v":"en"}]
[{"$f":"IFERROR(__xludf.DUMMYFUNCTION(\"\"\"COMPUTED_VALUE\"\"\"),\"https://www.iana.org/assignments/media-types/image/naplps\")","v":"https://www.iana.org/assignments/media-types/image/naplps"},{"$f":"IFERROR(__xludf.DUMMYFUNCTION(\"\"\"COMPUTED_VALUE\"\"\"),\"naplps\")","v":"naplps"},{"$f":"IFERROR(__xludf.DUMMYFUNCTION(\"\"\"COMPUTED_VALUE\"\"\"),\"naplps\")","v":"naplps"},{"$f":"IFERROR(__xludf.DUMMYFUNCTION(\"\"\"COMPUTED_VALUE\"\"\"),\"image/naplps\")","v":"image/naplps"},{"$f":"IFERROR(__xludf.DUMMYFUNCTION(\"\"\"COMPUTED_VALUE\"\"\"),\"en\")","v":"en"}]
[{"$f":"IFERROR(__xludf.DUMMYFUNCTION(\"\"\"COMPUTED_VALUE\"\"\"),\"https://www.iana.org/assignments/media-types/image/png\")","v":"https://www.iana.org/assignments/media-types/image/png"},{"$f":"IFERROR(__xludf.DUMMYFUNCTION(\"\"\"COMPUTED_VALUE\"\"\"),\"png\")","v":"png"},{"$f":"IFERROR(__xludf.DUMMYFUNCTION(\"\"\"COMPUTED_VALUE\"\"\"),\"png\")","v":"png"},{"$f":"IFERROR(__xludf.DUMMYFUNCTION(\"\"\"COMPUTED_VALUE\"\"\"),\"image/png\")","v":"image/png"},{"$f":"IFERROR(__xludf.DUMMYFUNCTION(\"\"\"COMPUTED_VALUE\"\"\"),\"en\")","v":"en"}]
[{"$f":"IFERROR(__xludf.DUMMYFUNCTION(\"\"\"COMPUTED_VALUE\"\"\"),\"https://www.iana.org/assignments/media-types/image/prs.btif\")","v":"https://www.iana.org/assignments/media-types/image/prs.btif"},{"$f":"IFERROR(__xludf.DUMMYFUNCTION(\"\"\"COMPUTED_VALUE\"\"\"),\"prs.btif\")","v":"prs.btif"},{"$f":"IFERROR(__xludf.DUMMYFUNCTION(\"\"\"COMPUTED_VALUE\"\"\"),\"prs.btif\")","v":"prs.btif"},{"$f":"IFERROR(__xludf.DUMMYFUNCTION(\"\"\"COMPUTED_VALUE\"\"\"),\"image/prs.btif\")","v":"image/prs.btif"},{"$f":"IFERROR(__xludf.DUMMYFUNCTION(\"\"\"COMPUTED_VALUE\"\"\"),\"en\")","v":"en"}]
[{"$f":"IFERROR(__xludf.DUMMYFUNCTION(\"\"\"COMPUTED_VALUE\"\"\"),\"https://www.iana.org/assignments/media-types/image/prs.pti\")","v":"https://www.iana.org/assignments/media-types/image/prs.pti"},{"$f":"IFERROR(__xludf.DUMMYFUNCTION(\"\"\"COMPUTED_VALUE\"\"\"),\"prs.pti\")","v":"prs.pti"},{"$f":"IFERROR(__xludf.DUMMYFUNCTION(\"\"\"COMPUTED_VALUE\"\"\"),\"prs.pti\")","v":"prs.pti"},{"$f":"IFERROR(__xludf.DUMMYFUNCTION(\"\"\"COMPUTED_VALUE\"\"\"),\"image/prs.pti\")","v":"image/prs.pti"},{"$f":"IFERROR(__xludf.DUMMYFUNCTION(\"\"\"COMPUTED_VALUE\"\"\"),\"en\")","v":"en"}]
[{"$f":"IFERROR(__xludf.DUMMYFUNCTION(\"\"\"COMPUTED_VALUE\"\"\"),\"https://www.iana.org/assignments/media-types/image/pwg-raster\")","v":"https://www.iana.org/assignments/media-types/image/pwg-raster"},{"$f":"IFERROR(__xludf.DUMMYFUNCTION(\"\"\"COMPUTED_VALUE\"\"\"),\"pwg-raster\")","v":"pwg-raster"},{"$f":"IFERROR(__xludf.DUMMYFUNCTION(\"\"\"COMPUTED_VALUE\"\"\"),\"pwg-raster\")","v":"pwg-raster"},{"$f":"IFERROR(__xludf.DUMMYFUNCTION(\"\"\"COMPUTED_VALUE\"\"\"),\"image/pwg-raster\")","v":"image/pwg-raster"},{"$f":"IFERROR(__xludf.DUMMYFUNCTION(\"\"\"COMPUTED_VALUE\"\"\"),\"en\")","v":"en"}]
[{"$f":"IFERROR(__xludf.DUMMYFUNCTION(\"\"\"COMPUTED_VALUE\"\"\"),\"https://www.iana.org/assignments/media-types/image/svg+xml\")","v":"https://www.iana.org/assignments/media-types/image/svg+xml"},{"$f":"IFERROR(__xludf.DUMMYFUNCTION(\"\"\"COMPUTED_VALUE\"\"\"),\"svg+xml\")","v":"svg+xml"},{"$f":"IFERROR(__xludf.DUMMYFUNCTION(\"\"\"COMPUTED_VALUE\"\"\"),\"svg+xml\")","v":"svg+xml"},{"$f":"IFERROR(__xludf.DUMMYFUNCTION(\"\"\"COMPUTED_VALUE\"\"\"),\"image/svg+xml\")","v":"image/svg+xml"},{"$f":"IFERROR(__xludf.DUMMYFUNCTION(\"\"\"COMPUTED_VALUE\"\"\"),\"en\")","v":"en"}]
[{"$f":"IFERROR(__xludf.DUMMYFUNCTION(\"\"\"COMPUTED_VALUE\"\"\"),\"https://www.iana.org/assignments/media-types/image/t38\")","v":"https://www.iana.org/assignments/media-types/image/t38"},{"$f":"IFERROR(__xludf.DUMMYFUNCTION(\"\"\"COMPUTED_VALUE\"\"\"),\"t38\")","v":"t38"},{"$f":"IFERROR(__xludf.DUMMYFUNCTION(\"\"\"COMPUTED_VALUE\"\"\"),\"t38\")","v":"t38"},{"$f":"IFERROR(__xludf.DUMMYFUNCTION(\"\"\"COMPUTED_VALUE\"\"\"),\"image/t38\")","v":"image/t38"},{"$f":"IFERROR(__xludf.DUMMYFUNCTION(\"\"\"COMPUTED_VALUE\"\"\"),\"en\")","v":"en"}]
[{"$f":"IFERROR(__xludf.DUMMYFUNCTION(\"\"\"COMPUTED_VALUE\"\"\"),\"https://www.iana.org/assignments/media-types/image/tiff\")","v":"https://www.iana.org/assignments/media-types/image/tiff"},{"$f":"IFERROR(__xludf.DUMMYFUNCTION(\"\"\"COMPUTED_VALUE\"\"\"),\"tiff\")","v":"tiff"},{"$f":"IFERROR(__xludf.DUMMYFUNCTION(\"\"\"COMPUTED_VALUE\"\"\"),\"tiff\")","v":"tiff"},{"$f":"IFERROR(__xludf.DUMMYFUNCTION(\"\"\"COMPUTED_VALUE\"\"\"),\"image/tiff\")","v":"image/tiff"},{"$f":"IFERROR(__xludf.DUMMYFUNCTION(\"\"\"COMPUTED_VALUE\"\"\"),\"en\")","v":"en"}]
[{"$f":"IFERROR(__xludf.DUMMYFUNCTION(\"\"\"COMPUTED_VALUE\"\"\"),\"https://www.iana.org/assignments/media-types/image/tiff-fx\")","v":"https://www.iana.org/assignments/media-types/image/tiff-fx"},{"$f":"IFERROR(__xludf.DUMMYFUNCTION(\"\"\"COMPUTED_VALUE\"\"\"),\"tiff-fx\")","v":"tiff-fx"},{"$f":"IFERROR(__xludf.DUMMYFUNCTION(\"\"\"COMPUTED_VALUE\"\"\"),\"tiff-fx\")","v":"tiff-fx"},{"$f":"IFERROR(__xludf.DUMMYFUNCTION(\"\"\"COMPUTED_VALUE\"\"\"),\"image/tiff-fx\")","v":"image/tiff-fx"},{"$f":"IFERROR(__xludf.DUMMYFUNCTION(\"\"\"COMPUTED_VALUE\"\"\"),\"en\")","v":"en"}]
[{"$f":"IFERROR(__xludf.DUMMYFUNCTION(\"\"\"COMPUTED_VALUE\"\"\"),\"https://www.iana.org/assignments/media-types/image/vnd.adobe.photoshop\")","v":"https://www.iana.org/assignments/media-types/image/vnd.adobe.photoshop"},{"$f":"IFERROR(__xludf.DUMMYFUNCTION(\"\"\"COMPUTED_VALUE\"\"\"),\"vnd.adobe.photoshop\")","v":"vnd.adobe.photoshop"},{"$f":"IFERROR(__xludf.DUMMYFUNCTION(\"\"\"COMPUTED_VALUE\"\"\"),\"vnd.adobe.photoshop\")","v":"vnd.adobe.photoshop"},{"$f":"IFERROR(__xludf.DUMMYFUNCTION(\"\"\"COMPUTED_VALUE\"\"\"),\"image/vnd.adobe.photoshop\")","v":"image/vnd.adobe.photoshop"},{"$f":"IFERROR(__xludf.DUMMYFUNCTION(\"\"\"COMPUTED_VALUE\"\"\"),\"en\")","v":"en"}]
[{"$f":"IFERROR(__xludf.DUMMYFUNCTION(\"\"\"COMPUTED_VALUE\"\"\"),\"https://www.iana.org/assignments/media-types/image/vnd.airzip.accelerator.azv\")","v":"https://www.iana.org/assignments/media-types/image/vnd.airzip.accelerator.azv"},{"$f":"IFERROR(__xludf.DUMMYFUNCTION(\"\"\"COMPUTED_VALUE\"\"\"),\"vnd.airzip.accelerator.azv\")","v":"vnd.airzip.accelerator.azv"},{"$f":"IFERROR(__xludf.DUMMYFUNCTION(\"\"\"COMPUTED_VALUE\"\"\"),\"vnd.airzip.accelerator.azv\")","v":"vnd.airzip.accelerator.azv"},{"$f":"IFERROR(__xludf.DUMMYFUNCTION(\"\"\"COMPUTED_VALUE\"\"\"),\"image/vnd.airzip.accelerator.azv\")","v":"image/vnd.airzip.accelerator.azv"},{"$f":"IFERROR(__xludf.DUMMYFUNCTION(\"\"\"COMPUTED_VALUE\"\"\"),\"en\")","v":"en"}]
[{"$f":"IFERROR(__xludf.DUMMYFUNCTION(\"\"\"COMPUTED_VALUE\"\"\"),\"https://www.iana.org/assignments/media-types/image/vnd.cns.inf2\")","v":"https://www.iana.org/assignments/media-types/image/vnd.cns.inf2"},{"$f":"IFERROR(__xludf.DUMMYFUNCTION(\"\"\"COMPUTED_VALUE\"\"\"),\"vnd.cns.inf2\")","v":"vnd.cns.inf2"},{"$f":"IFERROR(__xludf.DUMMYFUNCTION(\"\"\"COMPUTED_VALUE\"\"\"),\"vnd.cns.inf2\")","v":"vnd.cns.inf2"},{"$f":"IFERROR(__xludf.DUMMYFUNCTION(\"\"\"COMPUTED_VALUE\"\"\"),\"image/vnd.cns.inf2\")","v":"image/vnd.cns.inf2"},{"$f":"IFERROR(__xludf.DUMMYFUNCTION(\"\"\"COMPUTED_VALUE\"\"\"),\"en\")","v":"en"}]
[{"$f":"IFERROR(__xludf.DUMMYFUNCTION(\"\"\"COMPUTED_VALUE\"\"\"),\"https://www.iana.org/assignments/media-types/image/vnd.dece.graphic\")","v":"https://www.iana.org/assignments/media-types/image/vnd.dece.graphic"},{"$f":"IFERROR(__xludf.DUMMYFUNCTION(\"\"\"COMPUTED_VALUE\"\"\"),\"vnd.dece.graphic\")","v":"vnd.dece.graphic"},{"$f":"IFERROR(__xludf.DUMMYFUNCTION(\"\"\"COMPUTED_VALUE\"\"\"),\"vnd.dece.graphic\")","v":"vnd.dece.graphic"},{"$f":"IFERROR(__xludf.DUMMYFUNCTION(\"\"\"COMPUTED_VALUE\"\"\"),\"image/vnd.dece.graphic\")","v":"image/vnd.dece.graphic"},{"$f":"IFERROR(__xludf.DUMMYFUNCTION(\"\"\"COMPUTED_VALUE\"\"\"),\"en\")","v":"en"}]
[{"$f":"IFERROR(__xludf.DUMMYFUNCTION(\"\"\"COMPUTED_VALUE\"\"\"),\"https://www.iana.org/assignments/media-types/image/vnd.djvu\")","v":"https://www.iana.org/assignments/media-types/image/vnd.djvu"},{"$f":"IFERROR(__xludf.DUMMYFUNCTION(\"\"\"COMPUTED_VALUE\"\"\"),\"vnd.djvu\")","v":"vnd.djvu"},{"$f":"IFERROR(__xludf.DUMMYFUNCTION(\"\"\"COMPUTED_VALUE\"\"\"),\"vnd.djvu\")","v":"vnd.djvu"},{"$f":"IFERROR(__xludf.DUMMYFUNCTION(\"\"\"COMPUTED_VALUE\"\"\"),\"image/vnd.djvu\")","v":"image/vnd.djvu"},{"$f":"IFERROR(__xludf.DUMMYFUNCTION(\"\"\"COMPUTED_VALUE\"\"\"),\"en\")","v":"en"}]
[{"$f":"IFERROR(__xludf.DUMMYFUNCTION(\"\"\"COMPUTED_VALUE\"\"\"),\"https://www.iana.org/assignments/media-types/image/vnd.dwg\")","v":"https://www.iana.org/assignments/media-types/image/vnd.dwg"},{"$f":"IFERROR(__xludf.DUMMYFUNCTION(\"\"\"COMPUTED_VALUE\"\"\"),\"vnd.dwg\")","v":"vnd.dwg"},{"$f":"IFERROR(__xludf.DUMMYFUNCTION(\"\"\"COMPUTED_VALUE\"\"\"),\"vnd.dwg\")","v":"vnd.dwg"},{"$f":"IFERROR(__xludf.DUMMYFUNCTION(\"\"\"COMPUTED_VALUE\"\"\"),\"image/vnd.dwg\")","v":"image/vnd.dwg"},{"$f":"IFERROR(__xludf.DUMMYFUNCTION(\"\"\"COMPUTED_VALUE\"\"\"),\"en\")","v":"en"}]
[{"$f":"IFERROR(__xludf.DUMMYFUNCTION(\"\"\"COMPUTED_VALUE\"\"\"),\"https://www.iana.org/assignments/media-types/image/vnd.dxf\")","v":"https://www.iana.org/assignments/media-types/image/vnd.dxf"},{"$f":"IFERROR(__xludf.DUMMYFUNCTION(\"\"\"COMPUTED_VALUE\"\"\"),\"vnd.dxf\")","v":"vnd.dxf"},{"$f":"IFERROR(__xludf.DUMMYFUNCTION(\"\"\"COMPUTED_VALUE\"\"\"),\"vnd.dxf\")","v":"vnd.dxf"},{"$f":"IFERROR(__xludf.DUMMYFUNCTION(\"\"\"COMPUTED_VALUE\"\"\"),\"image/vnd.dxf\")","v":"image/vnd.dxf"},{"$f":"IFERROR(__xludf.DUMMYFUNCTION(\"\"\"COMPUTED_VALUE\"\"\"),\"en\")","v":"en"}]
[{"$f":"IFERROR(__xludf.DUMMYFUNCTION(\"\"\"COMPUTED_VALUE\"\"\"),\"https://www.iana.org/assignments/media-types/image/vnd.dvb.subtitle\")","v":"https://www.iana.org/assignments/media-types/image/vnd.dvb.subtitle"},{"$f":"IFERROR(__xludf.DUMMYFUNCTION(\"\"\"COMPUTED_VALUE\"\"\"),\"vnd.dvb.subtitle\")","v":"vnd.dvb.subtitle"},{"$f":"IFERROR(__xludf.DUMMYFUNCTION(\"\"\"COMPUTED_VALUE\"\"\"),\"vnd.dvb.subtitle\")","v":"vnd.dvb.subtitle"},{"$f":"IFERROR(__xludf.DUMMYFUNCTION(\"\"\"COMPUTED_VALUE\"\"\"),\"image/vnd.dvb.subtitle\")","v":"image/vnd.dvb.subtitle"},{"$f":"IFERROR(__xludf.DUMMYFUNCTION(\"\"\"COMPUTED_VALUE\"\"\"),\"en\")","v":"en"}]
[{"$f":"IFERROR(__xludf.DUMMYFUNCTION(\"\"\"COMPUTED_VALUE\"\"\"),\"https://www.iana.org/assignments/media-types/image/vnd.fastbidsheet\")","v":"https://www.iana.org/assignments/media-types/image/vnd.fastbidsheet"},{"$f":"IFERROR(__xludf.DUMMYFUNCTION(\"\"\"COMPUTED_VALUE\"\"\"),\"vnd.fastbidsheet\")","v":"vnd.fastbidsheet"},{"$f":"IFERROR(__xludf.DUMMYFUNCTION(\"\"\"COMPUTED_VALUE\"\"\"),\"vnd.fastbidsheet\")","v":"vnd.fastbidsheet"},{"$f":"IFERROR(__xludf.DUMMYFUNCTION(\"\"\"COMPUTED_VALUE\"\"\"),\"image/vnd.fastbidsheet\")","v":"image/vnd.fastbidsheet"},{"$f":"IFERROR(__xludf.DUMMYFUNCTION(\"\"\"COMPUTED_VALUE\"\"\"),\"en\")","v":"en"}]
[{"$f":"IFERROR(__xludf.DUMMYFUNCTION(\"\"\"COMPUTED_VALUE\"\"\"),\"https://www.iana.org/assignments/media-types/image/vnd.fpx\")","v":"https://www.iana.org/assignments/media-types/image/vnd.fpx"},{"$f":"IFERROR(__xludf.DUMMYFUNCTION(\"\"\"COMPUTED_VALUE\"\"\"),\"vnd.fpx\")","v":"vnd.fpx"},{"$f":"IFERROR(__xludf.DUMMYFUNCTION(\"\"\"COMPUTED_VALUE\"\"\"),\"vnd.fpx\")","v":"vnd.fpx"},{"$f":"IFERROR(__xludf.DUMMYFUNCTION(\"\"\"COMPUTED_VALUE\"\"\"),\"image/vnd.fpx\")","v":"image/vnd.fpx"},{"$f":"IFERROR(__xludf.DUMMYFUNCTION(\"\"\"COMPUTED_VALUE\"\"\"),\"en\")","v":"en"}]
[{"$f":"IFERROR(__xludf.DUMMYFUNCTION(\"\"\"COMPUTED_VALUE\"\"\"),\"https://www.iana.org/assignments/media-types/image/vnd.fst\")","v":"https://www.iana.org/assignments/media-types/image/vnd.fst"},{"$f":"IFERROR(__xludf.DUMMYFUNCTION(\"\"\"COMPUTED_VALUE\"\"\"),\"vnd.fst\")","v":"vnd.fst"},{"$f":"IFERROR(__xludf.DUMMYFUNCTION(\"\"\"COMPUTED_VALUE\"\"\"),\"vnd.fst\")","v":"vnd.fst"},{"$f":"IFERROR(__xludf.DUMMYFUNCTION(\"\"\"COMPUTED_VALUE\"\"\"),\"image/vnd.fst\")","v":"image/vnd.fst"},{"$f":"IFERROR(__xludf.DUMMYFUNCTION(\"\"\"COMPUTED_VALUE\"\"\"),\"en\")","v":"en"}]
[{"$f":"IFERROR(__xludf.DUMMYFUNCTION(\"\"\"COMPUTED_VALUE\"\"\"),\"https://www.iana.org/assignments/media-types/image/vnd.fujixerox.edmics-mmr\")","v":"https://www.iana.org/assignments/media-types/image/vnd.fujixerox.edmics-mmr"},{"$f":"IFERROR(__xludf.DUMMYFUNCTION(\"\"\"COMPUTED_VALUE\"\"\"),\"vnd.fujixerox.edmics-mmr\")","v":"vnd.fujixerox.edmics-mmr"},{"$f":"IFERROR(__xludf.DUMMYFUNCTION(\"\"\"COMPUTED_VALUE\"\"\"),\"vnd.fujixerox.edmics-mmr\")","v":"vnd.fujixerox.edmics-mmr"},{"$f":"IFERROR(__xludf.DUMMYFUNCTION(\"\"\"COMPUTED_VALUE\"\"\"),\"image/vnd.fujixerox.edmics-mmr\")","v":"image/vnd.fujixerox.edmics-mmr"},{"$f":"IFERROR(__xludf.DUMMYFUNCTION(\"\"\"COMPUTED_VALUE\"\"\"),\"en\")","v":"en"}]
[{"$f":"IFERROR(__xludf.DUMMYFUNCTION(\"\"\"COMPUTED_VALUE\"\"\"),\"https://www.iana.org/assignments/media-types/image/vnd.fujixerox.edmics-rlc\")","v":"https://www.iana.org/assignments/media-types/image/vnd.fujixerox.edmics-rlc"},{"$f":"IFERROR(__xludf.DUMMYFUNCTION(\"\"\"COMPUTED_VALUE\"\"\"),\"vnd.fujixerox.edmics-rlc\")","v":"vnd.fujixerox.edmics-rlc"},{"$f":"IFERROR(__xludf.DUMMYFUNCTION(\"\"\"COMPUTED_VALUE\"\"\"),\"vnd.fujixerox.edmics-rlc\")","v":"vnd.fujixerox.edmics-rlc"},{"$f":"IFERROR(__xludf.DUMMYFUNCTION(\"\"\"COMPUTED_VALUE\"\"\"),\"image/vnd.fujixerox.edmics-rlc\")","v":"image/vnd.fujixerox.edmics-rlc"},{"$f":"IFERROR(__xludf.DUMMYFUNCTION(\"\"\"COMPUTED_VALUE\"\"\"),\"en\")","v":"en"}]
[{"$f":"IFERROR(__xludf.DUMMYFUNCTION(\"\"\"COMPUTED_VALUE\"\"\"),\"https://www.iana.org/assignments/media-types/image/vnd.globalgraphics.pgb\")","v":"https://www.iana.org/assignments/media-types/image/vnd.globalgraphics.pgb"},{"$f":"IFERROR(__xludf.DUMMYFUNCTION(\"\"\"COMPUTED_VALUE\"\"\"),\"vnd.globalgraphics.pgb\")","v":"vnd.globalgraphics.pgb"},{"$f":"IFERROR(__xludf.DUMMYFUNCTION(\"\"\"COMPUTED_VALUE\"\"\"),\"vnd.globalgraphics.pgb\")","v":"vnd.globalgraphics.pgb"},{"$f":"IFERROR(__xludf.DUMMYFUNCTION(\"\"\"COMPUTED_VALUE\"\"\"),\"image/vnd.globalgraphics.pgb\")","v":"image/vnd.globalgraphics.pgb"},{"$f":"IFERROR(__xludf.DUMMYFUNCTION(\"\"\"COMPUTED_VALUE\"\"\"),\"en\")","v":"en"}]
[{"$f":"IFERROR(__xludf.DUMMYFUNCTION(\"\"\"COMPUTED_VALUE\"\"\"),\"https://www.iana.org/assignments/media-types/image/vnd.microsoft.icon\")","v":"https://www.iana.org/assignments/media-types/image/vnd.microsoft.icon"},{"$f":"IFERROR(__xludf.DUMMYFUNCTION(\"\"\"COMPUTED_VALUE\"\"\"),\"vnd.microsoft.icon\")","v":"vnd.microsoft.icon"},{"$f":"IFERROR(__xludf.DUMMYFUNCTION(\"\"\"COMPUTED_VALUE\"\"\"),\"vnd.microsoft.icon\")","v":"vnd.microsoft.icon"},{"$f":"IFERROR(__xludf.DUMMYFUNCTION(\"\"\"COMPUTED_VALUE\"\"\"),\"image/vnd.microsoft.icon\")","v":"image/vnd.microsoft.icon"},{"$f":"IFERROR(__xludf.DUMMYFUNCTION(\"\"\"COMPUTED_VALUE\"\"\"),\"en\")","v":"en"}]
[{"$f":"IFERROR(__xludf.DUMMYFUNCTION(\"\"\"COMPUTED_VALUE\"\"\"),\"https://www.iana.org/assignments/media-types/image/vnd.mix\")","v":"https://www.iana.org/assignments/media-types/image/vnd.mix"},{"$f":"IFERROR(__xludf.DUMMYFUNCTION(\"\"\"COMPUTED_VALUE\"\"\"),\"vnd.mix\")","v":"vnd.mix"},{"$f":"IFERROR(__xludf.DUMMYFUNCTION(\"\"\"COMPUTED_VALUE\"\"\"),\"vnd.mix\")","v":"vnd.mix"},{"$f":"IFERROR(__xludf.DUMMYFUNCTION(\"\"\"COMPUTED_VALUE\"\"\"),\"image/vnd.mix\")","v":"image/vnd.mix"},{"$f":"IFERROR(__xludf.DUMMYFUNCTION(\"\"\"COMPUTED_VALUE\"\"\"),\"en\")","v":"en"}]
[{"$f":"IFERROR(__xludf.DUMMYFUNCTION(\"\"\"COMPUTED_VALUE\"\"\"),\"https://www.iana.org/assignments/media-types/image/vnd.ms-modi\")","v":"https://www.iana.org/assignments/media-types/image/vnd.ms-modi"},{"$f":"IFERROR(__xludf.DUMMYFUNCTION(\"\"\"COMPUTED_VALUE\"\"\"),\"vnd.ms-modi\")","v":"vnd.ms-modi"},{"$f":"IFERROR(__xludf.DUMMYFUNCTION(\"\"\"COMPUTED_VALUE\"\"\"),\"vnd.ms-modi\")","v":"vnd.ms-modi"},{"$f":"IFERROR(__xludf.DUMMYFUNCTION(\"\"\"COMPUTED_VALUE\"\"\"),\"image/vnd.ms-modi\")","v":"image/vnd.ms-modi"},{"$f":"IFERROR(__xludf.DUMMYFUNCTION(\"\"\"COMPUTED_VALUE\"\"\"),\"en\")","v":"en"}]
[{"$f":"IFERROR(__xludf.DUMMYFUNCTION(\"\"\"COMPUTED_VALUE\"\"\"),\"https://www.iana.org/assignments/media-types/image/vnd.mozilla.apng\")","v":"https://www.iana.org/assignments/media-types/image/vnd.mozilla.apng"},{"$f":"IFERROR(__xludf.DUMMYFUNCTION(\"\"\"COMPUTED_VALUE\"\"\"),\"vnd.mozilla.apng\")","v":"vnd.mozilla.apng"},{"$f":"IFERROR(__xludf.DUMMYFUNCTION(\"\"\"COMPUTED_VALUE\"\"\"),\"vnd.mozilla.apng\")","v":"vnd.mozilla.apng"},{"$f":"IFERROR(__xludf.DUMMYFUNCTION(\"\"\"COMPUTED_VALUE\"\"\"),\"image/vnd.mozilla.apng\")","v":"image/vnd.mozilla.apng"},{"$f":"IFERROR(__xludf.DUMMYFUNCTION(\"\"\"COMPUTED_VALUE\"\"\"),\"en\")","v":"en"}]
[{"$f":"IFERROR(__xludf.DUMMYFUNCTION(\"\"\"COMPUTED_VALUE\"\"\"),\"https://www.iana.org/assignments/media-types/image/vnd.net-fpx\")","v":"https://www.iana.org/assignments/media-types/image/vnd.net-fpx"},{"$f":"IFERROR(__xludf.DUMMYFUNCTION(\"\"\"COMPUTED_VALUE\"\"\"),\"vnd.net-fpx\")","v":"vnd.net-fpx"},{"$f":"IFERROR(__xludf.DUMMYFUNCTION(\"\"\"COMPUTED_VALUE\"\"\"),\"vnd.net-fpx\")","v":"vnd.net-fpx"},{"$f":"IFERROR(__xludf.DUMMYFUNCTION(\"\"\"COMPUTED_VALUE\"\"\"),\"image/vnd.net-fpx\")","v":"image/vnd.net-fpx"},{"$f":"IFERROR(__xludf.DUMMYFUNCTION(\"\"\"COMPUTED_VALUE\"\"\"),\"en\")","v":"en"}]
[{"$f":"IFERROR(__xludf.DUMMYFUNCTION(\"\"\"COMPUTED_VALUE\"\"\"),\"https://www.iana.org/assignments/media-types/image/vnd.pco.b16\")","v":"https://www.iana.org/assignments/media-types/image/vnd.pco.b16"},{"$f":"IFERROR(__xludf.DUMMYFUNCTION(\"\"\"COMPUTED_VALUE\"\"\"),\"vnd.pco.b16\")","v":"vnd.pco.b16"},{"$f":"IFERROR(__xludf.DUMMYFUNCTION(\"\"\"COMPUTED_VALUE\"\"\"),\"vnd.pco.b16\")","v":"vnd.pco.b16"},{"$f":"IFERROR(__xludf.DUMMYFUNCTION(\"\"\"COMPUTED_VALUE\"\"\"),\"image/vnd.pco.b16\")","v":"image/vnd.pco.b16"},{"$f":"IFERROR(__xludf.DUMMYFUNCTION(\"\"\"COMPUTED_VALUE\"\"\"),\"en\")","v":"en"}]
[{"$f":"IFERROR(__xludf.DUMMYFUNCTION(\"\"\"COMPUTED_VALUE\"\"\"),\"https://www.iana.org/assignments/media-types/image/vnd.radiance\")","v":"https://www.iana.org/assignments/media-types/image/vnd.radiance"},{"$f":"IFERROR(__xludf.DUMMYFUNCTION(\"\"\"COMPUTED_VALUE\"\"\"),\"vnd.radiance\")","v":"vnd.radiance"},{"$f":"IFERROR(__xludf.DUMMYFUNCTION(\"\"\"COMPUTED_VALUE\"\"\"),\"vnd.radiance\")","v":"vnd.radiance"},{"$f":"IFERROR(__xludf.DUMMYFUNCTION(\"\"\"COMPUTED_VALUE\"\"\"),\"image/vnd.radiance\")","v":"image/vnd.radiance"},{"$f":"IFERROR(__xludf.DUMMYFUNCTION(\"\"\"COMPUTED_VALUE\"\"\"),\"en\")","v":"en"}]
[{"$f":"IFERROR(__xludf.DUMMYFUNCTION(\"\"\"COMPUTED_VALUE\"\"\"),\"https://www.iana.org/assignments/media-types/image/vnd.sealed.png\")","v":"https://www.iana.org/assignments/media-types/image/vnd.sealed.png"},{"$f":"IFERROR(__xludf.DUMMYFUNCTION(\"\"\"COMPUTED_VALUE\"\"\"),\"vnd.sealed.png\")","v":"vnd.sealed.png"},{"$f":"IFERROR(__xludf.DUMMYFUNCTION(\"\"\"COMPUTED_VALUE\"\"\"),\"vnd.sealed.png\")","v":"vnd.sealed.png"},{"$f":"IFERROR(__xludf.DUMMYFUNCTION(\"\"\"COMPUTED_VALUE\"\"\"),\"image/vnd.sealed.png\")","v":"image/vnd.sealed.png"},{"$f":"IFERROR(__xludf.DUMMYFUNCTION(\"\"\"COMPUTED_VALUE\"\"\"),\"en\")","v":"en"}]
[{"$f":"IFERROR(__xludf.DUMMYFUNCTION(\"\"\"COMPUTED_VALUE\"\"\"),\"https://www.iana.org/assignments/media-types/image/vnd.sealedmedia.softseal.gif\")","v":"https://www.iana.org/assignments/media-types/image/vnd.sealedmedia.softseal.gif"},{"$f":"IFERROR(__xludf.DUMMYFUNCTION(\"\"\"COMPUTED_VALUE\"\"\"),\"vnd.sealedmedia.softseal.gif\")","v":"vnd.sealedmedia.softseal.gif"},{"$f":"IFERROR(__xludf.DUMMYFUNCTION(\"\"\"COMPUTED_VALUE\"\"\"),\"vnd.sealedmedia.softseal.gif\")","v":"vnd.sealedmedia.softseal.gif"},{"$f":"IFERROR(__xludf.DUMMYFUNCTION(\"\"\"COMPUTED_VALUE\"\"\"),\"image/vnd.sealedmedia.softseal.gif\")","v":"image/vnd.sealedmedia.softseal.gif"},{"$f":"IFERROR(__xludf.DUMMYFUNCTION(\"\"\"COMPUTED_VALUE\"\"\"),\"en\")","v":"en"}]
[{"$f":"IFERROR(__xludf.DUMMYFUNCTION(\"\"\"COMPUTED_VALUE\"\"\"),\"https://www.iana.org/assignments/media-types/image/vnd.sealedmedia.softseal.jpg\")","v":"https://www.iana.org/assignments/media-types/image/vnd.sealedmedia.softseal.jpg"},{"$f":"IFERROR(__xludf.DUMMYFUNCTION(\"\"\"COMPUTED_VALUE\"\"\"),\"vnd.sealedmedia.softseal.jpg\")","v":"vnd.sealedmedia.softseal.jpg"},{"$f":"IFERROR(__xludf.DUMMYFUNCTION(\"\"\"COMPUTED_VALUE\"\"\"),\"vnd.sealedmedia.softseal.jpg\")","v":"vnd.sealedmedia.softseal.jpg"},{"$f":"IFERROR(__xludf.DUMMYFUNCTION(\"\"\"COMPUTED_VALUE\"\"\"),\"image/vnd.sealedmedia.softseal.jpg\")","v":"image/vnd.sealedmedia.softseal.jpg"},{"$f":"IFERROR(__xludf.DUMMYFUNCTION(\"\"\"COMPUTED_VALUE\"\"\"),\"en\")","v":"en"}]
[{"$f":"IFERROR(__xludf.DUMMYFUNCTION(\"\"\"COMPUTED_VALUE\"\"\"),\"https://www.iana.org/assignments/media-types/image/vnd.svf\")","v":"https://www.iana.org/assignments/media-types/image/vnd.svf"},{"$f":"IFERROR(__xludf.DUMMYFUNCTION(\"\"\"COMPUTED_VALUE\"\"\"),\"vnd.svf\")","v":"vnd.svf"},{"$f":"IFERROR(__xludf.DUMMYFUNCTION(\"\"\"COMPUTED_VALUE\"\"\"),\"vnd.svf\")","v":"vnd.svf"},{"$f":"IFERROR(__xludf.DUMMYFUNCTION(\"\"\"COMPUTED_VALUE\"\"\"),\"image/vnd.svf\")","v":"image/vnd.svf"},{"$f":"IFERROR(__xludf.DUMMYFUNCTION(\"\"\"COMPUTED_VALUE\"\"\"),\"en\")","v":"en"}]
[{"$f":"IFERROR(__xludf.DUMMYFUNCTION(\"\"\"COMPUTED_VALUE\"\"\"),\"https://www.iana.org/assignments/media-types/image/vnd.tencent.tap\")","v":"https://www.iana.org/assignments/media-types/image/vnd.tencent.tap"},{"$f":"IFERROR(__xludf.DUMMYFUNCTION(\"\"\"COMPUTED_VALUE\"\"\"),\"vnd.tencent.tap\")","v":"vnd.tencent.tap"},{"$f":"IFERROR(__xludf.DUMMYFUNCTION(\"\"\"COMPUTED_VALUE\"\"\"),\"vnd.tencent.tap\")","v":"vnd.tencent.tap"},{"$f":"IFERROR(__xludf.DUMMYFUNCTION(\"\"\"COMPUTED_VALUE\"\"\"),\"image/vnd.tencent.tap\")","v":"image/vnd.tencent.tap"},{"$f":"IFERROR(__xludf.DUMMYFUNCTION(\"\"\"COMPUTED_VALUE\"\"\"),\"en\")","v":"en"}]
[{"$f":"IFERROR(__xludf.DUMMYFUNCTION(\"\"\"COMPUTED_VALUE\"\"\"),\"https://www.iana.org/assignments/media-types/image/vnd.valve.source.texture\")","v":"https://www.iana.org/assignments/media-types/image/vnd.valve.source.texture"},{"$f":"IFERROR(__xludf.DUMMYFUNCTION(\"\"\"COMPUTED_VALUE\"\"\"),\"vnd.valve.source.texture\")","v":"vnd.valve.source.texture"},{"$f":"IFERROR(__xludf.DUMMYFUNCTION(\"\"\"COMPUTED_VALUE\"\"\"),\"vnd.valve.source.texture\")","v":"vnd.valve.source.texture"},{"$f":"IFERROR(__xludf.DUMMYFUNCTION(\"\"\"COMPUTED_VALUE\"\"\"),\"image/vnd.valve.source.texture\")","v":"image/vnd.valve.source.texture"},{"$f":"IFERROR(__xludf.DUMMYFUNCTION(\"\"\"COMPUTED_VALUE\"\"\"),\"en\")","v":"en"}]
[{"$f":"IFERROR(__xludf.DUMMYFUNCTION(\"\"\"COMPUTED_VALUE\"\"\"),\"https://www.iana.org/assignments/media-types/image/vnd.wap.wbmp\")","v":"https://www.iana.org/assignments/media-types/image/vnd.wap.wbmp"},{"$f":"IFERROR(__xludf.DUMMYFUNCTION(\"\"\"COMPUTED_VALUE\"\"\"),\"vnd.wap.wbmp\")","v":"vnd.wap.wbmp"},{"$f":"IFERROR(__xludf.DUMMYFUNCTION(\"\"\"COMPUTED_VALUE\"\"\"),\"vnd.wap.wbmp\")","v":"vnd.wap.wbmp"},{"$f":"IFERROR(__xludf.DUMMYFUNCTION(\"\"\"COMPUTED_VALUE\"\"\"),\"image/vnd.wap.wbmp\")","v":"image/vnd.wap.wbmp"},{"$f":"IFERROR(__xludf.DUMMYFUNCTION(\"\"\"COMPUTED_VALUE\"\"\"),\"en\")","v":"en"}]
[{"$f":"IFERROR(__xludf.DUMMYFUNCTION(\"\"\"COMPUTED_VALUE\"\"\"),\"https://www.iana.org/assignments/media-types/image/vnd.xiff\")","v":"https://www.iana.org/assignments/media-types/image/vnd.xiff"},{"$f":"IFERROR(__xludf.DUMMYFUNCTION(\"\"\"COMPUTED_VALUE\"\"\"),\"vnd.xiff\")","v":"vnd.xiff"},{"$f":"IFERROR(__xludf.DUMMYFUNCTION(\"\"\"COMPUTED_VALUE\"\"\"),\"vnd.xiff\")","v":"vnd.xiff"},{"$f":"IFERROR(__xludf.DUMMYFUNCTION(\"\"\"COMPUTED_VALUE\"\"\"),\"image/vnd.xiff\")","v":"image/vnd.xiff"},{"$f":"IFERROR(__xludf.DUMMYFUNCTION(\"\"\"COMPUTED_VALUE\"\"\"),\"en\")","v":"en"}]
[{"$f":"IFERROR(__xludf.DUMMYFUNCTION(\"\"\"COMPUTED_VALUE\"\"\"),\"https://www.iana.org/assignments/media-types/image/vnd.zbrush.pcx\")","v":"https://www.iana.org/assignments/media-types/image/vnd.zbrush.pcx"},{"$f":"IFERROR(__xludf.DUMMYFUNCTION(\"\"\"COMPUTED_VALUE\"\"\"),\"vnd.zbrush.pcx\")","v":"vnd.zbrush.pcx"},{"$f":"IFERROR(__xludf.DUMMYFUNCTION(\"\"\"COMPUTED_VALUE\"\"\"),\"vnd.zbrush.pcx\")","v":"vnd.zbrush.pcx"},{"$f":"IFERROR(__xludf.DUMMYFUNCTION(\"\"\"COMPUTED_VALUE\"\"\"),\"image/vnd.zbrush.pcx\")","v":"image/vnd.zbrush.pcx"},{"$f":"IFERROR(__xludf.DUMMYFUNCTION(\"\"\"COMPUTED_VALUE\"\"\"),\"en\")","v":"en"}]
[{"$f":"IFERROR(__xludf.DUMMYFUNCTION(\"\"\"COMPUTED_VALUE\"\"\"),\"https://www.iana.org/assignments/media-types/image/webp\")","v":"https://www.iana.org/assignments/media-types/image/webp"},{"$f":"IFERROR(__xludf.DUMMYFUNCTION(\"\"\"COMPUTED_VALUE\"\"\"),\"webp\")","v":"webp"},{"$f":"IFERROR(__xludf.DUMMYFUNCTION(\"\"\"COMPUTED_VALUE\"\"\"),\"webp\")","v":"webp"},{"$f":"IFERROR(__xludf.DUMMYFUNCTION(\"\"\"COMPUTED_VALUE\"\"\"),\"image/webp\")","v":"image/webp"},{"$f":"IFERROR(__xludf.DUMMYFUNCTION(\"\"\"COMPUTED_VALUE\"\"\"),\"en\")","v":"en"}]
[{"$f":"IFERROR(__xludf.DUMMYFUNCTION(\"\"\"COMPUTED_VALUE\"\"\"),\"https://www.iana.org/assignments/media-types/image/wmf\")","v":"https://www.iana.org/assignments/media-types/image/wmf"},{"$f":"IFERROR(__xludf.DUMMYFUNCTION(\"\"\"COMPUTED_VALUE\"\"\"),\"wmf\")","v":"wmf"},{"$f":"IFERROR(__xludf.DUMMYFUNCTION(\"\"\"COMPUTED_VALUE\"\"\"),\"wmf\")","v":"wmf"},{"$f":"IFERROR(__xludf.DUMMYFUNCTION(\"\"\"COMPUTED_VALUE\"\"\"),\"image/wmf\")","v":"image/wmf"},{"$f":"IFERROR(__xludf.DUMMYFUNCTION(\"\"\"COMPUTED_VALUE\"\"\"),\"en\")","v":"en"}]
[{"$f":"IFERROR(__xludf.DUMMYFUNCTION(\"\"\"COMPUTED_VALUE\"\"\"),\"https://www.iana.org/assignments/media-types/image/emf\")","v":"https://www.iana.org/assignments/media-types/image/emf"},{"$f":"IFERROR(__xludf.DUMMYFUNCTION(\"\"\"COMPUTED_VALUE\"\"\"),\"x-emf - DEPRECATED in favor of image/emf\")","v":"x-emf - DEPRECATED in favor of image/emf"},{"$f":"IFERROR(__xludf.DUMMYFUNCTION(\"\"\"COMPUTED_VALUE\"\"\"),\"x-emf - DEPRECATED in favor of image/emf\")","v":"x-emf - DEPRECATED in favor of image/emf"},{"$f":"IFERROR(__xludf.DUMMYFUNCTION(\"\"\"COMPUTED_VALUE\"\"\"),\"image/emf\")","v":"image/emf"},{"$f":"IFERROR(__xludf.DUMMYFUNCTION(\"\"\"COMPUTED_VALUE\"\"\"),\"en\")","v":"en"}]
[{"$f":"IFERROR(__xludf.DUMMYFUNCTION(\"\"\"COMPUTED_VALUE\"\"\"),\"https://www.iana.org/assignments/media-types/image/wmf\")","v":"https://www.iana.org/assignments/media-types/image/wmf"},{"$f":"IFERROR(__xludf.DUMMYFUNCTION(\"\"\"COMPUTED_VALUE\"\"\"),\"x-wmf - DEPRECATED in favor of image/wmf\")","v":"x-wmf - DEPRECATED in favor of image/wmf"},{"$f":"IFERROR(__xludf.DUMMYFUNCTION(\"\"\"COMPUTED_VALUE\"\"\"),\"x-wmf - DEPRECATED in favor of image/wmf\")","v":"x-wmf - DEPRECATED in favor of image/wmf"},{"$f":"IFERROR(__xludf.DUMMYFUNCTION(\"\"\"COMPUTED_VALUE\"\"\"),\"image/wmf\")","v":"image/wmf"},{"$f":"IFERROR(__xludf.DUMMYFUNCTION(\"\"\"COMPUTED_VALUE\"\"\"),\"en\")","v":"en"}]
[{"$f":"IFERROR(__xludf.DUMMYFUNCTION(\"\"\"COMPUTED_VALUE\"\"\"),\"https://www.iana.org/assignments/media-types/audio/1d-interleaved-parityfec\")","v":"https://www.iana.org/assignments/media-types/audio/1d-interleaved-parityfec"},{"$f":"IFERROR(__xludf.DUMMYFUNCTION(\"\"\"COMPUTED_VALUE\"\"\"),\"1d-interleaved-parityfec\")","v":"1d-interleaved-parityfec"},{"$f":"IFERROR(__xludf.DUMMYFUNCTION(\"\"\"COMPUTED_VALUE\"\"\"),\"1d-interleaved-parityfec\")","v":"1d-interleaved-parityfec"},{"$f":"IFERROR(__xludf.DUMMYFUNCTION(\"\"\"COMPUTED_VALUE\"\"\"),\"audio/1d-interleaved-parityfec\")","v":"audio/1d-interleaved-parityfec"},{"$f":"IFERROR(__xludf.DUMMYFUNCTION(\"\"\"COMPUTED_VALUE\"\"\"),\"en\")","v":"en"}]
[{"$f":"IFERROR(__xludf.DUMMYFUNCTION(\"\"\"COMPUTED_VALUE\"\"\"),\"https://www.iana.org/assignments/media-types/audio/32kadpcm\")","v":"https://www.iana.org/assignments/media-types/audio/32kadpcm"},{"$f":"IFERROR(__xludf.DUMMYFUNCTION(\"\"\"COMPUTED_VALUE\"\"\"),\"32kadpcm\")","v":"32kadpcm"},{"$f":"IFERROR(__xludf.DUMMYFUNCTION(\"\"\"COMPUTED_VALUE\"\"\"),\"32kadpcm\")","v":"32kadpcm"},{"$f":"IFERROR(__xludf.DUMMYFUNCTION(\"\"\"COMPUTED_VALUE\"\"\"),\"audio/32kadpcm\")","v":"audio/32kadpcm"},{"$f":"IFERROR(__xludf.DUMMYFUNCTION(\"\"\"COMPUTED_VALUE\"\"\"),\"en\")","v":"en"}]
[{"$f":"IFERROR(__xludf.DUMMYFUNCTION(\"\"\"COMPUTED_VALUE\"\"\"),\"https://www.iana.org/assignments/media-types/audio/3gpp\")","v":"https://www.iana.org/assignments/media-types/audio/3gpp"},{"$f":"IFERROR(__xludf.DUMMYFUNCTION(\"\"\"COMPUTED_VALUE\"\"\"),\"3gpp\")","v":"3gpp"},{"$f":"IFERROR(__xludf.DUMMYFUNCTION(\"\"\"COMPUTED_VALUE\"\"\"),\"3gpp\")","v":"3gpp"},{"$f":"IFERROR(__xludf.DUMMYFUNCTION(\"\"\"COMPUTED_VALUE\"\"\"),\"audio/3gpp\")","v":"audio/3gpp"},{"$f":"IFERROR(__xludf.DUMMYFUNCTION(\"\"\"COMPUTED_VALUE\"\"\"),\"en\")","v":"en"}]
[{"$f":"IFERROR(__xludf.DUMMYFUNCTION(\"\"\"COMPUTED_VALUE\"\"\"),\"https://www.iana.org/assignments/media-types/audio/3gpp2\")","v":"https://www.iana.org/assignments/media-types/audio/3gpp2"},{"$f":"IFERROR(__xludf.DUMMYFUNCTION(\"\"\"COMPUTED_VALUE\"\"\"),\"3gpp2\")","v":"3gpp2"},{"$f":"IFERROR(__xludf.DUMMYFUNCTION(\"\"\"COMPUTED_VALUE\"\"\"),\"3gpp2\")","v":"3gpp2"},{"$f":"IFERROR(__xludf.DUMMYFUNCTION(\"\"\"COMPUTED_VALUE\"\"\"),\"audio/3gpp2\")","v":"audio/3gpp2"},{"$f":"IFERROR(__xludf.DUMMYFUNCTION(\"\"\"COMPUTED_VALUE\"\"\"),\"en\")","v":"en"}]
[{"$f":"IFERROR(__xludf.DUMMYFUNCTION(\"\"\"COMPUTED_VALUE\"\"\"),\"https://www.iana.org/assignments/media-types/audio/aac\")","v":"https://www.iana.org/assignments/media-types/audio/aac"},{"$f":"IFERROR(__xludf.DUMMYFUNCTION(\"\"\"COMPUTED_VALUE\"\"\"),\"aac\")","v":"aac"},{"$f":"IFERROR(__xludf.DUMMYFUNCTION(\"\"\"COMPUTED_VALUE\"\"\"),\"aac\")","v":"aac"},{"$f":"IFERROR(__xludf.DUMMYFUNCTION(\"\"\"COMPUTED_VALUE\"\"\"),\"audio/aac\")","v":"audio/aac"},{"$f":"IFERROR(__xludf.DUMMYFUNCTION(\"\"\"COMPUTED_VALUE\"\"\"),\"en\")","v":"en"}]
[{"$f":"IFERROR(__xludf.DUMMYFUNCTION(\"\"\"COMPUTED_VALUE\"\"\"),\"https://www.iana.org/assignments/media-types/audio/ac3\")","v":"https://www.iana.org/assignments/media-types/audio/ac3"},{"$f":"IFERROR(__xludf.DUMMYFUNCTION(\"\"\"COMPUTED_VALUE\"\"\"),\"ac3\")","v":"ac3"},{"$f":"IFERROR(__xludf.DUMMYFUNCTION(\"\"\"COMPUTED_VALUE\"\"\"),\"ac3\")","v":"ac3"},{"$f":"IFERROR(__xludf.DUMMYFUNCTION(\"\"\"COMPUTED_VALUE\"\"\"),\"audio/ac3\")","v":"audio/ac3"},{"$f":"IFERROR(__xludf.DUMMYFUNCTION(\"\"\"COMPUTED_VALUE\"\"\"),\"en\")","v":"en"}]
[{"$f":"IFERROR(__xludf.DUMMYFUNCTION(\"\"\"COMPUTED_VALUE\"\"\"),\"https://www.iana.org/assignments/media-types/audio/AMR\")","v":"https://www.iana.org/assignments/media-types/audio/AMR"},{"$f":"IFERROR(__xludf.DUMMYFUNCTION(\"\"\"COMPUTED_VALUE\"\"\"),\"AMR\")","v":"AMR"},{"$f":"IFERROR(__xludf.DUMMYFUNCTION(\"\"\"COMPUTED_VALUE\"\"\"),\"AMR\")","v":"AMR"},{"$f":"IFERROR(__xludf.DUMMYFUNCTION(\"\"\"COMPUTED_VALUE\"\"\"),\"audio/AMR\")","v":"audio/AMR"},{"$f":"IFERROR(__xludf.DUMMYFUNCTION(\"\"\"COMPUTED_VALUE\"\"\"),\"en\")","v":"en"}]
[{"$f":"IFERROR(__xludf.DUMMYFUNCTION(\"\"\"COMPUTED_VALUE\"\"\"),\"https://www.iana.org/assignments/media-types/audio/AMR-WB\")","v":"https://www.iana.org/assignments/media-types/audio/AMR-WB"},{"$f":"IFERROR(__xludf.DUMMYFUNCTION(\"\"\"COMPUTED_VALUE\"\"\"),\"AMR-WB\")","v":"AMR-WB"},{"$f":"IFERROR(__xludf.DUMMYFUNCTION(\"\"\"COMPUTED_VALUE\"\"\"),\"AMR-WB\")","v":"AMR-WB"},{"$f":"IFERROR(__xludf.DUMMYFUNCTION(\"\"\"COMPUTED_VALUE\"\"\"),\"audio/AMR-WB\")","v":"audio/AMR-WB"},{"$f":"IFERROR(__xludf.DUMMYFUNCTION(\"\"\"COMPUTED_VALUE\"\"\"),\"en\")","v":"en"}]
[{"$f":"IFERROR(__xludf.DUMMYFUNCTION(\"\"\"COMPUTED_VALUE\"\"\"),\"https://www.iana.org/assignments/media-types/audio/amr-wb+\")","v":"https://www.iana.org/assignments/media-types/audio/amr-wb+"},{"$f":"IFERROR(__xludf.DUMMYFUNCTION(\"\"\"COMPUTED_VALUE\"\"\"),\"amr-wb+\")","v":"amr-wb+"},{"$f":"IFERROR(__xludf.DUMMYFUNCTION(\"\"\"COMPUTED_VALUE\"\"\"),\"amr-wb+\")","v":"amr-wb+"},{"$f":"IFERROR(__xludf.DUMMYFUNCTION(\"\"\"COMPUTED_VALUE\"\"\"),\"audio/amr-wb+\")","v":"audio/amr-wb+"},{"$f":"IFERROR(__xludf.DUMMYFUNCTION(\"\"\"COMPUTED_VALUE\"\"\"),\"en\")","v":"en"}]
[{"$f":"IFERROR(__xludf.DUMMYFUNCTION(\"\"\"COMPUTED_VALUE\"\"\"),\"https://www.iana.org/assignments/media-types/audio/aptx\")","v":"https://www.iana.org/assignments/media-types/audio/aptx"},{"$f":"IFERROR(__xludf.DUMMYFUNCTION(\"\"\"COMPUTED_VALUE\"\"\"),\"aptx\")","v":"aptx"},{"$f":"IFERROR(__xludf.DUMMYFUNCTION(\"\"\"COMPUTED_VALUE\"\"\"),\"aptx\")","v":"aptx"},{"$f":"IFERROR(__xludf.DUMMYFUNCTION(\"\"\"COMPUTED_VALUE\"\"\"),\"audio/aptx\")","v":"audio/aptx"},{"$f":"IFERROR(__xludf.DUMMYFUNCTION(\"\"\"COMPUTED_VALUE\"\"\"),\"en\")","v":"en"}]
[{"$f":"IFERROR(__xludf.DUMMYFUNCTION(\"\"\"COMPUTED_VALUE\"\"\"),\"https://www.iana.org/assignments/media-types/audio/asc\")","v":"https://www.iana.org/assignments/media-types/audio/asc"},{"$f":"IFERROR(__xludf.DUMMYFUNCTION(\"\"\"COMPUTED_VALUE\"\"\"),\"asc\")","v":"asc"},{"$f":"IFERROR(__xludf.DUMMYFUNCTION(\"\"\"COMPUTED_VALUE\"\"\"),\"asc\")","v":"asc"},{"$f":"IFERROR(__xludf.DUMMYFUNCTION(\"\"\"COMPUTED_VALUE\"\"\"),\"audio/asc\")","v":"audio/asc"},{"$f":"IFERROR(__xludf.DUMMYFUNCTION(\"\"\"COMPUTED_VALUE\"\"\"),\"en\")","v":"en"}]
[{"$f":"IFERROR(__xludf.DUMMYFUNCTION(\"\"\"COMPUTED_VALUE\"\"\"),\"https://www.iana.org/assignments/media-types/audio/ATRAC-ADVANCED-LOSSLESS\")","v":"https://www.iana.org/assignments/media-types/audio/ATRAC-ADVANCED-LOSSLESS"},{"$f":"IFERROR(__xludf.DUMMYFUNCTION(\"\"\"COMPUTED_VALUE\"\"\"),\"ATRAC-ADVANCED-LOSSLESS\")","v":"ATRAC-ADVANCED-LOSSLESS"},{"$f":"IFERROR(__xludf.DUMMYFUNCTION(\"\"\"COMPUTED_VALUE\"\"\"),\"ATRAC-ADVANCED-LOSSLESS\")","v":"ATRAC-ADVANCED-LOSSLESS"},{"$f":"IFERROR(__xludf.DUMMYFUNCTION(\"\"\"COMPUTED_VALUE\"\"\"),\"audio/ATRAC-ADVANCED-LOSSLESS\")","v":"audio/ATRAC-ADVANCED-LOSSLESS"},{"$f":"IFERROR(__xludf.DUMMYFUNCTION(\"\"\"COMPUTED_VALUE\"\"\"),\"en\")","v":"en"}]
[{"$f":"IFERROR(__xludf.DUMMYFUNCTION(\"\"\"COMPUTED_VALUE\"\"\"),\"https://www.iana.org/assignments/media-types/audio/ATRAC-X\")","v":"https://www.iana.org/assignments/media-types/audio/ATRAC-X"},{"$f":"IFERROR(__xludf.DUMMYFUNCTION(\"\"\"COMPUTED_VALUE\"\"\"),\"ATRAC-X\")","v":"ATRAC-X"},{"$f":"IFERROR(__xludf.DUMMYFUNCTION(\"\"\"COMPUTED_VALUE\"\"\"),\"ATRAC-X\")","v":"ATRAC-X"},{"$f":"IFERROR(__xludf.DUMMYFUNCTION(\"\"\"COMPUTED_VALUE\"\"\"),\"audio/ATRAC-X\")","v":"audio/ATRAC-X"},{"$f":"IFERROR(__xludf.DUMMYFUNCTION(\"\"\"COMPUTED_VALUE\"\"\"),\"en\")","v":"en"}]
[{"$f":"IFERROR(__xludf.DUMMYFUNCTION(\"\"\"COMPUTED_VALUE\"\"\"),\"https://www.iana.org/assignments/media-types/audio/ATRAC3\")","v":"https://www.iana.org/assignments/media-types/audio/ATRAC3"},{"$f":"IFERROR(__xludf.DUMMYFUNCTION(\"\"\"COMPUTED_VALUE\"\"\"),\"ATRAC3\")","v":"ATRAC3"},{"$f":"IFERROR(__xludf.DUMMYFUNCTION(\"\"\"COMPUTED_VALUE\"\"\"),\"ATRAC3\")","v":"ATRAC3"},{"$f":"IFERROR(__xludf.DUMMYFUNCTION(\"\"\"COMPUTED_VALUE\"\"\"),\"audio/ATRAC3\")","v":"audio/ATRAC3"},{"$f":"IFERROR(__xludf.DUMMYFUNCTION(\"\"\"COMPUTED_VALUE\"\"\"),\"en\")","v":"en"}]
[{"$f":"IFERROR(__xludf.DUMMYFUNCTION(\"\"\"COMPUTED_VALUE\"\"\"),\"https://www.iana.org/assignments/media-types/audio/basic\")","v":"https://www.iana.org/assignments/media-types/audio/basic"},{"$f":"IFERROR(__xludf.DUMMYFUNCTION(\"\"\"COMPUTED_VALUE\"\"\"),\"basic\")","v":"basic"},{"$f":"IFERROR(__xludf.DUMMYFUNCTION(\"\"\"COMPUTED_VALUE\"\"\"),\"basic\")","v":"basic"},{"$f":"IFERROR(__xludf.DUMMYFUNCTION(\"\"\"COMPUTED_VALUE\"\"\"),\"audio/basic\")","v":"audio/basic"},{"$f":"IFERROR(__xludf.DUMMYFUNCTION(\"\"\"COMPUTED_VALUE\"\"\"),\"en\")","v":"en"}]
[{"$f":"IFERROR(__xludf.DUMMYFUNCTION(\"\"\"COMPUTED_VALUE\"\"\"),\"https://www.iana.org/assignments/media-types/audio/BV16\")","v":"https://www.iana.org/assignments/media-types/audio/BV16"},{"$f":"IFERROR(__xludf.DUMMYFUNCTION(\"\"\"COMPUTED_VALUE\"\"\"),\"BV16\")","v":"BV16"},{"$f":"IFERROR(__xludf.DUMMYFUNCTION(\"\"\"COMPUTED_VALUE\"\"\"),\"BV16\")","v":"BV16"},{"$f":"IFERROR(__xludf.DUMMYFUNCTION(\"\"\"COMPUTED_VALUE\"\"\"),\"audio/BV16\")","v":"audio/BV16"},{"$f":"IFERROR(__xludf.DUMMYFUNCTION(\"\"\"COMPUTED_VALUE\"\"\"),\"en\")","v":"en"}]
[{"$f":"IFERROR(__xludf.DUMMYFUNCTION(\"\"\"COMPUTED_VALUE\"\"\"),\"https://www.iana.org/assignments/media-types/audio/BV32\")","v":"https://www.iana.org/assignments/media-types/audio/BV32"},{"$f":"IFERROR(__xludf.DUMMYFUNCTION(\"\"\"COMPUTED_VALUE\"\"\"),\"BV32\")","v":"BV32"},{"$f":"IFERROR(__xludf.DUMMYFUNCTION(\"\"\"COMPUTED_VALUE\"\"\"),\"BV32\")","v":"BV32"},{"$f":"IFERROR(__xludf.DUMMYFUNCTION(\"\"\"COMPUTED_VALUE\"\"\"),\"audio/BV32\")","v":"audio/BV32"},{"$f":"IFERROR(__xludf.DUMMYFUNCTION(\"\"\"COMPUTED_VALUE\"\"\"),\"en\")","v":"en"}]
[{"$f":"IFERROR(__xludf.DUMMYFUNCTION(\"\"\"COMPUTED_VALUE\"\"\"),\"https://www.iana.org/assignments/media-types/audio/clearmode\")","v":"https://www.iana.org/assignments/media-types/audio/clearmode"},{"$f":"IFERROR(__xludf.DUMMYFUNCTION(\"\"\"COMPUTED_VALUE\"\"\"),\"clearmode\")","v":"clearmode"},{"$f":"IFERROR(__xludf.DUMMYFUNCTION(\"\"\"COMPUTED_VALUE\"\"\"),\"clearmode\")","v":"clearmode"},{"$f":"IFERROR(__xludf.DUMMYFUNCTION(\"\"\"COMPUTED_VALUE\"\"\"),\"audio/clearmode\")","v":"audio/clearmode"},{"$f":"IFERROR(__xludf.DUMMYFUNCTION(\"\"\"COMPUTED_VALUE\"\"\"),\"en\")","v":"en"}]
[{"$f":"IFERROR(__xludf.DUMMYFUNCTION(\"\"\"COMPUTED_VALUE\"\"\"),\"https://www.iana.org/assignments/media-types/audio/CN\")","v":"https://www.iana.org/assignments/media-types/audio/CN"},{"$f":"IFERROR(__xludf.DUMMYFUNCTION(\"\"\"COMPUTED_VALUE\"\"\"),\"CN\")","v":"CN"},{"$f":"IFERROR(__xludf.DUMMYFUNCTION(\"\"\"COMPUTED_VALUE\"\"\"),\"CN\")","v":"CN"},{"$f":"IFERROR(__xludf.DUMMYFUNCTION(\"\"\"COMPUTED_VALUE\"\"\"),\"audio/CN\")","v":"audio/CN"},{"$f":"IFERROR(__xludf.DUMMYFUNCTION(\"\"\"COMPUTED_VALUE\"\"\"),\"en\")","v":"en"}]
[{"$f":"IFERROR(__xludf.DUMMYFUNCTION(\"\"\"COMPUTED_VALUE\"\"\"),\"https://www.iana.org/assignments/media-types/audio/DAT12\")","v":"https://www.iana.org/assignments/media-types/audio/DAT12"},{"$f":"IFERROR(__xludf.DUMMYFUNCTION(\"\"\"COMPUTED_VALUE\"\"\"),\"DAT12\")","v":"DAT12"},{"$f":"IFERROR(__xludf.DUMMYFUNCTION(\"\"\"COMPUTED_VALUE\"\"\"),\"DAT12\")","v":"DAT12"},{"$f":"IFERROR(__xludf.DUMMYFUNCTION(\"\"\"COMPUTED_VALUE\"\"\"),\"audio/DAT12\")","v":"audio/DAT12"},{"$f":"IFERROR(__xludf.DUMMYFUNCTION(\"\"\"COMPUTED_VALUE\"\"\"),\"en\")","v":"en"}]
[{"$f":"IFERROR(__xludf.DUMMYFUNCTION(\"\"\"COMPUTED_VALUE\"\"\"),\"https://www.iana.org/assignments/media-types/audio/dls\")","v":"https://www.iana.org/assignments/media-types/audio/dls"},{"$f":"IFERROR(__xludf.DUMMYFUNCTION(\"\"\"COMPUTED_VALUE\"\"\"),\"dls\")","v":"dls"},{"$f":"IFERROR(__xludf.DUMMYFUNCTION(\"\"\"COMPUTED_VALUE\"\"\"),\"dls\")","v":"dls"},{"$f":"IFERROR(__xludf.DUMMYFUNCTION(\"\"\"COMPUTED_VALUE\"\"\"),\"audio/dls\")","v":"audio/dls"},{"$f":"IFERROR(__xludf.DUMMYFUNCTION(\"\"\"COMPUTED_VALUE\"\"\"),\"en\")","v":"en"}]
[{"$f":"IFERROR(__xludf.DUMMYFUNCTION(\"\"\"COMPUTED_VALUE\"\"\"),\"https://www.iana.org/assignments/media-types/audio/dsr-es201108\")","v":"https://www.iana.org/assignments/media-types/audio/dsr-es201108"},{"$f":"IFERROR(__xludf.DUMMYFUNCTION(\"\"\"COMPUTED_VALUE\"\"\"),\"dsr-es201108\")","v":"dsr-es201108"},{"$f":"IFERROR(__xludf.DUMMYFUNCTION(\"\"\"COMPUTED_VALUE\"\"\"),\"dsr-es201108\")","v":"dsr-es201108"},{"$f":"IFERROR(__xludf.DUMMYFUNCTION(\"\"\"COMPUTED_VALUE\"\"\"),\"audio/dsr-es201108\")","v":"audio/dsr-es201108"},{"$f":"IFERROR(__xludf.DUMMYFUNCTION(\"\"\"COMPUTED_VALUE\"\"\"),\"en\")","v":"en"}]
[{"$f":"IFERROR(__xludf.DUMMYFUNCTION(\"\"\"COMPUTED_VALUE\"\"\"),\"https://www.iana.org/assignments/media-types/audio/dsr-es202050\")","v":"https://www.iana.org/assignments/media-types/audio/dsr-es202050"},{"$f":"IFERROR(__xludf.DUMMYFUNCTION(\"\"\"COMPUTED_VALUE\"\"\"),\"dsr-es202050\")","v":"dsr-es202050"},{"$f":"IFERROR(__xludf.DUMMYFUNCTION(\"\"\"COMPUTED_VALUE\"\"\"),\"dsr-es202050\")","v":"dsr-es202050"},{"$f":"IFERROR(__xludf.DUMMYFUNCTION(\"\"\"COMPUTED_VALUE\"\"\"),\"audio/dsr-es202050\")","v":"audio/dsr-es202050"},{"$f":"IFERROR(__xludf.DUMMYFUNCTION(\"\"\"COMPUTED_VALUE\"\"\"),\"en\")","v":"en"}]
[{"$f":"IFERROR(__xludf.DUMMYFUNCTION(\"\"\"COMPUTED_VALUE\"\"\"),\"https://www.iana.org/assignments/media-types/audio/dsr-es202211\")","v":"https://www.iana.org/assignments/media-types/audio/dsr-es202211"},{"$f":"IFERROR(__xludf.DUMMYFUNCTION(\"\"\"COMPUTED_VALUE\"\"\"),\"dsr-es202211\")","v":"dsr-es202211"},{"$f":"IFERROR(__xludf.DUMMYFUNCTION(\"\"\"COMPUTED_VALUE\"\"\"),\"dsr-es202211\")","v":"dsr-es202211"},{"$f":"IFERROR(__xludf.DUMMYFUNCTION(\"\"\"COMPUTED_VALUE\"\"\"),\"audio/dsr-es202211\")","v":"audio/dsr-es202211"},{"$f":"IFERROR(__xludf.DUMMYFUNCTION(\"\"\"COMPUTED_VALUE\"\"\"),\"en\")","v":"en"}]
[{"$f":"IFERROR(__xludf.DUMMYFUNCTION(\"\"\"COMPUTED_VALUE\"\"\"),\"https://www.iana.org/assignments/media-types/audio/dsr-es202212\")","v":"https://www.iana.org/assignments/media-types/audio/dsr-es202212"},{"$f":"IFERROR(__xludf.DUMMYFUNCTION(\"\"\"COMPUTED_VALUE\"\"\"),\"dsr-es202212\")","v":"dsr-es202212"},{"$f":"IFERROR(__xludf.DUMMYFUNCTION(\"\"\"COMPUTED_VALUE\"\"\"),\"dsr-es202212\")","v":"dsr-es202212"},{"$f":"IFERROR(__xludf.DUMMYFUNCTION(\"\"\"COMPUTED_VALUE\"\"\"),\"audio/dsr-es202212\")","v":"audio/dsr-es202212"},{"$f":"IFERROR(__xludf.DUMMYFUNCTION(\"\"\"COMPUTED_VALUE\"\"\"),\"en\")","v":"en"}]
[{"$f":"IFERROR(__xludf.DUMMYFUNCTION(\"\"\"COMPUTED_VALUE\"\"\"),\"https://www.iana.org/assignments/media-types/audio/DV\")","v":"https://www.iana.org/assignments/media-types/audio/DV"},{"$f":"IFERROR(__xludf.DUMMYFUNCTION(\"\"\"COMPUTED_VALUE\"\"\"),\"DV\")","v":"DV"},{"$f":"IFERROR(__xludf.DUMMYFUNCTION(\"\"\"COMPUTED_VALUE\"\"\"),\"DV\")","v":"DV"},{"$f":"IFERROR(__xludf.DUMMYFUNCTION(\"\"\"COMPUTED_VALUE\"\"\"),\"audio/DV\")","v":"audio/DV"},{"$f":"IFERROR(__xludf.DUMMYFUNCTION(\"\"\"COMPUTED_VALUE\"\"\"),\"en\")","v":"en"}]
[{"$f":"IFERROR(__xludf.DUMMYFUNCTION(\"\"\"COMPUTED_VALUE\"\"\"),\"https://www.iana.org/assignments/media-types/audio/DVI4\")","v":"https://www.iana.org/assignments/media-types/audio/DVI4"},{"$f":"IFERROR(__xludf.DUMMYFUNCTION(\"\"\"COMPUTED_VALUE\"\"\"),\"DVI4\")","v":"DVI4"},{"$f":"IFERROR(__xludf.DUMMYFUNCTION(\"\"\"COMPUTED_VALUE\"\"\"),\"DVI4\")","v":"DVI4"},{"$f":"IFERROR(__xludf.DUMMYFUNCTION(\"\"\"COMPUTED_VALUE\"\"\"),\"audio/DVI4\")","v":"audio/DVI4"},{"$f":"IFERROR(__xludf.DUMMYFUNCTION(\"\"\"COMPUTED_VALUE\"\"\"),\"en\")","v":"en"}]
[{"$f":"IFERROR(__xludf.DUMMYFUNCTION(\"\"\"COMPUTED_VALUE\"\"\"),\"https://www.iana.org/assignments/media-types/audio/eac3\")","v":"https://www.iana.org/assignments/media-types/audio/eac3"},{"$f":"IFERROR(__xludf.DUMMYFUNCTION(\"\"\"COMPUTED_VALUE\"\"\"),\"eac3\")","v":"eac3"},{"$f":"IFERROR(__xludf.DUMMYFUNCTION(\"\"\"COMPUTED_VALUE\"\"\"),\"eac3\")","v":"eac3"},{"$f":"IFERROR(__xludf.DUMMYFUNCTION(\"\"\"COMPUTED_VALUE\"\"\"),\"audio/eac3\")","v":"audio/eac3"},{"$f":"IFERROR(__xludf.DUMMYFUNCTION(\"\"\"COMPUTED_VALUE\"\"\"),\"en\")","v":"en"}]
[{"$f":"IFERROR(__xludf.DUMMYFUNCTION(\"\"\"COMPUTED_VALUE\"\"\"),\"https://www.iana.org/assignments/media-types/audio/encaprtp\")","v":"https://www.iana.org/assignments/media-types/audio/encaprtp"},{"$f":"IFERROR(__xludf.DUMMYFUNCTION(\"\"\"COMPUTED_VALUE\"\"\"),\"encaprtp\")","v":"encaprtp"},{"$f":"IFERROR(__xludf.DUMMYFUNCTION(\"\"\"COMPUTED_VALUE\"\"\"),\"encaprtp\")","v":"encaprtp"},{"$f":"IFERROR(__xludf.DUMMYFUNCTION(\"\"\"COMPUTED_VALUE\"\"\"),\"audio/encaprtp\")","v":"audio/encaprtp"},{"$f":"IFERROR(__xludf.DUMMYFUNCTION(\"\"\"COMPUTED_VALUE\"\"\"),\"en\")","v":"en"}]
[{"$f":"IFERROR(__xludf.DUMMYFUNCTION(\"\"\"COMPUTED_VALUE\"\"\"),\"https://www.iana.org/assignments/media-types/audio/EVRC\")","v":"https://www.iana.org/assignments/media-types/audio/EVRC"},{"$f":"IFERROR(__xludf.DUMMYFUNCTION(\"\"\"COMPUTED_VALUE\"\"\"),\"EVRC\")","v":"EVRC"},{"$f":"IFERROR(__xludf.DUMMYFUNCTION(\"\"\"COMPUTED_VALUE\"\"\"),\"EVRC\")","v":"EVRC"},{"$f":"IFERROR(__xludf.DUMMYFUNCTION(\"\"\"COMPUTED_VALUE\"\"\"),\"audio/EVRC\")","v":"audio/EVRC"},{"$f":"IFERROR(__xludf.DUMMYFUNCTION(\"\"\"COMPUTED_VALUE\"\"\"),\"en\")","v":"en"}]
[{"$f":"IFERROR(__xludf.DUMMYFUNCTION(\"\"\"COMPUTED_VALUE\"\"\"),\"https://www.iana.org/assignments/media-types/audio/EVRC-QCP\")","v":"https://www.iana.org/assignments/media-types/audio/EVRC-QCP"},{"$f":"IFERROR(__xludf.DUMMYFUNCTION(\"\"\"COMPUTED_VALUE\"\"\"),\"EVRC-QCP\")","v":"EVRC-QCP"},{"$f":"IFERROR(__xludf.DUMMYFUNCTION(\"\"\"COMPUTED_VALUE\"\"\"),\"EVRC-QCP\")","v":"EVRC-QCP"},{"$f":"IFERROR(__xludf.DUMMYFUNCTION(\"\"\"COMPUTED_VALUE\"\"\"),\"audio/EVRC-QCP\")","v":"audio/EVRC-QCP"},{"$f":"IFERROR(__xludf.DUMMYFUNCTION(\"\"\"COMPUTED_VALUE\"\"\"),\"en\")","v":"en"}]
[{"$f":"IFERROR(__xludf.DUMMYFUNCTION(\"\"\"COMPUTED_VALUE\"\"\"),\"https://www.iana.org/assignments/media-types/audio/EVRC0\")","v":"https://www.iana.org/assignments/media-types/audio/EVRC0"},{"$f":"IFERROR(__xludf.DUMMYFUNCTION(\"\"\"COMPUTED_VALUE\"\"\"),\"EVRC0\")","v":"EVRC0"},{"$f":"IFERROR(__xludf.DUMMYFUNCTION(\"\"\"COMPUTED_VALUE\"\"\"),\"EVRC0\")","v":"EVRC0"},{"$f":"IFERROR(__xludf.DUMMYFUNCTION(\"\"\"COMPUTED_VALUE\"\"\"),\"audio/EVRC0\")","v":"audio/EVRC0"},{"$f":"IFERROR(__xludf.DUMMYFUNCTION(\"\"\"COMPUTED_VALUE\"\"\"),\"en\")","v":"en"}]
[{"$f":"IFERROR(__xludf.DUMMYFUNCTION(\"\"\"COMPUTED_VALUE\"\"\"),\"https://www.iana.org/assignments/media-types/audio/EVRC1\")","v":"https://www.iana.org/assignments/media-types/audio/EVRC1"},{"$f":"IFERROR(__xludf.DUMMYFUNCTION(\"\"\"COMPUTED_VALUE\"\"\"),\"EVRC1\")","v":"EVRC1"},{"$f":"IFERROR(__xludf.DUMMYFUNCTION(\"\"\"COMPUTED_VALUE\"\"\"),\"EVRC1\")","v":"EVRC1"},{"$f":"IFERROR(__xludf.DUMMYFUNCTION(\"\"\"COMPUTED_VALUE\"\"\"),\"audio/EVRC1\")","v":"audio/EVRC1"},{"$f":"IFERROR(__xludf.DUMMYFUNCTION(\"\"\"COMPUTED_VALUE\"\"\"),\"en\")","v":"en"}]
[{"$f":"IFERROR(__xludf.DUMMYFUNCTION(\"\"\"COMPUTED_VALUE\"\"\"),\"https://www.iana.org/assignments/media-types/audio/EVRCB\")","v":"https://www.iana.org/assignments/media-types/audio/EVRCB"},{"$f":"IFERROR(__xludf.DUMMYFUNCTION(\"\"\"COMPUTED_VALUE\"\"\"),\"EVRCB\")","v":"EVRCB"},{"$f":"IFERROR(__xludf.DUMMYFUNCTION(\"\"\"COMPUTED_VALUE\"\"\"),\"EVRCB\")","v":"EVRCB"},{"$f":"IFERROR(__xludf.DUMMYFUNCTION(\"\"\"COMPUTED_VALUE\"\"\"),\"audio/EVRCB\")","v":"audio/EVRCB"},{"$f":"IFERROR(__xludf.DUMMYFUNCTION(\"\"\"COMPUTED_VALUE\"\"\"),\"en\")","v":"en"}]
[{"$f":"IFERROR(__xludf.DUMMYFUNCTION(\"\"\"COMPUTED_VALUE\"\"\"),\"https://www.iana.org/assignments/media-types/audio/EVRCB0\")","v":"https://www.iana.org/assignments/media-types/audio/EVRCB0"},{"$f":"IFERROR(__xludf.DUMMYFUNCTION(\"\"\"COMPUTED_VALUE\"\"\"),\"EVRCB0\")","v":"EVRCB0"},{"$f":"IFERROR(__xludf.DUMMYFUNCTION(\"\"\"COMPUTED_VALUE\"\"\"),\"EVRCB0\")","v":"EVRCB0"},{"$f":"IFERROR(__xludf.DUMMYFUNCTION(\"\"\"COMPUTED_VALUE\"\"\"),\"audio/EVRCB0\")","v":"audio/EVRCB0"},{"$f":"IFERROR(__xludf.DUMMYFUNCTION(\"\"\"COMPUTED_VALUE\"\"\"),\"en\")","v":"en"}]
[{"$f":"IFERROR(__xludf.DUMMYFUNCTION(\"\"\"COMPUTED_VALUE\"\"\"),\"https://www.iana.org/assignments/media-types/audio/EVRCB1\")","v":"https://www.iana.org/assignments/media-types/audio/EVRCB1"},{"$f":"IFERROR(__xludf.DUMMYFUNCTION(\"\"\"COMPUTED_VALUE\"\"\"),\"EVRCB1\")","v":"EVRCB1"},{"$f":"IFERROR(__xludf.DUMMYFUNCTION(\"\"\"COMPUTED_VALUE\"\"\"),\"EVRCB1\")","v":"EVRCB1"},{"$f":"IFERROR(__xludf.DUMMYFUNCTION(\"\"\"COMPUTED_VALUE\"\"\"),\"audio/EVRCB1\")","v":"audio/EVRCB1"},{"$f":"IFERROR(__xludf.DUMMYFUNCTION(\"\"\"COMPUTED_VALUE\"\"\"),\"en\")","v":"en"}]
[{"$f":"IFERROR(__xludf.DUMMYFUNCTION(\"\"\"COMPUTED_VALUE\"\"\"),\"https://www.iana.org/assignments/media-types/audio/EVRCNW\")","v":"https://www.iana.org/assignments/media-types/audio/EVRCNW"},{"$f":"IFERROR(__xludf.DUMMYFUNCTION(\"\"\"COMPUTED_VALUE\"\"\"),\"EVRCNW\")","v":"EVRCNW"},{"$f":"IFERROR(__xludf.DUMMYFUNCTION(\"\"\"COMPUTED_VALUE\"\"\"),\"EVRCNW\")","v":"EVRCNW"},{"$f":"IFERROR(__xludf.DUMMYFUNCTION(\"\"\"COMPUTED_VALUE\"\"\"),\"audio/EVRCNW\")","v":"audio/EVRCNW"},{"$f":"IFERROR(__xludf.DUMMYFUNCTION(\"\"\"COMPUTED_VALUE\"\"\"),\"en\")","v":"en"}]
[{"$f":"IFERROR(__xludf.DUMMYFUNCTION(\"\"\"COMPUTED_VALUE\"\"\"),\"https://www.iana.org/assignments/media-types/audio/EVRCNW0\")","v":"https://www.iana.org/assignments/media-types/audio/EVRCNW0"},{"$f":"IFERROR(__xludf.DUMMYFUNCTION(\"\"\"COMPUTED_VALUE\"\"\"),\"EVRCNW0\")","v":"EVRCNW0"},{"$f":"IFERROR(__xludf.DUMMYFUNCTION(\"\"\"COMPUTED_VALUE\"\"\"),\"EVRCNW0\")","v":"EVRCNW0"},{"$f":"IFERROR(__xludf.DUMMYFUNCTION(\"\"\"COMPUTED_VALUE\"\"\"),\"audio/EVRCNW0\")","v":"audio/EVRCNW0"},{"$f":"IFERROR(__xludf.DUMMYFUNCTION(\"\"\"COMPUTED_VALUE\"\"\"),\"en\")","v":"en"}]
[{"$f":"IFERROR(__xludf.DUMMYFUNCTION(\"\"\"COMPUTED_VALUE\"\"\"),\"https://www.iana.org/assignments/media-types/audio/EVRCNW1\")","v":"https://www.iana.org/assignments/media-types/audio/EVRCNW1"},{"$f":"IFERROR(__xludf.DUMMYFUNCTION(\"\"\"COMPUTED_VALUE\"\"\"),\"EVRCNW1\")","v":"EVRCNW1"},{"$f":"IFERROR(__xludf.DUMMYFUNCTION(\"\"\"COMPUTED_VALUE\"\"\"),\"EVRCNW1\")","v":"EVRCNW1"},{"$f":"IFERROR(__xludf.DUMMYFUNCTION(\"\"\"COMPUTED_VALUE\"\"\"),\"audio/EVRCNW1\")","v":"audio/EVRCNW1"},{"$f":"IFERROR(__xludf.DUMMYFUNCTION(\"\"\"COMPUTED_VALUE\"\"\"),\"en\")","v":"en"}]
[{"$f":"IFERROR(__xludf.DUMMYFUNCTION(\"\"\"COMPUTED_VALUE\"\"\"),\"https://www.iana.org/assignments/media-types/audio/EVRCWB\")","v":"https://www.iana.org/assignments/media-types/audio/EVRCWB"},{"$f":"IFERROR(__xludf.DUMMYFUNCTION(\"\"\"COMPUTED_VALUE\"\"\"),\"EVRCWB\")","v":"EVRCWB"},{"$f":"IFERROR(__xludf.DUMMYFUNCTION(\"\"\"COMPUTED_VALUE\"\"\"),\"EVRCWB\")","v":"EVRCWB"},{"$f":"IFERROR(__xludf.DUMMYFUNCTION(\"\"\"COMPUTED_VALUE\"\"\"),\"audio/EVRCWB\")","v":"audio/EVRCWB"},{"$f":"IFERROR(__xludf.DUMMYFUNCTION(\"\"\"COMPUTED_VALUE\"\"\"),\"en\")","v":"en"}]
[{"$f":"IFERROR(__xludf.DUMMYFUNCTION(\"\"\"COMPUTED_VALUE\"\"\"),\"https://www.iana.org/assignments/media-types/audio/EVRCWB0\")","v":"https://www.iana.org/assignments/media-types/audio/EVRCWB0"},{"$f":"IFERROR(__xludf.DUMMYFUNCTION(\"\"\"COMPUTED_VALUE\"\"\"),\"EVRCWB0\")","v":"EVRCWB0"},{"$f":"IFERROR(__xludf.DUMMYFUNCTION(\"\"\"COMPUTED_VALUE\"\"\"),\"EVRCWB0\")","v":"EVRCWB0"},{"$f":"IFERROR(__xludf.DUMMYFUNCTION(\"\"\"COMPUTED_VALUE\"\"\"),\"audio/EVRCWB0\")","v":"audio/EVRCWB0"},{"$f":"IFERROR(__xludf.DUMMYFUNCTION(\"\"\"COMPUTED_VALUE\"\"\"),\"en\")","v":"en"}]
[{"$f":"IFERROR(__xludf.DUMMYFUNCTION(\"\"\"COMPUTED_VALUE\"\"\"),\"https://www.iana.org/assignments/media-types/audio/EVRCWB1\")","v":"https://www.iana.org/assignments/media-types/audio/EVRCWB1"},{"$f":"IFERROR(__xludf.DUMMYFUNCTION(\"\"\"COMPUTED_VALUE\"\"\"),\"EVRCWB1\")","v":"EVRCWB1"},{"$f":"IFERROR(__xludf.DUMMYFUNCTION(\"\"\"COMPUTED_VALUE\"\"\"),\"EVRCWB1\")","v":"EVRCWB1"},{"$f":"IFERROR(__xludf.DUMMYFUNCTION(\"\"\"COMPUTED_VALUE\"\"\"),\"audio/EVRCWB1\")","v":"audio/EVRCWB1"},{"$f":"IFERROR(__xludf.DUMMYFUNCTION(\"\"\"COMPUTED_VALUE\"\"\"),\"en\")","v":"en"}]
[{"$f":"IFERROR(__xludf.DUMMYFUNCTION(\"\"\"COMPUTED_VALUE\"\"\"),\"https://www.iana.org/assignments/media-types/audio/EVS\")","v":"https://www.iana.org/assignments/media-types/audio/EVS"},{"$f":"IFERROR(__xludf.DUMMYFUNCTION(\"\"\"COMPUTED_VALUE\"\"\"),\"EVS\")","v":"EVS"},{"$f":"IFERROR(__xludf.DUMMYFUNCTION(\"\"\"COMPUTED_VALUE\"\"\"),\"EVS\")","v":"EVS"},{"$f":"IFERROR(__xludf.DUMMYFUNCTION(\"\"\"COMPUTED_VALUE\"\"\"),\"audio/EVS\")","v":"audio/EVS"},{"$f":"IFERROR(__xludf.DUMMYFUNCTION(\"\"\"COMPUTED_VALUE\"\"\"),\"en\")","v":"en"}]
[{"$f":"IFERROR(__xludf.DUMMYFUNCTION(\"\"\"COMPUTED_VALUE\"\"\"),\"https://www.iana.org/assignments/media-types/audio/example\")","v":"https://www.iana.org/assignments/media-types/audio/example"},{"$f":"IFERROR(__xludf.DUMMYFUNCTION(\"\"\"COMPUTED_VALUE\"\"\"),\"example\")","v":"example"},{"$f":"IFERROR(__xludf.DUMMYFUNCTION(\"\"\"COMPUTED_VALUE\"\"\"),\"example\")","v":"example"},{"$f":"IFERROR(__xludf.DUMMYFUNCTION(\"\"\"COMPUTED_VALUE\"\"\"),\"audio/example\")","v":"audio/example"},{"$f":"IFERROR(__xludf.DUMMYFUNCTION(\"\"\"COMPUTED_VALUE\"\"\"),\"en\")","v":"en"}]
[{"$f":"IFERROR(__xludf.DUMMYFUNCTION(\"\"\"COMPUTED_VALUE\"\"\"),\"https://www.iana.org/assignments/media-types/audio/flexfec\")","v":"https://www.iana.org/assignments/media-types/audio/flexfec"},{"$f":"IFERROR(__xludf.DUMMYFUNCTION(\"\"\"COMPUTED_VALUE\"\"\"),\"flexfec\")","v":"flexfec"},{"$f":"IFERROR(__xludf.DUMMYFUNCTION(\"\"\"COMPUTED_VALUE\"\"\"),\"flexfec\")","v":"flexfec"},{"$f":"IFERROR(__xludf.DUMMYFUNCTION(\"\"\"COMPUTED_VALUE\"\"\"),\"audio/flexfec\")","v":"audio/flexfec"},{"$f":"IFERROR(__xludf.DUMMYFUNCTION(\"\"\"COMPUTED_VALUE\"\"\"),\"en\")","v":"en"}]
[{"$f":"IFERROR(__xludf.DUMMYFUNCTION(\"\"\"COMPUTED_VALUE\"\"\"),\"https://www.iana.org/assignments/media-types/audio/fwdred\")","v":"https://www.iana.org/assignments/media-types/audio/fwdred"},{"$f":"IFERROR(__xludf.DUMMYFUNCTION(\"\"\"COMPUTED_VALUE\"\"\"),\"fwdred\")","v":"fwdred"},{"$f":"IFERROR(__xludf.DUMMYFUNCTION(\"\"\"COMPUTED_VALUE\"\"\"),\"fwdred\")","v":"fwdred"},{"$f":"IFERROR(__xludf.DUMMYFUNCTION(\"\"\"COMPUTED_VALUE\"\"\"),\"audio/fwdred\")","v":"audio/fwdred"},{"$f":"IFERROR(__xludf.DUMMYFUNCTION(\"\"\"COMPUTED_VALUE\"\"\"),\"en\")","v":"en"}]
[{"$f":"IFERROR(__xludf.DUMMYFUNCTION(\"\"\"COMPUTED_VALUE\"\"\"),\"https://www.iana.org/assignments/media-types/audio/G711-0\")","v":"https://www.iana.org/assignments/media-types/audio/G711-0"},{"$f":"IFERROR(__xludf.DUMMYFUNCTION(\"\"\"COMPUTED_VALUE\"\"\"),\"G711-0\")","v":"G711-0"},{"$f":"IFERROR(__xludf.DUMMYFUNCTION(\"\"\"COMPUTED_VALUE\"\"\"),\"G711-0\")","v":"G711-0"},{"$f":"IFERROR(__xludf.DUMMYFUNCTION(\"\"\"COMPUTED_VALUE\"\"\"),\"audio/G711-0\")","v":"audio/G711-0"},{"$f":"IFERROR(__xludf.DUMMYFUNCTION(\"\"\"COMPUTED_VALUE\"\"\"),\"en\")","v":"en"}]
[{"$f":"IFERROR(__xludf.DUMMYFUNCTION(\"\"\"COMPUTED_VALUE\"\"\"),\"https://www.iana.org/assignments/media-types/audio/G719\")","v":"https://www.iana.org/assignments/media-types/audio/G719"},{"$f":"IFERROR(__xludf.DUMMYFUNCTION(\"\"\"COMPUTED_VALUE\"\"\"),\"G719\")","v":"G719"},{"$f":"IFERROR(__xludf.DUMMYFUNCTION(\"\"\"COMPUTED_VALUE\"\"\"),\"G719\")","v":"G719"},{"$f":"IFERROR(__xludf.DUMMYFUNCTION(\"\"\"COMPUTED_VALUE\"\"\"),\"audio/G719\")","v":"audio/G719"},{"$f":"IFERROR(__xludf.DUMMYFUNCTION(\"\"\"COMPUTED_VALUE\"\"\"),\"en\")","v":"en"}]
[{"$f":"IFERROR(__xludf.DUMMYFUNCTION(\"\"\"COMPUTED_VALUE\"\"\"),\"https://www.iana.org/assignments/media-types/audio/G7221\")","v":"https://www.iana.org/assignments/media-types/audio/G7221"},{"$f":"IFERROR(__xludf.DUMMYFUNCTION(\"\"\"COMPUTED_VALUE\"\"\"),\"G7221\")","v":"G7221"},{"$f":"IFERROR(__xludf.DUMMYFUNCTION(\"\"\"COMPUTED_VALUE\"\"\"),\"G7221\")","v":"G7221"},{"$f":"IFERROR(__xludf.DUMMYFUNCTION(\"\"\"COMPUTED_VALUE\"\"\"),\"audio/G7221\")","v":"audio/G7221"},{"$f":"IFERROR(__xludf.DUMMYFUNCTION(\"\"\"COMPUTED_VALUE\"\"\"),\"en\")","v":"en"}]
[{"$f":"IFERROR(__xludf.DUMMYFUNCTION(\"\"\"COMPUTED_VALUE\"\"\"),\"https://www.iana.org/assignments/media-types/audio/G722\")","v":"https://www.iana.org/assignments/media-types/audio/G722"},{"$f":"IFERROR(__xludf.DUMMYFUNCTION(\"\"\"COMPUTED_VALUE\"\"\"),\"G722\")","v":"G722"},{"$f":"IFERROR(__xludf.DUMMYFUNCTION(\"\"\"COMPUTED_VALUE\"\"\"),\"G722\")","v":"G722"},{"$f":"IFERROR(__xludf.DUMMYFUNCTION(\"\"\"COMPUTED_VALUE\"\"\"),\"audio/G722\")","v":"audio/G722"},{"$f":"IFERROR(__xludf.DUMMYFUNCTION(\"\"\"COMPUTED_VALUE\"\"\"),\"en\")","v":"en"}]
[{"$f":"IFERROR(__xludf.DUMMYFUNCTION(\"\"\"COMPUTED_VALUE\"\"\"),\"https://www.iana.org/assignments/media-types/audio/G723\")","v":"https://www.iana.org/assignments/media-types/audio/G723"},{"$f":"IFERROR(__xludf.DUMMYFUNCTION(\"\"\"COMPUTED_VALUE\"\"\"),\"G723\")","v":"G723"},{"$f":"IFERROR(__xludf.DUMMYFUNCTION(\"\"\"COMPUTED_VALUE\"\"\"),\"G723\")","v":"G723"},{"$f":"IFERROR(__xludf.DUMMYFUNCTION(\"\"\"COMPUTED_VALUE\"\"\"),\"audio/G723\")","v":"audio/G723"},{"$f":"IFERROR(__xludf.DUMMYFUNCTION(\"\"\"COMPUTED_VALUE\"\"\"),\"en\")","v":"en"}]
[{"$f":"IFERROR(__xludf.DUMMYFUNCTION(\"\"\"COMPUTED_VALUE\"\"\"),\"https://www.iana.org/assignments/media-types/audio/G726-16\")","v":"https://www.iana.org/assignments/media-types/audio/G726-16"},{"$f":"IFERROR(__xludf.DUMMYFUNCTION(\"\"\"COMPUTED_VALUE\"\"\"),\"G726-16\")","v":"G726-16"},{"$f":"IFERROR(__xludf.DUMMYFUNCTION(\"\"\"COMPUTED_VALUE\"\"\"),\"G726-16\")","v":"G726-16"},{"$f":"IFERROR(__xludf.DUMMYFUNCTION(\"\"\"COMPUTED_VALUE\"\"\"),\"audio/G726-16\")","v":"audio/G726-16"},{"$f":"IFERROR(__xludf.DUMMYFUNCTION(\"\"\"COMPUTED_VALUE\"\"\"),\"en\")","v":"en"}]
[{"$f":"IFERROR(__xludf.DUMMYFUNCTION(\"\"\"COMPUTED_VALUE\"\"\"),\"https://www.iana.org/assignments/media-types/audio/G726-24\")","v":"https://www.iana.org/assignments/media-types/audio/G726-24"},{"$f":"IFERROR(__xludf.DUMMYFUNCTION(\"\"\"COMPUTED_VALUE\"\"\"),\"G726-24\")","v":"G726-24"},{"$f":"IFERROR(__xludf.DUMMYFUNCTION(\"\"\"COMPUTED_VALUE\"\"\"),\"G726-24\")","v":"G726-24"},{"$f":"IFERROR(__xludf.DUMMYFUNCTION(\"\"\"COMPUTED_VALUE\"\"\"),\"audio/G726-24\")","v":"audio/G726-24"},{"$f":"IFERROR(__xludf.DUMMYFUNCTION(\"\"\"COMPUTED_VALUE\"\"\"),\"en\")","v":"en"}]
[{"$f":"IFERROR(__xludf.DUMMYFUNCTION(\"\"\"COMPUTED_VALUE\"\"\"),\"https://www.iana.org/assignments/media-types/audio/G726-32\")","v":"https://www.iana.org/assignments/media-types/audio/G726-32"},{"$f":"IFERROR(__xludf.DUMMYFUNCTION(\"\"\"COMPUTED_VALUE\"\"\"),\"G726-32\")","v":"G726-32"},{"$f":"IFERROR(__xludf.DUMMYFUNCTION(\"\"\"COMPUTED_VALUE\"\"\"),\"G726-32\")","v":"G726-32"},{"$f":"IFERROR(__xludf.DUMMYFUNCTION(\"\"\"COMPUTED_VALUE\"\"\"),\"audio/G726-32\")","v":"audio/G726-32"},{"$f":"IFERROR(__xludf.DUMMYFUNCTION(\"\"\"COMPUTED_VALUE\"\"\"),\"en\")","v":"en"}]
[{"$f":"IFERROR(__xludf.DUMMYFUNCTION(\"\"\"COMPUTED_VALUE\"\"\"),\"https://www.iana.org/assignments/media-types/audio/G726-40\")","v":"https://www.iana.org/assignments/media-types/audio/G726-40"},{"$f":"IFERROR(__xludf.DUMMYFUNCTION(\"\"\"COMPUTED_VALUE\"\"\"),\"G726-40\")","v":"G726-40"},{"$f":"IFERROR(__xludf.DUMMYFUNCTION(\"\"\"COMPUTED_VALUE\"\"\"),\"G726-40\")","v":"G726-40"},{"$f":"IFERROR(__xludf.DUMMYFUNCTION(\"\"\"COMPUTED_VALUE\"\"\"),\"audio/G726-40\")","v":"audio/G726-40"},{"$f":"IFERROR(__xludf.DUMMYFUNCTION(\"\"\"COMPUTED_VALUE\"\"\"),\"en\")","v":"en"}]
[{"$f":"IFERROR(__xludf.DUMMYFUNCTION(\"\"\"COMPUTED_VALUE\"\"\"),\"https://www.iana.org/assignments/media-types/audio/G728\")","v":"https://www.iana.org/assignments/media-types/audio/G728"},{"$f":"IFERROR(__xludf.DUMMYFUNCTION(\"\"\"COMPUTED_VALUE\"\"\"),\"G728\")","v":"G728"},{"$f":"IFERROR(__xludf.DUMMYFUNCTION(\"\"\"COMPUTED_VALUE\"\"\"),\"G728\")","v":"G728"},{"$f":"IFERROR(__xludf.DUMMYFUNCTION(\"\"\"COMPUTED_VALUE\"\"\"),\"audio/G728\")","v":"audio/G728"},{"$f":"IFERROR(__xludf.DUMMYFUNCTION(\"\"\"COMPUTED_VALUE\"\"\"),\"en\")","v":"en"}]
[{"$f":"IFERROR(__xludf.DUMMYFUNCTION(\"\"\"COMPUTED_VALUE\"\"\"),\"https://www.iana.org/assignments/media-types/audio/G729\")","v":"https://www.iana.org/assignments/media-types/audio/G729"},{"$f":"IFERROR(__xludf.DUMMYFUNCTION(\"\"\"COMPUTED_VALUE\"\"\"),\"G729\")","v":"G729"},{"$f":"IFERROR(__xludf.DUMMYFUNCTION(\"\"\"COMPUTED_VALUE\"\"\"),\"G729\")","v":"G729"},{"$f":"IFERROR(__xludf.DUMMYFUNCTION(\"\"\"COMPUTED_VALUE\"\"\"),\"audio/G729\")","v":"audio/G729"},{"$f":"IFERROR(__xludf.DUMMYFUNCTION(\"\"\"COMPUTED_VALUE\"\"\"),\"en\")","v":"en"}]
[{"$f":"IFERROR(__xludf.DUMMYFUNCTION(\"\"\"COMPUTED_VALUE\"\"\"),\"https://www.iana.org/assignments/media-types/audio/G7291\")","v":"https://www.iana.org/assignments/media-types/audio/G7291"},{"$f":"IFERROR(__xludf.DUMMYFUNCTION(\"\"\"COMPUTED_VALUE\"\"\"),\"G7291\")","v":"G7291"},{"$f":"IFERROR(__xludf.DUMMYFUNCTION(\"\"\"COMPUTED_VALUE\"\"\"),\"G7291\")","v":"G7291"},{"$f":"IFERROR(__xludf.DUMMYFUNCTION(\"\"\"COMPUTED_VALUE\"\"\"),\"audio/G7291\")","v":"audio/G7291"},{"$f":"IFERROR(__xludf.DUMMYFUNCTION(\"\"\"COMPUTED_VALUE\"\"\"),\"en\")","v":"en"}]
[{"$f":"IFERROR(__xludf.DUMMYFUNCTION(\"\"\"COMPUTED_VALUE\"\"\"),\"https://www.iana.org/assignments/media-types/audio/G729D\")","v":"https://www.iana.org/assignments/media-types/audio/G729D"},{"$f":"IFERROR(__xludf.DUMMYFUNCTION(\"\"\"COMPUTED_VALUE\"\"\"),\"G729D\")","v":"G729D"},{"$f":"IFERROR(__xludf.DUMMYFUNCTION(\"\"\"COMPUTED_VALUE\"\"\"),\"G729D\")","v":"G729D"},{"$f":"IFERROR(__xludf.DUMMYFUNCTION(\"\"\"COMPUTED_VALUE\"\"\"),\"audio/G729D\")","v":"audio/G729D"},{"$f":"IFERROR(__xludf.DUMMYFUNCTION(\"\"\"COMPUTED_VALUE\"\"\"),\"en\")","v":"en"}]
[{"$f":"IFERROR(__xludf.DUMMYFUNCTION(\"\"\"COMPUTED_VALUE\"\"\"),\"https://www.iana.org/assignments/media-types/audio/G729E\")","v":"https://www.iana.org/assignments/media-types/audio/G729E"},{"$f":"IFERROR(__xludf.DUMMYFUNCTION(\"\"\"COMPUTED_VALUE\"\"\"),\"G729E\")","v":"G729E"},{"$f":"IFERROR(__xludf.DUMMYFUNCTION(\"\"\"COMPUTED_VALUE\"\"\"),\"G729E\")","v":"G729E"},{"$f":"IFERROR(__xludf.DUMMYFUNCTION(\"\"\"COMPUTED_VALUE\"\"\"),\"audio/G729E\")","v":"audio/G729E"},{"$f":"IFERROR(__xludf.DUMMYFUNCTION(\"\"\"COMPUTED_VALUE\"\"\"),\"en\")","v":"en"}]
[{"$f":"IFERROR(__xludf.DUMMYFUNCTION(\"\"\"COMPUTED_VALUE\"\"\"),\"https://www.iana.org/assignments/media-types/audio/GSM\")","v":"https://www.iana.org/assignments/media-types/audio/GSM"},{"$f":"IFERROR(__xludf.DUMMYFUNCTION(\"\"\"COMPUTED_VALUE\"\"\"),\"GSM\")","v":"GSM"},{"$f":"IFERROR(__xludf.DUMMYFUNCTION(\"\"\"COMPUTED_VALUE\"\"\"),\"GSM\")","v":"GSM"},{"$f":"IFERROR(__xludf.DUMMYFUNCTION(\"\"\"COMPUTED_VALUE\"\"\"),\"audio/GSM\")","v":"audio/GSM"},{"$f":"IFERROR(__xludf.DUMMYFUNCTION(\"\"\"COMPUTED_VALUE\"\"\"),\"en\")","v":"en"}]
[{"$f":"IFERROR(__xludf.DUMMYFUNCTION(\"\"\"COMPUTED_VALUE\"\"\"),\"https://www.iana.org/assignments/media-types/audio/GSM-EFR\")","v":"https://www.iana.org/assignments/media-types/audio/GSM-EFR"},{"$f":"IFERROR(__xludf.DUMMYFUNCTION(\"\"\"COMPUTED_VALUE\"\"\"),\"GSM-EFR\")","v":"GSM-EFR"},{"$f":"IFERROR(__xludf.DUMMYFUNCTION(\"\"\"COMPUTED_VALUE\"\"\"),\"GSM-EFR\")","v":"GSM-EFR"},{"$f":"IFERROR(__xludf.DUMMYFUNCTION(\"\"\"COMPUTED_VALUE\"\"\"),\"audio/GSM-EFR\")","v":"audio/GSM-EFR"},{"$f":"IFERROR(__xludf.DUMMYFUNCTION(\"\"\"COMPUTED_VALUE\"\"\"),\"en\")","v":"en"}]
[{"$f":"IFERROR(__xludf.DUMMYFUNCTION(\"\"\"COMPUTED_VALUE\"\"\"),\"https://www.iana.org/assignments/media-types/audio/GSM-HR-08\")","v":"https://www.iana.org/assignments/media-types/audio/GSM-HR-08"},{"$f":"IFERROR(__xludf.DUMMYFUNCTION(\"\"\"COMPUTED_VALUE\"\"\"),\"GSM-HR-08\")","v":"GSM-HR-08"},{"$f":"IFERROR(__xludf.DUMMYFUNCTION(\"\"\"COMPUTED_VALUE\"\"\"),\"GSM-HR-08\")","v":"GSM-HR-08"},{"$f":"IFERROR(__xludf.DUMMYFUNCTION(\"\"\"COMPUTED_VALUE\"\"\"),\"audio/GSM-HR-08\")","v":"audio/GSM-HR-08"},{"$f":"IFERROR(__xludf.DUMMYFUNCTION(\"\"\"COMPUTED_VALUE\"\"\"),\"en\")","v":"en"}]
[{"$f":"IFERROR(__xludf.DUMMYFUNCTION(\"\"\"COMPUTED_VALUE\"\"\"),\"https://www.iana.org/assignments/media-types/audio/iLBC\")","v":"https://www.iana.org/assignments/media-types/audio/iLBC"},{"$f":"IFERROR(__xludf.DUMMYFUNCTION(\"\"\"COMPUTED_VALUE\"\"\"),\"iLBC\")","v":"iLBC"},{"$f":"IFERROR(__xludf.DUMMYFUNCTION(\"\"\"COMPUTED_VALUE\"\"\"),\"iLBC\")","v":"iLBC"},{"$f":"IFERROR(__xludf.DUMMYFUNCTION(\"\"\"COMPUTED_VALUE\"\"\"),\"audio/iLBC\")","v":"audio/iLBC"},{"$f":"IFERROR(__xludf.DUMMYFUNCTION(\"\"\"COMPUTED_VALUE\"\"\"),\"en\")","v":"en"}]
[{"$f":"IFERROR(__xludf.DUMMYFUNCTION(\"\"\"COMPUTED_VALUE\"\"\"),\"https://www.iana.org/assignments/media-types/audio/ip-mr_v2.5\")","v":"https://www.iana.org/assignments/media-types/audio/ip-mr_v2.5"},{"$f":"IFERROR(__xludf.DUMMYFUNCTION(\"\"\"COMPUTED_VALUE\"\"\"),\"ip-mr_v2.5\")","v":"ip-mr_v2.5"},{"$f":"IFERROR(__xludf.DUMMYFUNCTION(\"\"\"COMPUTED_VALUE\"\"\"),\"ip-mr_v2.5\")","v":"ip-mr_v2.5"},{"$f":"IFERROR(__xludf.DUMMYFUNCTION(\"\"\"COMPUTED_VALUE\"\"\"),\"audio/ip-mr_v2.5\")","v":"audio/ip-mr_v2.5"},{"$f":"IFERROR(__xludf.DUMMYFUNCTION(\"\"\"COMPUTED_VALUE\"\"\"),\"en\")","v":"en"}]
[{"$f":"IFERROR(__xludf.DUMMYFUNCTION(\"\"\"COMPUTED_VALUE\"\"\"),\"https://www.iana.org/assignments/media-types/audio/L8\")","v":"https://www.iana.org/assignments/media-types/audio/L8"},{"$f":"IFERROR(__xludf.DUMMYFUNCTION(\"\"\"COMPUTED_VALUE\"\"\"),\"L8\")","v":"L8"},{"$f":"IFERROR(__xludf.DUMMYFUNCTION(\"\"\"COMPUTED_VALUE\"\"\"),\"L8\")","v":"L8"},{"$f":"IFERROR(__xludf.DUMMYFUNCTION(\"\"\"COMPUTED_VALUE\"\"\"),\"audio/L8\")","v":"audio/L8"},{"$f":"IFERROR(__xludf.DUMMYFUNCTION(\"\"\"COMPUTED_VALUE\"\"\"),\"en\")","v":"en"}]
[{"$f":"IFERROR(__xludf.DUMMYFUNCTION(\"\"\"COMPUTED_VALUE\"\"\"),\"https://www.iana.org/assignments/media-types/audio/L16\")","v":"https://www.iana.org/assignments/media-types/audio/L16"},{"$f":"IFERROR(__xludf.DUMMYFUNCTION(\"\"\"COMPUTED_VALUE\"\"\"),\"L16\")","v":"L16"},{"$f":"IFERROR(__xludf.DUMMYFUNCTION(\"\"\"COMPUTED_VALUE\"\"\"),\"L16\")","v":"L16"},{"$f":"IFERROR(__xludf.DUMMYFUNCTION(\"\"\"COMPUTED_VALUE\"\"\"),\"audio/L16\")","v":"audio/L16"},{"$f":"IFERROR(__xludf.DUMMYFUNCTION(\"\"\"COMPUTED_VALUE\"\"\"),\"en\")","v":"en"}]
[{"$f":"IFERROR(__xludf.DUMMYFUNCTION(\"\"\"COMPUTED_VALUE\"\"\"),\"https://www.iana.org/assignments/media-types/audio/L20\")","v":"https://www.iana.org/assignments/media-types/audio/L20"},{"$f":"IFERROR(__xludf.DUMMYFUNCTION(\"\"\"COMPUTED_VALUE\"\"\"),\"L20\")","v":"L20"},{"$f":"IFERROR(__xludf.DUMMYFUNCTION(\"\"\"COMPUTED_VALUE\"\"\"),\"L20\")","v":"L20"},{"$f":"IFERROR(__xludf.DUMMYFUNCTION(\"\"\"COMPUTED_VALUE\"\"\"),\"audio/L20\")","v":"audio/L20"},{"$f":"IFERROR(__xludf.DUMMYFUNCTION(\"\"\"COMPUTED_VALUE\"\"\"),\"en\")","v":"en"}]
[{"$f":"IFERROR(__xludf.DUMMYFUNCTION(\"\"\"COMPUTED_VALUE\"\"\"),\"https://www.iana.org/assignments/media-types/audio/L24\")","v":"https://www.iana.org/assignments/media-types/audio/L24"},{"$f":"IFERROR(__xludf.DUMMYFUNCTION(\"\"\"COMPUTED_VALUE\"\"\"),\"L24\")","v":"L24"},{"$f":"IFERROR(__xludf.DUMMYFUNCTION(\"\"\"COMPUTED_VALUE\"\"\"),\"L24\")","v":"L24"},{"$f":"IFERROR(__xludf.DUMMYFUNCTION(\"\"\"COMPUTED_VALUE\"\"\"),\"audio/L24\")","v":"audio/L24"},{"$f":"IFERROR(__xludf.DUMMYFUNCTION(\"\"\"COMPUTED_VALUE\"\"\"),\"en\")","v":"en"}]
[{"$f":"IFERROR(__xludf.DUMMYFUNCTION(\"\"\"COMPUTED_VALUE\"\"\"),\"https://www.iana.org/assignments/media-types/audio/LPC\")","v":"https://www.iana.org/assignments/media-types/audio/LPC"},{"$f":"IFERROR(__xludf.DUMMYFUNCTION(\"\"\"COMPUTED_VALUE\"\"\"),\"LPC\")","v":"LPC"},{"$f":"IFERROR(__xludf.DUMMYFUNCTION(\"\"\"COMPUTED_VALUE\"\"\"),\"LPC\")","v":"LPC"},{"$f":"IFERROR(__xludf.DUMMYFUNCTION(\"\"\"COMPUTED_VALUE\"\"\"),\"audio/LPC\")","v":"audio/LPC"},{"$f":"IFERROR(__xludf.DUMMYFUNCTION(\"\"\"COMPUTED_VALUE\"\"\"),\"en\")","v":"en"}]
[{"$f":"IFERROR(__xludf.DUMMYFUNCTION(\"\"\"COMPUTED_VALUE\"\"\"),\"https://www.iana.org/assignments/media-types/audio/MELP\")","v":"https://www.iana.org/assignments/media-types/audio/MELP"},{"$f":"IFERROR(__xludf.DUMMYFUNCTION(\"\"\"COMPUTED_VALUE\"\"\"),\"MELP\")","v":"MELP"},{"$f":"IFERROR(__xludf.DUMMYFUNCTION(\"\"\"COMPUTED_VALUE\"\"\"),\"MELP\")","v":"MELP"},{"$f":"IFERROR(__xludf.DUMMYFUNCTION(\"\"\"COMPUTED_VALUE\"\"\"),\"audio/MELP\")","v":"audio/MELP"},{"$f":"IFERROR(__xludf.DUMMYFUNCTION(\"\"\"COMPUTED_VALUE\"\"\"),\"en\")","v":"en"}]
[{"$f":"IFERROR(__xludf.DUMMYFUNCTION(\"\"\"COMPUTED_VALUE\"\"\"),\"https://www.iana.org/assignments/media-types/audio/MELP600\")","v":"https://www.iana.org/assignments/media-types/audio/MELP600"},{"$f":"IFERROR(__xludf.DUMMYFUNCTION(\"\"\"COMPUTED_VALUE\"\"\"),\"MELP600\")","v":"MELP600"},{"$f":"IFERROR(__xludf.DUMMYFUNCTION(\"\"\"COMPUTED_VALUE\"\"\"),\"MELP600\")","v":"MELP600"},{"$f":"IFERROR(__xludf.DUMMYFUNCTION(\"\"\"COMPUTED_VALUE\"\"\"),\"audio/MELP600\")","v":"audio/MELP600"},{"$f":"IFERROR(__xludf.DUMMYFUNCTION(\"\"\"COMPUTED_VALUE\"\"\"),\"en\")","v":"en"}]
[{"$f":"IFERROR(__xludf.DUMMYFUNCTION(\"\"\"COMPUTED_VALUE\"\"\"),\"https://www.iana.org/assignments/media-types/audio/MELP1200\")","v":"https://www.iana.org/assignments/media-types/audio/MELP1200"},{"$f":"IFERROR(__xludf.DUMMYFUNCTION(\"\"\"COMPUTED_VALUE\"\"\"),\"MELP1200\")","v":"MELP1200"},{"$f":"IFERROR(__xludf.DUMMYFUNCTION(\"\"\"COMPUTED_VALUE\"\"\"),\"MELP1200\")","v":"MELP1200"},{"$f":"IFERROR(__xludf.DUMMYFUNCTION(\"\"\"COMPUTED_VALUE\"\"\"),\"audio/MELP1200\")","v":"audio/MELP1200"},{"$f":"IFERROR(__xludf.DUMMYFUNCTION(\"\"\"COMPUTED_VALUE\"\"\"),\"en\")","v":"en"}]
[{"$f":"IFERROR(__xludf.DUMMYFUNCTION(\"\"\"COMPUTED_VALUE\"\"\"),\"https://www.iana.org/assignments/media-types/audio/MELP2400\")","v":"https://www.iana.org/assignments/media-types/audio/MELP2400"},{"$f":"IFERROR(__xludf.DUMMYFUNCTION(\"\"\"COMPUTED_VALUE\"\"\"),\"MELP2400\")","v":"MELP2400"},{"$f":"IFERROR(__xludf.DUMMYFUNCTION(\"\"\"COMPUTED_VALUE\"\"\"),\"MELP2400\")","v":"MELP2400"},{"$f":"IFERROR(__xludf.DUMMYFUNCTION(\"\"\"COMPUTED_VALUE\"\"\"),\"audio/MELP2400\")","v":"audio/MELP2400"},{"$f":"IFERROR(__xludf.DUMMYFUNCTION(\"\"\"COMPUTED_VALUE\"\"\"),\"en\")","v":"en"}]
[{"$f":"IFERROR(__xludf.DUMMYFUNCTION(\"\"\"COMPUTED_VALUE\"\"\"),\"https://www.iana.org/assignments/media-types/audio/mhas\")","v":"https://www.iana.org/assignments/media-types/audio/mhas"},{"$f":"IFERROR(__xludf.DUMMYFUNCTION(\"\"\"COMPUTED_VALUE\"\"\"),\"mhas\")","v":"mhas"},{"$f":"IFERROR(__xludf.DUMMYFUNCTION(\"\"\"COMPUTED_VALUE\"\"\"),\"mhas\")","v":"mhas"},{"$f":"IFERROR(__xludf.DUMMYFUNCTION(\"\"\"COMPUTED_VALUE\"\"\"),\"audio/mhas\")","v":"audio/mhas"},{"$f":"IFERROR(__xludf.DUMMYFUNCTION(\"\"\"COMPUTED_VALUE\"\"\"),\"en\")","v":"en"}]
[{"$f":"IFERROR(__xludf.DUMMYFUNCTION(\"\"\"COMPUTED_VALUE\"\"\"),\"https://www.iana.org/assignments/media-types/audio/mobile-xmf\")","v":"https://www.iana.org/assignments/media-types/audio/mobile-xmf"},{"$f":"IFERROR(__xludf.DUMMYFUNCTION(\"\"\"COMPUTED_VALUE\"\"\"),\"mobile-xmf\")","v":"mobile-xmf"},{"$f":"IFERROR(__xludf.DUMMYFUNCTION(\"\"\"COMPUTED_VALUE\"\"\"),\"mobile-xmf\")","v":"mobile-xmf"},{"$f":"IFERROR(__xludf.DUMMYFUNCTION(\"\"\"COMPUTED_VALUE\"\"\"),\"audio/mobile-xmf\")","v":"audio/mobile-xmf"},{"$f":"IFERROR(__xludf.DUMMYFUNCTION(\"\"\"COMPUTED_VALUE\"\"\"),\"en\")","v":"en"}]
[{"$f":"IFERROR(__xludf.DUMMYFUNCTION(\"\"\"COMPUTED_VALUE\"\"\"),\"https://www.iana.org/assignments/media-types/audio/MPA\")","v":"https://www.iana.org/assignments/media-types/audio/MPA"},{"$f":"IFERROR(__xludf.DUMMYFUNCTION(\"\"\"COMPUTED_VALUE\"\"\"),\"MPA\")","v":"MPA"},{"$f":"IFERROR(__xludf.DUMMYFUNCTION(\"\"\"COMPUTED_VALUE\"\"\"),\"MPA\")","v":"MPA"},{"$f":"IFERROR(__xludf.DUMMYFUNCTION(\"\"\"COMPUTED_VALUE\"\"\"),\"audio/MPA\")","v":"audio/MPA"},{"$f":"IFERROR(__xludf.DUMMYFUNCTION(\"\"\"COMPUTED_VALUE\"\"\"),\"en\")","v":"en"}]
[{"$f":"IFERROR(__xludf.DUMMYFUNCTION(\"\"\"COMPUTED_VALUE\"\"\"),\"https://www.iana.org/assignments/media-types/audio/mp4\")","v":"https://www.iana.org/assignments/media-types/audio/mp4"},{"$f":"IFERROR(__xludf.DUMMYFUNCTION(\"\"\"COMPUTED_VALUE\"\"\"),\"mp4\")","v":"mp4"},{"$f":"IFERROR(__xludf.DUMMYFUNCTION(\"\"\"COMPUTED_VALUE\"\"\"),\"mp4\")","v":"mp4"},{"$f":"IFERROR(__xludf.DUMMYFUNCTION(\"\"\"COMPUTED_VALUE\"\"\"),\"audio/mp4\")","v":"audio/mp4"},{"$f":"IFERROR(__xludf.DUMMYFUNCTION(\"\"\"COMPUTED_VALUE\"\"\"),\"en\")","v":"en"}]
[{"$f":"IFERROR(__xludf.DUMMYFUNCTION(\"\"\"COMPUTED_VALUE\"\"\"),\"https://www.iana.org/assignments/media-types/audio/MP4A-LATM\")","v":"https://www.iana.org/assignments/media-types/audio/MP4A-LATM"},{"$f":"IFERROR(__xludf.DUMMYFUNCTION(\"\"\"COMPUTED_VALUE\"\"\"),\"MP4A-LATM\")","v":"MP4A-LATM"},{"$f":"IFERROR(__xludf.DUMMYFUNCTION(\"\"\"COMPUTED_VALUE\"\"\"),\"MP4A-LATM\")","v":"MP4A-LATM"},{"$f":"IFERROR(__xludf.DUMMYFUNCTION(\"\"\"COMPUTED_VALUE\"\"\"),\"audio/MP4A-LATM\")","v":"audio/MP4A-LATM"},{"$f":"IFERROR(__xludf.DUMMYFUNCTION(\"\"\"COMPUTED_VALUE\"\"\"),\"en\")","v":"en"}]
[{"$f":"IFERROR(__xludf.DUMMYFUNCTION(\"\"\"COMPUTED_VALUE\"\"\"),\"https://www.iana.org/assignments/media-types/audio/mpa-robust\")","v":"https://www.iana.org/assignments/media-types/audio/mpa-robust"},{"$f":"IFERROR(__xludf.DUMMYFUNCTION(\"\"\"COMPUTED_VALUE\"\"\"),\"mpa-robust\")","v":"mpa-robust"},{"$f":"IFERROR(__xludf.DUMMYFUNCTION(\"\"\"COMPUTED_VALUE\"\"\"),\"mpa-robust\")","v":"mpa-robust"},{"$f":"IFERROR(__xludf.DUMMYFUNCTION(\"\"\"COMPUTED_VALUE\"\"\"),\"audio/mpa-robust\")","v":"audio/mpa-robust"},{"$f":"IFERROR(__xludf.DUMMYFUNCTION(\"\"\"COMPUTED_VALUE\"\"\"),\"en\")","v":"en"}]
[{"$f":"IFERROR(__xludf.DUMMYFUNCTION(\"\"\"COMPUTED_VALUE\"\"\"),\"https://www.iana.org/assignments/media-types/audio/mpeg\")","v":"https://www.iana.org/assignments/media-types/audio/mpeg"},{"$f":"IFERROR(__xludf.DUMMYFUNCTION(\"\"\"COMPUTED_VALUE\"\"\"),\"mpeg\")","v":"mpeg"},{"$f":"IFERROR(__xludf.DUMMYFUNCTION(\"\"\"COMPUTED_VALUE\"\"\"),\"mpeg\")","v":"mpeg"},{"$f":"IFERROR(__xludf.DUMMYFUNCTION(\"\"\"COMPUTED_VALUE\"\"\"),\"audio/mpeg\")","v":"audio/mpeg"},{"$f":"IFERROR(__xludf.DUMMYFUNCTION(\"\"\"COMPUTED_VALUE\"\"\"),\"en\")","v":"en"}]
[{"$f":"IFERROR(__xludf.DUMMYFUNCTION(\"\"\"COMPUTED_VALUE\"\"\"),\"https://www.iana.org/assignments/media-types/audio/mpeg4-generic\")","v":"https://www.iana.org/assignments/media-types/audio/mpeg4-generic"},{"$f":"IFERROR(__xludf.DUMMYFUNCTION(\"\"\"COMPUTED_VALUE\"\"\"),\"mpeg4-generic\")","v":"mpeg4-generic"},{"$f":"IFERROR(__xludf.DUMMYFUNCTION(\"\"\"COMPUTED_VALUE\"\"\"),\"mpeg4-generic\")","v":"mpeg4-generic"},{"$f":"IFERROR(__xludf.DUMMYFUNCTION(\"\"\"COMPUTED_VALUE\"\"\"),\"audio/mpeg4-generic\")","v":"audio/mpeg4-generic"},{"$f":"IFERROR(__xludf.DUMMYFUNCTION(\"\"\"COMPUTED_VALUE\"\"\"),\"en\")","v":"en"}]
[{"$f":"IFERROR(__xludf.DUMMYFUNCTION(\"\"\"COMPUTED_VALUE\"\"\"),\"https://www.iana.org/assignments/media-types/audio/ogg\")","v":"https://www.iana.org/assignments/media-types/audio/ogg"},{"$f":"IFERROR(__xludf.DUMMYFUNCTION(\"\"\"COMPUTED_VALUE\"\"\"),\"ogg\")","v":"ogg"},{"$f":"IFERROR(__xludf.DUMMYFUNCTION(\"\"\"COMPUTED_VALUE\"\"\"),\"ogg\")","v":"ogg"},{"$f":"IFERROR(__xludf.DUMMYFUNCTION(\"\"\"COMPUTED_VALUE\"\"\"),\"audio/ogg\")","v":"audio/ogg"},{"$f":"IFERROR(__xludf.DUMMYFUNCTION(\"\"\"COMPUTED_VALUE\"\"\"),\"en\")","v":"en"}]
[{"$f":"IFERROR(__xludf.DUMMYFUNCTION(\"\"\"COMPUTED_VALUE\"\"\"),\"https://www.iana.org/assignments/media-types/audio/opus\")","v":"https://www.iana.org/assignments/media-types/audio/opus"},{"$f":"IFERROR(__xludf.DUMMYFUNCTION(\"\"\"COMPUTED_VALUE\"\"\"),\"opus\")","v":"opus"},{"$f":"IFERROR(__xludf.DUMMYFUNCTION(\"\"\"COMPUTED_VALUE\"\"\"),\"opus\")","v":"opus"},{"$f":"IFERROR(__xludf.DUMMYFUNCTION(\"\"\"COMPUTED_VALUE\"\"\"),\"audio/opus\")","v":"audio/opus"},{"$f":"IFERROR(__xludf.DUMMYFUNCTION(\"\"\"COMPUTED_VALUE\"\"\"),\"en\")","v":"en"}]
[{"$f":"IFERROR(__xludf.DUMMYFUNCTION(\"\"\"COMPUTED_VALUE\"\"\"),\"https://www.iana.org/assignments/media-types/audio/parityfec\")","v":"https://www.iana.org/assignments/media-types/audio/parityfec"},{"$f":"IFERROR(__xludf.DUMMYFUNCTION(\"\"\"COMPUTED_VALUE\"\"\"),\"parityfec\")","v":"parityfec"},{"$f":"IFERROR(__xludf.DUMMYFUNCTION(\"\"\"COMPUTED_VALUE\"\"\"),\"parityfec\")","v":"parityfec"},{"$f":"IFERROR(__xludf.DUMMYFUNCTION(\"\"\"COMPUTED_VALUE\"\"\"),\"audio/parityfec\")","v":"audio/parityfec"},{"$f":"IFERROR(__xludf.DUMMYFUNCTION(\"\"\"COMPUTED_VALUE\"\"\"),\"en\")","v":"en"}]
[{"$f":"IFERROR(__xludf.DUMMYFUNCTION(\"\"\"COMPUTED_VALUE\"\"\"),\"https://www.iana.org/assignments/media-types/audio/PCMA\")","v":"https://www.iana.org/assignments/media-types/audio/PCMA"},{"$f":"IFERROR(__xludf.DUMMYFUNCTION(\"\"\"COMPUTED_VALUE\"\"\"),\"PCMA\")","v":"PCMA"},{"$f":"IFERROR(__xludf.DUMMYFUNCTION(\"\"\"COMPUTED_VALUE\"\"\"),\"PCMA\")","v":"PCMA"},{"$f":"IFERROR(__xludf.DUMMYFUNCTION(\"\"\"COMPUTED_VALUE\"\"\"),\"audio/PCMA\")","v":"audio/PCMA"},{"$f":"IFERROR(__xludf.DUMMYFUNCTION(\"\"\"COMPUTED_VALUE\"\"\"),\"en\")","v":"en"}]
[{"$f":"IFERROR(__xludf.DUMMYFUNCTION(\"\"\"COMPUTED_VALUE\"\"\"),\"https://www.iana.org/assignments/media-types/audio/PCMA-WB\")","v":"https://www.iana.org/assignments/media-types/audio/PCMA-WB"},{"$f":"IFERROR(__xludf.DUMMYFUNCTION(\"\"\"COMPUTED_VALUE\"\"\"),\"PCMA-WB\")","v":"PCMA-WB"},{"$f":"IFERROR(__xludf.DUMMYFUNCTION(\"\"\"COMPUTED_VALUE\"\"\"),\"PCMA-WB\")","v":"PCMA-WB"},{"$f":"IFERROR(__xludf.DUMMYFUNCTION(\"\"\"COMPUTED_VALUE\"\"\"),\"audio/PCMA-WB\")","v":"audio/PCMA-WB"},{"$f":"IFERROR(__xludf.DUMMYFUNCTION(\"\"\"COMPUTED_VALUE\"\"\"),\"en\")","v":"en"}]
[{"$f":"IFERROR(__xludf.DUMMYFUNCTION(\"\"\"COMPUTED_VALUE\"\"\"),\"https://www.iana.org/assignments/media-types/audio/PCMU\")","v":"https://www.iana.org/assignments/media-types/audio/PCMU"},{"$f":"IFERROR(__xludf.DUMMYFUNCTION(\"\"\"COMPUTED_VALUE\"\"\"),\"PCMU\")","v":"PCMU"},{"$f":"IFERROR(__xludf.DUMMYFUNCTION(\"\"\"COMPUTED_VALUE\"\"\"),\"PCMU\")","v":"PCMU"},{"$f":"IFERROR(__xludf.DUMMYFUNCTION(\"\"\"COMPUTED_VALUE\"\"\"),\"audio/PCMU\")","v":"audio/PCMU"},{"$f":"IFERROR(__xludf.DUMMYFUNCTION(\"\"\"COMPUTED_VALUE\"\"\"),\"en\")","v":"en"}]
[{"$f":"IFERROR(__xludf.DUMMYFUNCTION(\"\"\"COMPUTED_VALUE\"\"\"),\"https://www.iana.org/assignments/media-types/audio/PCMU-WB\")","v":"https://www.iana.org/assignments/media-types/audio/PCMU-WB"},{"$f":"IFERROR(__xludf.DUMMYFUNCTION(\"\"\"COMPUTED_VALUE\"\"\"),\"PCMU-WB\")","v":"PCMU-WB"},{"$f":"IFERROR(__xludf.DUMMYFUNCTION(\"\"\"COMPUTED_VALUE\"\"\"),\"PCMU-WB\")","v":"PCMU-WB"},{"$f":"IFERROR(__xludf.DUMMYFUNCTION(\"\"\"COMPUTED_VALUE\"\"\"),\"audio/PCMU-WB\")","v":"audio/PCMU-WB"},{"$f":"IFERROR(__xludf.DUMMYFUNCTION(\"\"\"COMPUTED_VALUE\"\"\"),\"en\")","v":"en"}]
[{"$f":"IFERROR(__xludf.DUMMYFUNCTION(\"\"\"COMPUTED_VALUE\"\"\"),\"https://www.iana.org/assignments/media-types/audio/prs.sid\")","v":"https://www.iana.org/assignments/media-types/audio/prs.sid"},{"$f":"IFERROR(__xludf.DUMMYFUNCTION(\"\"\"COMPUTED_VALUE\"\"\"),\"prs.sid\")","v":"prs.sid"},{"$f":"IFERROR(__xludf.DUMMYFUNCTION(\"\"\"COMPUTED_VALUE\"\"\"),\"prs.sid\")","v":"prs.sid"},{"$f":"IFERROR(__xludf.DUMMYFUNCTION(\"\"\"COMPUTED_VALUE\"\"\"),\"audio/prs.sid\")","v":"audio/prs.sid"},{"$f":"IFERROR(__xludf.DUMMYFUNCTION(\"\"\"COMPUTED_VALUE\"\"\"),\"en\")","v":"en"}]
[{"$f":"IFERROR(__xludf.DUMMYFUNCTION(\"\"\"COMPUTED_VALUE\"\"\"),\"https://www.iana.org/assignments/media-types/audio/QCELP\")","v":"https://www.iana.org/assignments/media-types/audio/QCELP"},{"$f":"IFERROR(__xludf.DUMMYFUNCTION(\"\"\"COMPUTED_VALUE\"\"\"),\"QCELP\")","v":"QCELP"},{"$f":"IFERROR(__xludf.DUMMYFUNCTION(\"\"\"COMPUTED_VALUE\"\"\"),\"QCELP\")","v":"QCELP"},{"$f":"IFERROR(__xludf.DUMMYFUNCTION(\"\"\"COMPUTED_VALUE\"\"\"),\"audio/QCELP\")","v":"audio/QCELP"},{"$f":"IFERROR(__xludf.DUMMYFUNCTION(\"\"\"COMPUTED_VALUE\"\"\"),\"en\")","v":"en"}]
[{"$f":"IFERROR(__xludf.DUMMYFUNCTION(\"\"\"COMPUTED_VALUE\"\"\"),\"https://www.iana.org/assignments/media-types/audio/raptorfec\")","v":"https://www.iana.org/assignments/media-types/audio/raptorfec"},{"$f":"IFERROR(__xludf.DUMMYFUNCTION(\"\"\"COMPUTED_VALUE\"\"\"),\"raptorfec\")","v":"raptorfec"},{"$f":"IFERROR(__xludf.DUMMYFUNCTION(\"\"\"COMPUTED_VALUE\"\"\"),\"raptorfec\")","v":"raptorfec"},{"$f":"IFERROR(__xludf.DUMMYFUNCTION(\"\"\"COMPUTED_VALUE\"\"\"),\"audio/raptorfec\")","v":"audio/raptorfec"},{"$f":"IFERROR(__xludf.DUMMYFUNCTION(\"\"\"COMPUTED_VALUE\"\"\"),\"en\")","v":"en"}]
[{"$f":"IFERROR(__xludf.DUMMYFUNCTION(\"\"\"COMPUTED_VALUE\"\"\"),\"https://www.iana.org/assignments/media-types/audio/RED\")","v":"https://www.iana.org/assignments/media-types/audio/RED"},{"$f":"IFERROR(__xludf.DUMMYFUNCTION(\"\"\"COMPUTED_VALUE\"\"\"),\"RED\")","v":"RED"},{"$f":"IFERROR(__xludf.DUMMYFUNCTION(\"\"\"COMPUTED_VALUE\"\"\"),\"RED\")","v":"RED"},{"$f":"IFERROR(__xludf.DUMMYFUNCTION(\"\"\"COMPUTED_VALUE\"\"\"),\"audio/RED\")","v":"audio/RED"},{"$f":"IFERROR(__xludf.DUMMYFUNCTION(\"\"\"COMPUTED_VALUE\"\"\"),\"en\")","v":"en"}]
[{"$f":"IFERROR(__xludf.DUMMYFUNCTION(\"\"\"COMPUTED_VALUE\"\"\"),\"https://www.iana.org/assignments/media-types/audio/rtp-enc-aescm128\")","v":"https://www.iana.org/assignments/media-types/audio/rtp-enc-aescm128"},{"$f":"IFERROR(__xludf.DUMMYFUNCTION(\"\"\"COMPUTED_VALUE\"\"\"),\"rtp-enc-aescm128\")","v":"rtp-enc-aescm128"},{"$f":"IFERROR(__xludf.DUMMYFUNCTION(\"\"\"COMPUTED_VALUE\"\"\"),\"rtp-enc-aescm128\")","v":"rtp-enc-aescm128"},{"$f":"IFERROR(__xludf.DUMMYFUNCTION(\"\"\"COMPUTED_VALUE\"\"\"),\"audio/rtp-enc-aescm128\")","v":"audio/rtp-enc-aescm128"},{"$f":"IFERROR(__xludf.DUMMYFUNCTION(\"\"\"COMPUTED_VALUE\"\"\"),\"en\")","v":"en"}]
[{"$f":"IFERROR(__xludf.DUMMYFUNCTION(\"\"\"COMPUTED_VALUE\"\"\"),\"https://www.iana.org/assignments/media-types/audio/rtploopback\")","v":"https://www.iana.org/assignments/media-types/audio/rtploopback"},{"$f":"IFERROR(__xludf.DUMMYFUNCTION(\"\"\"COMPUTED_VALUE\"\"\"),\"rtploopback\")","v":"rtploopback"},{"$f":"IFERROR(__xludf.DUMMYFUNCTION(\"\"\"COMPUTED_VALUE\"\"\"),\"rtploopback\")","v":"rtploopback"},{"$f":"IFERROR(__xludf.DUMMYFUNCTION(\"\"\"COMPUTED_VALUE\"\"\"),\"audio/rtploopback\")","v":"audio/rtploopback"},{"$f":"IFERROR(__xludf.DUMMYFUNCTION(\"\"\"COMPUTED_VALUE\"\"\"),\"en\")","v":"en"}]
[{"$f":"IFERROR(__xludf.DUMMYFUNCTION(\"\"\"COMPUTED_VALUE\"\"\"),\"https://www.iana.org/assignments/media-types/audio/rtp-midi\")","v":"https://www.iana.org/assignments/media-types/audio/rtp-midi"},{"$f":"IFERROR(__xludf.DUMMYFUNCTION(\"\"\"COMPUTED_VALUE\"\"\"),\"rtp-midi\")","v":"rtp-midi"},{"$f":"IFERROR(__xludf.DUMMYFUNCTION(\"\"\"COMPUTED_VALUE\"\"\"),\"rtp-midi\")","v":"rtp-midi"},{"$f":"IFERROR(__xludf.DUMMYFUNCTION(\"\"\"COMPUTED_VALUE\"\"\"),\"audio/rtp-midi\")","v":"audio/rtp-midi"},{"$f":"IFERROR(__xludf.DUMMYFUNCTION(\"\"\"COMPUTED_VALUE\"\"\"),\"en\")","v":"en"}]
[{"$f":"IFERROR(__xludf.DUMMYFUNCTION(\"\"\"COMPUTED_VALUE\"\"\"),\"https://www.iana.org/assignments/media-types/audio/rtx\")","v":"https://www.iana.org/assignments/media-types/audio/rtx"},{"$f":"IFERROR(__xludf.DUMMYFUNCTION(\"\"\"COMPUTED_VALUE\"\"\"),\"rtx\")","v":"rtx"},{"$f":"IFERROR(__xludf.DUMMYFUNCTION(\"\"\"COMPUTED_VALUE\"\"\"),\"rtx\")","v":"rtx"},{"$f":"IFERROR(__xludf.DUMMYFUNCTION(\"\"\"COMPUTED_VALUE\"\"\"),\"audio/rtx\")","v":"audio/rtx"},{"$f":"IFERROR(__xludf.DUMMYFUNCTION(\"\"\"COMPUTED_VALUE\"\"\"),\"en\")","v":"en"}]
[{"$f":"IFERROR(__xludf.DUMMYFUNCTION(\"\"\"COMPUTED_VALUE\"\"\"),\"https://www.iana.org/assignments/media-types/audio/scip\")","v":"https://www.iana.org/assignments/media-types/audio/scip"},{"$f":"IFERROR(__xludf.DUMMYFUNCTION(\"\"\"COMPUTED_VALUE\"\"\"),\"scip\")","v":"scip"},{"$f":"IFERROR(__xludf.DUMMYFUNCTION(\"\"\"COMPUTED_VALUE\"\"\"),\"scip\")","v":"scip"},{"$f":"IFERROR(__xludf.DUMMYFUNCTION(\"\"\"COMPUTED_VALUE\"\"\"),\"audio/scip\")","v":"audio/scip"},{"$f":"IFERROR(__xludf.DUMMYFUNCTION(\"\"\"COMPUTED_VALUE\"\"\"),\"en\")","v":"en"}]
[{"$f":"IFERROR(__xludf.DUMMYFUNCTION(\"\"\"COMPUTED_VALUE\"\"\"),\"https://www.iana.org/assignments/media-types/audio/SMV\")","v":"https://www.iana.org/assignments/media-types/audio/SMV"},{"$f":"IFERROR(__xludf.DUMMYFUNCTION(\"\"\"COMPUTED_VALUE\"\"\"),\"SMV\")","v":"SMV"},{"$f":"IFERROR(__xludf.DUMMYFUNCTION(\"\"\"COMPUTED_VALUE\"\"\"),\"SMV\")","v":"SMV"},{"$f":"IFERROR(__xludf.DUMMYFUNCTION(\"\"\"COMPUTED_VALUE\"\"\"),\"audio/SMV\")","v":"audio/SMV"},{"$f":"IFERROR(__xludf.DUMMYFUNCTION(\"\"\"COMPUTED_VALUE\"\"\"),\"en\")","v":"en"}]
[{"$f":"IFERROR(__xludf.DUMMYFUNCTION(\"\"\"COMPUTED_VALUE\"\"\"),\"https://www.iana.org/assignments/media-types/audio/SMV0\")","v":"https://www.iana.org/assignments/media-types/audio/SMV0"},{"$f":"IFERROR(__xludf.DUMMYFUNCTION(\"\"\"COMPUTED_VALUE\"\"\"),\"SMV0\")","v":"SMV0"},{"$f":"IFERROR(__xludf.DUMMYFUNCTION(\"\"\"COMPUTED_VALUE\"\"\"),\"SMV0\")","v":"SMV0"},{"$f":"IFERROR(__xludf.DUMMYFUNCTION(\"\"\"COMPUTED_VALUE\"\"\"),\"audio/SMV0\")","v":"audio/SMV0"},{"$f":"IFERROR(__xludf.DUMMYFUNCTION(\"\"\"COMPUTED_VALUE\"\"\"),\"en\")","v":"en"}]
[{"$f":"IFERROR(__xludf.DUMMYFUNCTION(\"\"\"COMPUTED_VALUE\"\"\"),\"https://www.iana.org/assignments/media-types/audio/SMV-QCP\")","v":"https://www.iana.org/assignments/media-types/audio/SMV-QCP"},{"$f":"IFERROR(__xludf.DUMMYFUNCTION(\"\"\"COMPUTED_VALUE\"\"\"),\"SMV-QCP\")","v":"SMV-QCP"},{"$f":"IFERROR(__xludf.DUMMYFUNCTION(\"\"\"COMPUTED_VALUE\"\"\"),\"SMV-QCP\")","v":"SMV-QCP"},{"$f":"IFERROR(__xludf.DUMMYFUNCTION(\"\"\"COMPUTED_VALUE\"\"\"),\"audio/SMV-QCP\")","v":"audio/SMV-QCP"},{"$f":"IFERROR(__xludf.DUMMYFUNCTION(\"\"\"COMPUTED_VALUE\"\"\"),\"en\")","v":"en"}]
[{"$f":"IFERROR(__xludf.DUMMYFUNCTION(\"\"\"COMPUTED_VALUE\"\"\"),\"https://www.iana.org/assignments/media-types/audio/sofa\")","v":"https://www.iana.org/assignments/media-types/audio/sofa"},{"$f":"IFERROR(__xludf.DUMMYFUNCTION(\"\"\"COMPUTED_VALUE\"\"\"),\"sofa\")","v":"sofa"},{"$f":"IFERROR(__xludf.DUMMYFUNCTION(\"\"\"COMPUTED_VALUE\"\"\"),\"sofa\")","v":"sofa"},{"$f":"IFERROR(__xludf.DUMMYFUNCTION(\"\"\"COMPUTED_VALUE\"\"\"),\"audio/sofa\")","v":"audio/sofa"},{"$f":"IFERROR(__xludf.DUMMYFUNCTION(\"\"\"COMPUTED_VALUE\"\"\"),\"en\")","v":"en"}]
[{"$f":"IFERROR(__xludf.DUMMYFUNCTION(\"\"\"COMPUTED_VALUE\"\"\"),\"https://www.iana.org/assignments/media-types/audio/sp-midi\")","v":"https://www.iana.org/assignments/media-types/audio/sp-midi"},{"$f":"IFERROR(__xludf.DUMMYFUNCTION(\"\"\"COMPUTED_VALUE\"\"\"),\"sp-midi\")","v":"sp-midi"},{"$f":"IFERROR(__xludf.DUMMYFUNCTION(\"\"\"COMPUTED_VALUE\"\"\"),\"sp-midi\")","v":"sp-midi"},{"$f":"IFERROR(__xludf.DUMMYFUNCTION(\"\"\"COMPUTED_VALUE\"\"\"),\"audio/sp-midi\")","v":"audio/sp-midi"},{"$f":"IFERROR(__xludf.DUMMYFUNCTION(\"\"\"COMPUTED_VALUE\"\"\"),\"en\")","v":"en"}]
[{"$f":"IFERROR(__xludf.DUMMYFUNCTION(\"\"\"COMPUTED_VALUE\"\"\"),\"https://www.iana.org/assignments/media-types/audio/speex\")","v":"https://www.iana.org/assignments/media-types/audio/speex"},{"$f":"IFERROR(__xludf.DUMMYFUNCTION(\"\"\"COMPUTED_VALUE\"\"\"),\"speex\")","v":"speex"},{"$f":"IFERROR(__xludf.DUMMYFUNCTION(\"\"\"COMPUTED_VALUE\"\"\"),\"speex\")","v":"speex"},{"$f":"IFERROR(__xludf.DUMMYFUNCTION(\"\"\"COMPUTED_VALUE\"\"\"),\"audio/speex\")","v":"audio/speex"},{"$f":"IFERROR(__xludf.DUMMYFUNCTION(\"\"\"COMPUTED_VALUE\"\"\"),\"en\")","v":"en"}]
[{"$f":"IFERROR(__xludf.DUMMYFUNCTION(\"\"\"COMPUTED_VALUE\"\"\"),\"https://www.iana.org/assignments/media-types/audio/t140c\")","v":"https://www.iana.org/assignments/media-types/audio/t140c"},{"$f":"IFERROR(__xludf.DUMMYFUNCTION(\"\"\"COMPUTED_VALUE\"\"\"),\"t140c\")","v":"t140c"},{"$f":"IFERROR(__xludf.DUMMYFUNCTION(\"\"\"COMPUTED_VALUE\"\"\"),\"t140c\")","v":"t140c"},{"$f":"IFERROR(__xludf.DUMMYFUNCTION(\"\"\"COMPUTED_VALUE\"\"\"),\"audio/t140c\")","v":"audio/t140c"},{"$f":"IFERROR(__xludf.DUMMYFUNCTION(\"\"\"COMPUTED_VALUE\"\"\"),\"en\")","v":"en"}]
[{"$f":"IFERROR(__xludf.DUMMYFUNCTION(\"\"\"COMPUTED_VALUE\"\"\"),\"https://www.iana.org/assignments/media-types/audio/t38\")","v":"https://www.iana.org/assignments/media-types/audio/t38"},{"$f":"IFERROR(__xludf.DUMMYFUNCTION(\"\"\"COMPUTED_VALUE\"\"\"),\"t38\")","v":"t38"},{"$f":"IFERROR(__xludf.DUMMYFUNCTION(\"\"\"COMPUTED_VALUE\"\"\"),\"t38\")","v":"t38"},{"$f":"IFERROR(__xludf.DUMMYFUNCTION(\"\"\"COMPUTED_VALUE\"\"\"),\"audio/t38\")","v":"audio/t38"},{"$f":"IFERROR(__xludf.DUMMYFUNCTION(\"\"\"COMPUTED_VALUE\"\"\"),\"en\")","v":"en"}]
[{"$f":"IFERROR(__xludf.DUMMYFUNCTION(\"\"\"COMPUTED_VALUE\"\"\"),\"https://www.iana.org/assignments/media-types/audio/telephone-event\")","v":"https://www.iana.org/assignments/media-types/audio/telephone-event"},{"$f":"IFERROR(__xludf.DUMMYFUNCTION(\"\"\"COMPUTED_VALUE\"\"\"),\"telephone-event\")","v":"telephone-event"},{"$f":"IFERROR(__xludf.DUMMYFUNCTION(\"\"\"COMPUTED_VALUE\"\"\"),\"telephone-event\")","v":"telephone-event"},{"$f":"IFERROR(__xludf.DUMMYFUNCTION(\"\"\"COMPUTED_VALUE\"\"\"),\"audio/telephone-event\")","v":"audio/telephone-event"},{"$f":"IFERROR(__xludf.DUMMYFUNCTION(\"\"\"COMPUTED_VALUE\"\"\"),\"en\")","v":"en"}]
[{"$f":"IFERROR(__xludf.DUMMYFUNCTION(\"\"\"COMPUTED_VALUE\"\"\"),\"https://www.iana.org/assignments/media-types/audio/TETRA_ACELP\")","v":"https://www.iana.org/assignments/media-types/audio/TETRA_ACELP"},{"$f":"IFERROR(__xludf.DUMMYFUNCTION(\"\"\"COMPUTED_VALUE\"\"\"),\"TETRA_ACELP\")","v":"TETRA_ACELP"},{"$f":"IFERROR(__xludf.DUMMYFUNCTION(\"\"\"COMPUTED_VALUE\"\"\"),\"TETRA_ACELP\")","v":"TETRA_ACELP"},{"$f":"IFERROR(__xludf.DUMMYFUNCTION(\"\"\"COMPUTED_VALUE\"\"\"),\"audio/TETRA_ACELP\")","v":"audio/TETRA_ACELP"},{"$f":"IFERROR(__xludf.DUMMYFUNCTION(\"\"\"COMPUTED_VALUE\"\"\"),\"en\")","v":"en"}]
[{"$f":"IFERROR(__xludf.DUMMYFUNCTION(\"\"\"COMPUTED_VALUE\"\"\"),\"https://www.iana.org/assignments/media-types/audio/TETRA_ACELP_BB\")","v":"https://www.iana.org/assignments/media-types/audio/TETRA_ACELP_BB"},{"$f":"IFERROR(__xludf.DUMMYFUNCTION(\"\"\"COMPUTED_VALUE\"\"\"),\"TETRA_ACELP_BB\")","v":"TETRA_ACELP_BB"},{"$f":"IFERROR(__xludf.DUMMYFUNCTION(\"\"\"COMPUTED_VALUE\"\"\"),\"TETRA_ACELP_BB\")","v":"TETRA_ACELP_BB"},{"$f":"IFERROR(__xludf.DUMMYFUNCTION(\"\"\"COMPUTED_VALUE\"\"\"),\"audio/TETRA_ACELP_BB\")","v":"audio/TETRA_ACELP_BB"},{"$f":"IFERROR(__xludf.DUMMYFUNCTION(\"\"\"COMPUTED_VALUE\"\"\"),\"en\")","v":"en"}]
[{"$f":"IFERROR(__xludf.DUMMYFUNCTION(\"\"\"COMPUTED_VALUE\"\"\"),\"https://www.iana.org/assignments/media-types/audio/tone\")","v":"https://www.iana.org/assignments/media-types/audio/tone"},{"$f":"IFERROR(__xludf.DUMMYFUNCTION(\"\"\"COMPUTED_VALUE\"\"\"),\"tone\")","v":"tone"},{"$f":"IFERROR(__xludf.DUMMYFUNCTION(\"\"\"COMPUTED_VALUE\"\"\"),\"tone\")","v":"tone"},{"$f":"IFERROR(__xludf.DUMMYFUNCTION(\"\"\"COMPUTED_VALUE\"\"\"),\"audio/tone\")","v":"audio/tone"},{"$f":"IFERROR(__xludf.DUMMYFUNCTION(\"\"\"COMPUTED_VALUE\"\"\"),\"en\")","v":"en"}]
[{"$f":"IFERROR(__xludf.DUMMYFUNCTION(\"\"\"COMPUTED_VALUE\"\"\"),\"https://www.iana.org/assignments/media-types/audio/TSVCIS\")","v":"https://www.iana.org/assignments/media-types/audio/TSVCIS"},{"$f":"IFERROR(__xludf.DUMMYFUNCTION(\"\"\"COMPUTED_VALUE\"\"\"),\"TSVCIS\")","v":"TSVCIS"},{"$f":"IFERROR(__xludf.DUMMYFUNCTION(\"\"\"COMPUTED_VALUE\"\"\"),\"TSVCIS\")","v":"TSVCIS"},{"$f":"IFERROR(__xludf.DUMMYFUNCTION(\"\"\"COMPUTED_VALUE\"\"\"),\"audio/TSVCIS\")","v":"audio/TSVCIS"},{"$f":"IFERROR(__xludf.DUMMYFUNCTION(\"\"\"COMPUTED_VALUE\"\"\"),\"en\")","v":"en"}]
[{"$f":"IFERROR(__xludf.DUMMYFUNCTION(\"\"\"COMPUTED_VALUE\"\"\"),\"https://www.iana.org/assignments/media-types/audio/UEMCLIP\")","v":"https://www.iana.org/assignments/media-types/audio/UEMCLIP"},{"$f":"IFERROR(__xludf.DUMMYFUNCTION(\"\"\"COMPUTED_VALUE\"\"\"),\"UEMCLIP\")","v":"UEMCLIP"},{"$f":"IFERROR(__xludf.DUMMYFUNCTION(\"\"\"COMPUTED_VALUE\"\"\"),\"UEMCLIP\")","v":"UEMCLIP"},{"$f":"IFERROR(__xludf.DUMMYFUNCTION(\"\"\"COMPUTED_VALUE\"\"\"),\"audio/UEMCLIP\")","v":"audio/UEMCLIP"},{"$f":"IFERROR(__xludf.DUMMYFUNCTION(\"\"\"COMPUTED_VALUE\"\"\"),\"en\")","v":"en"}]
[{"$f":"IFERROR(__xludf.DUMMYFUNCTION(\"\"\"COMPUTED_VALUE\"\"\"),\"https://www.iana.org/assignments/media-types/audio/ulpfec\")","v":"https://www.iana.org/assignments/media-types/audio/ulpfec"},{"$f":"IFERROR(__xludf.DUMMYFUNCTION(\"\"\"COMPUTED_VALUE\"\"\"),\"ulpfec\")","v":"ulpfec"},{"$f":"IFERROR(__xludf.DUMMYFUNCTION(\"\"\"COMPUTED_VALUE\"\"\"),\"ulpfec\")","v":"ulpfec"},{"$f":"IFERROR(__xludf.DUMMYFUNCTION(\"\"\"COMPUTED_VALUE\"\"\"),\"audio/ulpfec\")","v":"audio/ulpfec"},{"$f":"IFERROR(__xludf.DUMMYFUNCTION(\"\"\"COMPUTED_VALUE\"\"\"),\"en\")","v":"en"}]
[{"$f":"IFERROR(__xludf.DUMMYFUNCTION(\"\"\"COMPUTED_VALUE\"\"\"),\"https://www.iana.org/assignments/media-types/audio/usac\")","v":"https://www.iana.org/assignments/media-types/audio/usac"},{"$f":"IFERROR(__xludf.DUMMYFUNCTION(\"\"\"COMPUTED_VALUE\"\"\"),\"usac\")","v":"usac"},{"$f":"IFERROR(__xludf.DUMMYFUNCTION(\"\"\"COMPUTED_VALUE\"\"\"),\"usac\")","v":"usac"},{"$f":"IFERROR(__xludf.DUMMYFUNCTION(\"\"\"COMPUTED_VALUE\"\"\"),\"audio/usac\")","v":"audio/usac"},{"$f":"IFERROR(__xludf.DUMMYFUNCTION(\"\"\"COMPUTED_VALUE\"\"\"),\"en\")","v":"en"}]
[{"$f":"IFERROR(__xludf.DUMMYFUNCTION(\"\"\"COMPUTED_VALUE\"\"\"),\"https://www.iana.org/assignments/media-types/audio/VDVI\")","v":"https://www.iana.org/assignments/media-types/audio/VDVI"},{"$f":"IFERROR(__xludf.DUMMYFUNCTION(\"\"\"COMPUTED_VALUE\"\"\"),\"VDVI\")","v":"VDVI"},{"$f":"IFERROR(__xludf.DUMMYFUNCTION(\"\"\"COMPUTED_VALUE\"\"\"),\"VDVI\")","v":"VDVI"},{"$f":"IFERROR(__xludf.DUMMYFUNCTION(\"\"\"COMPUTED_VALUE\"\"\"),\"audio/VDVI\")","v":"audio/VDVI"},{"$f":"IFERROR(__xludf.DUMMYFUNCTION(\"\"\"COMPUTED_VALUE\"\"\"),\"en\")","v":"en"}]
[{"$f":"IFERROR(__xludf.DUMMYFUNCTION(\"\"\"COMPUTED_VALUE\"\"\"),\"https://www.iana.org/assignments/media-types/audio/VMR-WB\")","v":"https://www.iana.org/assignments/media-types/audio/VMR-WB"},{"$f":"IFERROR(__xludf.DUMMYFUNCTION(\"\"\"COMPUTED_VALUE\"\"\"),\"VMR-WB\")","v":"VMR-WB"},{"$f":"IFERROR(__xludf.DUMMYFUNCTION(\"\"\"COMPUTED_VALUE\"\"\"),\"VMR-WB\")","v":"VMR-WB"},{"$f":"IFERROR(__xludf.DUMMYFUNCTION(\"\"\"COMPUTED_VALUE\"\"\"),\"audio/VMR-WB\")","v":"audio/VMR-WB"},{"$f":"IFERROR(__xludf.DUMMYFUNCTION(\"\"\"COMPUTED_VALUE\"\"\"),\"en\")","v":"en"}]
[{"$f":"IFERROR(__xludf.DUMMYFUNCTION(\"\"\"COMPUTED_VALUE\"\"\"),\"https://www.iana.org/assignments/media-types/audio/vnd.3gpp.iufp\")","v":"https://www.iana.org/assignments/media-types/audio/vnd.3gpp.iufp"},{"$f":"IFERROR(__xludf.DUMMYFUNCTION(\"\"\"COMPUTED_VALUE\"\"\"),\"vnd.3gpp.iufp\")","v":"vnd.3gpp.iufp"},{"$f":"IFERROR(__xludf.DUMMYFUNCTION(\"\"\"COMPUTED_VALUE\"\"\"),\"vnd.3gpp.iufp\")","v":"vnd.3gpp.iufp"},{"$f":"IFERROR(__xludf.DUMMYFUNCTION(\"\"\"COMPUTED_VALUE\"\"\"),\"audio/vnd.3gpp.iufp\")","v":"audio/vnd.3gpp.iufp"},{"$f":"IFERROR(__xludf.DUMMYFUNCTION(\"\"\"COMPUTED_VALUE\"\"\"),\"en\")","v":"en"}]
[{"$f":"IFERROR(__xludf.DUMMYFUNCTION(\"\"\"COMPUTED_VALUE\"\"\"),\"https://www.iana.org/assignments/media-types/audio/vnd.4SB\")","v":"https://www.iana.org/assignments/media-types/audio/vnd.4SB"},{"$f":"IFERROR(__xludf.DUMMYFUNCTION(\"\"\"COMPUTED_VALUE\"\"\"),\"vnd.4SB\")","v":"vnd.4SB"},{"$f":"IFERROR(__xludf.DUMMYFUNCTION(\"\"\"COMPUTED_VALUE\"\"\"),\"vnd.4SB\")","v":"vnd.4SB"},{"$f":"IFERROR(__xludf.DUMMYFUNCTION(\"\"\"COMPUTED_VALUE\"\"\"),\"audio/vnd.4SB\")","v":"audio/vnd.4SB"},{"$f":"IFERROR(__xludf.DUMMYFUNCTION(\"\"\"COMPUTED_VALUE\"\"\"),\"en\")","v":"en"}]
[{"$f":"IFERROR(__xludf.DUMMYFUNCTION(\"\"\"COMPUTED_VALUE\"\"\"),\"https://www.iana.org/assignments/media-types/audio/vnd.audiokoz\")","v":"https://www.iana.org/assignments/media-types/audio/vnd.audiokoz"},{"$f":"IFERROR(__xludf.DUMMYFUNCTION(\"\"\"COMPUTED_VALUE\"\"\"),\"vnd.audiokoz\")","v":"vnd.audiokoz"},{"$f":"IFERROR(__xludf.DUMMYFUNCTION(\"\"\"COMPUTED_VALUE\"\"\"),\"vnd.audiokoz\")","v":"vnd.audiokoz"},{"$f":"IFERROR(__xludf.DUMMYFUNCTION(\"\"\"COMPUTED_VALUE\"\"\"),\"audio/vnd.audiokoz\")","v":"audio/vnd.audiokoz"},{"$f":"IFERROR(__xludf.DUMMYFUNCTION(\"\"\"COMPUTED_VALUE\"\"\"),\"en\")","v":"en"}]
[{"$f":"IFERROR(__xludf.DUMMYFUNCTION(\"\"\"COMPUTED_VALUE\"\"\"),\"https://www.iana.org/assignments/media-types/audio/vnd.CELP\")","v":"https://www.iana.org/assignments/media-types/audio/vnd.CELP"},{"$f":"IFERROR(__xludf.DUMMYFUNCTION(\"\"\"COMPUTED_VALUE\"\"\"),\"vnd.CELP\")","v":"vnd.CELP"},{"$f":"IFERROR(__xludf.DUMMYFUNCTION(\"\"\"COMPUTED_VALUE\"\"\"),\"vnd.CELP\")","v":"vnd.CELP"},{"$f":"IFERROR(__xludf.DUMMYFUNCTION(\"\"\"COMPUTED_VALUE\"\"\"),\"audio/vnd.CELP\")","v":"audio/vnd.CELP"},{"$f":"IFERROR(__xludf.DUMMYFUNCTION(\"\"\"COMPUTED_VALUE\"\"\"),\"en\")","v":"en"}]
[{"$f":"IFERROR(__xludf.DUMMYFUNCTION(\"\"\"COMPUTED_VALUE\"\"\"),\"https://www.iana.org/assignments/media-types/audio/vnd.cisco.nse\")","v":"https://www.iana.org/assignments/media-types/audio/vnd.cisco.nse"},{"$f":"IFERROR(__xludf.DUMMYFUNCTION(\"\"\"COMPUTED_VALUE\"\"\"),\"vnd.cisco.nse\")","v":"vnd.cisco.nse"},{"$f":"IFERROR(__xludf.DUMMYFUNCTION(\"\"\"COMPUTED_VALUE\"\"\"),\"vnd.cisco.nse\")","v":"vnd.cisco.nse"},{"$f":"IFERROR(__xludf.DUMMYFUNCTION(\"\"\"COMPUTED_VALUE\"\"\"),\"audio/vnd.cisco.nse\")","v":"audio/vnd.cisco.nse"},{"$f":"IFERROR(__xludf.DUMMYFUNCTION(\"\"\"COMPUTED_VALUE\"\"\"),\"en\")","v":"en"}]
[{"$f":"IFERROR(__xludf.DUMMYFUNCTION(\"\"\"COMPUTED_VALUE\"\"\"),\"https://www.iana.org/assignments/media-types/audio/vnd.cmles.radio-events\")","v":"https://www.iana.org/assignments/media-types/audio/vnd.cmles.radio-events"},{"$f":"IFERROR(__xludf.DUMMYFUNCTION(\"\"\"COMPUTED_VALUE\"\"\"),\"vnd.cmles.radio-events\")","v":"vnd.cmles.radio-events"},{"$f":"IFERROR(__xludf.DUMMYFUNCTION(\"\"\"COMPUTED_VALUE\"\"\"),\"vnd.cmles.radio-events\")","v":"vnd.cmles.radio-events"},{"$f":"IFERROR(__xludf.DUMMYFUNCTION(\"\"\"COMPUTED_VALUE\"\"\"),\"audio/vnd.cmles.radio-events\")","v":"audio/vnd.cmles.radio-events"},{"$f":"IFERROR(__xludf.DUMMYFUNCTION(\"\"\"COMPUTED_VALUE\"\"\"),\"en\")","v":"en"}]
[{"$f":"IFERROR(__xludf.DUMMYFUNCTION(\"\"\"COMPUTED_VALUE\"\"\"),\"https://www.iana.org/assignments/media-types/audio/vnd.cns.anp1\")","v":"https://www.iana.org/assignments/media-types/audio/vnd.cns.anp1"},{"$f":"IFERROR(__xludf.DUMMYFUNCTION(\"\"\"COMPUTED_VALUE\"\"\"),\"vnd.cns.anp1\")","v":"vnd.cns.anp1"},{"$f":"IFERROR(__xludf.DUMMYFUNCTION(\"\"\"COMPUTED_VALUE\"\"\"),\"vnd.cns.anp1\")","v":"vnd.cns.anp1"},{"$f":"IFERROR(__xludf.DUMMYFUNCTION(\"\"\"COMPUTED_VALUE\"\"\"),\"audio/vnd.cns.anp1\")","v":"audio/vnd.cns.anp1"},{"$f":"IFERROR(__xludf.DUMMYFUNCTION(\"\"\"COMPUTED_VALUE\"\"\"),\"en\")","v":"en"}]
[{"$f":"IFERROR(__xludf.DUMMYFUNCTION(\"\"\"COMPUTED_VALUE\"\"\"),\"https://www.iana.org/assignments/media-types/audio/vnd.cns.inf1\")","v":"https://www.iana.org/assignments/media-types/audio/vnd.cns.inf1"},{"$f":"IFERROR(__xludf.DUMMYFUNCTION(\"\"\"COMPUTED_VALUE\"\"\"),\"vnd.cns.inf1\")","v":"vnd.cns.inf1"},{"$f":"IFERROR(__xludf.DUMMYFUNCTION(\"\"\"COMPUTED_VALUE\"\"\"),\"vnd.cns.inf1\")","v":"vnd.cns.inf1"},{"$f":"IFERROR(__xludf.DUMMYFUNCTION(\"\"\"COMPUTED_VALUE\"\"\"),\"audio/vnd.cns.inf1\")","v":"audio/vnd.cns.inf1"},{"$f":"IFERROR(__xludf.DUMMYFUNCTION(\"\"\"COMPUTED_VALUE\"\"\"),\"en\")","v":"en"}]
[{"$f":"IFERROR(__xludf.DUMMYFUNCTION(\"\"\"COMPUTED_VALUE\"\"\"),\"https://www.iana.org/assignments/media-types/audio/vnd.dece.audio\")","v":"https://www.iana.org/assignments/media-types/audio/vnd.dece.audio"},{"$f":"IFERROR(__xludf.DUMMYFUNCTION(\"\"\"COMPUTED_VALUE\"\"\"),\"vnd.dece.audio\")","v":"vnd.dece.audio"},{"$f":"IFERROR(__xludf.DUMMYFUNCTION(\"\"\"COMPUTED_VALUE\"\"\"),\"vnd.dece.audio\")","v":"vnd.dece.audio"},{"$f":"IFERROR(__xludf.DUMMYFUNCTION(\"\"\"COMPUTED_VALUE\"\"\"),\"audio/vnd.dece.audio\")","v":"audio/vnd.dece.audio"},{"$f":"IFERROR(__xludf.DUMMYFUNCTION(\"\"\"COMPUTED_VALUE\"\"\"),\"en\")","v":"en"}]
[{"$f":"IFERROR(__xludf.DUMMYFUNCTION(\"\"\"COMPUTED_VALUE\"\"\"),\"https://www.iana.org/assignments/media-types/audio/vnd.digital-winds\")","v":"https://www.iana.org/assignments/media-types/audio/vnd.digital-winds"},{"$f":"IFERROR(__xludf.DUMMYFUNCTION(\"\"\"COMPUTED_VALUE\"\"\"),\"vnd.digital-winds\")","v":"vnd.digital-winds"},{"$f":"IFERROR(__xludf.DUMMYFUNCTION(\"\"\"COMPUTED_VALUE\"\"\"),\"vnd.digital-winds\")","v":"vnd.digital-winds"},{"$f":"IFERROR(__xludf.DUMMYFUNCTION(\"\"\"COMPUTED_VALUE\"\"\"),\"audio/vnd.digital-winds\")","v":"audio/vnd.digital-winds"},{"$f":"IFERROR(__xludf.DUMMYFUNCTION(\"\"\"COMPUTED_VALUE\"\"\"),\"en\")","v":"en"}]
[{"$f":"IFERROR(__xludf.DUMMYFUNCTION(\"\"\"COMPUTED_VALUE\"\"\"),\"https://www.iana.org/assignments/media-types/audio/vnd.dlna.adts\")","v":"https://www.iana.org/assignments/media-types/audio/vnd.dlna.adts"},{"$f":"IFERROR(__xludf.DUMMYFUNCTION(\"\"\"COMPUTED_VALUE\"\"\"),\"vnd.dlna.adts\")","v":"vnd.dlna.adts"},{"$f":"IFERROR(__xludf.DUMMYFUNCTION(\"\"\"COMPUTED_VALUE\"\"\"),\"vnd.dlna.adts\")","v":"vnd.dlna.adts"},{"$f":"IFERROR(__xludf.DUMMYFUNCTION(\"\"\"COMPUTED_VALUE\"\"\"),\"audio/vnd.dlna.adts\")","v":"audio/vnd.dlna.adts"},{"$f":"IFERROR(__xludf.DUMMYFUNCTION(\"\"\"COMPUTED_VALUE\"\"\"),\"en\")","v":"en"}]
[{"$f":"IFERROR(__xludf.DUMMYFUNCTION(\"\"\"COMPUTED_VALUE\"\"\"),\"https://www.iana.org/assignments/media-types/audio/vnd.dolby.heaac.1\")","v":"https://www.iana.org/assignments/media-types/audio/vnd.dolby.heaac.1"},{"$f":"IFERROR(__xludf.DUMMYFUNCTION(\"\"\"COMPUTED_VALUE\"\"\"),\"vnd.dolby.heaac.1\")","v":"vnd.dolby.heaac.1"},{"$f":"IFERROR(__xludf.DUMMYFUNCTION(\"\"\"COMPUTED_VALUE\"\"\"),\"vnd.dolby.heaac.1\")","v":"vnd.dolby.heaac.1"},{"$f":"IFERROR(__xludf.DUMMYFUNCTION(\"\"\"COMPUTED_VALUE\"\"\"),\"audio/vnd.dolby.heaac.1\")","v":"audio/vnd.dolby.heaac.1"},{"$f":"IFERROR(__xludf.DUMMYFUNCTION(\"\"\"COMPUTED_VALUE\"\"\"),\"en\")","v":"en"}]
[{"$f":"IFERROR(__xludf.DUMMYFUNCTION(\"\"\"COMPUTED_VALUE\"\"\"),\"https://www.iana.org/assignments/media-types/audio/vnd.dolby.heaac.2\")","v":"https://www.iana.org/assignments/media-types/audio/vnd.dolby.heaac.2"},{"$f":"IFERROR(__xludf.DUMMYFUNCTION(\"\"\"COMPUTED_VALUE\"\"\"),\"vnd.dolby.heaac.2\")","v":"vnd.dolby.heaac.2"},{"$f":"IFERROR(__xludf.DUMMYFUNCTION(\"\"\"COMPUTED_VALUE\"\"\"),\"vnd.dolby.heaac.2\")","v":"vnd.dolby.heaac.2"},{"$f":"IFERROR(__xludf.DUMMYFUNCTION(\"\"\"COMPUTED_VALUE\"\"\"),\"audio/vnd.dolby.heaac.2\")","v":"audio/vnd.dolby.heaac.2"},{"$f":"IFERROR(__xludf.DUMMYFUNCTION(\"\"\"COMPUTED_VALUE\"\"\"),\"en\")","v":"en"}]
[{"$f":"IFERROR(__xludf.DUMMYFUNCTION(\"\"\"COMPUTED_VALUE\"\"\"),\"https://www.iana.org/assignments/media-types/audio/vnd.dolby.mlp\")","v":"https://www.iana.org/assignments/media-types/audio/vnd.dolby.mlp"},{"$f":"IFERROR(__xludf.DUMMYFUNCTION(\"\"\"COMPUTED_VALUE\"\"\"),\"vnd.dolby.mlp\")","v":"vnd.dolby.mlp"},{"$f":"IFERROR(__xludf.DUMMYFUNCTION(\"\"\"COMPUTED_VALUE\"\"\"),\"vnd.dolby.mlp\")","v":"vnd.dolby.mlp"},{"$f":"IFERROR(__xludf.DUMMYFUNCTION(\"\"\"COMPUTED_VALUE\"\"\"),\"audio/vnd.dolby.mlp\")","v":"audio/vnd.dolby.mlp"},{"$f":"IFERROR(__xludf.DUMMYFUNCTION(\"\"\"COMPUTED_VALUE\"\"\"),\"en\")","v":"en"}]
[{"$f":"IFERROR(__xludf.DUMMYFUNCTION(\"\"\"COMPUTED_VALUE\"\"\"),\"https://www.iana.org/assignments/media-types/audio/vnd.dolby.mps\")","v":"https://www.iana.org/assignments/media-types/audio/vnd.dolby.mps"},{"$f":"IFERROR(__xludf.DUMMYFUNCTION(\"\"\"COMPUTED_VALUE\"\"\"),\"vnd.dolby.mps\")","v":"vnd.dolby.mps"},{"$f":"IFERROR(__xludf.DUMMYFUNCTION(\"\"\"COMPUTED_VALUE\"\"\"),\"vnd.dolby.mps\")","v":"vnd.dolby.mps"},{"$f":"IFERROR(__xludf.DUMMYFUNCTION(\"\"\"COMPUTED_VALUE\"\"\"),\"audio/vnd.dolby.mps\")","v":"audio/vnd.dolby.mps"},{"$f":"IFERROR(__xludf.DUMMYFUNCTION(\"\"\"COMPUTED_VALUE\"\"\"),\"en\")","v":"en"}]
[{"$f":"IFERROR(__xludf.DUMMYFUNCTION(\"\"\"COMPUTED_VALUE\"\"\"),\"https://www.iana.org/assignments/media-types/audio/vnd.dolby.pl2\")","v":"https://www.iana.org/assignments/media-types/audio/vnd.dolby.pl2"},{"$f":"IFERROR(__xludf.DUMMYFUNCTION(\"\"\"COMPUTED_VALUE\"\"\"),\"vnd.dolby.pl2\")","v":"vnd.dolby.pl2"},{"$f":"IFERROR(__xludf.DUMMYFUNCTION(\"\"\"COMPUTED_VALUE\"\"\"),\"vnd.dolby.pl2\")","v":"vnd.dolby.pl2"},{"$f":"IFERROR(__xludf.DUMMYFUNCTION(\"\"\"COMPUTED_VALUE\"\"\"),\"audio/vnd.dolby.pl2\")","v":"audio/vnd.dolby.pl2"},{"$f":"IFERROR(__xludf.DUMMYFUNCTION(\"\"\"COMPUTED_VALUE\"\"\"),\"en\")","v":"en"}]
[{"$f":"IFERROR(__xludf.DUMMYFUNCTION(\"\"\"COMPUTED_VALUE\"\"\"),\"https://www.iana.org/assignments/media-types/audio/vnd.dolby.pl2x\")","v":"https://www.iana.org/assignments/media-types/audio/vnd.dolby.pl2x"},{"$f":"IFERROR(__xludf.DUMMYFUNCTION(\"\"\"COMPUTED_VALUE\"\"\"),\"vnd.dolby.pl2x\")","v":"vnd.dolby.pl2x"},{"$f":"IFERROR(__xludf.DUMMYFUNCTION(\"\"\"COMPUTED_VALUE\"\"\"),\"vnd.dolby.pl2x\")","v":"vnd.dolby.pl2x"},{"$f":"IFERROR(__xludf.DUMMYFUNCTION(\"\"\"COMPUTED_VALUE\"\"\"),\"audio/vnd.dolby.pl2x\")","v":"audio/vnd.dolby.pl2x"},{"$f":"IFERROR(__xludf.DUMMYFUNCTION(\"\"\"COMPUTED_VALUE\"\"\"),\"en\")","v":"en"}]
[{"$f":"IFERROR(__xludf.DUMMYFUNCTION(\"\"\"COMPUTED_VALUE\"\"\"),\"https://www.iana.org/assignments/media-types/audio/vnd.dolby.pl2z\")","v":"https://www.iana.org/assignments/media-types/audio/vnd.dolby.pl2z"},{"$f":"IFERROR(__xludf.DUMMYFUNCTION(\"\"\"COMPUTED_VALUE\"\"\"),\"vnd.dolby.pl2z\")","v":"vnd.dolby.pl2z"},{"$f":"IFERROR(__xludf.DUMMYFUNCTION(\"\"\"COMPUTED_VALUE\"\"\"),\"vnd.dolby.pl2z\")","v":"vnd.dolby.pl2z"},{"$f":"IFERROR(__xludf.DUMMYFUNCTION(\"\"\"COMPUTED_VALUE\"\"\"),\"audio/vnd.dolby.pl2z\")","v":"audio/vnd.dolby.pl2z"},{"$f":"IFERROR(__xludf.DUMMYFUNCTION(\"\"\"COMPUTED_VALUE\"\"\"),\"en\")","v":"en"}]
[{"$f":"IFERROR(__xludf.DUMMYFUNCTION(\"\"\"COMPUTED_VALUE\"\"\"),\"https://www.iana.org/assignments/media-types/audio/vnd.dolby.pulse.1\")","v":"https://www.iana.org/assignments/media-types/audio/vnd.dolby.pulse.1"},{"$f":"IFERROR(__xludf.DUMMYFUNCTION(\"\"\"COMPUTED_VALUE\"\"\"),\"vnd.dolby.pulse.1\")","v":"vnd.dolby.pulse.1"},{"$f":"IFERROR(__xludf.DUMMYFUNCTION(\"\"\"COMPUTED_VALUE\"\"\"),\"vnd.dolby.pulse.1\")","v":"vnd.dolby.pulse.1"},{"$f":"IFERROR(__xludf.DUMMYFUNCTION(\"\"\"COMPUTED_VALUE\"\"\"),\"audio/vnd.dolby.pulse.1\")","v":"audio/vnd.dolby.pulse.1"},{"$f":"IFERROR(__xludf.DUMMYFUNCTION(\"\"\"COMPUTED_VALUE\"\"\"),\"en\")","v":"en"}]
[{"$f":"IFERROR(__xludf.DUMMYFUNCTION(\"\"\"COMPUTED_VALUE\"\"\"),\"https://www.iana.org/assignments/media-types/audio/vnd.dra\")","v":"https://www.iana.org/assignments/media-types/audio/vnd.dra"},{"$f":"IFERROR(__xludf.DUMMYFUNCTION(\"\"\"COMPUTED_VALUE\"\"\"),\"vnd.dra\")","v":"vnd.dra"},{"$f":"IFERROR(__xludf.DUMMYFUNCTION(\"\"\"COMPUTED_VALUE\"\"\"),\"vnd.dra\")","v":"vnd.dra"},{"$f":"IFERROR(__xludf.DUMMYFUNCTION(\"\"\"COMPUTED_VALUE\"\"\"),\"audio/vnd.dra\")","v":"audio/vnd.dra"},{"$f":"IFERROR(__xludf.DUMMYFUNCTION(\"\"\"COMPUTED_VALUE\"\"\"),\"en\")","v":"en"}]
[{"$f":"IFERROR(__xludf.DUMMYFUNCTION(\"\"\"COMPUTED_VALUE\"\"\"),\"https://www.iana.org/assignments/media-types/audio/vnd.dts\")","v":"https://www.iana.org/assignments/media-types/audio/vnd.dts"},{"$f":"IFERROR(__xludf.DUMMYFUNCTION(\"\"\"COMPUTED_VALUE\"\"\"),\"vnd.dts\")","v":"vnd.dts"},{"$f":"IFERROR(__xludf.DUMMYFUNCTION(\"\"\"COMPUTED_VALUE\"\"\"),\"vnd.dts\")","v":"vnd.dts"},{"$f":"IFERROR(__xludf.DUMMYFUNCTION(\"\"\"COMPUTED_VALUE\"\"\"),\"audio/vnd.dts\")","v":"audio/vnd.dts"},{"$f":"IFERROR(__xludf.DUMMYFUNCTION(\"\"\"COMPUTED_VALUE\"\"\"),\"en\")","v":"en"}]
[{"$f":"IFERROR(__xludf.DUMMYFUNCTION(\"\"\"COMPUTED_VALUE\"\"\"),\"https://www.iana.org/assignments/media-types/audio/vnd.dts.hd\")","v":"https://www.iana.org/assignments/media-types/audio/vnd.dts.hd"},{"$f":"IFERROR(__xludf.DUMMYFUNCTION(\"\"\"COMPUTED_VALUE\"\"\"),\"vnd.dts.hd\")","v":"vnd.dts.hd"},{"$f":"IFERROR(__xludf.DUMMYFUNCTION(\"\"\"COMPUTED_VALUE\"\"\"),\"vnd.dts.hd\")","v":"vnd.dts.hd"},{"$f":"IFERROR(__xludf.DUMMYFUNCTION(\"\"\"COMPUTED_VALUE\"\"\"),\"audio/vnd.dts.hd\")","v":"audio/vnd.dts.hd"},{"$f":"IFERROR(__xludf.DUMMYFUNCTION(\"\"\"COMPUTED_VALUE\"\"\"),\"en\")","v":"en"}]
[{"$f":"IFERROR(__xludf.DUMMYFUNCTION(\"\"\"COMPUTED_VALUE\"\"\"),\"https://www.iana.org/assignments/media-types/audio/vnd.dts.uhd\")","v":"https://www.iana.org/assignments/media-types/audio/vnd.dts.uhd"},{"$f":"IFERROR(__xludf.DUMMYFUNCTION(\"\"\"COMPUTED_VALUE\"\"\"),\"vnd.dts.uhd\")","v":"vnd.dts.uhd"},{"$f":"IFERROR(__xludf.DUMMYFUNCTION(\"\"\"COMPUTED_VALUE\"\"\"),\"vnd.dts.uhd\")","v":"vnd.dts.uhd"},{"$f":"IFERROR(__xludf.DUMMYFUNCTION(\"\"\"COMPUTED_VALUE\"\"\"),\"audio/vnd.dts.uhd\")","v":"audio/vnd.dts.uhd"},{"$f":"IFERROR(__xludf.DUMMYFUNCTION(\"\"\"COMPUTED_VALUE\"\"\"),\"en\")","v":"en"}]
[{"$f":"IFERROR(__xludf.DUMMYFUNCTION(\"\"\"COMPUTED_VALUE\"\"\"),\"https://www.iana.org/assignments/media-types/audio/vnd.dvb.file\")","v":"https://www.iana.org/assignments/media-types/audio/vnd.dvb.file"},{"$f":"IFERROR(__xludf.DUMMYFUNCTION(\"\"\"COMPUTED_VALUE\"\"\"),\"vnd.dvb.file\")","v":"vnd.dvb.file"},{"$f":"IFERROR(__xludf.DUMMYFUNCTION(\"\"\"COMPUTED_VALUE\"\"\"),\"vnd.dvb.file\")","v":"vnd.dvb.file"},{"$f":"IFERROR(__xludf.DUMMYFUNCTION(\"\"\"COMPUTED_VALUE\"\"\"),\"audio/vnd.dvb.file\")","v":"audio/vnd.dvb.file"},{"$f":"IFERROR(__xludf.DUMMYFUNCTION(\"\"\"COMPUTED_VALUE\"\"\"),\"en\")","v":"en"}]
[{"$f":"IFERROR(__xludf.DUMMYFUNCTION(\"\"\"COMPUTED_VALUE\"\"\"),\"https://www.iana.org/assignments/media-types/audio/vnd.everad.plj\")","v":"https://www.iana.org/assignments/media-types/audio/vnd.everad.plj"},{"$f":"IFERROR(__xludf.DUMMYFUNCTION(\"\"\"COMPUTED_VALUE\"\"\"),\"vnd.everad.plj\")","v":"vnd.everad.plj"},{"$f":"IFERROR(__xludf.DUMMYFUNCTION(\"\"\"COMPUTED_VALUE\"\"\"),\"vnd.everad.plj\")","v":"vnd.everad.plj"},{"$f":"IFERROR(__xludf.DUMMYFUNCTION(\"\"\"COMPUTED_VALUE\"\"\"),\"audio/vnd.everad.plj\")","v":"audio/vnd.everad.plj"},{"$f":"IFERROR(__xludf.DUMMYFUNCTION(\"\"\"COMPUTED_VALUE\"\"\"),\"en\")","v":"en"}]
[{"$f":"IFERROR(__xludf.DUMMYFUNCTION(\"\"\"COMPUTED_VALUE\"\"\"),\"https://www.iana.org/assignments/media-types/audio/vnd.hns.audio\")","v":"https://www.iana.org/assignments/media-types/audio/vnd.hns.audio"},{"$f":"IFERROR(__xludf.DUMMYFUNCTION(\"\"\"COMPUTED_VALUE\"\"\"),\"vnd.hns.audio\")","v":"vnd.hns.audio"},{"$f":"IFERROR(__xludf.DUMMYFUNCTION(\"\"\"COMPUTED_VALUE\"\"\"),\"vnd.hns.audio\")","v":"vnd.hns.audio"},{"$f":"IFERROR(__xludf.DUMMYFUNCTION(\"\"\"COMPUTED_VALUE\"\"\"),\"audio/vnd.hns.audio\")","v":"audio/vnd.hns.audio"},{"$f":"IFERROR(__xludf.DUMMYFUNCTION(\"\"\"COMPUTED_VALUE\"\"\"),\"en\")","v":"en"}]
[{"$f":"IFERROR(__xludf.DUMMYFUNCTION(\"\"\"COMPUTED_VALUE\"\"\"),\"https://www.iana.org/assignments/media-types/audio/vnd.lucent.voice\")","v":"https://www.iana.org/assignments/media-types/audio/vnd.lucent.voice"},{"$f":"IFERROR(__xludf.DUMMYFUNCTION(\"\"\"COMPUTED_VALUE\"\"\"),\"vnd.lucent.voice\")","v":"vnd.lucent.voice"},{"$f":"IFERROR(__xludf.DUMMYFUNCTION(\"\"\"COMPUTED_VALUE\"\"\"),\"vnd.lucent.voice\")","v":"vnd.lucent.voice"},{"$f":"IFERROR(__xludf.DUMMYFUNCTION(\"\"\"COMPUTED_VALUE\"\"\"),\"audio/vnd.lucent.voice\")","v":"audio/vnd.lucent.voice"},{"$f":"IFERROR(__xludf.DUMMYFUNCTION(\"\"\"COMPUTED_VALUE\"\"\"),\"en\")","v":"en"}]
[{"$f":"IFERROR(__xludf.DUMMYFUNCTION(\"\"\"COMPUTED_VALUE\"\"\"),\"https://www.iana.org/assignments/media-types/audio/vnd.ms-playready.media.pya\")","v":"https://www.iana.org/assignments/media-types/audio/vnd.ms-playready.media.pya"},{"$f":"IFERROR(__xludf.DUMMYFUNCTION(\"\"\"COMPUTED_VALUE\"\"\"),\"vnd.ms-playready.media.pya\")","v":"vnd.ms-playready.media.pya"},{"$f":"IFERROR(__xludf.DUMMYFUNCTION(\"\"\"COMPUTED_VALUE\"\"\"),\"vnd.ms-playready.media.pya\")","v":"vnd.ms-playready.media.pya"},{"$f":"IFERROR(__xludf.DUMMYFUNCTION(\"\"\"COMPUTED_VALUE\"\"\"),\"audio/vnd.ms-playready.media.pya\")","v":"audio/vnd.ms-playready.media.pya"},{"$f":"IFERROR(__xludf.DUMMYFUNCTION(\"\"\"COMPUTED_VALUE\"\"\"),\"en\")","v":"en"}]
[{"$f":"IFERROR(__xludf.DUMMYFUNCTION(\"\"\"COMPUTED_VALUE\"\"\"),\"https://www.iana.org/assignments/media-types/audio/vnd.nokia.mobile-xmf\")","v":"https://www.iana.org/assignments/media-types/audio/vnd.nokia.mobile-xmf"},{"$f":"IFERROR(__xludf.DUMMYFUNCTION(\"\"\"COMPUTED_VALUE\"\"\"),\"vnd.nokia.mobile-xmf\")","v":"vnd.nokia.mobile-xmf"},{"$f":"IFERROR(__xludf.DUMMYFUNCTION(\"\"\"COMPUTED_VALUE\"\"\"),\"vnd.nokia.mobile-xmf\")","v":"vnd.nokia.mobile-xmf"},{"$f":"IFERROR(__xludf.DUMMYFUNCTION(\"\"\"COMPUTED_VALUE\"\"\"),\"audio/vnd.nokia.mobile-xmf\")","v":"audio/vnd.nokia.mobile-xmf"},{"$f":"IFERROR(__xludf.DUMMYFUNCTION(\"\"\"COMPUTED_VALUE\"\"\"),\"en\")","v":"en"}]
[{"$f":"IFERROR(__xludf.DUMMYFUNCTION(\"\"\"COMPUTED_VALUE\"\"\"),\"https://www.iana.org/assignments/media-types/audio/vnd.nortel.vbk\")","v":"https://www.iana.org/assignments/media-types/audio/vnd.nortel.vbk"},{"$f":"IFERROR(__xludf.DUMMYFUNCTION(\"\"\"COMPUTED_VALUE\"\"\"),\"vnd.nortel.vbk\")","v":"vnd.nortel.vbk"},{"$f":"IFERROR(__xludf.DUMMYFUNCTION(\"\"\"COMPUTED_VALUE\"\"\"),\"vnd.nortel.vbk\")","v":"vnd.nortel.vbk"},{"$f":"IFERROR(__xludf.DUMMYFUNCTION(\"\"\"COMPUTED_VALUE\"\"\"),\"audio/vnd.nortel.vbk\")","v":"audio/vnd.nortel.vbk"},{"$f":"IFERROR(__xludf.DUMMYFUNCTION(\"\"\"COMPUTED_VALUE\"\"\"),\"en\")","v":"en"}]
[{"$f":"IFERROR(__xludf.DUMMYFUNCTION(\"\"\"COMPUTED_VALUE\"\"\"),\"https://www.iana.org/assignments/media-types/audio/vnd.nuera.ecelp4800\")","v":"https://www.iana.org/assignments/media-types/audio/vnd.nuera.ecelp4800"},{"$f":"IFERROR(__xludf.DUMMYFUNCTION(\"\"\"COMPUTED_VALUE\"\"\"),\"vnd.nuera.ecelp4800\")","v":"vnd.nuera.ecelp4800"},{"$f":"IFERROR(__xludf.DUMMYFUNCTION(\"\"\"COMPUTED_VALUE\"\"\"),\"vnd.nuera.ecelp4800\")","v":"vnd.nuera.ecelp4800"},{"$f":"IFERROR(__xludf.DUMMYFUNCTION(\"\"\"COMPUTED_VALUE\"\"\"),\"audio/vnd.nuera.ecelp4800\")","v":"audio/vnd.nuera.ecelp4800"},{"$f":"IFERROR(__xludf.DUMMYFUNCTION(\"\"\"COMPUTED_VALUE\"\"\"),\"en\")","v":"en"}]
[{"$f":"IFERROR(__xludf.DUMMYFUNCTION(\"\"\"COMPUTED_VALUE\"\"\"),\"https://www.iana.org/assignments/media-types/audio/vnd.nuera.ecelp7470\")","v":"https://www.iana.org/assignments/media-types/audio/vnd.nuera.ecelp7470"},{"$f":"IFERROR(__xludf.DUMMYFUNCTION(\"\"\"COMPUTED_VALUE\"\"\"),\"vnd.nuera.ecelp7470\")","v":"vnd.nuera.ecelp7470"},{"$f":"IFERROR(__xludf.DUMMYFUNCTION(\"\"\"COMPUTED_VALUE\"\"\"),\"vnd.nuera.ecelp7470\")","v":"vnd.nuera.ecelp7470"},{"$f":"IFERROR(__xludf.DUMMYFUNCTION(\"\"\"COMPUTED_VALUE\"\"\"),\"audio/vnd.nuera.ecelp7470\")","v":"audio/vnd.nuera.ecelp7470"},{"$f":"IFERROR(__xludf.DUMMYFUNCTION(\"\"\"COMPUTED_VALUE\"\"\"),\"en\")","v":"en"}]
[{"$f":"IFERROR(__xludf.DUMMYFUNCTION(\"\"\"COMPUTED_VALUE\"\"\"),\"https://www.iana.org/assignments/media-types/audio/vnd.nuera.ecelp9600\")","v":"https://www.iana.org/assignments/media-types/audio/vnd.nuera.ecelp9600"},{"$f":"IFERROR(__xludf.DUMMYFUNCTION(\"\"\"COMPUTED_VALUE\"\"\"),\"vnd.nuera.ecelp9600\")","v":"vnd.nuera.ecelp9600"},{"$f":"IFERROR(__xludf.DUMMYFUNCTION(\"\"\"COMPUTED_VALUE\"\"\"),\"vnd.nuera.ecelp9600\")","v":"vnd.nuera.ecelp9600"},{"$f":"IFERROR(__xludf.DUMMYFUNCTION(\"\"\"COMPUTED_VALUE\"\"\"),\"audio/vnd.nuera.ecelp9600\")","v":"audio/vnd.nuera.ecelp9600"},{"$f":"IFERROR(__xludf.DUMMYFUNCTION(\"\"\"COMPUTED_VALUE\"\"\"),\"en\")","v":"en"}]
[{"$f":"IFERROR(__xludf.DUMMYFUNCTION(\"\"\"COMPUTED_VALUE\"\"\"),\"https://www.iana.org/assignments/media-types/audio/vnd.octel.sbc\")","v":"https://www.iana.org/assignments/media-types/audio/vnd.octel.sbc"},{"$f":"IFERROR(__xludf.DUMMYFUNCTION(\"\"\"COMPUTED_VALUE\"\"\"),\"vnd.octel.sbc\")","v":"vnd.octel.sbc"},{"$f":"IFERROR(__xludf.DUMMYFUNCTION(\"\"\"COMPUTED_VALUE\"\"\"),\"vnd.octel.sbc\")","v":"vnd.octel.sbc"},{"$f":"IFERROR(__xludf.DUMMYFUNCTION(\"\"\"COMPUTED_VALUE\"\"\"),\"audio/vnd.octel.sbc\")","v":"audio/vnd.octel.sbc"},{"$f":"IFERROR(__xludf.DUMMYFUNCTION(\"\"\"COMPUTED_VALUE\"\"\"),\"en\")","v":"en"}]
[{"$f":"IFERROR(__xludf.DUMMYFUNCTION(\"\"\"COMPUTED_VALUE\"\"\"),\"https://www.iana.org/assignments/media-types/audio/vnd.presonus.multitrack\")","v":"https://www.iana.org/assignments/media-types/audio/vnd.presonus.multitrack"},{"$f":"IFERROR(__xludf.DUMMYFUNCTION(\"\"\"COMPUTED_VALUE\"\"\"),\"vnd.presonus.multitrack\")","v":"vnd.presonus.multitrack"},{"$f":"IFERROR(__xludf.DUMMYFUNCTION(\"\"\"COMPUTED_VALUE\"\"\"),\"vnd.presonus.multitrack\")","v":"vnd.presonus.multitrack"},{"$f":"IFERROR(__xludf.DUMMYFUNCTION(\"\"\"COMPUTED_VALUE\"\"\"),\"audio/vnd.presonus.multitrack\")","v":"audio/vnd.presonus.multitrack"},{"$f":"IFERROR(__xludf.DUMMYFUNCTION(\"\"\"COMPUTED_VALUE\"\"\"),\"en\")","v":"en"}]
[{"$f":"IFERROR(__xludf.DUMMYFUNCTION(\"\"\"COMPUTED_VALUE\"\"\"),\"https://www.iana.org/assignments/media-types/audio/vnd.qcelp\")","v":"https://www.iana.org/assignments/media-types/audio/vnd.qcelp"},{"$f":"IFERROR(__xludf.DUMMYFUNCTION(\"\"\"COMPUTED_VALUE\"\"\"),\"vnd.qcelp - DEPRECATED in favor of audio/qcelp\")","v":"vnd.qcelp - DEPRECATED in favor of audio/qcelp"},{"$f":"IFERROR(__xludf.DUMMYFUNCTION(\"\"\"COMPUTED_VALUE\"\"\"),\"vnd.qcelp - DEPRECATED in favor of audio/qcelp\")","v":"vnd.qcelp - DEPRECATED in favor of audio/qcelp"},{"$f":"IFERROR(__xludf.DUMMYFUNCTION(\"\"\"COMPUTED_VALUE\"\"\"),\"audio/vnd.qcelp\")","v":"audio/vnd.qcelp"},{"$f":"IFERROR(__xludf.DUMMYFUNCTION(\"\"\"COMPUTED_VALUE\"\"\"),\"en\")","v":"en"}]
[{"$f":"IFERROR(__xludf.DUMMYFUNCTION(\"\"\"COMPUTED_VALUE\"\"\"),\"https://www.iana.org/assignments/media-types/audio/vnd.rhetorex.32kadpcm\")","v":"https://www.iana.org/assignments/media-types/audio/vnd.rhetorex.32kadpcm"},{"$f":"IFERROR(__xludf.DUMMYFUNCTION(\"\"\"COMPUTED_VALUE\"\"\"),\"vnd.rhetorex.32kadpcm\")","v":"vnd.rhetorex.32kadpcm"},{"$f":"IFERROR(__xludf.DUMMYFUNCTION(\"\"\"COMPUTED_VALUE\"\"\"),\"vnd.rhetorex.32kadpcm\")","v":"vnd.rhetorex.32kadpcm"},{"$f":"IFERROR(__xludf.DUMMYFUNCTION(\"\"\"COMPUTED_VALUE\"\"\"),\"audio/vnd.rhetorex.32kadpcm\")","v":"audio/vnd.rhetorex.32kadpcm"},{"$f":"IFERROR(__xludf.DUMMYFUNCTION(\"\"\"COMPUTED_VALUE\"\"\"),\"en\")","v":"en"}]
[{"$f":"IFERROR(__xludf.DUMMYFUNCTION(\"\"\"COMPUTED_VALUE\"\"\"),\"https://www.iana.org/assignments/media-types/audio/vnd.rip\")","v":"https://www.iana.org/assignments/media-types/audio/vnd.rip"},{"$f":"IFERROR(__xludf.DUMMYFUNCTION(\"\"\"COMPUTED_VALUE\"\"\"),\"vnd.rip\")","v":"vnd.rip"},{"$f":"IFERROR(__xludf.DUMMYFUNCTION(\"\"\"COMPUTED_VALUE\"\"\"),\"vnd.rip\")","v":"vnd.rip"},{"$f":"IFERROR(__xludf.DUMMYFUNCTION(\"\"\"COMPUTED_VALUE\"\"\"),\"audio/vnd.rip\")","v":"audio/vnd.rip"},{"$f":"IFERROR(__xludf.DUMMYFUNCTION(\"\"\"COMPUTED_VALUE\"\"\"),\"en\")","v":"en"}]
[{"$f":"IFERROR(__xludf.DUMMYFUNCTION(\"\"\"COMPUTED_VALUE\"\"\"),\"https://www.iana.org/assignments/media-types/audio/vnd.sealedmedia.softseal.mpeg\")","v":"https://www.iana.org/assignments/media-types/audio/vnd.sealedmedia.softseal.mpeg"},{"$f":"IFERROR(__xludf.DUMMYFUNCTION(\"\"\"COMPUTED_VALUE\"\"\"),\"vnd.sealedmedia.softseal.mpeg\")","v":"vnd.sealedmedia.softseal.mpeg"},{"$f":"IFERROR(__xludf.DUMMYFUNCTION(\"\"\"COMPUTED_VALUE\"\"\"),\"vnd.sealedmedia.softseal.mpeg\")","v":"vnd.sealedmedia.softseal.mpeg"},{"$f":"IFERROR(__xludf.DUMMYFUNCTION(\"\"\"COMPUTED_VALUE\"\"\"),\"audio/vnd.sealedmedia.softseal.mpeg\")","v":"audio/vnd.sealedmedia.softseal.mpeg"},{"$f":"IFERROR(__xludf.DUMMYFUNCTION(\"\"\"COMPUTED_VALUE\"\"\"),\"en\")","v":"en"}]
[{"$f":"IFERROR(__xludf.DUMMYFUNCTION(\"\"\"COMPUTED_VALUE\"\"\"),\"https://www.iana.org/assignments/media-types/audio/vnd.vmx.cvsd\")","v":"https://www.iana.org/assignments/media-types/audio/vnd.vmx.cvsd"},{"$f":"IFERROR(__xludf.DUMMYFUNCTION(\"\"\"COMPUTED_VALUE\"\"\"),\"vnd.vmx.cvsd\")","v":"vnd.vmx.cvsd"},{"$f":"IFERROR(__xludf.DUMMYFUNCTION(\"\"\"COMPUTED_VALUE\"\"\"),\"vnd.vmx.cvsd\")","v":"vnd.vmx.cvsd"},{"$f":"IFERROR(__xludf.DUMMYFUNCTION(\"\"\"COMPUTED_VALUE\"\"\"),\"audio/vnd.vmx.cvsd\")","v":"audio/vnd.vmx.cvsd"},{"$f":"IFERROR(__xludf.DUMMYFUNCTION(\"\"\"COMPUTED_VALUE\"\"\"),\"en\")","v":"en"}]
[{"$f":"IFERROR(__xludf.DUMMYFUNCTION(\"\"\"COMPUTED_VALUE\"\"\"),\"https://www.iana.org/assignments/media-types/audio/vorbis\")","v":"https://www.iana.org/assignments/media-types/audio/vorbis"},{"$f":"IFERROR(__xludf.DUMMYFUNCTION(\"\"\"COMPUTED_VALUE\"\"\"),\"vorbis\")","v":"vorbis"},{"$f":"IFERROR(__xludf.DUMMYFUNCTION(\"\"\"COMPUTED_VALUE\"\"\"),\"vorbis\")","v":"vorbis"},{"$f":"IFERROR(__xludf.DUMMYFUNCTION(\"\"\"COMPUTED_VALUE\"\"\"),\"audio/vorbis\")","v":"audio/vorbis"},{"$f":"IFERROR(__xludf.DUMMYFUNCTION(\"\"\"COMPUTED_VALUE\"\"\"),\"en\")","v":"en"}]
[{"$f":"IFERROR(__xludf.DUMMYFUNCTION(\"\"\"COMPUTED_VALUE\"\"\"),\"https://www.iana.org/assignments/media-types/audio/vorbis-config\")","v":"https://www.iana.org/assignments/media-types/audio/vorbis-config"},{"$f":"IFERROR(__xludf.DUMMYFUNCTION(\"\"\"COMPUTED_VALUE\"\"\"),\"vorbis-config\")","v":"vorbis-config"},{"$f":"IFERROR(__xludf.DUMMYFUNCTION(\"\"\"COMPUTED_VALUE\"\"\"),\"vorbis-config\")","v":"vorbis-config"},{"$f":"IFERROR(__xludf.DUMMYFUNCTION(\"\"\"COMPUTED_VALUE\"\"\"),\"audio/vorbis-config\")","v":"audio/vorbis-config"},{"$f":"IFERROR(__xludf.DUMMYFUNCTION(\"\"\"COMPUTED_VALUE\"\"\"),\"en\")","v":"en"}]
[{"$f":"IFERROR(__xludf.DUMMYFUNCTION(\"\"\"COMPUTED_VALUE\"\"\"),\"https://www.iana.org/assignments/media-types/video/1d-interleaved-parityfec\")","v":"https://www.iana.org/assignments/media-types/video/1d-interleaved-parityfec"},{"$f":"IFERROR(__xludf.DUMMYFUNCTION(\"\"\"COMPUTED_VALUE\"\"\"),\"1d-interleaved-parityfec\")","v":"1d-interleaved-parityfec"},{"$f":"IFERROR(__xludf.DUMMYFUNCTION(\"\"\"COMPUTED_VALUE\"\"\"),\"1d-interleaved-parityfec\")","v":"1d-interleaved-parityfec"},{"$f":"IFERROR(__xludf.DUMMYFUNCTION(\"\"\"COMPUTED_VALUE\"\"\"),\"video/1d-interleaved-parityfec\")","v":"video/1d-interleaved-parityfec"},{"$f":"IFERROR(__xludf.DUMMYFUNCTION(\"\"\"COMPUTED_VALUE\"\"\"),\"en\")","v":"en"}]
[{"$f":"IFERROR(__xludf.DUMMYFUNCTION(\"\"\"COMPUTED_VALUE\"\"\"),\"https://www.iana.org/assignments/media-types/video/3gpp\")","v":"https://www.iana.org/assignments/media-types/video/3gpp"},{"$f":"IFERROR(__xludf.DUMMYFUNCTION(\"\"\"COMPUTED_VALUE\"\"\"),\"3gpp\")","v":"3gpp"},{"$f":"IFERROR(__xludf.DUMMYFUNCTION(\"\"\"COMPUTED_VALUE\"\"\"),\"3gpp\")","v":"3gpp"},{"$f":"IFERROR(__xludf.DUMMYFUNCTION(\"\"\"COMPUTED_VALUE\"\"\"),\"video/3gpp\")","v":"video/3gpp"},{"$f":"IFERROR(__xludf.DUMMYFUNCTION(\"\"\"COMPUTED_VALUE\"\"\"),\"en\")","v":"en"}]
[{"$f":"IFERROR(__xludf.DUMMYFUNCTION(\"\"\"COMPUTED_VALUE\"\"\"),\"https://www.iana.org/assignments/media-types/video/3gpp2\")","v":"https://www.iana.org/assignments/media-types/video/3gpp2"},{"$f":"IFERROR(__xludf.DUMMYFUNCTION(\"\"\"COMPUTED_VALUE\"\"\"),\"3gpp2\")","v":"3gpp2"},{"$f":"IFERROR(__xludf.DUMMYFUNCTION(\"\"\"COMPUTED_VALUE\"\"\"),\"3gpp2\")","v":"3gpp2"},{"$f":"IFERROR(__xludf.DUMMYFUNCTION(\"\"\"COMPUTED_VALUE\"\"\"),\"video/3gpp2\")","v":"video/3gpp2"},{"$f":"IFERROR(__xludf.DUMMYFUNCTION(\"\"\"COMPUTED_VALUE\"\"\"),\"en\")","v":"en"}]
[{"$f":"IFERROR(__xludf.DUMMYFUNCTION(\"\"\"COMPUTED_VALUE\"\"\"),\"https://www.iana.org/assignments/media-types/video/3gpp-tt\")","v":"https://www.iana.org/assignments/media-types/video/3gpp-tt"},{"$f":"IFERROR(__xludf.DUMMYFUNCTION(\"\"\"COMPUTED_VALUE\"\"\"),\"3gpp-tt\")","v":"3gpp-tt"},{"$f":"IFERROR(__xludf.DUMMYFUNCTION(\"\"\"COMPUTED_VALUE\"\"\"),\"3gpp-tt\")","v":"3gpp-tt"},{"$f":"IFERROR(__xludf.DUMMYFUNCTION(\"\"\"COMPUTED_VALUE\"\"\"),\"video/3gpp-tt\")","v":"video/3gpp-tt"},{"$f":"IFERROR(__xludf.DUMMYFUNCTION(\"\"\"COMPUTED_VALUE\"\"\"),\"en\")","v":"en"}]
[{"$f":"IFERROR(__xludf.DUMMYFUNCTION(\"\"\"COMPUTED_VALUE\"\"\"),\"https://www.iana.org/assignments/media-types/video/AV1\")","v":"https://www.iana.org/assignments/media-types/video/AV1"},{"$f":"IFERROR(__xludf.DUMMYFUNCTION(\"\"\"COMPUTED_VALUE\"\"\"),\"AV1\")","v":"AV1"},{"$f":"IFERROR(__xludf.DUMMYFUNCTION(\"\"\"COMPUTED_VALUE\"\"\"),\"AV1\")","v":"AV1"},{"$f":"IFERROR(__xludf.DUMMYFUNCTION(\"\"\"COMPUTED_VALUE\"\"\"),\"video/AV1\")","v":"video/AV1"},{"$f":"IFERROR(__xludf.DUMMYFUNCTION(\"\"\"COMPUTED_VALUE\"\"\"),\"en\")","v":"en"}]
[{"$f":"IFERROR(__xludf.DUMMYFUNCTION(\"\"\"COMPUTED_VALUE\"\"\"),\"https://www.iana.org/assignments/media-types/video/BMPEG\")","v":"https://www.iana.org/assignments/media-types/video/BMPEG"},{"$f":"IFERROR(__xludf.DUMMYFUNCTION(\"\"\"COMPUTED_VALUE\"\"\"),\"BMPEG\")","v":"BMPEG"},{"$f":"IFERROR(__xludf.DUMMYFUNCTION(\"\"\"COMPUTED_VALUE\"\"\"),\"BMPEG\")","v":"BMPEG"},{"$f":"IFERROR(__xludf.DUMMYFUNCTION(\"\"\"COMPUTED_VALUE\"\"\"),\"video/BMPEG\")","v":"video/BMPEG"},{"$f":"IFERROR(__xludf.DUMMYFUNCTION(\"\"\"COMPUTED_VALUE\"\"\"),\"en\")","v":"en"}]
[{"$f":"IFERROR(__xludf.DUMMYFUNCTION(\"\"\"COMPUTED_VALUE\"\"\"),\"https://www.iana.org/assignments/media-types/video/BT656\")","v":"https://www.iana.org/assignments/media-types/video/BT656"},{"$f":"IFERROR(__xludf.DUMMYFUNCTION(\"\"\"COMPUTED_VALUE\"\"\"),\"BT656\")","v":"BT656"},{"$f":"IFERROR(__xludf.DUMMYFUNCTION(\"\"\"COMPUTED_VALUE\"\"\"),\"BT656\")","v":"BT656"},{"$f":"IFERROR(__xludf.DUMMYFUNCTION(\"\"\"COMPUTED_VALUE\"\"\"),\"video/BT656\")","v":"video/BT656"},{"$f":"IFERROR(__xludf.DUMMYFUNCTION(\"\"\"COMPUTED_VALUE\"\"\"),\"en\")","v":"en"}]
[{"$f":"IFERROR(__xludf.DUMMYFUNCTION(\"\"\"COMPUTED_VALUE\"\"\"),\"https://www.iana.org/assignments/media-types/video/CelB\")","v":"https://www.iana.org/assignments/media-types/video/CelB"},{"$f":"IFERROR(__xludf.DUMMYFUNCTION(\"\"\"COMPUTED_VALUE\"\"\"),\"CelB\")","v":"CelB"},{"$f":"IFERROR(__xludf.DUMMYFUNCTION(\"\"\"COMPUTED_VALUE\"\"\"),\"CelB\")","v":"CelB"},{"$f":"IFERROR(__xludf.DUMMYFUNCTION(\"\"\"COMPUTED_VALUE\"\"\"),\"video/CelB\")","v":"video/CelB"},{"$f":"IFERROR(__xludf.DUMMYFUNCTION(\"\"\"COMPUTED_VALUE\"\"\"),\"en\")","v":"en"}]
[{"$f":"IFERROR(__xludf.DUMMYFUNCTION(\"\"\"COMPUTED_VALUE\"\"\"),\"https://www.iana.org/assignments/media-types/video/DV\")","v":"https://www.iana.org/assignments/media-types/video/DV"},{"$f":"IFERROR(__xludf.DUMMYFUNCTION(\"\"\"COMPUTED_VALUE\"\"\"),\"DV\")","v":"DV"},{"$f":"IFERROR(__xludf.DUMMYFUNCTION(\"\"\"COMPUTED_VALUE\"\"\"),\"DV\")","v":"DV"},{"$f":"IFERROR(__xludf.DUMMYFUNCTION(\"\"\"COMPUTED_VALUE\"\"\"),\"video/DV\")","v":"video/DV"},{"$f":"IFERROR(__xludf.DUMMYFUNCTION(\"\"\"COMPUTED_VALUE\"\"\"),\"en\")","v":"en"}]
[{"$f":"IFERROR(__xludf.DUMMYFUNCTION(\"\"\"COMPUTED_VALUE\"\"\"),\"https://www.iana.org/assignments/media-types/video/encaprtp\")","v":"https://www.iana.org/assignments/media-types/video/encaprtp"},{"$f":"IFERROR(__xludf.DUMMYFUNCTION(\"\"\"COMPUTED_VALUE\"\"\"),\"encaprtp\")","v":"encaprtp"},{"$f":"IFERROR(__xludf.DUMMYFUNCTION(\"\"\"COMPUTED_VALUE\"\"\"),\"encaprtp\")","v":"encaprtp"},{"$f":"IFERROR(__xludf.DUMMYFUNCTION(\"\"\"COMPUTED_VALUE\"\"\"),\"video/encaprtp\")","v":"video/encaprtp"},{"$f":"IFERROR(__xludf.DUMMYFUNCTION(\"\"\"COMPUTED_VALUE\"\"\"),\"en\")","v":"en"}]
[{"$f":"IFERROR(__xludf.DUMMYFUNCTION(\"\"\"COMPUTED_VALUE\"\"\"),\"https://www.iana.org/assignments/media-types/video/example\")","v":"https://www.iana.org/assignments/media-types/video/example"},{"$f":"IFERROR(__xludf.DUMMYFUNCTION(\"\"\"COMPUTED_VALUE\"\"\"),\"example\")","v":"example"},{"$f":"IFERROR(__xludf.DUMMYFUNCTION(\"\"\"COMPUTED_VALUE\"\"\"),\"example\")","v":"example"},{"$f":"IFERROR(__xludf.DUMMYFUNCTION(\"\"\"COMPUTED_VALUE\"\"\"),\"video/example\")","v":"video/example"},{"$f":"IFERROR(__xludf.DUMMYFUNCTION(\"\"\"COMPUTED_VALUE\"\"\"),\"en\")","v":"en"}]
[{"$f":"IFERROR(__xludf.DUMMYFUNCTION(\"\"\"COMPUTED_VALUE\"\"\"),\"https://www.iana.org/assignments/media-types/video/FFV1\")","v":"https://www.iana.org/assignments/media-types/video/FFV1"},{"$f":"IFERROR(__xludf.DUMMYFUNCTION(\"\"\"COMPUTED_VALUE\"\"\"),\"FFV1\")","v":"FFV1"},{"$f":"IFERROR(__xludf.DUMMYFUNCTION(\"\"\"COMPUTED_VALUE\"\"\"),\"FFV1\")","v":"FFV1"},{"$f":"IFERROR(__xludf.DUMMYFUNCTION(\"\"\"COMPUTED_VALUE\"\"\"),\"video/FFV1\")","v":"video/FFV1"},{"$f":"IFERROR(__xludf.DUMMYFUNCTION(\"\"\"COMPUTED_VALUE\"\"\"),\"en\")","v":"en"}]
[{"$f":"IFERROR(__xludf.DUMMYFUNCTION(\"\"\"COMPUTED_VALUE\"\"\"),\"https://www.iana.org/assignments/media-types/video/flexfec\")","v":"https://www.iana.org/assignments/media-types/video/flexfec"},{"$f":"IFERROR(__xludf.DUMMYFUNCTION(\"\"\"COMPUTED_VALUE\"\"\"),\"flexfec\")","v":"flexfec"},{"$f":"IFERROR(__xludf.DUMMYFUNCTION(\"\"\"COMPUTED_VALUE\"\"\"),\"flexfec\")","v":"flexfec"},{"$f":"IFERROR(__xludf.DUMMYFUNCTION(\"\"\"COMPUTED_VALUE\"\"\"),\"video/flexfec\")","v":"video/flexfec"},{"$f":"IFERROR(__xludf.DUMMYFUNCTION(\"\"\"COMPUTED_VALUE\"\"\"),\"en\")","v":"en"}]
[{"$f":"IFERROR(__xludf.DUMMYFUNCTION(\"\"\"COMPUTED_VALUE\"\"\"),\"https://www.iana.org/assignments/media-types/video/H261\")","v":"https://www.iana.org/assignments/media-types/video/H261"},{"$f":"IFERROR(__xludf.DUMMYFUNCTION(\"\"\"COMPUTED_VALUE\"\"\"),\"H261\")","v":"H261"},{"$f":"IFERROR(__xludf.DUMMYFUNCTION(\"\"\"COMPUTED_VALUE\"\"\"),\"H261\")","v":"H261"},{"$f":"IFERROR(__xludf.DUMMYFUNCTION(\"\"\"COMPUTED_VALUE\"\"\"),\"video/H261\")","v":"video/H261"},{"$f":"IFERROR(__xludf.DUMMYFUNCTION(\"\"\"COMPUTED_VALUE\"\"\"),\"en\")","v":"en"}]
[{"$f":"IFERROR(__xludf.DUMMYFUNCTION(\"\"\"COMPUTED_VALUE\"\"\"),\"https://www.iana.org/assignments/media-types/video/H263\")","v":"https://www.iana.org/assignments/media-types/video/H263"},{"$f":"IFERROR(__xludf.DUMMYFUNCTION(\"\"\"COMPUTED_VALUE\"\"\"),\"H263\")","v":"H263"},{"$f":"IFERROR(__xludf.DUMMYFUNCTION(\"\"\"COMPUTED_VALUE\"\"\"),\"H263\")","v":"H263"},{"$f":"IFERROR(__xludf.DUMMYFUNCTION(\"\"\"COMPUTED_VALUE\"\"\"),\"video/H263\")","v":"video/H263"},{"$f":"IFERROR(__xludf.DUMMYFUNCTION(\"\"\"COMPUTED_VALUE\"\"\"),\"en\")","v":"en"}]
[{"$f":"IFERROR(__xludf.DUMMYFUNCTION(\"\"\"COMPUTED_VALUE\"\"\"),\"https://www.iana.org/assignments/media-types/video/H263-1998\")","v":"https://www.iana.org/assignments/media-types/video/H263-1998"},{"$f":"IFERROR(__xludf.DUMMYFUNCTION(\"\"\"COMPUTED_VALUE\"\"\"),\"H263-1998\")","v":"H263-1998"},{"$f":"IFERROR(__xludf.DUMMYFUNCTION(\"\"\"COMPUTED_VALUE\"\"\"),\"H263-1998\")","v":"H263-1998"},{"$f":"IFERROR(__xludf.DUMMYFUNCTION(\"\"\"COMPUTED_VALUE\"\"\"),\"video/H263-1998\")","v":"video/H263-1998"},{"$f":"IFERROR(__xludf.DUMMYFUNCTION(\"\"\"COMPUTED_VALUE\"\"\"),\"en\")","v":"en"}]
[{"$f":"IFERROR(__xludf.DUMMYFUNCTION(\"\"\"COMPUTED_VALUE\"\"\"),\"https://www.iana.org/assignments/media-types/video/H263-2000\")","v":"https://www.iana.org/assignments/media-types/video/H263-2000"},{"$f":"IFERROR(__xludf.DUMMYFUNCTION(\"\"\"COMPUTED_VALUE\"\"\"),\"H263-2000\")","v":"H263-2000"},{"$f":"IFERROR(__xludf.DUMMYFUNCTION(\"\"\"COMPUTED_VALUE\"\"\"),\"H263-2000\")","v":"H263-2000"},{"$f":"IFERROR(__xludf.DUMMYFUNCTION(\"\"\"COMPUTED_VALUE\"\"\"),\"video/H263-2000\")","v":"video/H263-2000"},{"$f":"IFERROR(__xludf.DUMMYFUNCTION(\"\"\"COMPUTED_VALUE\"\"\"),\"en\")","v":"en"}]
[{"$f":"IFERROR(__xludf.DUMMYFUNCTION(\"\"\"COMPUTED_VALUE\"\"\"),\"https://www.iana.org/assignments/media-types/video/H264\")","v":"https://www.iana.org/assignments/media-types/video/H264"},{"$f":"IFERROR(__xludf.DUMMYFUNCTION(\"\"\"COMPUTED_VALUE\"\"\"),\"H264\")","v":"H264"},{"$f":"IFERROR(__xludf.DUMMYFUNCTION(\"\"\"COMPUTED_VALUE\"\"\"),\"H264\")","v":"H264"},{"$f":"IFERROR(__xludf.DUMMYFUNCTION(\"\"\"COMPUTED_VALUE\"\"\"),\"video/H264\")","v":"video/H264"},{"$f":"IFERROR(__xludf.DUMMYFUNCTION(\"\"\"COMPUTED_VALUE\"\"\"),\"en\")","v":"en"}]
[{"$f":"IFERROR(__xludf.DUMMYFUNCTION(\"\"\"COMPUTED_VALUE\"\"\"),\"https://www.iana.org/assignments/media-types/video/H264-RCDO\")","v":"https://www.iana.org/assignments/media-types/video/H264-RCDO"},{"$f":"IFERROR(__xludf.DUMMYFUNCTION(\"\"\"COMPUTED_VALUE\"\"\"),\"H264-RCDO\")","v":"H264-RCDO"},{"$f":"IFERROR(__xludf.DUMMYFUNCTION(\"\"\"COMPUTED_VALUE\"\"\"),\"H264-RCDO\")","v":"H264-RCDO"},{"$f":"IFERROR(__xludf.DUMMYFUNCTION(\"\"\"COMPUTED_VALUE\"\"\"),\"video/H264-RCDO\")","v":"video/H264-RCDO"},{"$f":"IFERROR(__xludf.DUMMYFUNCTION(\"\"\"COMPUTED_VALUE\"\"\"),\"en\")","v":"en"}]
[{"$f":"IFERROR(__xludf.DUMMYFUNCTION(\"\"\"COMPUTED_VALUE\"\"\"),\"https://www.iana.org/assignments/media-types/video/H264-SVC\")","v":"https://www.iana.org/assignments/media-types/video/H264-SVC"},{"$f":"IFERROR(__xludf.DUMMYFUNCTION(\"\"\"COMPUTED_VALUE\"\"\"),\"H264-SVC\")","v":"H264-SVC"},{"$f":"IFERROR(__xludf.DUMMYFUNCTION(\"\"\"COMPUTED_VALUE\"\"\"),\"H264-SVC\")","v":"H264-SVC"},{"$f":"IFERROR(__xludf.DUMMYFUNCTION(\"\"\"COMPUTED_VALUE\"\"\"),\"video/H264-SVC\")","v":"video/H264-SVC"},{"$f":"IFERROR(__xludf.DUMMYFUNCTION(\"\"\"COMPUTED_VALUE\"\"\"),\"en\")","v":"en"}]
[{"$f":"IFERROR(__xludf.DUMMYFUNCTION(\"\"\"COMPUTED_VALUE\"\"\"),\"https://www.iana.org/assignments/media-types/video/H265\")","v":"https://www.iana.org/assignments/media-types/video/H265"},{"$f":"IFERROR(__xludf.DUMMYFUNCTION(\"\"\"COMPUTED_VALUE\"\"\"),\"H265\")","v":"H265"},{"$f":"IFERROR(__xludf.DUMMYFUNCTION(\"\"\"COMPUTED_VALUE\"\"\"),\"H265\")","v":"H265"},{"$f":"IFERROR(__xludf.DUMMYFUNCTION(\"\"\"COMPUTED_VALUE\"\"\"),\"video/H265\")","v":"video/H265"},{"$f":"IFERROR(__xludf.DUMMYFUNCTION(\"\"\"COMPUTED_VALUE\"\"\"),\"en\")","v":"en"}]
[{"$f":"IFERROR(__xludf.DUMMYFUNCTION(\"\"\"COMPUTED_VALUE\"\"\"),\"https://www.iana.org/assignments/media-types/video/H266\")","v":"https://www.iana.org/assignments/media-types/video/H266"},{"$f":"IFERROR(__xludf.DUMMYFUNCTION(\"\"\"COMPUTED_VALUE\"\"\"),\"H266\")","v":"H266"},{"$f":"IFERROR(__xludf.DUMMYFUNCTION(\"\"\"COMPUTED_VALUE\"\"\"),\"H266\")","v":"H266"},{"$f":"IFERROR(__xludf.DUMMYFUNCTION(\"\"\"COMPUTED_VALUE\"\"\"),\"video/H266\")","v":"video/H266"},{"$f":"IFERROR(__xludf.DUMMYFUNCTION(\"\"\"COMPUTED_VALUE\"\"\"),\"en\")","v":"en"}]
[{"$f":"IFERROR(__xludf.DUMMYFUNCTION(\"\"\"COMPUTED_VALUE\"\"\"),\"https://www.iana.org/assignments/media-types/video/iso.segment\")","v":"https://www.iana.org/assignments/media-types/video/iso.segment"},{"$f":"IFERROR(__xludf.DUMMYFUNCTION(\"\"\"COMPUTED_VALUE\"\"\"),\"iso.segment\")","v":"iso.segment"},{"$f":"IFERROR(__xludf.DUMMYFUNCTION(\"\"\"COMPUTED_VALUE\"\"\"),\"iso.segment\")","v":"iso.segment"},{"$f":"IFERROR(__xludf.DUMMYFUNCTION(\"\"\"COMPUTED_VALUE\"\"\"),\"video/iso.segment\")","v":"video/iso.segment"},{"$f":"IFERROR(__xludf.DUMMYFUNCTION(\"\"\"COMPUTED_VALUE\"\"\"),\"en\")","v":"en"}]
[{"$f":"IFERROR(__xludf.DUMMYFUNCTION(\"\"\"COMPUTED_VALUE\"\"\"),\"https://www.iana.org/assignments/media-types/video/JPEG\")","v":"https://www.iana.org/assignments/media-types/video/JPEG"},{"$f":"IFERROR(__xludf.DUMMYFUNCTION(\"\"\"COMPUTED_VALUE\"\"\"),\"JPEG\")","v":"JPEG"},{"$f":"IFERROR(__xludf.DUMMYFUNCTION(\"\"\"COMPUTED_VALUE\"\"\"),\"JPEG\")","v":"JPEG"},{"$f":"IFERROR(__xludf.DUMMYFUNCTION(\"\"\"COMPUTED_VALUE\"\"\"),\"video/JPEG\")","v":"video/JPEG"},{"$f":"IFERROR(__xludf.DUMMYFUNCTION(\"\"\"COMPUTED_VALUE\"\"\"),\"en\")","v":"en"}]
[{"$f":"IFERROR(__xludf.DUMMYFUNCTION(\"\"\"COMPUTED_VALUE\"\"\"),\"https://www.iana.org/assignments/media-types/video/jpeg2000\")","v":"https://www.iana.org/assignments/media-types/video/jpeg2000"},{"$f":"IFERROR(__xludf.DUMMYFUNCTION(\"\"\"COMPUTED_VALUE\"\"\"),\"jpeg2000\")","v":"jpeg2000"},{"$f":"IFERROR(__xludf.DUMMYFUNCTION(\"\"\"COMPUTED_VALUE\"\"\"),\"jpeg2000\")","v":"jpeg2000"},{"$f":"IFERROR(__xludf.DUMMYFUNCTION(\"\"\"COMPUTED_VALUE\"\"\"),\"video/jpeg2000\")","v":"video/jpeg2000"},{"$f":"IFERROR(__xludf.DUMMYFUNCTION(\"\"\"COMPUTED_VALUE\"\"\"),\"en\")","v":"en"}]
[{"$f":"IFERROR(__xludf.DUMMYFUNCTION(\"\"\"COMPUTED_VALUE\"\"\"),\"https://www.iana.org/assignments/media-types/video/jxsv\")","v":"https://www.iana.org/assignments/media-types/video/jxsv"},{"$f":"IFERROR(__xludf.DUMMYFUNCTION(\"\"\"COMPUTED_VALUE\"\"\"),\"jxsv\")","v":"jxsv"},{"$f":"IFERROR(__xludf.DUMMYFUNCTION(\"\"\"COMPUTED_VALUE\"\"\"),\"jxsv\")","v":"jxsv"},{"$f":"IFERROR(__xludf.DUMMYFUNCTION(\"\"\"COMPUTED_VALUE\"\"\"),\"video/jxsv\")","v":"video/jxsv"},{"$f":"IFERROR(__xludf.DUMMYFUNCTION(\"\"\"COMPUTED_VALUE\"\"\"),\"en\")","v":"en"}]
[{"$f":"IFERROR(__xludf.DUMMYFUNCTION(\"\"\"COMPUTED_VALUE\"\"\"),\"https://www.iana.org/assignments/media-types/video/mj2\")","v":"https://www.iana.org/assignments/media-types/video/mj2"},{"$f":"IFERROR(__xludf.DUMMYFUNCTION(\"\"\"COMPUTED_VALUE\"\"\"),\"mj2\")","v":"mj2"},{"$f":"IFERROR(__xludf.DUMMYFUNCTION(\"\"\"COMPUTED_VALUE\"\"\"),\"mj2\")","v":"mj2"},{"$f":"IFERROR(__xludf.DUMMYFUNCTION(\"\"\"COMPUTED_VALUE\"\"\"),\"video/mj2\")","v":"video/mj2"},{"$f":"IFERROR(__xludf.DUMMYFUNCTION(\"\"\"COMPUTED_VALUE\"\"\"),\"en\")","v":"en"}]
[{"$f":"IFERROR(__xludf.DUMMYFUNCTION(\"\"\"COMPUTED_VALUE\"\"\"),\"https://www.iana.org/assignments/media-types/video/MP1S\")","v":"https://www.iana.org/assignments/media-types/video/MP1S"},{"$f":"IFERROR(__xludf.DUMMYFUNCTION(\"\"\"COMPUTED_VALUE\"\"\"),\"MP1S\")","v":"MP1S"},{"$f":"IFERROR(__xludf.DUMMYFUNCTION(\"\"\"COMPUTED_VALUE\"\"\"),\"MP1S\")","v":"MP1S"},{"$f":"IFERROR(__xludf.DUMMYFUNCTION(\"\"\"COMPUTED_VALUE\"\"\"),\"video/MP1S\")","v":"video/MP1S"},{"$f":"IFERROR(__xludf.DUMMYFUNCTION(\"\"\"COMPUTED_VALUE\"\"\"),\"en\")","v":"en"}]
[{"$f":"IFERROR(__xludf.DUMMYFUNCTION(\"\"\"COMPUTED_VALUE\"\"\"),\"https://www.iana.org/assignments/media-types/video/MP2P\")","v":"https://www.iana.org/assignments/media-types/video/MP2P"},{"$f":"IFERROR(__xludf.DUMMYFUNCTION(\"\"\"COMPUTED_VALUE\"\"\"),\"MP2P\")","v":"MP2P"},{"$f":"IFERROR(__xludf.DUMMYFUNCTION(\"\"\"COMPUTED_VALUE\"\"\"),\"MP2P\")","v":"MP2P"},{"$f":"IFERROR(__xludf.DUMMYFUNCTION(\"\"\"COMPUTED_VALUE\"\"\"),\"video/MP2P\")","v":"video/MP2P"},{"$f":"IFERROR(__xludf.DUMMYFUNCTION(\"\"\"COMPUTED_VALUE\"\"\"),\"en\")","v":"en"}]
[{"$f":"IFERROR(__xludf.DUMMYFUNCTION(\"\"\"COMPUTED_VALUE\"\"\"),\"https://www.iana.org/assignments/media-types/video/MP2T\")","v":"https://www.iana.org/assignments/media-types/video/MP2T"},{"$f":"IFERROR(__xludf.DUMMYFUNCTION(\"\"\"COMPUTED_VALUE\"\"\"),\"MP2T\")","v":"MP2T"},{"$f":"IFERROR(__xludf.DUMMYFUNCTION(\"\"\"COMPUTED_VALUE\"\"\"),\"MP2T\")","v":"MP2T"},{"$f":"IFERROR(__xludf.DUMMYFUNCTION(\"\"\"COMPUTED_VALUE\"\"\"),\"video/MP2T\")","v":"video/MP2T"},{"$f":"IFERROR(__xludf.DUMMYFUNCTION(\"\"\"COMPUTED_VALUE\"\"\"),\"en\")","v":"en"}]
[{"$f":"IFERROR(__xludf.DUMMYFUNCTION(\"\"\"COMPUTED_VALUE\"\"\"),\"https://www.iana.org/assignments/media-types/video/mp4\")","v":"https://www.iana.org/assignments/media-types/video/mp4"},{"$f":"IFERROR(__xludf.DUMMYFUNCTION(\"\"\"COMPUTED_VALUE\"\"\"),\"mp4\")","v":"mp4"},{"$f":"IFERROR(__xludf.DUMMYFUNCTION(\"\"\"COMPUTED_VALUE\"\"\"),\"mp4\")","v":"mp4"},{"$f":"IFERROR(__xludf.DUMMYFUNCTION(\"\"\"COMPUTED_VALUE\"\"\"),\"video/mp4\")","v":"video/mp4"},{"$f":"IFERROR(__xludf.DUMMYFUNCTION(\"\"\"COMPUTED_VALUE\"\"\"),\"en\")","v":"en"}]
[{"$f":"IFERROR(__xludf.DUMMYFUNCTION(\"\"\"COMPUTED_VALUE\"\"\"),\"https://www.iana.org/assignments/media-types/video/MP4V-ES\")","v":"https://www.iana.org/assignments/media-types/video/MP4V-ES"},{"$f":"IFERROR(__xludf.DUMMYFUNCTION(\"\"\"COMPUTED_VALUE\"\"\"),\"MP4V-ES\")","v":"MP4V-ES"},{"$f":"IFERROR(__xludf.DUMMYFUNCTION(\"\"\"COMPUTED_VALUE\"\"\"),\"MP4V-ES\")","v":"MP4V-ES"},{"$f":"IFERROR(__xludf.DUMMYFUNCTION(\"\"\"COMPUTED_VALUE\"\"\"),\"video/MP4V-ES\")","v":"video/MP4V-ES"},{"$f":"IFERROR(__xludf.DUMMYFUNCTION(\"\"\"COMPUTED_VALUE\"\"\"),\"en\")","v":"en"}]
[{"$f":"IFERROR(__xludf.DUMMYFUNCTION(\"\"\"COMPUTED_VALUE\"\"\"),\"https://www.iana.org/assignments/media-types/video/MPV\")","v":"https://www.iana.org/assignments/media-types/video/MPV"},{"$f":"IFERROR(__xludf.DUMMYFUNCTION(\"\"\"COMPUTED_VALUE\"\"\"),\"MPV\")","v":"MPV"},{"$f":"IFERROR(__xludf.DUMMYFUNCTION(\"\"\"COMPUTED_VALUE\"\"\"),\"MPV\")","v":"MPV"},{"$f":"IFERROR(__xludf.DUMMYFUNCTION(\"\"\"COMPUTED_VALUE\"\"\"),\"video/MPV\")","v":"video/MPV"},{"$f":"IFERROR(__xludf.DUMMYFUNCTION(\"\"\"COMPUTED_VALUE\"\"\"),\"en\")","v":"en"}]
[{"$f":"IFERROR(__xludf.DUMMYFUNCTION(\"\"\"COMPUTED_VALUE\"\"\"),\"https://www.iana.org/assignments/media-types/\")","v":"https://www.iana.org/assignments/media-types/"},{"$f":"IFERROR(__xludf.DUMMYFUNCTION(\"\"\"COMPUTED_VALUE\"\"\"),\"mpeg\")","v":"mpeg"},{"$f":"IFERROR(__xludf.DUMMYFUNCTION(\"\"\"COMPUTED_VALUE\"\"\"),\"mpeg\")","v":"mpeg"},null,{"$f":"IFERROR(__xludf.DUMMYFUNCTION(\"\"\"COMPUTED_VALUE\"\"\"),\"en\")","v":"en"}]
[{"$f":"IFERROR(__xludf.DUMMYFUNCTION(\"\"\"COMPUTED_VALUE\"\"\"),\"https://www.iana.org/assignments/media-types/video/mpeg4-generic\")","v":"https://www.iana.org/assignments/media-types/video/mpeg4-generic"},{"$f":"IFERROR(__xludf.DUMMYFUNCTION(\"\"\"COMPUTED_VALUE\"\"\"),\"mpeg4-generic\")","v":"mpeg4-generic"},{"$f":"IFERROR(__xludf.DUMMYFUNCTION(\"\"\"COMPUTED_VALUE\"\"\"),\"mpeg4-generic\")","v":"mpeg4-generic"},{"$f":"IFERROR(__xludf.DUMMYFUNCTION(\"\"\"COMPUTED_VALUE\"\"\"),\"video/mpeg4-generic\")","v":"video/mpeg4-generic"},{"$f":"IFERROR(__xludf.DUMMYFUNCTION(\"\"\"COMPUTED_VALUE\"\"\"),\"en\")","v":"en"}]
[{"$f":"IFERROR(__xludf.DUMMYFUNCTION(\"\"\"COMPUTED_VALUE\"\"\"),\"https://www.iana.org/assignments/media-types/video/nv\")","v":"https://www.iana.org/assignments/media-types/video/nv"},{"$f":"IFERROR(__xludf.DUMMYFUNCTION(\"\"\"COMPUTED_VALUE\"\"\"),\"nv\")","v":"nv"},{"$f":"IFERROR(__xludf.DUMMYFUNCTION(\"\"\"COMPUTED_VALUE\"\"\"),\"nv\")","v":"nv"},{"$f":"IFERROR(__xludf.DUMMYFUNCTION(\"\"\"COMPUTED_VALUE\"\"\"),\"video/nv\")","v":"video/nv"},{"$f":"IFERROR(__xludf.DUMMYFUNCTION(\"\"\"COMPUTED_VALUE\"\"\"),\"en\")","v":"en"}]
[{"$f":"IFERROR(__xludf.DUMMYFUNCTION(\"\"\"COMPUTED_VALUE\"\"\"),\"https://www.iana.org/assignments/media-types/video/ogg\")","v":"https://www.iana.org/assignments/media-types/video/ogg"},{"$f":"IFERROR(__xludf.DUMMYFUNCTION(\"\"\"COMPUTED_VALUE\"\"\"),\"ogg\")","v":"ogg"},{"$f":"IFERROR(__xludf.DUMMYFUNCTION(\"\"\"COMPUTED_VALUE\"\"\"),\"ogg\")","v":"ogg"},{"$f":"IFERROR(__xludf.DUMMYFUNCTION(\"\"\"COMPUTED_VALUE\"\"\"),\"video/ogg\")","v":"video/ogg"},{"$f":"IFERROR(__xludf.DUMMYFUNCTION(\"\"\"COMPUTED_VALUE\"\"\"),\"en\")","v":"en"}]
[{"$f":"IFERROR(__xludf.DUMMYFUNCTION(\"\"\"COMPUTED_VALUE\"\"\"),\"https://www.iana.org/assignments/media-types/video/parityfec\")","v":"https://www.iana.org/assignments/media-types/video/parityfec"},{"$f":"IFERROR(__xludf.DUMMYFUNCTION(\"\"\"COMPUTED_VALUE\"\"\"),\"parityfec\")","v":"parityfec"},{"$f":"IFERROR(__xludf.DUMMYFUNCTION(\"\"\"COMPUTED_VALUE\"\"\"),\"parityfec\")","v":"parityfec"},{"$f":"IFERROR(__xludf.DUMMYFUNCTION(\"\"\"COMPUTED_VALUE\"\"\"),\"video/parityfec\")","v":"video/parityfec"},{"$f":"IFERROR(__xludf.DUMMYFUNCTION(\"\"\"COMPUTED_VALUE\"\"\"),\"en\")","v":"en"}]
[{"$f":"IFERROR(__xludf.DUMMYFUNCTION(\"\"\"COMPUTED_VALUE\"\"\"),\"https://www.iana.org/assignments/media-types/video/pointer\")","v":"https://www.iana.org/assignments/media-types/video/pointer"},{"$f":"IFERROR(__xludf.DUMMYFUNCTION(\"\"\"COMPUTED_VALUE\"\"\"),\"pointer\")","v":"pointer"},{"$f":"IFERROR(__xludf.DUMMYFUNCTION(\"\"\"COMPUTED_VALUE\"\"\"),\"pointer\")","v":"pointer"},{"$f":"IFERROR(__xludf.DUMMYFUNCTION(\"\"\"COMPUTED_VALUE\"\"\"),\"video/pointer\")","v":"video/pointer"},{"$f":"IFERROR(__xludf.DUMMYFUNCTION(\"\"\"COMPUTED_VALUE\"\"\"),\"en\")","v":"en"}]
[{"$f":"IFERROR(__xludf.DUMMYFUNCTION(\"\"\"COMPUTED_VALUE\"\"\"),\"https://www.iana.org/assignments/media-types/video/quicktime\")","v":"https://www.iana.org/assignments/media-types/video/quicktime"},{"$f":"IFERROR(__xludf.DUMMYFUNCTION(\"\"\"COMPUTED_VALUE\"\"\"),\"quicktime\")","v":"quicktime"},{"$f":"IFERROR(__xludf.DUMMYFUNCTION(\"\"\"COMPUTED_VALUE\"\"\"),\"quicktime\")","v":"quicktime"},{"$f":"IFERROR(__xludf.DUMMYFUNCTION(\"\"\"COMPUTED_VALUE\"\"\"),\"video/quicktime\")","v":"video/quicktime"},{"$f":"IFERROR(__xludf.DUMMYFUNCTION(\"\"\"COMPUTED_VALUE\"\"\"),\"en\")","v":"en"}]
[{"$f":"IFERROR(__xludf.DUMMYFUNCTION(\"\"\"COMPUTED_VALUE\"\"\"),\"https://www.iana.org/assignments/media-types/video/raptorfec\")","v":"https://www.iana.org/assignments/media-types/video/raptorfec"},{"$f":"IFERROR(__xludf.DUMMYFUNCTION(\"\"\"COMPUTED_VALUE\"\"\"),\"raptorfec\")","v":"raptorfec"},{"$f":"IFERROR(__xludf.DUMMYFUNCTION(\"\"\"COMPUTED_VALUE\"\"\"),\"raptorfec\")","v":"raptorfec"},{"$f":"IFERROR(__xludf.DUMMYFUNCTION(\"\"\"COMPUTED_VALUE\"\"\"),\"video/raptorfec\")","v":"video/raptorfec"},{"$f":"IFERROR(__xludf.DUMMYFUNCTION(\"\"\"COMPUTED_VALUE\"\"\"),\"en\")","v":"en"}]
[{"$f":"IFERROR(__xludf.DUMMYFUNCTION(\"\"\"COMPUTED_VALUE\"\"\"),\"https://www.iana.org/assignments/media-types/video/raw\")","v":"https://www.iana.org/assignments/media-types/video/raw"},{"$f":"IFERROR(__xludf.DUMMYFUNCTION(\"\"\"COMPUTED_VALUE\"\"\"),\"raw\")","v":"raw"},{"$f":"IFERROR(__xludf.DUMMYFUNCTION(\"\"\"COMPUTED_VALUE\"\"\"),\"raw\")","v":"raw"},{"$f":"IFERROR(__xludf.DUMMYFUNCTION(\"\"\"COMPUTED_VALUE\"\"\"),\"video/raw\")","v":"video/raw"},{"$f":"IFERROR(__xludf.DUMMYFUNCTION(\"\"\"COMPUTED_VALUE\"\"\"),\"en\")","v":"en"}]
[{"$f":"IFERROR(__xludf.DUMMYFUNCTION(\"\"\"COMPUTED_VALUE\"\"\"),\"https://www.iana.org/assignments/media-types/video/rtp-enc-aescm128\")","v":"https://www.iana.org/assignments/media-types/video/rtp-enc-aescm128"},{"$f":"IFERROR(__xludf.DUMMYFUNCTION(\"\"\"COMPUTED_VALUE\"\"\"),\"rtp-enc-aescm128\")","v":"rtp-enc-aescm128"},{"$f":"IFERROR(__xludf.DUMMYFUNCTION(\"\"\"COMPUTED_VALUE\"\"\"),\"rtp-enc-aescm128\")","v":"rtp-enc-aescm128"},{"$f":"IFERROR(__xludf.DUMMYFUNCTION(\"\"\"COMPUTED_VALUE\"\"\"),\"video/rtp-enc-aescm128\")","v":"video/rtp-enc-aescm128"},{"$f":"IFERROR(__xludf.DUMMYFUNCTION(\"\"\"COMPUTED_VALUE\"\"\"),\"en\")","v":"en"}]
[{"$f":"IFERROR(__xludf.DUMMYFUNCTION(\"\"\"COMPUTED_VALUE\"\"\"),\"https://www.iana.org/assignments/media-types/video/rtploopback\")","v":"https://www.iana.org/assignments/media-types/video/rtploopback"},{"$f":"IFERROR(__xludf.DUMMYFUNCTION(\"\"\"COMPUTED_VALUE\"\"\"),\"rtploopback\")","v":"rtploopback"},{"$f":"IFERROR(__xludf.DUMMYFUNCTION(\"\"\"COMPUTED_VALUE\"\"\"),\"rtploopback\")","v":"rtploopback"},{"$f":"IFERROR(__xludf.DUMMYFUNCTION(\"\"\"COMPUTED_VALUE\"\"\"),\"video/rtploopback\")","v":"video/rtploopback"},{"$f":"IFERROR(__xludf.DUMMYFUNCTION(\"\"\"COMPUTED_VALUE\"\"\"),\"en\")","v":"en"}]
[{"$f":"IFERROR(__xludf.DUMMYFUNCTION(\"\"\"COMPUTED_VALUE\"\"\"),\"https://www.iana.org/assignments/media-types/video/rtx\")","v":"https://www.iana.org/assignments/media-types/video/rtx"},{"$f":"IFERROR(__xludf.DUMMYFUNCTION(\"\"\"COMPUTED_VALUE\"\"\"),\"rtx\")","v":"rtx"},{"$f":"IFERROR(__xludf.DUMMYFUNCTION(\"\"\"COMPUTED_VALUE\"\"\"),\"rtx\")","v":"rtx"},{"$f":"IFERROR(__xludf.DUMMYFUNCTION(\"\"\"COMPUTED_VALUE\"\"\"),\"video/rtx\")","v":"video/rtx"},{"$f":"IFERROR(__xludf.DUMMYFUNCTION(\"\"\"COMPUTED_VALUE\"\"\"),\"en\")","v":"en"}]
[{"$f":"IFERROR(__xludf.DUMMYFUNCTION(\"\"\"COMPUTED_VALUE\"\"\"),\"https://www.iana.org/assignments/media-types/video/scip\")","v":"https://www.iana.org/assignments/media-types/video/scip"},{"$f":"IFERROR(__xludf.DUMMYFUNCTION(\"\"\"COMPUTED_VALUE\"\"\"),\"scip\")","v":"scip"},{"$f":"IFERROR(__xludf.DUMMYFUNCTION(\"\"\"COMPUTED_VALUE\"\"\"),\"scip\")","v":"scip"},{"$f":"IFERROR(__xludf.DUMMYFUNCTION(\"\"\"COMPUTED_VALUE\"\"\"),\"video/scip\")","v":"video/scip"},{"$f":"IFERROR(__xludf.DUMMYFUNCTION(\"\"\"COMPUTED_VALUE\"\"\"),\"en\")","v":"en"}]
[{"$f":"IFERROR(__xludf.DUMMYFUNCTION(\"\"\"COMPUTED_VALUE\"\"\"),\"https://www.iana.org/assignments/media-types/video/smpte291\")","v":"https://www.iana.org/assignments/media-types/video/smpte291"},{"$f":"IFERROR(__xludf.DUMMYFUNCTION(\"\"\"COMPUTED_VALUE\"\"\"),\"smpte291\")","v":"smpte291"},{"$f":"IFERROR(__xludf.DUMMYFUNCTION(\"\"\"COMPUTED_VALUE\"\"\"),\"smpte291\")","v":"smpte291"},{"$f":"IFERROR(__xludf.DUMMYFUNCTION(\"\"\"COMPUTED_VALUE\"\"\"),\"video/smpte291\")","v":"video/smpte291"},{"$f":"IFERROR(__xludf.DUMMYFUNCTION(\"\"\"COMPUTED_VALUE\"\"\"),\"en\")","v":"en"}]
[{"$f":"IFERROR(__xludf.DUMMYFUNCTION(\"\"\"COMPUTED_VALUE\"\"\"),\"https://www.iana.org/assignments/media-types/video/SMPTE292M\")","v":"https://www.iana.org/assignments/media-types/video/SMPTE292M"},{"$f":"IFERROR(__xludf.DUMMYFUNCTION(\"\"\"COMPUTED_VALUE\"\"\"),\"SMPTE292M\")","v":"SMPTE292M"},{"$f":"IFERROR(__xludf.DUMMYFUNCTION(\"\"\"COMPUTED_VALUE\"\"\"),\"SMPTE292M\")","v":"SMPTE292M"},{"$f":"IFERROR(__xludf.DUMMYFUNCTION(\"\"\"COMPUTED_VALUE\"\"\"),\"video/SMPTE292M\")","v":"video/SMPTE292M"},{"$f":"IFERROR(__xludf.DUMMYFUNCTION(\"\"\"COMPUTED_VALUE\"\"\"),\"en\")","v":"en"}]
[{"$f":"IFERROR(__xludf.DUMMYFUNCTION(\"\"\"COMPUTED_VALUE\"\"\"),\"https://www.iana.org/assignments/media-types/video/ulpfec\")","v":"https://www.iana.org/assignments/media-types/video/ulpfec"},{"$f":"IFERROR(__xludf.DUMMYFUNCTION(\"\"\"COMPUTED_VALUE\"\"\"),\"ulpfec\")","v":"ulpfec"},{"$f":"IFERROR(__xludf.DUMMYFUNCTION(\"\"\"COMPUTED_VALUE\"\"\"),\"ulpfec\")","v":"ulpfec"},{"$f":"IFERROR(__xludf.DUMMYFUNCTION(\"\"\"COMPUTED_VALUE\"\"\"),\"video/ulpfec\")","v":"video/ulpfec"},{"$f":"IFERROR(__xludf.DUMMYFUNCTION(\"\"\"COMPUTED_VALUE\"\"\"),\"en\")","v":"en"}]
[{"$f":"IFERROR(__xludf.DUMMYFUNCTION(\"\"\"COMPUTED_VALUE\"\"\"),\"https://www.iana.org/assignments/media-types/video/vc1\")","v":"https://www.iana.org/assignments/media-types/video/vc1"},{"$f":"IFERROR(__xludf.DUMMYFUNCTION(\"\"\"COMPUTED_VALUE\"\"\"),\"vc1\")","v":"vc1"},{"$f":"IFERROR(__xludf.DUMMYFUNCTION(\"\"\"COMPUTED_VALUE\"\"\"),\"vc1\")","v":"vc1"},{"$f":"IFERROR(__xludf.DUMMYFUNCTION(\"\"\"COMPUTED_VALUE\"\"\"),\"video/vc1\")","v":"video/vc1"},{"$f":"IFERROR(__xludf.DUMMYFUNCTION(\"\"\"COMPUTED_VALUE\"\"\"),\"en\")","v":"en"}]
[{"$f":"IFERROR(__xludf.DUMMYFUNCTION(\"\"\"COMPUTED_VALUE\"\"\"),\"https://www.iana.org/assignments/media-types/video/vc2\")","v":"https://www.iana.org/assignments/media-types/video/vc2"},{"$f":"IFERROR(__xludf.DUMMYFUNCTION(\"\"\"COMPUTED_VALUE\"\"\"),\"vc2\")","v":"vc2"},{"$f":"IFERROR(__xludf.DUMMYFUNCTION(\"\"\"COMPUTED_VALUE\"\"\"),\"vc2\")","v":"vc2"},{"$f":"IFERROR(__xludf.DUMMYFUNCTION(\"\"\"COMPUTED_VALUE\"\"\"),\"video/vc2\")","v":"video/vc2"},{"$f":"IFERROR(__xludf.DUMMYFUNCTION(\"\"\"COMPUTED_VALUE\"\"\"),\"en\")","v":"en"}]
[{"$f":"IFERROR(__xludf.DUMMYFUNCTION(\"\"\"COMPUTED_VALUE\"\"\"),\"https://www.iana.org/assignments/media-types/video/vnd.CCTV\")","v":"https://www.iana.org/assignments/media-types/video/vnd.CCTV"},{"$f":"IFERROR(__xludf.DUMMYFUNCTION(\"\"\"COMPUTED_VALUE\"\"\"),\"vnd.CCTV\")","v":"vnd.CCTV"},{"$f":"IFERROR(__xludf.DUMMYFUNCTION(\"\"\"COMPUTED_VALUE\"\"\"),\"vnd.CCTV\")","v":"vnd.CCTV"},{"$f":"IFERROR(__xludf.DUMMYFUNCTION(\"\"\"COMPUTED_VALUE\"\"\"),\"video/vnd.CCTV\")","v":"video/vnd.CCTV"},{"$f":"IFERROR(__xludf.DUMMYFUNCTION(\"\"\"COMPUTED_VALUE\"\"\"),\"en\")","v":"en"}]
[{"$f":"IFERROR(__xludf.DUMMYFUNCTION(\"\"\"COMPUTED_VALUE\"\"\"),\"https://www.iana.org/assignments/media-types/video/vnd.dece.hd\")","v":"https://www.iana.org/assignments/media-types/video/vnd.dece.hd"},{"$f":"IFERROR(__xludf.DUMMYFUNCTION(\"\"\"COMPUTED_VALUE\"\"\"),\"vnd.dece.hd\")","v":"vnd.dece.hd"},{"$f":"IFERROR(__xludf.DUMMYFUNCTION(\"\"\"COMPUTED_VALUE\"\"\"),\"vnd.dece.hd\")","v":"vnd.dece.hd"},{"$f":"IFERROR(__xludf.DUMMYFUNCTION(\"\"\"COMPUTED_VALUE\"\"\"),\"video/vnd.dece.hd\")","v":"video/vnd.dece.hd"},{"$f":"IFERROR(__xludf.DUMMYFUNCTION(\"\"\"COMPUTED_VALUE\"\"\"),\"en\")","v":"en"}]
[{"$f":"IFERROR(__xludf.DUMMYFUNCTION(\"\"\"COMPUTED_VALUE\"\"\"),\"https://www.iana.org/assignments/media-types/video/vnd.dece.mobile\")","v":"https://www.iana.org/assignments/media-types/video/vnd.dece.mobile"},{"$f":"IFERROR(__xludf.DUMMYFUNCTION(\"\"\"COMPUTED_VALUE\"\"\"),\"vnd.dece.mobile\")","v":"vnd.dece.mobile"},{"$f":"IFERROR(__xludf.DUMMYFUNCTION(\"\"\"COMPUTED_VALUE\"\"\"),\"vnd.dece.mobile\")","v":"vnd.dece.mobile"},{"$f":"IFERROR(__xludf.DUMMYFUNCTION(\"\"\"COMPUTED_VALUE\"\"\"),\"video/vnd.dece.mobile\")","v":"video/vnd.dece.mobile"},{"$f":"IFERROR(__xludf.DUMMYFUNCTION(\"\"\"COMPUTED_VALUE\"\"\"),\"en\")","v":"en"}]
[{"$f":"IFERROR(__xludf.DUMMYFUNCTION(\"\"\"COMPUTED_VALUE\"\"\"),\"https://www.iana.org/assignments/media-types/video/vnd.dece.mp4\")","v":"https://www.iana.org/assignments/media-types/video/vnd.dece.mp4"},{"$f":"IFERROR(__xludf.DUMMYFUNCTION(\"\"\"COMPUTED_VALUE\"\"\"),\"vnd.dece.mp4\")","v":"vnd.dece.mp4"},{"$f":"IFERROR(__xludf.DUMMYFUNCTION(\"\"\"COMPUTED_VALUE\"\"\"),\"vnd.dece.mp4\")","v":"vnd.dece.mp4"},{"$f":"IFERROR(__xludf.DUMMYFUNCTION(\"\"\"COMPUTED_VALUE\"\"\"),\"video/vnd.dece.mp4\")","v":"video/vnd.dece.mp4"},{"$f":"IFERROR(__xludf.DUMMYFUNCTION(\"\"\"COMPUTED_VALUE\"\"\"),\"en\")","v":"en"}]
[{"$f":"IFERROR(__xludf.DUMMYFUNCTION(\"\"\"COMPUTED_VALUE\"\"\"),\"https://www.iana.org/assignments/media-types/video/vnd.dece.pd\")","v":"https://www.iana.org/assignments/media-types/video/vnd.dece.pd"},{"$f":"IFERROR(__xludf.DUMMYFUNCTION(\"\"\"COMPUTED_VALUE\"\"\"),\"vnd.dece.pd\")","v":"vnd.dece.pd"},{"$f":"IFERROR(__xludf.DUMMYFUNCTION(\"\"\"COMPUTED_VALUE\"\"\"),\"vnd.dece.pd\")","v":"vnd.dece.pd"},{"$f":"IFERROR(__xludf.DUMMYFUNCTION(\"\"\"COMPUTED_VALUE\"\"\"),\"video/vnd.dece.pd\")","v":"video/vnd.dece.pd"},{"$f":"IFERROR(__xludf.DUMMYFUNCTION(\"\"\"COMPUTED_VALUE\"\"\"),\"en\")","v":"en"}]
[{"$f":"IFERROR(__xludf.DUMMYFUNCTION(\"\"\"COMPUTED_VALUE\"\"\"),\"https://www.iana.org/assignments/media-types/video/vnd.dece.sd\")","v":"https://www.iana.org/assignments/media-types/video/vnd.dece.sd"},{"$f":"IFERROR(__xludf.DUMMYFUNCTION(\"\"\"COMPUTED_VALUE\"\"\"),\"vnd.dece.sd\")","v":"vnd.dece.sd"},{"$f":"IFERROR(__xludf.DUMMYFUNCTION(\"\"\"COMPUTED_VALUE\"\"\"),\"vnd.dece.sd\")","v":"vnd.dece.sd"},{"$f":"IFERROR(__xludf.DUMMYFUNCTION(\"\"\"COMPUTED_VALUE\"\"\"),\"video/vnd.dece.sd\")","v":"video/vnd.dece.sd"},{"$f":"IFERROR(__xludf.DUMMYFUNCTION(\"\"\"COMPUTED_VALUE\"\"\"),\"en\")","v":"en"}]
[{"$f":"IFERROR(__xludf.DUMMYFUNCTION(\"\"\"COMPUTED_VALUE\"\"\"),\"https://www.iana.org/assignments/media-types/video/vnd.dece.video\")","v":"https://www.iana.org/assignments/media-types/video/vnd.dece.video"},{"$f":"IFERROR(__xludf.DUMMYFUNCTION(\"\"\"COMPUTED_VALUE\"\"\"),\"vnd.dece.video\")","v":"vnd.dece.video"},{"$f":"IFERROR(__xludf.DUMMYFUNCTION(\"\"\"COMPUTED_VALUE\"\"\"),\"vnd.dece.video\")","v":"vnd.dece.video"},{"$f":"IFERROR(__xludf.DUMMYFUNCTION(\"\"\"COMPUTED_VALUE\"\"\"),\"video/vnd.dece.video\")","v":"video/vnd.dece.video"},{"$f":"IFERROR(__xludf.DUMMYFUNCTION(\"\"\"COMPUTED_VALUE\"\"\"),\"en\")","v":"en"}]
[{"$f":"IFERROR(__xludf.DUMMYFUNCTION(\"\"\"COMPUTED_VALUE\"\"\"),\"https://www.iana.org/assignments/media-types/video/vnd.directv.mpeg\")","v":"https://www.iana.org/assignments/media-types/video/vnd.directv.mpeg"},{"$f":"IFERROR(__xludf.DUMMYFUNCTION(\"\"\"COMPUTED_VALUE\"\"\"),\"vnd.directv.mpeg\")","v":"vnd.directv.mpeg"},{"$f":"IFERROR(__xludf.DUMMYFUNCTION(\"\"\"COMPUTED_VALUE\"\"\"),\"vnd.directv.mpeg\")","v":"vnd.directv.mpeg"},{"$f":"IFERROR(__xludf.DUMMYFUNCTION(\"\"\"COMPUTED_VALUE\"\"\"),\"video/vnd.directv.mpeg\")","v":"video/vnd.directv.mpeg"},{"$f":"IFERROR(__xludf.DUMMYFUNCTION(\"\"\"COMPUTED_VALUE\"\"\"),\"en\")","v":"en"}]
[{"$f":"IFERROR(__xludf.DUMMYFUNCTION(\"\"\"COMPUTED_VALUE\"\"\"),\"https://www.iana.org/assignments/media-types/video/vnd.directv.mpeg-tts\")","v":"https://www.iana.org/assignments/media-types/video/vnd.directv.mpeg-tts"},{"$f":"IFERROR(__xludf.DUMMYFUNCTION(\"\"\"COMPUTED_VALUE\"\"\"),\"vnd.directv.mpeg-tts\")","v":"vnd.directv.mpeg-tts"},{"$f":"IFERROR(__xludf.DUMMYFUNCTION(\"\"\"COMPUTED_VALUE\"\"\"),\"vnd.directv.mpeg-tts\")","v":"vnd.directv.mpeg-tts"},{"$f":"IFERROR(__xludf.DUMMYFUNCTION(\"\"\"COMPUTED_VALUE\"\"\"),\"video/vnd.directv.mpeg-tts\")","v":"video/vnd.directv.mpeg-tts"},{"$f":"IFERROR(__xludf.DUMMYFUNCTION(\"\"\"COMPUTED_VALUE\"\"\"),\"en\")","v":"en"}]
[{"$f":"IFERROR(__xludf.DUMMYFUNCTION(\"\"\"COMPUTED_VALUE\"\"\"),\"https://www.iana.org/assignments/media-types/video/vnd.dlna.mpeg-tts\")","v":"https://www.iana.org/assignments/media-types/video/vnd.dlna.mpeg-tts"},{"$f":"IFERROR(__xludf.DUMMYFUNCTION(\"\"\"COMPUTED_VALUE\"\"\"),\"vnd.dlna.mpeg-tts\")","v":"vnd.dlna.mpeg-tts"},{"$f":"IFERROR(__xludf.DUMMYFUNCTION(\"\"\"COMPUTED_VALUE\"\"\"),\"vnd.dlna.mpeg-tts\")","v":"vnd.dlna.mpeg-tts"},{"$f":"IFERROR(__xludf.DUMMYFUNCTION(\"\"\"COMPUTED_VALUE\"\"\"),\"video/vnd.dlna.mpeg-tts\")","v":"video/vnd.dlna.mpeg-tts"},{"$f":"IFERROR(__xludf.DUMMYFUNCTION(\"\"\"COMPUTED_VALUE\"\"\"),\"en\")","v":"en"}]
[{"$f":"IFERROR(__xludf.DUMMYFUNCTION(\"\"\"COMPUTED_VALUE\"\"\"),\"https://www.iana.org/assignments/media-types/video/vnd.dvb.file\")","v":"https://www.iana.org/assignments/media-types/video/vnd.dvb.file"},{"$f":"IFERROR(__xludf.DUMMYFUNCTION(\"\"\"COMPUTED_VALUE\"\"\"),\"vnd.dvb.file\")","v":"vnd.dvb.file"},{"$f":"IFERROR(__xludf.DUMMYFUNCTION(\"\"\"COMPUTED_VALUE\"\"\"),\"vnd.dvb.file\")","v":"vnd.dvb.file"},{"$f":"IFERROR(__xludf.DUMMYFUNCTION(\"\"\"COMPUTED_VALUE\"\"\"),\"video/vnd.dvb.file\")","v":"video/vnd.dvb.file"},{"$f":"IFERROR(__xludf.DUMMYFUNCTION(\"\"\"COMPUTED_VALUE\"\"\"),\"en\")","v":"en"}]
[{"$f":"IFERROR(__xludf.DUMMYFUNCTION(\"\"\"COMPUTED_VALUE\"\"\"),\"https://www.iana.org/assignments/media-types/video/vnd.fvt\")","v":"https://www.iana.org/assignments/media-types/video/vnd.fvt"},{"$f":"IFERROR(__xludf.DUMMYFUNCTION(\"\"\"COMPUTED_VALUE\"\"\"),\"vnd.fvt\")","v":"vnd.fvt"},{"$f":"IFERROR(__xludf.DUMMYFUNCTION(\"\"\"COMPUTED_VALUE\"\"\"),\"vnd.fvt\")","v":"vnd.fvt"},{"$f":"IFERROR(__xludf.DUMMYFUNCTION(\"\"\"COMPUTED_VALUE\"\"\"),\"video/vnd.fvt\")","v":"video/vnd.fvt"},{"$f":"IFERROR(__xludf.DUMMYFUNCTION(\"\"\"COMPUTED_VALUE\"\"\"),\"en\")","v":"en"}]
[{"$f":"IFERROR(__xludf.DUMMYFUNCTION(\"\"\"COMPUTED_VALUE\"\"\"),\"https://www.iana.org/assignments/media-types/video/vnd.hns.video\")","v":"https://www.iana.org/assignments/media-types/video/vnd.hns.video"},{"$f":"IFERROR(__xludf.DUMMYFUNCTION(\"\"\"COMPUTED_VALUE\"\"\"),\"vnd.hns.video\")","v":"vnd.hns.video"},{"$f":"IFERROR(__xludf.DUMMYFUNCTION(\"\"\"COMPUTED_VALUE\"\"\"),\"vnd.hns.video\")","v":"vnd.hns.video"},{"$f":"IFERROR(__xludf.DUMMYFUNCTION(\"\"\"COMPUTED_VALUE\"\"\"),\"video/vnd.hns.video\")","v":"video/vnd.hns.video"},{"$f":"IFERROR(__xludf.DUMMYFUNCTION(\"\"\"COMPUTED_VALUE\"\"\"),\"en\")","v":"en"}]
[{"$f":"IFERROR(__xludf.DUMMYFUNCTION(\"\"\"COMPUTED_VALUE\"\"\"),\"https://www.iana.org/assignments/media-types/video/vnd.iptvforum.1dparityfec-1010\")","v":"https://www.iana.org/assignments/media-types/video/vnd.iptvforum.1dparityfec-1010"},{"$f":"IFERROR(__xludf.DUMMYFUNCTION(\"\"\"COMPUTED_VALUE\"\"\"),\"vnd.iptvforum.1dparityfec-1010\")","v":"vnd.iptvforum.1dparityfec-1010"},{"$f":"IFERROR(__xludf.DUMMYFUNCTION(\"\"\"COMPUTED_VALUE\"\"\"),\"vnd.iptvforum.1dparityfec-1010\")","v":"vnd.iptvforum.1dparityfec-1010"},{"$f":"IFERROR(__xludf.DUMMYFUNCTION(\"\"\"COMPUTED_VALUE\"\"\"),\"video/vnd.iptvforum.1dparityfec-1010\")","v":"video/vnd.iptvforum.1dparityfec-1010"},{"$f":"IFERROR(__xludf.DUMMYFUNCTION(\"\"\"COMPUTED_VALUE\"\"\"),\"en\")","v":"en"}]
[{"$f":"IFERROR(__xludf.DUMMYFUNCTION(\"\"\"COMPUTED_VALUE\"\"\"),\"https://www.iana.org/assignments/media-types/video/vnd.iptvforum.1dparityfec-2005\")","v":"https://www.iana.org/assignments/media-types/video/vnd.iptvforum.1dparityfec-2005"},{"$f":"IFERROR(__xludf.DUMMYFUNCTION(\"\"\"COMPUTED_VALUE\"\"\"),\"vnd.iptvforum.1dparityfec-2005\")","v":"vnd.iptvforum.1dparityfec-2005"},{"$f":"IFERROR(__xludf.DUMMYFUNCTION(\"\"\"COMPUTED_VALUE\"\"\"),\"vnd.iptvforum.1dparityfec-2005\")","v":"vnd.iptvforum.1dparityfec-2005"},{"$f":"IFERROR(__xludf.DUMMYFUNCTION(\"\"\"COMPUTED_VALUE\"\"\"),\"video/vnd.iptvforum.1dparityfec-2005\")","v":"video/vnd.iptvforum.1dparityfec-2005"},{"$f":"IFERROR(__xludf.DUMMYFUNCTION(\"\"\"COMPUTED_VALUE\"\"\"),\"en\")","v":"en"}]
[{"$f":"IFERROR(__xludf.DUMMYFUNCTION(\"\"\"COMPUTED_VALUE\"\"\"),\"https://www.iana.org/assignments/media-types/video/vnd.iptvforum.2dparityfec-1010\")","v":"https://www.iana.org/assignments/media-types/video/vnd.iptvforum.2dparityfec-1010"},{"$f":"IFERROR(__xludf.DUMMYFUNCTION(\"\"\"COMPUTED_VALUE\"\"\"),\"vnd.iptvforum.2dparityfec-1010\")","v":"vnd.iptvforum.2dparityfec-1010"},{"$f":"IFERROR(__xludf.DUMMYFUNCTION(\"\"\"COMPUTED_VALUE\"\"\"),\"vnd.iptvforum.2dparityfec-1010\")","v":"vnd.iptvforum.2dparityfec-1010"},{"$f":"IFERROR(__xludf.DUMMYFUNCTION(\"\"\"COMPUTED_VALUE\"\"\"),\"video/vnd.iptvforum.2dparityfec-1010\")","v":"video/vnd.iptvforum.2dparityfec-1010"},{"$f":"IFERROR(__xludf.DUMMYFUNCTION(\"\"\"COMPUTED_VALUE\"\"\"),\"en\")","v":"en"}]
[{"$f":"IFERROR(__xludf.DUMMYFUNCTION(\"\"\"COMPUTED_VALUE\"\"\"),\"https://www.iana.org/assignments/media-types/video/vnd.iptvforum.2dparityfec-2005\")","v":"https://www.iana.org/assignments/media-types/video/vnd.iptvforum.2dparityfec-2005"},{"$f":"IFERROR(__xludf.DUMMYFUNCTION(\"\"\"COMPUTED_VALUE\"\"\"),\"vnd.iptvforum.2dparityfec-2005\")","v":"vnd.iptvforum.2dparityfec-2005"},{"$f":"IFERROR(__xludf.DUMMYFUNCTION(\"\"\"COMPUTED_VALUE\"\"\"),\"vnd.iptvforum.2dparityfec-2005\")","v":"vnd.iptvforum.2dparityfec-2005"},{"$f":"IFERROR(__xludf.DUMMYFUNCTION(\"\"\"COMPUTED_VALUE\"\"\"),\"video/vnd.iptvforum.2dparityfec-2005\")","v":"video/vnd.iptvforum.2dparityfec-2005"},{"$f":"IFERROR(__xludf.DUMMYFUNCTION(\"\"\"COMPUTED_VALUE\"\"\"),\"en\")","v":"en"}]
[{"$f":"IFERROR(__xludf.DUMMYFUNCTION(\"\"\"COMPUTED_VALUE\"\"\"),\"https://www.iana.org/assignments/media-types/video/vnd.iptvforum.ttsavc\")","v":"https://www.iana.org/assignments/media-types/video/vnd.iptvforum.ttsavc"},{"$f":"IFERROR(__xludf.DUMMYFUNCTION(\"\"\"COMPUTED_VALUE\"\"\"),\"vnd.iptvforum.ttsavc\")","v":"vnd.iptvforum.ttsavc"},{"$f":"IFERROR(__xludf.DUMMYFUNCTION(\"\"\"COMPUTED_VALUE\"\"\"),\"vnd.iptvforum.ttsavc\")","v":"vnd.iptvforum.ttsavc"},{"$f":"IFERROR(__xludf.DUMMYFUNCTION(\"\"\"COMPUTED_VALUE\"\"\"),\"video/vnd.iptvforum.ttsavc\")","v":"video/vnd.iptvforum.ttsavc"},{"$f":"IFERROR(__xludf.DUMMYFUNCTION(\"\"\"COMPUTED_VALUE\"\"\"),\"en\")","v":"en"}]
[{"$f":"IFERROR(__xludf.DUMMYFUNCTION(\"\"\"COMPUTED_VALUE\"\"\"),\"https://www.iana.org/assignments/media-types/video/vnd.iptvforum.ttsmpeg2\")","v":"https://www.iana.org/assignments/media-types/video/vnd.iptvforum.ttsmpeg2"},{"$f":"IFERROR(__xludf.DUMMYFUNCTION(\"\"\"COMPUTED_VALUE\"\"\"),\"vnd.iptvforum.ttsmpeg2\")","v":"vnd.iptvforum.ttsmpeg2"},{"$f":"IFERROR(__xludf.DUMMYFUNCTION(\"\"\"COMPUTED_VALUE\"\"\"),\"vnd.iptvforum.ttsmpeg2\")","v":"vnd.iptvforum.ttsmpeg2"},{"$f":"IFERROR(__xludf.DUMMYFUNCTION(\"\"\"COMPUTED_VALUE\"\"\"),\"video/vnd.iptvforum.ttsmpeg2\")","v":"video/vnd.iptvforum.ttsmpeg2"},{"$f":"IFERROR(__xludf.DUMMYFUNCTION(\"\"\"COMPUTED_VALUE\"\"\"),\"en\")","v":"en"}]
[{"$f":"IFERROR(__xludf.DUMMYFUNCTION(\"\"\"COMPUTED_VALUE\"\"\"),\"https://www.iana.org/assignments/media-types/video/vnd.motorola.video\")","v":"https://www.iana.org/assignments/media-types/video/vnd.motorola.video"},{"$f":"IFERROR(__xludf.DUMMYFUNCTION(\"\"\"COMPUTED_VALUE\"\"\"),\"vnd.motorola.video\")","v":"vnd.motorola.video"},{"$f":"IFERROR(__xludf.DUMMYFUNCTION(\"\"\"COMPUTED_VALUE\"\"\"),\"vnd.motorola.video\")","v":"vnd.motorola.video"},{"$f":"IFERROR(__xludf.DUMMYFUNCTION(\"\"\"COMPUTED_VALUE\"\"\"),\"video/vnd.motorola.video\")","v":"video/vnd.motorola.video"},{"$f":"IFERROR(__xludf.DUMMYFUNCTION(\"\"\"COMPUTED_VALUE\"\"\"),\"en\")","v":"en"}]
[{"$f":"IFERROR(__xludf.DUMMYFUNCTION(\"\"\"COMPUTED_VALUE\"\"\"),\"https://www.iana.org/assignments/media-types/video/vnd.motorola.videop\")","v":"https://www.iana.org/assignments/media-types/video/vnd.motorola.videop"},{"$f":"IFERROR(__xludf.DUMMYFUNCTION(\"\"\"COMPUTED_VALUE\"\"\"),\"vnd.motorola.videop\")","v":"vnd.motorola.videop"},{"$f":"IFERROR(__xludf.DUMMYFUNCTION(\"\"\"COMPUTED_VALUE\"\"\"),\"vnd.motorola.videop\")","v":"vnd.motorola.videop"},{"$f":"IFERROR(__xludf.DUMMYFUNCTION(\"\"\"COMPUTED_VALUE\"\"\"),\"video/vnd.motorola.videop\")","v":"video/vnd.motorola.videop"},{"$f":"IFERROR(__xludf.DUMMYFUNCTION(\"\"\"COMPUTED_VALUE\"\"\"),\"en\")","v":"en"}]
[{"$f":"IFERROR(__xludf.DUMMYFUNCTION(\"\"\"COMPUTED_VALUE\"\"\"),\"https://www.iana.org/assignments/media-types/video/vnd.mpegurl\")","v":"https://www.iana.org/assignments/media-types/video/vnd.mpegurl"},{"$f":"IFERROR(__xludf.DUMMYFUNCTION(\"\"\"COMPUTED_VALUE\"\"\"),\"vnd.mpegurl\")","v":"vnd.mpegurl"},{"$f":"IFERROR(__xludf.DUMMYFUNCTION(\"\"\"COMPUTED_VALUE\"\"\"),\"vnd.mpegurl\")","v":"vnd.mpegurl"},{"$f":"IFERROR(__xludf.DUMMYFUNCTION(\"\"\"COMPUTED_VALUE\"\"\"),\"video/vnd.mpegurl\")","v":"video/vnd.mpegurl"},{"$f":"IFERROR(__xludf.DUMMYFUNCTION(\"\"\"COMPUTED_VALUE\"\"\"),\"en\")","v":"en"}]
[{"$f":"IFERROR(__xludf.DUMMYFUNCTION(\"\"\"COMPUTED_VALUE\"\"\"),\"https://www.iana.org/assignments/media-types/video/vnd.ms-playready.media.pyv\")","v":"https://www.iana.org/assignments/media-types/video/vnd.ms-playready.media.pyv"},{"$f":"IFERROR(__xludf.DUMMYFUNCTION(\"\"\"COMPUTED_VALUE\"\"\"),\"vnd.ms-playready.media.pyv\")","v":"vnd.ms-playready.media.pyv"},{"$f":"IFERROR(__xludf.DUMMYFUNCTION(\"\"\"COMPUTED_VALUE\"\"\"),\"vnd.ms-playready.media.pyv\")","v":"vnd.ms-playready.media.pyv"},{"$f":"IFERROR(__xludf.DUMMYFUNCTION(\"\"\"COMPUTED_VALUE\"\"\"),\"video/vnd.ms-playready.media.pyv\")","v":"video/vnd.ms-playready.media.pyv"},{"$f":"IFERROR(__xludf.DUMMYFUNCTION(\"\"\"COMPUTED_VALUE\"\"\"),\"en\")","v":"en"}]
[{"$f":"IFERROR(__xludf.DUMMYFUNCTION(\"\"\"COMPUTED_VALUE\"\"\"),\"https://www.iana.org/assignments/media-types/video/vnd.nokia.interleaved-multimedia\")","v":"https://www.iana.org/assignments/media-types/video/vnd.nokia.interleaved-multimedia"},{"$f":"IFERROR(__xludf.DUMMYFUNCTION(\"\"\"COMPUTED_VALUE\"\"\"),\"vnd.nokia.interleaved-multimedia\")","v":"vnd.nokia.interleaved-multimedia"},{"$f":"IFERROR(__xludf.DUMMYFUNCTION(\"\"\"COMPUTED_VALUE\"\"\"),\"vnd.nokia.interleaved-multimedia\")","v":"vnd.nokia.interleaved-multimedia"},{"$f":"IFERROR(__xludf.DUMMYFUNCTION(\"\"\"COMPUTED_VALUE\"\"\"),\"video/vnd.nokia.interleaved-multimedia\")","v":"video/vnd.nokia.interleaved-multimedia"},{"$f":"IFERROR(__xludf.DUMMYFUNCTION(\"\"\"COMPUTED_VALUE\"\"\"),\"en\")","v":"en"}]
[{"$f":"IFERROR(__xludf.DUMMYFUNCTION(\"\"\"COMPUTED_VALUE\"\"\"),\"https://www.iana.org/assignments/media-types/video/vnd.nokia.mp4vr\")","v":"https://www.iana.org/assignments/media-types/video/vnd.nokia.mp4vr"},{"$f":"IFERROR(__xludf.DUMMYFUNCTION(\"\"\"COMPUTED_VALUE\"\"\"),\"vnd.nokia.mp4vr\")","v":"vnd.nokia.mp4vr"},{"$f":"IFERROR(__xludf.DUMMYFUNCTION(\"\"\"COMPUTED_VALUE\"\"\"),\"vnd.nokia.mp4vr\")","v":"vnd.nokia.mp4vr"},{"$f":"IFERROR(__xludf.DUMMYFUNCTION(\"\"\"COMPUTED_VALUE\"\"\"),\"video/vnd.nokia.mp4vr\")","v":"video/vnd.nokia.mp4vr"},{"$f":"IFERROR(__xludf.DUMMYFUNCTION(\"\"\"COMPUTED_VALUE\"\"\"),\"en\")","v":"en"}]
[{"$f":"IFERROR(__xludf.DUMMYFUNCTION(\"\"\"COMPUTED_VALUE\"\"\"),\"https://www.iana.org/assignments/media-types/video/vnd.nokia.videovoip\")","v":"https://www.iana.org/assignments/media-types/video/vnd.nokia.videovoip"},{"$f":"IFERROR(__xludf.DUMMYFUNCTION(\"\"\"COMPUTED_VALUE\"\"\"),\"vnd.nokia.videovoip\")","v":"vnd.nokia.videovoip"},{"$f":"IFERROR(__xludf.DUMMYFUNCTION(\"\"\"COMPUTED_VALUE\"\"\"),\"vnd.nokia.videovoip\")","v":"vnd.nokia.videovoip"},{"$f":"IFERROR(__xludf.DUMMYFUNCTION(\"\"\"COMPUTED_VALUE\"\"\"),\"video/vnd.nokia.videovoip\")","v":"video/vnd.nokia.videovoip"},{"$f":"IFERROR(__xludf.DUMMYFUNCTION(\"\"\"COMPUTED_VALUE\"\"\"),\"en\")","v":"en"}]
[{"$f":"IFERROR(__xludf.DUMMYFUNCTION(\"\"\"COMPUTED_VALUE\"\"\"),\"https://www.iana.org/assignments/media-types/video/vnd.objectvideo\")","v":"https://www.iana.org/assignments/media-types/video/vnd.objectvideo"},{"$f":"IFERROR(__xludf.DUMMYFUNCTION(\"\"\"COMPUTED_VALUE\"\"\"),\"vnd.objectvideo\")","v":"vnd.objectvideo"},{"$f":"IFERROR(__xludf.DUMMYFUNCTION(\"\"\"COMPUTED_VALUE\"\"\"),\"vnd.objectvideo\")","v":"vnd.objectvideo"},{"$f":"IFERROR(__xludf.DUMMYFUNCTION(\"\"\"COMPUTED_VALUE\"\"\"),\"video/vnd.objectvideo\")","v":"video/vnd.objectvideo"},{"$f":"IFERROR(__xludf.DUMMYFUNCTION(\"\"\"COMPUTED_VALUE\"\"\"),\"en\")","v":"en"}]
[{"$f":"IFERROR(__xludf.DUMMYFUNCTION(\"\"\"COMPUTED_VALUE\"\"\"),\"https://www.iana.org/assignments/media-types/video/vnd.radgamettools.bink\")","v":"https://www.iana.org/assignments/media-types/video/vnd.radgamettools.bink"},{"$f":"IFERROR(__xludf.DUMMYFUNCTION(\"\"\"COMPUTED_VALUE\"\"\"),\"vnd.radgamettools.bink\")","v":"vnd.radgamettools.bink"},{"$f":"IFERROR(__xludf.DUMMYFUNCTION(\"\"\"COMPUTED_VALUE\"\"\"),\"vnd.radgamettools.bink\")","v":"vnd.radgamettools.bink"},{"$f":"IFERROR(__xludf.DUMMYFUNCTION(\"\"\"COMPUTED_VALUE\"\"\"),\"video/vnd.radgamettools.bink\")","v":"video/vnd.radgamettools.bink"},{"$f":"IFERROR(__xludf.DUMMYFUNCTION(\"\"\"COMPUTED_VALUE\"\"\"),\"en\")","v":"en"}]
[{"$f":"IFERROR(__xludf.DUMMYFUNCTION(\"\"\"COMPUTED_VALUE\"\"\"),\"https://www.iana.org/assignments/media-types/video/vnd.radgamettools.smacker\")","v":"https://www.iana.org/assignments/media-types/video/vnd.radgamettools.smacker"},{"$f":"IFERROR(__xludf.DUMMYFUNCTION(\"\"\"COMPUTED_VALUE\"\"\"),\"vnd.radgamettools.smacker\")","v":"vnd.radgamettools.smacker"},{"$f":"IFERROR(__xludf.DUMMYFUNCTION(\"\"\"COMPUTED_VALUE\"\"\"),\"vnd.radgamettools.smacker\")","v":"vnd.radgamettools.smacker"},{"$f":"IFERROR(__xludf.DUMMYFUNCTION(\"\"\"COMPUTED_VALUE\"\"\"),\"video/vnd.radgamettools.smacker\")","v":"video/vnd.radgamettools.smacker"},{"$f":"IFERROR(__xludf.DUMMYFUNCTION(\"\"\"COMPUTED_VALUE\"\"\"),\"en\")","v":"en"}]
[{"$f":"IFERROR(__xludf.DUMMYFUNCTION(\"\"\"COMPUTED_VALUE\"\"\"),\"https://www.iana.org/assignments/media-types/video/vnd.sealed.mpeg1\")","v":"https://www.iana.org/assignments/media-types/video/vnd.sealed.mpeg1"},{"$f":"IFERROR(__xludf.DUMMYFUNCTION(\"\"\"COMPUTED_VALUE\"\"\"),\"vnd.sealed.mpeg1\")","v":"vnd.sealed.mpeg1"},{"$f":"IFERROR(__xludf.DUMMYFUNCTION(\"\"\"COMPUTED_VALUE\"\"\"),\"vnd.sealed.mpeg1\")","v":"vnd.sealed.mpeg1"},{"$f":"IFERROR(__xludf.DUMMYFUNCTION(\"\"\"COMPUTED_VALUE\"\"\"),\"video/vnd.sealed.mpeg1\")","v":"video/vnd.sealed.mpeg1"},{"$f":"IFERROR(__xludf.DUMMYFUNCTION(\"\"\"COMPUTED_VALUE\"\"\"),\"en\")","v":"en"}]
[{"$f":"IFERROR(__xludf.DUMMYFUNCTION(\"\"\"COMPUTED_VALUE\"\"\"),\"https://www.iana.org/assignments/media-types/video/vnd.sealed.mpeg4\")","v":"https://www.iana.org/assignments/media-types/video/vnd.sealed.mpeg4"},{"$f":"IFERROR(__xludf.DUMMYFUNCTION(\"\"\"COMPUTED_VALUE\"\"\"),\"vnd.sealed.mpeg4\")","v":"vnd.sealed.mpeg4"},{"$f":"IFERROR(__xludf.DUMMYFUNCTION(\"\"\"COMPUTED_VALUE\"\"\"),\"vnd.sealed.mpeg4\")","v":"vnd.sealed.mpeg4"},{"$f":"IFERROR(__xludf.DUMMYFUNCTION(\"\"\"COMPUTED_VALUE\"\"\"),\"video/vnd.sealed.mpeg4\")","v":"video/vnd.sealed.mpeg4"},{"$f":"IFERROR(__xludf.DUMMYFUNCTION(\"\"\"COMPUTED_VALUE\"\"\"),\"en\")","v":"en"}]
[{"$f":"IFERROR(__xludf.DUMMYFUNCTION(\"\"\"COMPUTED_VALUE\"\"\"),\"https://www.iana.org/assignments/media-types/video/vnd.sealed.swf\")","v":"https://www.iana.org/assignments/media-types/video/vnd.sealed.swf"},{"$f":"IFERROR(__xludf.DUMMYFUNCTION(\"\"\"COMPUTED_VALUE\"\"\"),\"vnd.sealed.swf\")","v":"vnd.sealed.swf"},{"$f":"IFERROR(__xludf.DUMMYFUNCTION(\"\"\"COMPUTED_VALUE\"\"\"),\"vnd.sealed.swf\")","v":"vnd.sealed.swf"},{"$f":"IFERROR(__xludf.DUMMYFUNCTION(\"\"\"COMPUTED_VALUE\"\"\"),\"video/vnd.sealed.swf\")","v":"video/vnd.sealed.swf"},{"$f":"IFERROR(__xludf.DUMMYFUNCTION(\"\"\"COMPUTED_VALUE\"\"\"),\"en\")","v":"en"}]
[{"$f":"IFERROR(__xludf.DUMMYFUNCTION(\"\"\"COMPUTED_VALUE\"\"\"),\"https://www.iana.org/assignments/media-types/video/vnd.sealedmedia.softseal.mov\")","v":"https://www.iana.org/assignments/media-types/video/vnd.sealedmedia.softseal.mov"},{"$f":"IFERROR(__xludf.DUMMYFUNCTION(\"\"\"COMPUTED_VALUE\"\"\"),\"vnd.sealedmedia.softseal.mov\")","v":"vnd.sealedmedia.softseal.mov"},{"$f":"IFERROR(__xludf.DUMMYFUNCTION(\"\"\"COMPUTED_VALUE\"\"\"),\"vnd.sealedmedia.softseal.mov\")","v":"vnd.sealedmedia.softseal.mov"},{"$f":"IFERROR(__xludf.DUMMYFUNCTION(\"\"\"COMPUTED_VALUE\"\"\"),\"video/vnd.sealedmedia.softseal.mov\")","v":"video/vnd.sealedmedia.softseal.mov"},{"$f":"IFERROR(__xludf.DUMMYFUNCTION(\"\"\"COMPUTED_VALUE\"\"\"),\"en\")","v":"en"}]
[{"$f":"IFERROR(__xludf.DUMMYFUNCTION(\"\"\"COMPUTED_VALUE\"\"\"),\"https://www.iana.org/assignments/media-types/video/vnd.uvvu.mp4\")","v":"https://www.iana.org/assignments/media-types/video/vnd.uvvu.mp4"},{"$f":"IFERROR(__xludf.DUMMYFUNCTION(\"\"\"COMPUTED_VALUE\"\"\"),\"vnd.uvvu.mp4\")","v":"vnd.uvvu.mp4"},{"$f":"IFERROR(__xludf.DUMMYFUNCTION(\"\"\"COMPUTED_VALUE\"\"\"),\"vnd.uvvu.mp4\")","v":"vnd.uvvu.mp4"},{"$f":"IFERROR(__xludf.DUMMYFUNCTION(\"\"\"COMPUTED_VALUE\"\"\"),\"video/vnd.uvvu.mp4\")","v":"video/vnd.uvvu.mp4"},{"$f":"IFERROR(__xludf.DUMMYFUNCTION(\"\"\"COMPUTED_VALUE\"\"\"),\"en\")","v":"en"}]
[{"$f":"IFERROR(__xludf.DUMMYFUNCTION(\"\"\"COMPUTED_VALUE\"\"\"),\"https://www.iana.org/assignments/media-types/video/vnd.youtube.yt\")","v":"https://www.iana.org/assignments/media-types/video/vnd.youtube.yt"},{"$f":"IFERROR(__xludf.DUMMYFUNCTION(\"\"\"COMPUTED_VALUE\"\"\"),\"vnd.youtube.yt\")","v":"vnd.youtube.yt"},{"$f":"IFERROR(__xludf.DUMMYFUNCTION(\"\"\"COMPUTED_VALUE\"\"\"),\"vnd.youtube.yt\")","v":"vnd.youtube.yt"},{"$f":"IFERROR(__xludf.DUMMYFUNCTION(\"\"\"COMPUTED_VALUE\"\"\"),\"video/vnd.youtube.yt\")","v":"video/vnd.youtube.yt"},{"$f":"IFERROR(__xludf.DUMMYFUNCTION(\"\"\"COMPUTED_VALUE\"\"\"),\"en\")","v":"en"}]
[{"$f":"IFERROR(__xludf.DUMMYFUNCTION(\"\"\"COMPUTED_VALUE\"\"\"),\"https://www.iana.org/assignments/media-types/video/vnd.vivo\")","v":"https://www.iana.org/assignments/media-types/video/vnd.vivo"},{"$f":"IFERROR(__xludf.DUMMYFUNCTION(\"\"\"COMPUTED_VALUE\"\"\"),\"vnd.vivo\")","v":"vnd.vivo"},{"$f":"IFERROR(__xludf.DUMMYFUNCTION(\"\"\"COMPUTED_VALUE\"\"\"),\"vnd.vivo\")","v":"vnd.vivo"},{"$f":"IFERROR(__xludf.DUMMYFUNCTION(\"\"\"COMPUTED_VALUE\"\"\"),\"video/vnd.vivo\")","v":"video/vnd.vivo"},{"$f":"IFERROR(__xludf.DUMMYFUNCTION(\"\"\"COMPUTED_VALUE\"\"\"),\"en\")","v":"en"}]
[{"$f":"IFERROR(__xludf.DUMMYFUNCTION(\"\"\"COMPUTED_VALUE\"\"\"),\"https://www.iana.org/assignments/media-types/video/VP8\")","v":"https://www.iana.org/assignments/media-types/video/VP8"},{"$f":"IFERROR(__xludf.DUMMYFUNCTION(\"\"\"COMPUTED_VALUE\"\"\"),\"VP8\")","v":"VP8"},{"$f":"IFERROR(__xludf.DUMMYFUNCTION(\"\"\"COMPUTED_VALUE\"\"\"),\"VP8\")","v":"VP8"},{"$f":"IFERROR(__xludf.DUMMYFUNCTION(\"\"\"COMPUTED_VALUE\"\"\"),\"video/VP8\")","v":"video/VP8"},{"$f":"IFERROR(__xludf.DUMMYFUNCTION(\"\"\"COMPUTED_VALUE\"\"\"),\"en\")","v":"en"}]
[{"$f":"IFERROR(__xludf.DUMMYFUNCTION(\"\"\"COMPUTED_VALUE\"\"\"),\"https://www.iana.org/assignments/media-types/video/VP9\")","v":"https://www.iana.org/assignments/media-types/video/VP9"},{"$f":"IFERROR(__xludf.DUMMYFUNCTION(\"\"\"COMPUTED_VALUE\"\"\"),\"VP9\")","v":"VP9"},{"$f":"IFERROR(__xludf.DUMMYFUNCTION(\"\"\"COMPUTED_VALUE\"\"\"),\"VP9\")","v":"VP9"},{"$f":"IFERROR(__xludf.DUMMYFUNCTION(\"\"\"COMPUTED_VALUE\"\"\"),\"video/VP9\")","v":"video/VP9"},{"$f":"IFERROR(__xludf.DUMMYFUNCTION(\"\"\"COMPUTED_VALUE\"\"\"),\"en\")","v":"en"}]

{"sheet":"NFO_publisher_type","index":11,"n_rows":11,"n_cols":3,"rows_kept":11,"cut":false,"hidden":true,"merged":[]}
[{"$f":"IFERROR(__xludf.DUMMYFUNCTION(\"IMPORTRANGE(\"\"https://docs.google.com/spreadsheets/d/1p4h5y82-jiH68qGY_WeCV6HuyJKmuyC1XLjVbwjsAdg\"\",\"\"publisher_type!A1:Z2000\"\")\"),\"id\")","v":"id"},{"$f":"IFERROR(__xludf.DUMMYFUNCTION(\"\"\"COMPUTED_VALUE\"\"\"),\"language\")","v":"language"},{"$f":"IFERROR(__xludf.DUMMYFUNCTION(\"\"\"COMPUTED_VALUE\"\"\"),\"label\")","v":"label"}]
[{"$f":"IFERROR(__xludf.DUMMYFUNCTION(\"\"\"COMPUTED_VALUE\"\"\"),\"http://purl.org/adms/publishertype/NationalAuthority\")","v":"http://purl.org/adms/publishertype/NationalAuthority"},{"$f":"IFERROR(__xludf.DUMMYFUNCTION(\"\"\"COMPUTED_VALUE\"\"\"),\"es\")","v":"es"},{"$f":"IFERROR(__xludf.DUMMYFUNCTION(\"\"\"COMPUTED_VALUE\"\"\"),\"Autoridad nacional\")","v":"Autoridad nacional"}]
[{"$f":"IFERROR(__xludf.DUMMYFUNCTION(\"\"\"COMPUTED_VALUE\"\"\"),\"http://purl.org/adms/publishertype/RegionalAuthority\")","v":"http://purl.org/adms/publishertype/RegionalAuthority"},{"$f":"IFERROR(__xludf.DUMMYFUNCTION(\"\"\"COMPUTED_VALUE\"\"\"),\"es\")","v":"es"},{"$f":"IFERROR(__xludf.DUMMYFUNCTION(\"\"\"COMPUTED_VALUE\"\"\"),\"Autoridad regional\")","v":"Autoridad regional"}]
[{"$f":"IFERROR(__xludf.DUMMYFUNCTION(\"\"\"COMPUTED_VALUE\"\"\"),\"http://purl.org/adms/publishertype/SupraNationalAuthority\")","v":"http://purl.org/adms/publishertype/SupraNationalAuthority"},{"$f":"IFERROR(__xludf.DUMMYFUNCTION(\"\"\"COMPUTED_VALUE\"\"\"),\"es\")","v":"es"},{"$f":"IFERROR(__xludf.DUMMYFUNCTION(\"\"\"COMPUTED_VALUE\"\"\"),\"Autoridad supranacional\")","v":"Autoridad supranacional"}]
[{"$f":"IFERROR(__xludf.DUMMYFUNCTION(\"\"\"COMPUTED_VALUE\"\"\"),\"http://purl.org/adms/publishertype/LocalAuthority\")","v":"http://purl.org/adms/publishertype/LocalAuthority"},{"$f":"IFERROR(__xludf.DUMMYFUNCTION(\"\"\"COMPUTED_VALUE\"\"\"),\"es\")","v":"es"},{"$f":"IFERROR(__xludf.DUMMYFUNCTION(\"\"\"COMPUTED_VALUE\"\"\"),\"Autoridad local\")","v":"Autoridad local"}]
[{"$f":"IFERROR(__xludf.DUMMYFUNCTION(\"\"\"COMPUTED_VALUE\"\"\"),\"http://purl.org/adms/publishertype/NonProfitOrganisation\")","v":"http://purl.org/adms/publishertype/NonProfitOrganisation"},{"$f":"IFERROR(__xludf.DUMMYFUNCTION(\"\"\"COMPUTED_VALUE\"\"\"),\"es\")","v":"es"},{"$f":"IFERROR(__xludf.DUMMYFUNCTION(\"\"\"COMPUTED_VALUE\"\"\"),\"Organización sin animo de lucro\")","v":"Organización sin animo de lucro"}]
[{"$f":"IFERROR(__xludf.DUMMYFUNCTION(\"\"\"COMPUTED_VALUE\"\"\"),\"http://purl.org/adms/publishertype/NationalAuthority\")","v":"http://purl.org/adms/publishertype/NationalAuthority"},{"$f":"IFERROR(__xludf.DUMMYFUNCTION(\"\"\"COMPUTED_VALUE\"\"\"),\"en\")","v":"en"},{"$f":"IFERROR(__xludf.DUMMYFUNCTION(\"\"\"COMPUTED_VALUE\"\"\"),\"National authority\")","v":"National authority"}]
[{"$f":"IFERROR(__xludf.DUMMYFUNCTION(\"\"\"COMPUTED_VALUE\"\"\"),\"http://purl.org/adms/publishertype/RegionalAuthority\")","v":"http://purl.org/adms/publishertype/RegionalAuthority"},{"$f":"IFERROR(__xludf.DUMMYFUNCTION(\"\"\"COMPUTED_VALUE\"\"\"),\"en\")","v":"en"},{"$f":"IFERROR(__xludf.DUMMYFUNCTION(\"\"\"COMPUTED_VALUE\"\"\"),\"Regional authority\")","v":"Regional authority"}]
[{"$f":"IFERROR(__xludf.DUMMYFUNCTION(\"\"\"COMPUTED_VALUE\"\"\"),\"http://purl.org/adms/publishertype/SupraNationalAuthority\")","v":"http://purl.org/adms/publishertype/SupraNationalAuthority"},{"$f":"IFERROR(__xludf.DUMMYFUNCTION(\"\"\"COMPUTED_VALUE\"\"\"),\"en\")","v":"en"},{"$f":"IFERROR(__xludf.DUMMYFUNCTION(\"\"\"COMPUTED_VALUE\"\"\"),\"Supranational authority\")","v":"Supranational authority"}]
[{"$f":"IFERROR(__xludf.DUMMYFUNCTION(\"\"\"COMPUTED_VALUE\"\"\"),\"http://purl.org/adms/publishertype/LocalAuthority\")","v":"http://purl.org/adms/publishertype/LocalAuthority"},{"$f":"IFERROR(__xludf.DUMMYFUNCTION(\"\"\"COMPUTED_VALUE\"\"\"),\"en\")","v":"en"},{"$f":"IFERROR(__xludf.DUMMYFUNCTION(\"\"\"COMPUTED_VALUE\"\"\"),\"Local authority\")","v":"Local authority"}]
[{"$f":"IFERROR(__xludf.DUMMYFUNCTION(\"\"\"COMPUTED_VALUE\"\"\"),\"http://purl.org/adms/publishertype/NonProfitOrganisation\")","v":"http://purl.org/adms/publishertype/NonProfitOrganisation"},{"$f":"IFERROR(__xludf.DUMMYFUNCTION(\"\"\"COMPUTED_VALUE\"\"\"),\"en\")","v":"en"},{"$f":"IFERROR(__xludf.DUMMYFUNCTION(\"\"\"COMPUTED_VALUE\"\"\"),\"Non profit organisation\")","v":"Non profit organisation"}]

{"sheet":"NFO_representation_type","index":12,"n_rows":13,"n_cols":3,"rows_kept":13,"cut":false,"hidden":true,"merged":[]}
[{"$f":"IFERROR(__xludf.DUMMYFUNCTION(\"IMPORTRANGE(\"\"https://docs.google.com/spreadsheets/d/1p4h5y82-jiH68qGY_WeCV6HuyJKmuyC1XLjVbwjsAdg\"\",\"\"representation_type!A1:Z2000\"\")\"),\"id\")","v":"id"},{"$f":"IFERROR(__xludf.DUMMYFUNCTION(\"\"\"COMPUTED_VALUE\"\"\"),\"label\")","v":"label"},{"$f":"IFERROR(__xludf.DUMMYFUNCTION(\"\"\"COMPUTED_VALUE\"\"\"),\"language\")","v":"language"}]
[{"$f":"IFERROR(__xludf.DUMMYFUNCTION(\"\"\"COMPUTED_VALUE\"\"\"),\"http://inspire.ec.europa.eu/metadata-codelist/SpatialRepresentationType/grid\")","v":"http://inspire.ec.europa.eu/metadata-codelist/SpatialRepresentationType/grid"},{"$f":"IFERROR(__xludf.DUMMYFUNCTION(\"\"\"COMPUTED_VALUE\"\"\"),\"Grid\")","v":"Grid"},{"$f":"IFERROR(__xludf.DUMMYFUNCTION(\"\"\"COMPUTED_VALUE\"\"\"),\"en\")","v":"en"}]
[{"$f":"IFERROR(__xludf.DUMMYFUNCTION(\"\"\"COMPUTED_VALUE\"\"\"),\"http://inspire.ec.europa.eu/metadata-codelist/SpatialRepresentationType/stereoModel\")","v":"http://inspire.ec.europa.eu/metadata-codelist/SpatialRepresentationType/stereoModel"},{"$f":"IFERROR(__xludf.DUMMYFUNCTION(\"\"\"COMPUTED_VALUE\"\"\"),\"Stereo model\")","v":"Stereo model"},{"$f":"IFERROR(__xludf.DUMMYFUNCTION(\"\"\"COMPUTED_VALUE\"\"\"),\"en\")","v":"en"}]
[{"$f":"IFERROR(__xludf.DUMMYFUNCTION(\"\"\"COMPUTED_VALUE\"\"\"),\"http://inspire.ec.europa.eu/metadata-codelist/SpatialRepresentationType/textTable\")","v":"http://inspire.ec.europa.eu/metadata-codelist/SpatialRepresentationType/textTable"},{"$f":"IFERROR(__xludf.DUMMYFUNCTION(\"\"\"COMPUTED_VALUE\"\"\"),\"Text table\")","v":"Text table"},{"$f":"IFERROR(__xludf.DUMMYFUNCTION(\"\"\"COMPUTED_VALUE\"\"\"),\"en\")","v":"en"}]
[{"$f":"IFERROR(__xludf.DUMMYFUNCTION(\"\"\"COMPUTED_VALUE\"\"\"),\"http://inspire.ec.europa.eu/metadata-codelist/SpatialRepresentationType/tin\")","v":"http://inspire.ec.europa.eu/metadata-codelist/SpatialRepresentationType/tin"},{"$f":"IFERROR(__xludf.DUMMYFUNCTION(\"\"\"COMPUTED_VALUE\"\"\"),\"TIN\")","v":"TIN"},{"$f":"IFERROR(__xludf.DUMMYFUNCTION(\"\"\"COMPUTED_VALUE\"\"\"),\"en\")","v":"en"}]
[{"$f":"IFERROR(__xludf.DUMMYFUNCTION(\"\"\"COMPUTED_VALUE\"\"\"),\"http://inspire.ec.europa.eu/metadata-codelist/SpatialRepresentationType/vector\")","v":"http://inspire.ec.europa.eu/metadata-codelist/SpatialRepresentationType/vector"},{"$f":"IFERROR(__xludf.DUMMYFUNCTION(\"\"\"COMPUTED_VALUE\"\"\"),\"Vector\")","v":"Vector"},{"$f":"IFERROR(__xludf.DUMMYFUNCTION(\"\"\"COMPUTED_VALUE\"\"\"),\"en\")","v":"en"}]
[{"$f":"IFERROR(__xludf.DUMMYFUNCTION(\"\"\"COMPUTED_VALUE\"\"\"),\"http://inspire.ec.europa.eu/metadata-codelist/SpatialRepresentationType/video\")","v":"http://inspire.ec.europa.eu/metadata-codelist/SpatialRepresentationType/video"},{"$f":"IFERROR(__xludf.DUMMYFUNCTION(\"\"\"COMPUTED_VALUE\"\"\"),\"Video\")","v":"Video"},{"$f":"IFERROR(__xludf.DUMMYFUNCTION(\"\"\"COMPUTED_VALUE\"\"\"),\"en\")","v":"en"}]
[{"$f":"IFERROR(__xludf.DUMMYFUNCTION(\"\"\"COMPUTED_VALUE\"\"\"),\"http://inspire.ec.europa.eu/metadata-codelist/SpatialRepresentationType/grid\")","v":"http://inspire.ec.europa.eu/metadata-codelist/SpatialRepresentationType/grid"},{"$f":"IFERROR(__xludf.DUMMYFUNCTION(\"\"\"COMPUTED_VALUE\"\"\"),\"Rejilla\")","v":"Rejilla"},{"$f":"IFERROR(__xludf.DUMMYFUNCTION(\"\"\"COMPUTED_VALUE\"\"\"),\"es\")","v":"es"}]
[{"$f":"IFERROR(__xludf.DUMMYFUNCTION(\"\"\"COMPUTED_VALUE\"\"\"),\"http://inspire.ec.europa.eu/metadata-codelist/SpatialRepresentationType/tin\")","v":"http://inspire.ec.europa.eu/metadata-codelist/SpatialRepresentationType/tin"},{"$f":"IFERROR(__xludf.DUMMYFUNCTION(\"\"\"COMPUTED_VALUE\"\"\"),\"TIN\")","v":"TIN"},{"$f":"IFERROR(__xludf.DUMMYFUNCTION(\"\"\"COMPUTED_VALUE\"\"\"),\"es\")","v":"es"}]
[{"$f":"IFERROR(__xludf.DUMMYFUNCTION(\"\"\"COMPUTED_VALUE\"\"\"),\"http://inspire.ec.europa.eu/metadata-codelist/SpatialRepresentationType/vector\")","v":"http://inspire.ec.europa.eu/metadata-codelist/SpatialRepresentationType/vector"},{"$f":"IFERROR(__xludf.DUMMYFUNCTION(\"\"\"COMPUTED_VALUE\"\"\"),\"Vector\")","v":"Vector"},{"$f":"IFERROR(__xludf.DUMMYFUNCTION(\"\"\"COMPUTED_VALUE\"\"\"),\"es\")","v":"es"}]
[{"$f":"IFERROR(__xludf.DUMMYFUNCTION(\"\"\"COMPUTED_VALUE\"\"\"),\"http://inspire.ec.europa.eu/metadata-codelist/SpatialRepresentationType/stereoModel\")","v":"http://inspire.ec.europa.eu/metadata-codelist/SpatialRepresentationType/stereoModel"},{"$f":"IFERROR(__xludf.DUMMYFUNCTION(\"\"\"COMPUTED_VALUE\"\"\"),\"Modelo estéreo\")","v":"Modelo estéreo"},{"$f":"IFERROR(__xludf.DUMMYFUNCTION(\"\"\"COMPUTED_VALUE\"\"\"),\"es\")","v":"es"}]
[{"$f":"IFERROR(__xludf.DUMMYFUNCTION(\"\"\"COMPUTED_VALUE\"\"\"),\"http://inspire.ec.europa.eu/metadata-codelist/SpatialRepresentationType/video\")","v":"http://inspire.ec.europa.eu/metadata-codelist/SpatialRepresentationType/video"},{"$f":"IFERROR(__xludf.DUMMYFUNCTION(\"\"\"COMPUTED_VALUE\"\"\"),\"Vídeo\")","v":"Vídeo"},{"$f":"IFERROR(__xludf.DUMMYFUNCTION(\"\"\"COMPUTED_VALUE\"\"\"),\"es\")","v":"es"}]
[{"$f":"IFERROR(__xludf.DUMMYFUNCTION(\"\"\"COMPUTED_VALUE\"\"\"),\"http://inspire.ec.europa.eu/metadata-codelist/SpatialRepresentationType/textTable\")","v":"http://inspire.ec.europa.eu/metadata-codelist/SpatialRepresentationType/textTable"},{"$f":"IFERROR(__xludf.DUMMYFUNCTION(\"\"\"COMPUTED_VALUE\"\"\"),\"Tabla de texto\")","v":"Tabla de texto"},{"$f":"IFERROR(__xludf.DUMMYFUNCTION(\"\"\"COMPUTED_VALUE\"\"\"),\"es\")","v":"es"}]

{"sheet":"NFO_rights","index":13,"n_rows":21,"n_cols":5,"rows_kept":21,"cut":false,"hidden":true,"merged":[]}
[{"$f":"IFERROR(__xludf.DUMMYFUNCTION(\"IMPORTRANGE(\"\"https://docs.google.com/spreadsheets/d/1p4h5y82-jiH68qGY_WeCV6HuyJKmuyC1XLjVbwjsAdg\"\",\"\"rights!A1:Z100\"\")\"),\"id\")","v":"id"},{"$f":"IFERROR(__xludf.DUMMYFUNCTION(\"\"\"COMPUTED_VALUE\"\"\"),\"Language\")","v":"Language"},{"$f":"IFERROR(__xludf.DUMMYFUNCTION(\"\"\"COMPUTED_VALUE\"\"\"),\"label\")","v":"label"},{"$f":"IFERROR(__xludf.DUMMYFUNCTION(\"\"\"COMPUTED_VALUE\"\"\"),\"definition\")","v":"definition"}]
[{"$f":"IFERROR(__xludf.DUMMYFUNCTION(\"\"\"COMPUTED_VALUE\"\"\"),\"http://inspire.ec.europa.eu/metadata-codelist/LimitationsOnPublicAccess/INSPIRE_Directive_Article13_1a\")","v":"http://inspire.ec.europa.eu/metadata-codelist/LimitationsOnPublicAccess/INSPIRE_Directive_Article13_1a"},{"$f":"IFERROR(__xludf.DUMMYFUNCTION(\"\"\"COMPUTED_VALUE\"\"\"),\"en\")","v":"en"},{"$f":"IFERROR(__xludf.DUMMYFUNCTION(\"\"\"COMPUTED_VALUE\"\"\"),\"public access limited according to Article 13(1)(a) of the INSPIRE Directive\")","v":"public access limited according to Article 13(1)(a) of the INSPIRE Directive"},{"$f":"IFERROR(__xludf.DUMMYFUNCTION(\"\"\"COMPUTED_VALUE\"\"\"),\"Public access to spatial data sets and services would adversely affect the confidentiality of the proceedings of public authorities, where such confidentiality is provided for by law.\")","v":"Public access to spatial data sets and services would adversely affect the confidentiality of the proceedings of public authorities, where such confidentiality is provided for by law."}]
[{"$f":"IFERROR(__xludf.DUMMYFUNCTION(\"\"\"COMPUTED_VALUE\"\"\"),\"http://inspire.ec.europa.eu/metadata-codelist/LimitationsOnPublicAccess/INSPIRE_Directive_Article13_1b\")","v":"http://inspire.ec.europa.eu/metadata-codelist/LimitationsOnPublicAccess/INSPIRE_Directive_Article13_1b"},{"$f":"IFERROR(__xludf.DUMMYFUNCTION(\"\"\"COMPUTED_VALUE\"\"\"),\"en\")","v":"en"},{"$f":"IFERROR(__xludf.DUMMYFUNCTION(\"\"\"COMPUTED_VALUE\"\"\"),\"public access limited according to Article 13(1)(b) of the INSPIRE Directive\")","v":"public access limited according to Article 13(1)(b) of the INSPIRE Directive"},{"$f":"IFERROR(__xludf.DUMMYFUNCTION(\"\"\"COMPUTED_VALUE\"\"\"),\"Public access to spatial data sets and services would adversely affect international relations, public security or national defence.\")","v":"Public access to spatial data sets and services would adversely affect international relations, public security or national defence."}]
[{"$f":"IFERROR(__xludf.DUMMYFUNCTION(\"\"\"COMPUTED_VALUE\"\"\"),\"http://inspire.ec.europa.eu/metadata-codelist/LimitationsOnPublicAccess/INSPIRE_Directive_Article13_1c\")","v":"http://inspire.ec.europa.eu/metadata-codelist/LimitationsOnPublicAccess/INSPIRE_Directive_Article13_1c"},{"$f":"IFERROR(__xludf.DUMMYFUNCTION(\"\"\"COMPUTED_VALUE\"\"\"),\"en\")","v":"en"},{"$f":"IFERROR(__xludf.DUMMYFUNCTION(\"\"\"COMPUTED_VALUE\"\"\"),\"public access limited according to Article 13(1)(c) of the INSPIRE Directive\")","v":"public access limited according to Article 13(1)(c) of the INSPIRE Directive"},{"$f":"IFERROR(__xludf.DUMMYFUNCTION(\"\"\"COMPUTED_VALUE\"\"\"),\"Public access to spatial data sets and services would adversely affect the course of justice, the ability of any person to receive a fair trial or the ability of a public authority to conduct an enquiry of a criminal or disciplinary nature.\")","v":"Public access to spatial data sets and services would adversely affect the course of justice, the ability of any person to receive a fair trial or the ability of a public authority to conduct an enquiry of a criminal or disciplinary nature."}]
[{"$f":"IFERROR(__xludf.DUMMYFUNCTION(\"\"\"COMPUTED_VALUE\"\"\"),\"http://inspire.ec.europa.eu/metadata-codelist/LimitationsOnPublicAccess/INSPIRE_Directive_Article13_1d\")","v":"http://inspire.ec.europa.eu/metadata-codelist/LimitationsOnPublicAccess/INSPIRE_Directive_Article13_1d"},{"$f":"IFERROR(__xludf.DUMMYFUNCTION(\"\"\"COMPUTED_VALUE\"\"\"),\"en\")","v":"en"},{"$f":"IFERROR(__xludf.DUMMYFUNCTION(\"\"\"COMPUTED_VALUE\"\"\"),\"public access limited according to Article 13(1)(d) of the INSPIRE Directive\")","v":"public access limited according to Article 13(1)(d) of the INSPIRE Directive"},{"$f":"IFERROR(__xludf.DUMMYFUNCTION(\"\"\"COMPUTED_VALUE\"\"\"),\"Public access to spatial data sets and services would adversely affect the confidentiality of commercial or industrial information, where such confidentiality is provided for by national or Community law to protect a legitimate economic interest, includin\"&\"g the public interest in maintaining statistical confidentiality and tax secrecy.\")","v":"Public access to spatial data sets and services would adversely affect the confidentiality of commercial or industrial information, where such confidentiality is provided for by national or Community law to protect a legitimate economic interest, including the public interest in maintaining statistical confidentiality and tax secrecy."}]
[{"$f":"IFERROR(__xludf.DUMMYFUNCTION(\"\"\"COMPUTED_VALUE\"\"\"),\"http://inspire.ec.europa.eu/metadata-codelist/LimitationsOnPublicAccess/INSPIRE_Directive_Article13_1e\")","v":"http://inspire.ec.europa.eu/metadata-codelist/LimitationsOnPublicAccess/INSPIRE_Directive_Article13_1e"},{"$f":"IFERROR(__xludf.DUMMYFUNCTION(\"\"\"COMPUTED_VALUE\"\"\"),\"en\")","v":"en"},{"$f":"IFERROR(__xludf.DUMMYFUNCTION(\"\"\"COMPUTED_VALUE\"\"\"),\"public access limited according to Article 13(1)(e) of the INSPIRE Directive\")","v":"public access limited according to Article 13(1)(e) of the INSPIRE Directive"},{"$f":"IFERROR(__xludf.DUMMYFUNCTION(\"\"\"COMPUTED_VALUE\"\"\"),\"Public access to spatial data sets and services would adversely affect intellectual property rights.\")","v":"Public access to spatial data sets and services would adversely affect intellectual property rights."}]
[{"$f":"IFERROR(__xludf.DUMMYFUNCTION(\"\"\"COMPUTED_VALUE\"\"\"),\"http://inspire.ec.europa.eu/metadata-codelist/LimitationsOnPublicAccess/INSPIRE_Directive_Article13_1f\")","v":"http://inspire.ec.europa.eu/metadata-codelist/LimitationsOnPublicAccess/INSPIRE_Directive_Article13_1f"},{"$f":"IFERROR(__xludf.DUMMYFUNCTION(\"\"\"COMPUTED_VALUE\"\"\"),\"en\")","v":"en"},{"$f":"IFERROR(__xludf.DUMMYFUNCTION(\"\"\"COMPUTED_VALUE\"\"\"),\"public access limited according to Article 13(1)(f) of the INSPIRE Directive\")","v":"public access limited according to Article 13(1)(f) of the INSPIRE Directive"},{"$f":"IFERROR(__xludf.DUMMYFUNCTION(\"\"\"COMPUTED_VALUE\"\"\"),\"Public access to spatial data sets and services would adversely affect the confidentiality of personal data and/or files relating to a natural person where that person has not consented to the disclosure of the information to the public, where such confid\"&\"entiality is provided for by national or Community law.\")","v":"Public access to spatial data sets and services would adversely affect the confidentiality of personal data and/or files relating to a natural person where that person has not consented to the disclosure of the information to the public, where such confidentiality is provided for by national or Community law."}]
[{"$f":"IFERROR(__xludf.DUMMYFUNCTION(\"\"\"COMPUTED_VALUE\"\"\"),\"http://inspire.ec.europa.eu/metadata-codelist/LimitationsOnPublicAccess/INSPIRE_Directive_Article13_1g\")","v":"http://inspire.ec.europa.eu/metadata-codelist/LimitationsOnPublicAccess/INSPIRE_Directive_Article13_1g"},{"$f":"IFERROR(__xludf.DUMMYFUNCTION(\"\"\"COMPUTED_VALUE\"\"\"),\"en\")","v":"en"},{"$f":"IFERROR(__xludf.DUMMYFUNCTION(\"\"\"COMPUTED_VALUE\"\"\"),\"public access limited according to Article 13(1)(g) of the INSPIRE Directive\")","v":"public access limited according to Article 13(1)(g) of the INSPIRE Directive"},{"$f":"IFERROR(__xludf.DUMMYFUNCTION(\"\"\"COMPUTED_VALUE\"\"\"),\"Public access to spatial data sets and services would adversely affect the interests or protection of any person who supplied the information requested on a voluntary basis without being under, or capable of being put under, a legal obligation to do so, u\"&\"nless that person has consented to the release of the information concerned.\")","v":"Public access to spatial data sets and services would adversely affect the interests or protection of any person who supplied the information requested on a voluntary basis without being under, or capable of being put under, a legal obligation to do so, unless that person has consented to the release of the information concerned."}]
[{"$f":"IFERROR(__xludf.DUMMYFUNCTION(\"\"\"COMPUTED_VALUE\"\"\"),\"http://inspire.ec.europa.eu/metadata-codelist/LimitationsOnPublicAccess/INSPIRE_Directive_Article13_1h\")","v":"http://inspire.ec.europa.eu/metadata-codelist/LimitationsOnPublicAccess/INSPIRE_Directive_Article13_1h"},{"$f":"IFERROR(__xludf.DUMMYFUNCTION(\"\"\"COMPUTED_VALUE\"\"\"),\"en\")","v":"en"},{"$f":"IFERROR(__xludf.DUMMYFUNCTION(\"\"\"COMPUTED_VALUE\"\"\"),\"public access limited according to Article 13(1)(h) of the INSPIRE Directive\")","v":"public access limited according to Article 13(1)(h) of the INSPIRE Directive"},{"$f":"IFERROR(__xludf.DUMMYFUNCTION(\"\"\"COMPUTED_VALUE\"\"\"),\"Public access to spatial data sets and services would adversely affect the protection of the environment to which such information relates, such as the location of rare species.\")","v":"Public access to spatial data sets and services would adversely affect the protection of the environment to which such information relates, such as the location of rare species."}]
[{"$f":"IFERROR(__xludf.DUMMYFUNCTION(\"\"\"COMPUTED_VALUE\"\"\"),\"http://inspire.ec.europa.eu/metadata-codelist/LimitationsOnPublicAccess/noLimitations\")","v":"http://inspire.ec.europa.eu/metadata-codelist/LimitationsOnPublicAccess/noLimitations"},{"$f":"IFERROR(__xludf.DUMMYFUNCTION(\"\"\"COMPUTED_VALUE\"\"\"),\"en\")","v":"en"},{"$f":"IFERROR(__xludf.DUMMYFUNCTION(\"\"\"COMPUTED_VALUE\"\"\"),\"no limitations to public access\")","v":"no limitations to public access"},{"$f":"IFERROR(__xludf.DUMMYFUNCTION(\"\"\"COMPUTED_VALUE\"\"\"),\"There are no limitations on public access to spatial data sets and services.\")","v":"There are no limitations on public access to spatial data sets and services."}]
["http://purl.org/eprint/accessRights/OpenAccess ",null,null,null,"Sin restricciones de acceso público"]
[null,null,null,null,"Otros "]
[{"$f":"IFERROR(__xludf.DUMMYFUNCTION(\"\"\"COMPUTED_VALUE\"\"\"),\"http://inspire.ec.europa.eu/metadata-codelist/LimitationsOnPublicAccess/INSPIRE_Directive_Article13_1a\")","v":"http://inspire.ec.europa.eu/metadata-codelist/LimitationsOnPublicAccess/INSPIRE_Directive_Article13_1a"},{"$f":"IFERROR(__xludf.DUMMYFUNCTION(\"\"\"COMPUTED_VALUE\"\"\"),\"es\")","v":"es"},{"$f":"IFERROR(__xludf.DUMMYFUNCTION(\"\"\"COMPUTED_VALUE\"\"\"),\"acceso público limitado con arreglo al artículo 13, apartado 1, letra a), de la Directiva INSPIRE\")","v":"acceso público limitado con arreglo al artículo 13, apartado 1, letra a), de la Directiva INSPIRE"},{"$f":"IFERROR(__xludf.DUMMYFUNCTION(\"\"\"COMPUTED_VALUE\"\"\"),\"Public access to spatial data sets and services would adversely affect the confidentiality of the proceedings of public authorities, where such confidentiality is provided for by law.\")","v":"Public access to spatial data sets and services would adversely affect the confidentiality of the proceedings of public authorities, where such confidentiality is provided for by law."},"El acceso público a los conjuntos y servicios de datos espaciales afectaría negativamente a la confidencialidad de los procedimientos de las autoridades públicas, cuando dicha confidencialidad esté prevista por la ley."]
[{"$f":"IFERROR(__xludf.DUMMYFUNCTION(\"\"\"COMPUTED_VALUE\"\"\"),\"http://inspire.ec.europa.eu/metadata-codelist/LimitationsOnPublicAccess/INSPIRE_Directive_Article13_1b\")","v":"http://inspire.ec.europa.eu/metadata-codelist/LimitationsOnPublicAccess/INSPIRE_Directive_Article13_1b"},{"$f":"IFERROR(__xludf.DUMMYFUNCTION(\"\"\"COMPUTED_VALUE\"\"\"),\"es\")","v":"es"},{"$f":"IFERROR(__xludf.DUMMYFUNCTION(\"\"\"COMPUTED_VALUE\"\"\"),\"acceso público limitado con arreglo al artículo 13, apartado 1, letra b), de la Directiva INSPIRE\")","v":"acceso público limitado con arreglo al artículo 13, apartado 1, letra b), de la Directiva INSPIRE"},{"$f":"IFERROR(__xludf.DUMMYFUNCTION(\"\"\"COMPUTED_VALUE\"\"\"),\"Public access to spatial data sets and services would adversely affect international relations, public security or national defence.\")","v":"Public access to spatial data sets and services would adversely affect international relations, public security or national defence."},"El acceso público a los conjuntos y servicios de datos espaciales afectaría negativamente a las relaciones internacionales, la seguridad pública o la defensa nacional"]
[{"$f":"IFERROR(__xludf.DUMMYFUNCTION(\"\"\"COMPUTED_VALUE\"\"\"),\"http://inspire.ec.europa.eu/metadata-codelist/LimitationsOnPublicAccess/INSPIRE_Directive_Article13_1c\")","v":"http://inspire.ec.europa.eu/metadata-codelist/LimitationsOnPublicAccess/INSPIRE_Directive_Article13_1c"},{"$f":"IFERROR(__xludf.DUMMYFUNCTION(\"\"\"COMPUTED_VALUE\"\"\"),\"es\")","v":"es"},{"$f":"IFERROR(__xludf.DUMMYFUNCTION(\"\"\"COMPUTED_VALUE\"\"\"),\"acceso público limitado con arreglo al artículo 13, apartado 1, letra c), de la Directiva INSPIRE\")","v":"acceso público limitado con arreglo al artículo 13, apartado 1, letra c), de la Directiva INSPIRE"},{"$f":"IFERROR(__xludf.DUMMYFUNCTION(\"\"\"COMPUTED_VALUE\"\"\"),\"Public access to spatial data sets and services would adversely affect the course of justice, the ability of any person to receive a fair trial or the ability of a public authority to conduct an enquiry of a criminal or disciplinary nature.\")","v":"Public access to spatial data sets and services would adversely affect the course of justice, the ability of any person to receive a fair trial or the ability of a public authority to conduct an enquiry of a criminal or disciplinary nature."},"El acceso público a los conjuntos y servicios de datos espaciales afectaría negativamente al curso de la justicia, a la capacidad de cualquier persona para recibir un juicio justo o a la capacidad de una autoridad pública para llevar a cabo una investigación de carácter penal o disciplinario"]
[{"$f":"IFERROR(__xludf.DUMMYFUNCTION(\"\"\"COMPUTED_VALUE\"\"\"),\"http://inspire.ec.europa.eu/metadata-codelist/LimitationsOnPublicAccess/INSPIRE_Directive_Article13_1d\")","v":"http://inspire.ec.europa.eu/metadata-codelist/LimitationsOnPublicAccess/INSPIRE_Directive_Article13_1d"},{"$f":"IFERROR(__xludf.DUMMYFUNCTION(\"\"\"COMPUTED_VALUE\"\"\"),\"es\")","v":"es"},{"$f":"IFERROR(__xludf.DUMMYFUNCTION(\"\"\"COMPUTED_VALUE\"\"\"),\"acceso público limitado con arreglo al artículo 13, apartado 1, letra d), de la Directiva INSPIRE\")","v":"acceso público limitado con arreglo al artículo 13, apartado 1, letra d), de la Directiva INSPIRE"},{"$f":"IFERROR(__xludf.DUMMYFUNCTION(\"\"\"COMPUTED_VALUE\"\"\"),\"Public access to spatial data sets and services would adversely affect the confidentiality of commercial or industrial information, where such confidentiality is provided for by national or Community law to protect a legitimate economic interest, includin\"&\"g the public interest in maintaining statistical confidentiality and tax secrecy.\")","v":"Public access to spatial data sets and services would adversely affect the confidentiality of commercial or industrial information, where such confidentiality is provided for by national or Community law to protect a legitimate economic interest, including the public interest in maintaining statistical confidentiality and tax secrecy."},"El acceso público a los conjuntos y servicios de datos espaciales afectaría negativamente a la confidencialidad de la información comercial o industrial, cuando dicha confidencialidad esté prevista por el Derecho nacional o comunitario para proteger un interés económico legítimo, incluido el interés público en mantener el secreto estadístico y fiscal."]
[{"$f":"IFERROR(__xludf.DUMMYFUNCTION(\"\"\"COMPUTED_VALUE\"\"\"),\"http://inspire.ec.europa.eu/metadata-codelist/LimitationsOnPublicAccess/INSPIRE_Directive_Article13_1e\")","v":"http://inspire.ec.europa.eu/metadata-codelist/LimitationsOnPublicAccess/INSPIRE_Directive_Article13_1e"},{"$f":"IFERROR(__xludf.DUMMYFUNCTION(\"\"\"COMPUTED_VALUE\"\"\"),\"es\")","v":"es"},{"$f":"IFERROR(__xludf.DUMMYFUNCTION(\"\"\"COMPUTED_VALUE\"\"\"),\"acceso público limitado con arreglo al artículo 13, apartado 1, letra e), de la Directiva INSPIRE\")","v":"acceso público limitado con arreglo al artículo 13, apartado 1, letra e), de la Directiva INSPIRE"},{"$f":"IFERROR(__xludf.DUMMYFUNCTION(\"\"\"COMPUTED_VALUE\"\"\"),\"Public access to spatial data sets and services would adversely affect intellectual property rights.\")","v":"Public access to spatial data sets and services would adversely affect intellectual property rights."},"El acceso público a los conjuntos y servicios de datos espaciales afectaría negativamente a los derechos de propiedad intelectual."]
[{"$f":"IFERROR(__xludf.DUMMYFUNCTION(\"\"\"COMPUTED_VALUE\"\"\"),\"http://inspire.ec.europa.eu/metadata-codelist/LimitationsOnPublicAccess/INSPIRE_Directive_Article13_1f\")","v":"http://inspire.ec.europa.eu/metadata-codelist/LimitationsOnPublicAccess/INSPIRE_Directive_Article13_1f"},{"$f":"IFERROR(__xludf.DUMMYFUNCTION(\"\"\"COMPUTED_VALUE\"\"\"),\"es\")","v":"es"},{"$f":"IFERROR(__xludf.DUMMYFUNCTION(\"\"\"COMPUTED_VALUE\"\"\"),\"acceso público limitado con arreglo al artículo 13, apartado 1, letra f), de la Directiva INSPIRE\")","v":"acceso público limitado con arreglo al artículo 13, apartado 1, letra f), de la Directiva INSPIRE"},{"$f":"IFERROR(__xludf.DUMMYFUNCTION(\"\"\"COMPUTED_VALUE\"\"\"),\"Public access to spatial data sets and services would adversely affect the confidentiality of personal data and/or files relating to a natural person where that person has not consented to the disclosure of the information to the public, where such confid\"&\"entiality is provided for by national or Community law.\")","v":"Public access to spatial data sets and services would adversely affect the confidentiality of personal data and/or files relating to a natural person where that person has not consented to the disclosure of the information to the public, where such confidentiality is provided for by national or Community law."},"El acceso público a los conjuntos y servicios de datos espaciales afectaría negativamente a la confidencialidad de los datos personales y/o de los ficheros relativos a una persona física cuando dicha persona no haya dado su consentimiento a la divulgación de la información al público, cuando dicha confidencialidad esté prevista por el Derecho nacional o comunitario."]
[{"$f":"IFERROR(__xludf.DUMMYFUNCTION(\"\"\"COMPUTED_VALUE\"\"\"),\"http://inspire.ec.europa.eu/metadata-codelist/LimitationsOnPublicAccess/INSPIRE_Directive_Article13_1g\")","v":"http://inspire.ec.europa.eu/metadata-codelist/LimitationsOnPublicAccess/INSPIRE_Directive_Article13_1g"},{"$f":"IFERROR(__xludf.DUMMYFUNCTION(\"\"\"COMPUTED_VALUE\"\"\"),\"es\")","v":"es"},{"$f":"IFERROR(__xludf.DUMMYFUNCTION(\"\"\"COMPUTED_VALUE\"\"\"),\"acceso público limitado con arreglo al artículo 13, apartado 1, letra g), de la Directiva INSPIRE\")","v":"acceso público limitado con arreglo al artículo 13, apartado 1, letra g), de la Directiva INSPIRE"},{"$f":"IFERROR(__xludf.DUMMYFUNCTION(\"\"\"COMPUTED_VALUE\"\"\"),\"Public access to spatial data sets and services would adversely affect the interests or protection of any person who supplied the information requested on a voluntary basis without being under, or capable of being put under, a legal obligation to do so, u\"&\"nless that person has consented to the release of the information concerned.\")","v":"Public access to spatial data sets and services would adversely affect the interests or protection of any person who supplied the information requested on a voluntary basis without being under, or capable of being put under, a legal obligation to do so, unless that person has consented to the release of the information concerned."},"El acceso público a los conjuntos y servicios de datos espaciales afectaría negativamente a los intereses o a la protección de cualquier persona que facilitara la información solicitada de forma voluntaria sin estar sujeta a una obligación legal de hacerlo, o sin que pueda estarlo, a menos que dicha persona haya dado su consentimiento a la divulgación de la información de que se trate."]
[{"$f":"IFERROR(__xludf.DUMMYFUNCTION(\"\"\"COMPUTED_VALUE\"\"\"),\"http://inspire.ec.europa.eu/metadata-codelist/LimitationsOnPublicAccess/INSPIRE_Directive_Article13_1h\")","v":"http://inspire.ec.europa.eu/metadata-codelist/LimitationsOnPublicAccess/INSPIRE_Directive_Article13_1h"},{"$f":"IFERROR(__xludf.DUMMYFUNCTION(\"\"\"COMPUTED_VALUE\"\"\"),\"es\")","v":"es"},{"$f":"IFERROR(__xludf.DUMMYFUNCTION(\"\"\"COMPUTED_VALUE\"\"\"),\"acceso público limitado con arreglo al artículo 13, apartado 1, letra h), de la Directiva INSPIRE\")","v":"acceso público limitado con arreglo al artículo 13, apartado 1, letra h), de la Directiva INSPIRE"},{"$f":"IFERROR(__xludf.DUMMYFUNCTION(\"\"\"COMPUTED_VALUE\"\"\"),\"Public access to spatial data sets and services would adversely affect the protection of the environment to which such information relates, such as the location of rare species.\")","v":"Public access to spatial data sets and services would adversely affect the protection of the environment to which such information relates, such as the location of rare species."},"El acceso público a los conjuntos y servicios de datos espaciales afectaría negativamente a la protección del medio ambiente al que se refiere dicha información, como la ubicación de especies raras."]
[{"$f":"IFERROR(__xludf.DUMMYFUNCTION(\"\"\"COMPUTED_VALUE\"\"\"),\"http://inspire.ec.europa.eu/metadata-codelist/LimitationsOnPublicAccess/noLimitations\")","v":"http://inspire.ec.europa.eu/metadata-codelist/LimitationsOnPublicAccess/noLimitations"},{"$f":"IFERROR(__xludf.DUMMYFUNCTION(\"\"\"COMPUTED_VALUE\"\"\"),\"es\")","v":"es"},{"$f":"IFERROR(__xludf.DUMMYFUNCTION(\"\"\"COMPUTED_VALUE\"\"\"),\"sin limitaciones al acceso público\")","v":"sin limitaciones al acceso público"},{"$f":"IFERROR(__xludf.DUMMYFUNCTION(\"\"\"COMPUTED_VALUE\"\"\"),\"There are no limitations on public access to spatial data sets and services.\")","v":"There are no limitations on public access to spatial data sets and services."},"No hay limitaciones en el acceso público a los conjuntos de datos espaciales y a los servicios."]

{"sheet":"NFO_spatial_uri","index":14,"n_rows":73,"n_cols":2,"rows_kept":73,"cut":false,"hidden":true,"merged":[]}
[{"$f":"IFERROR(__xludf.DUMMYFUNCTION(\"IMPORTRANGE(\"\"https://docs.google.com/spreadsheets/d/1p4h5y82-jiH68qGY_WeCV6HuyJKmuyC1XLjVbwjsAdg\"\",\"\"spatial_uri!A1:Z100\"\")\"),\"label\")","v":"label"},{"$f":"IFERROR(__xludf.DUMMYFUNCTION(\"\"\"COMPUTED_VALUE\"\"\"),\"id\")","v":"id"}]
[{"$f":"IFERROR(__xludf.DUMMYFUNCTION(\"\"\"COMPUTED_VALUE\"\"\"),\"España\")","v":"España"},{"$f":"IFERROR(__xludf.DUMMYFUNCTION(\"\"\"COMPUTED_VALUE\"\"\"),\"http://datos.gob.es/recurso/sector-publico/territorio/Pais/España\")","v":"http://datos.gob.es/recurso/sector-publico/territorio/Pais/España"}]
[{"$f":"IFERROR(__xludf.DUMMYFUNCTION(\"\"\"COMPUTED_VALUE\"\"\"),\"A Coruña\")","v":"A Coruña"},{"$f":"IFERROR(__xludf.DUMMYFUNCTION(\"\"\"COMPUTED_VALUE\"\"\"),\"http://datos.gob.es/recurso/sector-publico/territorio/Provincia/A-Coruna\")","v":"http://datos.gob.es/recurso/sector-publico/territorio/Provincia/A-Coruna"}]
[{"$f":"IFERROR(__xludf.DUMMYFUNCTION(\"\"\"COMPUTED_VALUE\"\"\"),\"Álava\")","v":"Álava"},{"$f":"IFERROR(__xludf.DUMMYFUNCTION(\"\"\"COMPUTED_VALUE\"\"\"),\"http://datos.gob.es/recurso/sector-publico/territorio/Provincia/Alava\")","v":"http://datos.gob.es/recurso/sector-publico/territorio/Provincia/Alava"}]
[{"$f":"IFERROR(__xludf.DUMMYFUNCTION(\"\"\"COMPUTED_VALUE\"\"\"),\"Albacete\")","v":"Albacete"},{"$f":"IFERROR(__xludf.DUMMYFUNCTION(\"\"\"COMPUTED_VALUE\"\"\"),\"http://datos.gob.es/recurso/sector-publico/territorio/Provincia/Albacete\")","v":"http://datos.gob.es/recurso/sector-publico/territorio/Provincia/Albacete"}]
[{"$f":"IFERROR(__xludf.DUMMYFUNCTION(\"\"\"COMPUTED_VALUE\"\"\"),\"Alicante\")","v":"Alicante"},{"$f":"IFERROR(__xludf.DUMMYFUNCTION(\"\"\"COMPUTED_VALUE\"\"\"),\"http://datos.gob.es/recurso/sector-publico/territorio/Provincia/Alicante\")","v":"http://datos.gob.es/recurso/sector-publico/territorio/Provincia/Alicante"}]
[{"$f":"IFERROR(__xludf.DUMMYFUNCTION(\"\"\"COMPUTED_VALUE\"\"\"),\"Almería\")","v":"Almería"},{"$f":"IFERROR(__xludf.DUMMYFUNCTION(\"\"\"COMPUTED_VALUE\"\"\"),\"http://datos.gob.es/recurso/sector-publico/territorio/Provincia/Almeria\")","v":"http://datos.gob.es/recurso/sector-publico/territorio/Provincia/Almeria"}]
[{"$f":"IFERROR(__xludf.DUMMYFUNCTION(\"\"\"COMPUTED_VALUE\"\"\"),\"Andalucía\")","v":"Andalucía"},{"$f":"IFERROR(__xludf.DUMMYFUNCTION(\"\"\"COMPUTED_VALUE\"\"\"),\"http://datos.gob.es/recurso/sector-publico/territorio/Autonomia/Andalucia\")","v":"http://datos.gob.es/recurso/sector-publico/territorio/Autonomia/Andalucia"}]
[{"$f":"IFERROR(__xludf.DUMMYFUNCTION(\"\"\"COMPUTED_VALUE\"\"\"),\"Aragón\")","v":"Aragón"},{"$f":"IFERROR(__xludf.DUMMYFUNCTION(\"\"\"COMPUTED_VALUE\"\"\"),\"http://datos.gob.es/recurso/sector-publico/territorio/Autonomia/Aragon\")","v":"http://datos.gob.es/recurso/sector-publico/territorio/Autonomia/Aragon"}]
[{"$f":"IFERROR(__xludf.DUMMYFUNCTION(\"\"\"COMPUTED_VALUE\"\"\"),\"Asturias\")","v":"Asturias"},{"$f":"IFERROR(__xludf.DUMMYFUNCTION(\"\"\"COMPUTED_VALUE\"\"\"),\"http://datos.gob.es/recurso/sector-publico/territorio/Provincia/Asturias\")","v":"http://datos.gob.es/recurso/sector-publico/territorio/Provincia/Asturias"}]
[{"$f":"IFERROR(__xludf.DUMMYFUNCTION(\"\"\"COMPUTED_VALUE\"\"\"),\"Ávila\")","v":"Ávila"},{"$f":"IFERROR(__xludf.DUMMYFUNCTION(\"\"\"COMPUTED_VALUE\"\"\"),\"http://datos.gob.es/recurso/sector-publico/territorio/Provincia/Avila\")","v":"http://datos.gob.es/recurso/sector-publico/territorio/Provincia/Avila"}]
[{"$f":"IFERROR(__xludf.DUMMYFUNCTION(\"\"\"COMPUTED_VALUE\"\"\"),\"Badajoz\")","v":"Badajoz"},{"$f":"IFERROR(__xludf.DUMMYFUNCTION(\"\"\"COMPUTED_VALUE\"\"\"),\"http://datos.gob.es/recurso/sector-publico/territorio/Provincia/Badajoz\")","v":"http://datos.gob.es/recurso/sector-publico/territorio/Provincia/Badajoz"}]
[{"$f":"IFERROR(__xludf.DUMMYFUNCTION(\"\"\"COMPUTED_VALUE\"\"\"),\"Barcelona\")","v":"Barcelona"},{"$f":"IFERROR(__xludf.DUMMYFUNCTION(\"\"\"COMPUTED_VALUE\"\"\"),\"http://datos.gob.es/recurso/sector-publico/territorio/Provincia/Barcelona\")","v":"http://datos.gob.es/recurso/sector-publico/territorio/Provincia/Barcelona"}]
[{"$f":"IFERROR(__xludf.DUMMYFUNCTION(\"\"\"COMPUTED_VALUE\"\"\"),\"Burgos\")","v":"Burgos"},{"$f":"IFERROR(__xludf.DUMMYFUNCTION(\"\"\"COMPUTED_VALUE\"\"\"),\"http://datos.gob.es/recurso/sector-publico/territorio/Provincia/Burgos\")","v":"http://datos.gob.es/recurso/sector-publico/territorio/Provincia/Burgos"}]
[{"$f":"IFERROR(__xludf.DUMMYFUNCTION(\"\"\"COMPUTED_VALUE\"\"\"),\"C. Foral de Navarra\")","v":"C. Foral de Navarra"},{"$f":"IFERROR(__xludf.DUMMYFUNCTION(\"\"\"COMPUTED_VALUE\"\"\"),\"http://datos.gob.es/recurso/sector-publico/territorio/Autonomia/Comunidad-Foral-Navarra\")","v":"http://datos.gob.es/recurso/sector-publico/territorio/Autonomia/Comunidad-Foral-Navarra"}]
[{"$f":"IFERROR(__xludf.DUMMYFUNCTION(\"\"\"COMPUTED_VALUE\"\"\"),\"Cáceres\")","v":"Cáceres"},{"$f":"IFERROR(__xludf.DUMMYFUNCTION(\"\"\"COMPUTED_VALUE\"\"\"),\"http://datos.gob.es/recurso/sector-publico/territorio/Provincia/Caceres\")","v":"http://datos.gob.es/recurso/sector-publico/territorio/Provincia/Caceres"}]
[{"$f":"IFERROR(__xludf.DUMMYFUNCTION(\"\"\"COMPUTED_VALUE\"\"\"),\"Cádiz\")","v":"Cádiz"},{"$f":"IFERROR(__xludf.DUMMYFUNCTION(\"\"\"COMPUTED_VALUE\"\"\"),\"http://datos.gob.es/recurso/sector-publico/territorio/Provincia/Cadiz\")","v":"http://datos.gob.es/recurso/sector-publico/territorio/Provincia/Cadiz"}]
[{"$f":"IFERROR(__xludf.DUMMYFUNCTION(\"\"\"COMPUTED_VALUE\"\"\"),\"Canarias\")","v":"Canarias"},{"$f":"IFERROR(__xludf.DUMMYFUNCTION(\"\"\"COMPUTED_VALUE\"\"\"),\"http://datos.gob.es/recurso/sector-publico/territorio/Autonomia/Canarias\")","v":"http://datos.gob.es/recurso/sector-publico/territorio/Autonomia/Canarias"}]
[{"$f":"IFERROR(__xludf.DUMMYFUNCTION(\"\"\"COMPUTED_VALUE\"\"\"),\"Cantabria\")","v":"Cantabria"},{"$f":"IFERROR(__xludf.DUMMYFUNCTION(\"\"\"COMPUTED_VALUE\"\"\"),\"http://datos.gob.es/recurso/sector-publico/territorio/Autonomia/Cantabria\")","v":"http://datos.gob.es/recurso/sector-publico/territorio/Autonomia/Cantabria"}]
[{"$f":"IFERROR(__xludf.DUMMYFUNCTION(\"\"\"COMPUTED_VALUE\"\"\"),\"Castellón\")","v":"Castellón"},{"$f":"IFERROR(__xludf.DUMMYFUNCTION(\"\"\"COMPUTED_VALUE\"\"\"),\"http://datos.gob.es/recurso/sector-publico/territorio/Provincia/Castellon\")","v":"http://datos.gob.es/recurso/sector-publico/territorio/Provincia/Castellon"}]
[{"$f":"IFERROR(__xludf.DUMMYFUNCTION(\"\"\"COMPUTED_VALUE\"\"\"),\"Castilla y León\")","v":"Castilla y León"},{"$f":"IFERROR(__xludf.DUMMYFUNCTION(\"\"\"COMPUTED_VALUE\"\"\"),\"http://datos.gob.es/recurso/sector-publico/territorio/Autonomia/Castilla-Leon\")","v":"http://datos.gob.es/recurso/sector-publico/territorio/Autonomia/Castilla-Leon"}]
[{"$f":"IFERROR(__xludf.DUMMYFUNCTION(\"\"\"COMPUTED_VALUE\"\"\"),\"Castilla-La Mancha\")","v":"Castilla-La Mancha"},{"$f":"IFERROR(__xludf.DUMMYFUNCTION(\"\"\"COMPUTED_VALUE\"\"\"),\"http://datos.gob.es/recurso/sector-publico/territorio/Autonomia/Castilla-La-Mancha\")","v":"http://datos.gob.es/recurso/sector-publico/territorio/Autonomia/Castilla-La-Mancha"}]
[{"$f":"IFERROR(__xludf.DUMMYFUNCTION(\"\"\"COMPUTED_VALUE\"\"\"),\"Cataluña\")","v":"Cataluña"},{"$f":"IFERROR(__xludf.DUMMYFUNCTION(\"\"\"COMPUTED_VALUE\"\"\"),\"http://datos.gob.es/recurso/sector-publico/territorio/Autonomia/Cataluna\")","v":"http://datos.gob.es/recurso/sector-publico/territorio/Autonomia/Cataluna"}]
[{"$f":"IFERROR(__xludf.DUMMYFUNCTION(\"\"\"COMPUTED_VALUE\"\"\"),\"Ceuta\")","v":"Ceuta"},{"$f":"IFERROR(__xludf.DUMMYFUNCTION(\"\"\"COMPUTED_VALUE\"\"\"),\"http://datos.gob.es/recurso/sector-publico/territorio/Autonomia/Ceuta\")","v":"http://datos.gob.es/recurso/sector-publico/territorio/Autonomia/Ceuta"}]
[{"$f":"IFERROR(__xludf.DUMMYFUNCTION(\"\"\"COMPUTED_VALUE\"\"\"),\"Ciudad Real\")","v":"Ciudad Real"},{"$f":"IFERROR(__xludf.DUMMYFUNCTION(\"\"\"COMPUTED_VALUE\"\"\"),\"http://datos.gob.es/recurso/sector-publico/territorio/Provincia/Ciudad-Real\")","v":"http://datos.gob.es/recurso/sector-publico/territorio/Provincia/Ciudad-Real"}]
[{"$f":"IFERROR(__xludf.DUMMYFUNCTION(\"\"\"COMPUTED_VALUE\"\"\"),\"Comunidad de Madrid\")","v":"Comunidad de Madrid"},{"$f":"IFERROR(__xludf.DUMMYFUNCTION(\"\"\"COMPUTED_VALUE\"\"\"),\"http://datos.gob.es/recurso/sector-publico/territorio/Autonomia/Comunidad-Madrid\")","v":"http://datos.gob.es/recurso/sector-publico/territorio/Autonomia/Comunidad-Madrid"}]
[{"$f":"IFERROR(__xludf.DUMMYFUNCTION(\"\"\"COMPUTED_VALUE\"\"\"),\"Comunitat Valenciana\")","v":"Comunitat Valenciana"},{"$f":"IFERROR(__xludf.DUMMYFUNCTION(\"\"\"COMPUTED_VALUE\"\"\"),\"http://datos.gob.es/recurso/sector-publico/territorio/Autonomia/Comunitat-Valenciana\")","v":"http://datos.gob.es/recurso/sector-publico/territorio/Autonomia/Comunitat-Valenciana"}]
[{"$f":"IFERROR(__xludf.DUMMYFUNCTION(\"\"\"COMPUTED_VALUE\"\"\"),\"Córdoba\")","v":"Córdoba"},{"$f":"IFERROR(__xludf.DUMMYFUNCTION(\"\"\"COMPUTED_VALUE\"\"\"),\"http://datos.gob.es/recurso/sector-publico/territorio/Provincia/Cordoba\")","v":"http://datos.gob.es/recurso/sector-publico/territorio/Provincia/Cordoba"}]
[{"$f":"IFERROR(__xludf.DUMMYFUNCTION(\"\"\"COMPUTED_VALUE\"\"\"),\"Cuenca\")","v":"Cuenca"},{"$f":"IFERROR(__xludf.DUMMYFUNCTION(\"\"\"COMPUTED_VALUE\"\"\"),\"http://datos.gob.es/recurso/sector-publico/territorio/Provincia/Cuenca\")","v":"http://datos.gob.es/recurso/sector-publico/territorio/Provincia/Cuenca"}]
[{"$f":"IFERROR(__xludf.DUMMYFUNCTION(\"\"\"COMPUTED_VALUE\"\"\"),\"Extremadura\")","v":"Extremadura"},{"$f":"IFERROR(__xludf.DUMMYFUNCTION(\"\"\"COMPUTED_VALUE\"\"\"),\"http://datos.gob.es/recurso/sector-publico/territorio/Autonomia/Extremadura\")","v":"http://datos.gob.es/recurso/sector-publico/territorio/Autonomia/Extremadura"}]
[{"$f":"IFERROR(__xludf.DUMMYFUNCTION(\"\"\"COMPUTED_VALUE\"\"\"),\"Galicia\")","v":"Galicia"},{"$f":"IFERROR(__xludf.DUMMYFUNCTION(\"\"\"COMPUTED_VALUE\"\"\"),\"http://datos.gob.es/recurso/sector-publico/territorio/Autonomia/Galicia\")","v":"http://datos.gob.es/recurso/sector-publico/territorio/Autonomia/Galicia"}]
[{"$f":"IFERROR(__xludf.DUMMYFUNCTION(\"\"\"COMPUTED_VALUE\"\"\"),\"Girona\")","v":"Girona"},{"$f":"IFERROR(__xludf.DUMMYFUNCTION(\"\"\"COMPUTED_VALUE\"\"\"),\"http://datos.gob.es/recurso/sector-publico/territorio/Provincia/Girona\")","v":"http://datos.gob.es/recurso/sector-publico/territorio/Provincia/Girona"}]
[{"$f":"IFERROR(__xludf.DUMMYFUNCTION(\"\"\"COMPUTED_VALUE\"\"\"),\"Granada\")","v":"Granada"},{"$f":"IFERROR(__xludf.DUMMYFUNCTION(\"\"\"COMPUTED_VALUE\"\"\"),\"http://datos.gob.es/recurso/sector-publico/territorio/Provincia/Granada\")","v":"http://datos.gob.es/recurso/sector-publico/territorio/Provincia/Granada"}]
[{"$f":"IFERROR(__xludf.DUMMYFUNCTION(\"\"\"COMPUTED_VALUE\"\"\"),\"Guadalajara\")","v":"Guadalajara"},{"$f":"IFERROR(__xludf.DUMMYFUNCTION(\"\"\"COMPUTED_VALUE\"\"\"),\"http://datos.gob.es/recurso/sector-publico/territorio/Provincia/Guadalajara\")","v":"http://datos.gob.es/recurso/sector-publico/territorio/Provincia/Guadalajara"}]
[{"$f":"IFERROR(__xludf.DUMMYFUNCTION(\"\"\"COMPUTED_VALUE\"\"\"),\"Guipúzcoa\")","v":"Guipúzcoa"},{"$f":"IFERROR(__xludf.DUMMYFUNCTION(\"\"\"COMPUTED_VALUE\"\"\"),\"http://datos.gob.es/recurso/sector-publico/territorio/Provincia/Guipuzcoa\")","v":"http://datos.gob.es/recurso/sector-publico/territorio/Provincia/Guipuzcoa"}]
[{"$f":"IFERROR(__xludf.DUMMYFUNCTION(\"\"\"COMPUTED_VALUE\"\"\"),\"Huelva\")","v":"Huelva"},{"$f":"IFERROR(__xludf.DUMMYFUNCTION(\"\"\"COMPUTED_VALUE\"\"\"),\"http://datos.gob.es/recurso/sector-publico/territorio/Provincia/Huelva\")","v":"http://datos.gob.es/recurso/sector-publico/territorio/Provincia/Huelva"}]
[{"$f":"IFERROR(__xludf.DUMMYFUNCTION(\"\"\"COMPUTED_VALUE\"\"\"),\"Huesca\")","v":"Huesca"},{"$f":"IFERROR(__xludf.DUMMYFUNCTION(\"\"\"COMPUTED_VALUE\"\"\"),\"http://datos.gob.es/recurso/sector-publico/territorio/Provincia/Huesca\")","v":"http://datos.gob.es/recurso/sector-publico/territorio/Provincia/Huesca"}]
[{"$f":"IFERROR(__xludf.DUMMYFUNCTION(\"\"\"COMPUTED_VALUE\"\"\"),\"Illes Balears\")","v":"Illes Balears"},{"$f":"IFERROR(__xludf.DUMMYFUNCTION(\"\"\"COMPUTED_VALUE\"\"\"),\"http://datos.gob.es/recurso/sector-publico/territorio/Autonomia/Illes-Balears\")","v":"http://datos.gob.es/recurso/sector-publico/territorio/Autonomia/Illes-Balears"}]
[{"$f":"IFERROR(__xludf.DUMMYFUNCTION(\"\"\"COMPUTED_VALUE\"\"\"),\"Jaén\")","v":"Jaén"},{"$f":"IFERROR(__xludf.DUMMYFUNCTION(\"\"\"COMPUTED_VALUE\"\"\"),\"http://datos.gob.es/recurso/sector-publico/territorio/Provincia/Jaen\")","v":"http://datos.gob.es/recurso/sector-publico/territorio/Provincia/Jaen"}]
[{"$f":"IFERROR(__xludf.DUMMYFUNCTION(\"\"\"COMPUTED_VALUE\"\"\"),\"La Rioja\")","v":"La Rioja"},{"$f":"IFERROR(__xludf.DUMMYFUNCTION(\"\"\"COMPUTED_VALUE\"\"\"),\"http://datos.gob.es/recurso/sector-publico/territorio/Autonomia/La-Rioja\")","v":"http://datos.gob.es/recurso/sector-publico/territorio/Autonomia/La-Rioja"}]
[{"$f":"IFERROR(__xludf.DUMMYFUNCTION(\"\"\"COMPUTED_VALUE\"\"\"),\"Las Palmas\")","v":"Las Palmas"},{"$f":"IFERROR(__xludf.DUMMYFUNCTION(\"\"\"COMPUTED_VALUE\"\"\"),\"http://datos.gob.es/recurso/sector-publico/territorio/Provincia/Las-Palmas\")","v":"http://datos.gob.es/recurso/sector-publico/territorio/Provincia/Las-Palmas"}]
[{"$f":"IFERROR(__xludf.DUMMYFUNCTION(\"\"\"COMPUTED_VALUE\"\"\"),\"León\")","v":"León"},{"$f":"IFERROR(__xludf.DUMMYFUNCTION(\"\"\"COMPUTED_VALUE\"\"\"),\"http://datos.gob.es/recurso/sector-publico/territorio/Provincia/Leon\")","v":"http://datos.gob.es/recurso/sector-publico/territorio/Provincia/Leon"}]
[{"$f":"IFERROR(__xludf.DUMMYFUNCTION(\"\"\"COMPUTED_VALUE\"\"\"),\"Lleida\")","v":"Lleida"},{"$f":"IFERROR(__xludf.DUMMYFUNCTION(\"\"\"COMPUTED_VALUE\"\"\"),\"http://datos.gob.es/recurso/sector-publico/territorio/Provincia/Lleida\")","v":"http://datos.gob.es/recurso/sector-publico/territorio/Provincia/Lleida"}]
[{"$f":"IFERROR(__xludf.DUMMYFUNCTION(\"\"\"COMPUTED_VALUE\"\"\"),\"Lugo\")","v":"Lugo"},{"$f":"IFERROR(__xludf.DUMMYFUNCTION(\"\"\"COMPUTED_VALUE\"\"\"),\"http://datos.gob.es/recurso/sector-publico/territorio/Provincia/Lugo\")","v":"http://datos.gob.es/recurso/sector-publico/territorio/Provincia/Lugo"}]
[{"$f":"IFERROR(__xludf.DUMMYFUNCTION(\"\"\"COMPUTED_VALUE\"\"\"),\"Madrid\")","v":"Madrid"},{"$f":"IFERROR(__xludf.DUMMYFUNCTION(\"\"\"COMPUTED_VALUE\"\"\"),\"http://datos.gob.es/recurso/sector-publico/territorio/Provincia/Madrid\")","v":"http://datos.gob.es/recurso/sector-publico/territorio/Provincia/Madrid"}]
[{"$f":"IFERROR(__xludf.DUMMYFUNCTION(\"\"\"COMPUTED_VALUE\"\"\"),\"Málaga\")","v":"Málaga"},{"$f":"IFERROR(__xludf.DUMMYFUNCTION(\"\"\"COMPUTED_VALUE\"\"\"),\"http://datos.gob.es/recurso/sector-publico/territorio/Provincia/Malaga\")","v":"http://datos.gob.es/recurso/sector-publico/territorio/Provincia/Malaga"}]
[{"$f":"IFERROR(__xludf.DUMMYFUNCTION(\"\"\"COMPUTED_VALUE\"\"\"),\"Melilla\")","v":"Melilla"},{"$f":"IFERROR(__xludf.DUMMYFUNCTION(\"\"\"COMPUTED_VALUE\"\"\"),\"http://datos.gob.es/recurso/sector-publico/territorio/Autonomia/Melilla\")","v":"http://datos.gob.es/recurso/sector-publico/territorio/Autonomia/Melilla"}]
[{"$f":"IFERROR(__xludf.DUMMYFUNCTION(\"\"\"COMPUTED_VALUE\"\"\"),\"Murcia\")","v":"Murcia"},{"$f":"IFERROR(__xludf.DUMMYFUNCTION(\"\"\"COMPUTED_VALUE\"\"\"),\"http://datos.gob.es/recurso/sector-publico/territorio/Provincia/Murcia\")","v":"http://datos.gob.es/recurso/sector-publico/territorio/Provincia/Murcia"}]
[{"$f":"IFERROR(__xludf.DUMMYFUNCTION(\"\"\"COMPUTED_VALUE\"\"\"),\"Navarra\")","v":"Navarra"},{"$f":"IFERROR(__xludf.DUMMYFUNCTION(\"\"\"COMPUTED_VALUE\"\"\"),\"http://datos.gob.es/recurso/sector-publico/territorio/Provincia/Navarra\")","v":"http://datos.gob.es/recurso/sector-publico/territorio/Provincia/Navarra"}]
[{"$f":"IFERROR(__xludf.DUMMYFUNCTION(\"\"\"COMPUTED_VALUE\"\"\"),\"Ourense\")","v":"Ourense"},{"$f":"IFERROR(__xludf.DUMMYFUNCTION(\"\"\"COMPUTED_VALUE\"\"\"),\"http://datos.gob.es/recurso/sector-publico/territorio/Provincia/Ourense\")","v":"http://datos.gob.es/recurso/sector-publico/territorio/Provincia/Ourense"}]
[{"$f":"IFERROR(__xludf.DUMMYFUNCTION(\"\"\"COMPUTED_VALUE\"\"\"),\"País Vasco\")","v":"País Vasco"},{"$f":"IFERROR(__xludf.DUMMYFUNCTION(\"\"\"COMPUTED_VALUE\"\"\"),\"http://datos.gob.es/recurso/sector-publico/territorio/Autonomia/Pais-Vasco\")","v":"http://datos.gob.es/recurso/sector-publico/territorio/Autonomia/Pais-Vasco"}]
[{"$f":"IFERROR(__xludf.DUMMYFUNCTION(\"\"\"COMPUTED_VALUE\"\"\"),\"Palencia\")","v":"Palencia"},{"$f":"IFERROR(__xludf.DUMMYFUNCTION(\"\"\"COMPUTED_VALUE\"\"\"),\"http://datos.gob.es/recurso/sector-publico/territorio/Provincia/Palencia\")","v":"http://datos.gob.es/recurso/sector-publico/territorio/Provincia/Palencia"}]
[{"$f":"IFERROR(__xludf.DUMMYFUNCTION(\"\"\"COMPUTED_VALUE\"\"\"),\"Pontevedra\")","v":"Pontevedra"},{"$f":"IFERROR(__xludf.DUMMYFUNCTION(\"\"\"COMPUTED_VALUE\"\"\"),\"http://datos.gob.es/recurso/sector-publico/territorio/Provincia/Pontevedra\")","v":"http://datos.gob.es/recurso/sector-publico/territorio/Provincia/Pontevedra"}]
[{"$f":"IFERROR(__xludf.DUMMYFUNCTION(\"\"\"COMPUTED_VALUE\"\"\"),\"Principado de Asturias\")","v":"Principado de Asturias"},{"$f":"IFERROR(__xludf.DUMMYFUNCTION(\"\"\"COMPUTED_VALUE\"\"\"),\"http://datos.gob.es/recurso/sector-publico/territorio/Autonomia/Principado-Asturias\")","v":"http://datos.gob.es/recurso/sector-publico/territorio/Autonomia/Principado-Asturias"}]
[{"$f":"IFERROR(__xludf.DUMMYFUNCTION(\"\"\"COMPUTED_VALUE\"\"\"),\"Provincia de Cantabria\")","v":"Provincia de Cantabria"},{"$f":"IFERROR(__xludf.DUMMYFUNCTION(\"\"\"COMPUTED_VALUE\"\"\"),\"http://datos.gob.es/recurso/sector-publico/territorio/Provincia/Cantabria\")","v":"http://datos.gob.es/recurso/sector-publico/territorio/Provincia/Cantabria"}]
[{"$f":"IFERROR(__xludf.DUMMYFUNCTION(\"\"\"COMPUTED_VALUE\"\"\"),\"Provincia de Ceuta\")","v":"Provincia de Ceuta"},{"$f":"IFERROR(__xludf.DUMMYFUNCTION(\"\"\"COMPUTED_VALUE\"\"\"),\"http://datos.gob.es/recurso/sector-publico/territorio/Provincia/Ceuta\")","v":"http://datos.gob.es/recurso/sector-publico/territorio/Provincia/Ceuta"}]
[{"$f":"IFERROR(__xludf.DUMMYFUNCTION(\"\"\"COMPUTED_VALUE\"\"\"),\"Provincia de Illes Balears\")","v":"Provincia de Illes Balears"},{"$f":"IFERROR(__xludf.DUMMYFUNCTION(\"\"\"COMPUTED_VALUE\"\"\"),\"http://datos.gob.es/recurso/sector-publico/territorio/Provincia/Illes-Balears\")","v":"http://datos.gob.es/recurso/sector-publico/territorio/Provincia/Illes-Balears"}]
[{"$f":"IFERROR(__xludf.DUMMYFUNCTION(\"\"\"COMPUTED_VALUE\"\"\"),\"Provincia de La Rioja\")","v":"Provincia de La Rioja"},{"$f":"IFERROR(__xludf.DUMMYFUNCTION(\"\"\"COMPUTED_VALUE\"\"\"),\"http://datos.gob.es/recurso/sector-publico/territorio/Provincia/La-Rioja\")","v":"http://datos.gob.es/recurso/sector-publico/territorio/Provincia/La-Rioja"}]
[{"$f":"IFERROR(__xludf.DUMMYFUNCTION(\"\"\"COMPUTED_VALUE\"\"\"),\"Provincia de Melilla\")","v":"Provincia de Melilla"},{"$f":"IFERROR(__xludf.DUMMYFUNCTION(\"\"\"COMPUTED_VALUE\"\"\"),\"http://datos.gob.es/recurso/sector-publico/territorio/Provincia/Melilla\")","v":"http://datos.gob.es/recurso/sector-publico/territorio/Provincia/Melilla"}]
[{"$f":"IFERROR(__xludf.DUMMYFUNCTION(\"\"\"COMPUTED_VALUE\"\"\"),\"Región de Murcia\")","v":"Región de Murcia"},{"$f":"IFERROR(__xludf.DUMMYFUNCTION(\"\"\"COMPUTED_VALUE\"\"\"),\"http://datos.gob.es/recurso/sector-publico/territorio/Autonomia/Region-Murcia\")","v":"http://datos.gob.es/recurso/sector-publico/territorio/Autonomia/Region-Murcia"}]
[{"$f":"IFERROR(__xludf.DUMMYFUNCTION(\"\"\"COMPUTED_VALUE\"\"\"),\"Salamanca\")","v":"Salamanca"},{"$f":"IFERROR(__xludf.DUMMYFUNCTION(\"\"\"COMPUTED_VALUE\"\"\"),\"http://datos.gob.es/recurso/sector-publico/territorio/Provincia/Salamanca\")","v":"http://datos.gob.es/recurso/sector-publico/territorio/Provincia/Salamanca"}]
[{"$f":"IFERROR(__xludf.DUMMYFUNCTION(\"\"\"COMPUTED_VALUE\"\"\"),\"Santa Cruz de Tenerife\")","v":"Santa Cruz de Tenerife"},{"$f":"IFERROR(__xludf.DUMMYFUNCTION(\"\"\"COMPUTED_VALUE\"\"\"),\"http://datos.gob.es/recurso/sector-publico/territorio/Provincia/Santa-Cruz-Tenerife\")","v":"http://datos.gob.es/recurso/sector-publico/territorio/Provincia/Santa-Cruz-Tenerife"}]
[{"$f":"IFERROR(__xludf.DUMMYFUNCTION(\"\"\"COMPUTED_VALUE\"\"\"),\"Segovia\")","v":"Segovia"},{"$f":"IFERROR(__xludf.DUMMYFUNCTION(\"\"\"COMPUTED_VALUE\"\"\"),\"http://datos.gob.es/recurso/sector-publico/territorio/Provincia/Segovia\")","v":"http://datos.gob.es/recurso/sector-publico/territorio/Provincia/Segovia"}]
[{"$f":"IFERROR(__xludf.DUMMYFUNCTION(\"\"\"COMPUTED_VALUE\"\"\"),\"Sevilla\")","v":"Sevilla"},{"$f":"IFERROR(__xludf.DUMMYFUNCTION(\"\"\"COMPUTED_VALUE\"\"\"),\"http://datos.gob.es/recurso/sector-publico/territorio/Provincia/Sevilla\")","v":"http://datos.gob.es/recurso/sector-publico/territorio/Provincia/Sevilla"}]
[{"$f":"IFERROR(__xludf.DUMMYFUNCTION(\"\"\"COMPUTED_VALUE\"\"\"),\"Soria\")","v":"Soria"},{"$f":"IFERROR(__xludf.DUMMYFUNCTION(\"\"\"COMPUTED_VALUE\"\"\"),\"http://datos.gob.es/recurso/sector-publico/territorio/Provincia/Soria\")","v":"http://datos.gob.es/recurso/sector-publico/territorio/Provincia/Soria"}]
[{"$f":"IFERROR(__xludf.DUMMYFUNCTION(\"\"\"COMPUTED_VALUE\"\"\"),\"Tarragona\")","v":"Tarragona"},{"$f":"IFERROR(__xludf.DUMMYFUNCTION(\"\"\"COMPUTED_VALUE\"\"\"),\"http://datos.gob.es/recurso/sector-publico/territorio/Provincia/Tarragona\")","v":"http://datos.gob.es/recurso/sector-publico/territorio/Provincia/Tarragona"}]
[{"$f":"IFERROR(__xludf.DUMMYFUNCTION(\"\"\"COMPUTED_VALUE\"\"\"),\"Teruel\")","v":"Teruel"},{"$f":"IFERROR(__xludf.DUMMYFUNCTION(\"\"\"COMPUTED_VALUE\"\"\"),\"http://datos.gob.es/recurso/sector-publico/territorio/Provincia/Teruel\")","v":"http://datos.gob.es/recurso/sector-publico/territorio/Provincia/Teruel"}]
[{"$f":"IFERROR(__xludf.DUMMYFUNCTION(\"\"\"COMPUTED_VALUE\"\"\"),\"Toledo\")","v":"Toledo"},{"$f":"IFERROR(__xludf.DUMMYFUNCTION(\"\"\"COMPUTED_VALUE\"\"\"),\"http://datos.gob.es/recurso/sector-publico/territorio/Provincia/Toledo\")","v":"http://datos.gob.es/recurso/sector-publico/territorio/Provincia/Toledo"}]
[{"$f":"IFERROR(__xludf.DUMMYFUNCTION(\"\"\"COMPUTED_VALUE\"\"\"),\"Valencia\")","v":"Valencia"},{"$f":"IFERROR(__xludf.DUMMYFUNCTION(\"\"\"COMPUTED_VALUE\"\"\"),\"http://datos.gob.es/recurso/sector-publico/territorio/Provincia/Valencia\")","v":"http://datos.gob.es/recurso/sector-publico/territorio/Provincia/Valencia"}]
[{"$f":"IFERROR(__xludf.DUMMYFUNCTION(\"\"\"COMPUTED_VALUE\"\"\"),\"Valladolid\")","v":"Valladolid"},{"$f":"IFERROR(__xludf.DUMMYFUNCTION(\"\"\"COMPUTED_VALUE\"\"\"),\"http://datos.gob.es/recurso/sector-publico/territorio/Provincia/Valladolid\")","v":"http://datos.gob.es/recurso/sector-publico/territorio/Provincia/Valladolid"}]
[{"$f":"IFERROR(__xludf.DUMMYFUNCTION(\"\"\"COMPUTED_VALUE\"\"\"),\"Vizcaya\")","v":"Vizcaya"},{"$f":"IFERROR(__xludf.DUMMYFUNCTION(\"\"\"COMPUTED_VALUE\"\"\"),\"http://datos.gob.es/recurso/sector-publico/territorio/Provincia/Vizcaya\")","v":"http://datos.gob.es/recurso/sector-publico/territorio/Provincia/Vizcaya"}]
[{"$f":"IFERROR(__xludf.DUMMYFUNCTION(\"\"\"COMPUTED_VALUE\"\"\"),\"Zamora\")","v":"Zamora"},{"$f":"IFERROR(__xludf.DUMMYFUNCTION(\"\"\"COMPUTED_VALUE\"\"\"),\"http://datos.gob.es/recurso/sector-publico/territorio/Provincia/Zamora\")","v":"http://datos.gob.es/recurso/sector-publico/territorio/Provincia/Zamora"}]
[{"$f":"IFERROR(__xludf.DUMMYFUNCTION(\"\"\"COMPUTED_VALUE\"\"\"),\"Zaragoza\")","v":"Zaragoza"},{"$f":"IFERROR(__xludf.DUMMYFUNCTION(\"\"\"COMPUTED_VALUE\"\"\"),\"http://datos.gob.es/recurso/sector-publico/territorio/Provincia/Zaragoza\")","v":"http://datos.gob.es/recurso/sector-publico/territorio/Provincia/Zaragoza"}]

{"sheet":"NFO_status","index":15,"n_rows":9,"n_cols":3,"rows_kept":9,"cut":false,"hidden":true,"merged":[]}
[{"$f":"IFERROR(__xludf.DUMMYFUNCTION(\"IMPORTRANGE(\"\"https://docs.google.com/spreadsheets/d/1p4h5y82-jiH68qGY_WeCV6HuyJKmuyC1XLjVbwjsAdg\"\",\"\"status!A1:Z100\"\")\"),\"id\")","v":"id"},{"$f":"IFERROR(__xludf.DUMMYFUNCTION(\"\"\"COMPUTED_VALUE\"\"\"),\"label\")","v":"label"},{"$f":"IFERROR(__xludf.DUMMYFUNCTION(\"\"\"COMPUTED_VALUE\"\"\"),\"language\")","v":"language"}]
[{"$f":"IFERROR(__xludf.DUMMYFUNCTION(\"\"\"COMPUTED_VALUE\"\"\"),\"http://purl.org/adms/status/Completed\")","v":"http://purl.org/adms/status/Completed"},{"$f":"IFERROR(__xludf.DUMMYFUNCTION(\"\"\"COMPUTED_VALUE\"\"\"),\"Completed\")","v":"Completed"},{"$f":"IFERROR(__xludf.DUMMYFUNCTION(\"\"\"COMPUTED_VALUE\"\"\"),\"en\")","v":"en"}]
[{"$f":"IFERROR(__xludf.DUMMYFUNCTION(\"\"\"COMPUTED_VALUE\"\"\"),\"http://purl.org/adms/status/Deprecated\")","v":"http://purl.org/adms/status/Deprecated"},{"$f":"IFERROR(__xludf.DUMMYFUNCTION(\"\"\"COMPUTED_VALUE\"\"\"),\"Deprecated\")","v":"Deprecated"},{"$f":"IFERROR(__xludf.DUMMYFUNCTION(\"\"\"COMPUTED_VALUE\"\"\"),\"en\")","v":"en"}]
[{"$f":"IFERROR(__xludf.DUMMYFUNCTION(\"\"\"COMPUTED_VALUE\"\"\"),\"http://purl.org/adms/status/UnderDevelopment\")","v":"http://purl.org/adms/status/UnderDevelopment"},{"$f":"IFERROR(__xludf.DUMMYFUNCTION(\"\"\"COMPUTED_VALUE\"\"\"),\"Under development\")","v":"Under development"},{"$f":"IFERROR(__xludf.DUMMYFUNCTION(\"\"\"COMPUTED_VALUE\"\"\"),\"en\")","v":"en"}]
[{"$f":"IFERROR(__xludf.DUMMYFUNCTION(\"\"\"COMPUTED_VALUE\"\"\"),\"http://purl.org/adms/status/Withdrawn\")","v":"http://purl.org/adms/status/Withdrawn"},{"$f":"IFERROR(__xludf.DUMMYFUNCTION(\"\"\"COMPUTED_VALUE\"\"\"),\"Withdrawn\")","v":"Withdrawn"},{"$f":"IFERROR(__xludf.DUMMYFUNCTION(\"\"\"COMPUTED_VALUE\"\"\"),\"en\")","v":"en"}]
[{"$f":"IFERROR(__xludf.DUMMYFUNCTION(\"\"\"COMPUTED_VALUE\"\"\"),\"http://purl.org/adms/status/Completed\")","v":"http://purl.org/adms/status/Completed"},{"$f":"IFERROR(__xludf.DUMMYFUNCTION(\"\"\"COMPUTED_VALUE\"\"\"),\"Completado\")","v":"Completado"},{"$f":"IFERROR(__xludf.DUMMYFUNCTION(\"\"\"COMPUTED_VALUE\"\"\"),\"es\")","v":"es"}]
[{"$f":"IFERROR(__xludf.DUMMYFUNCTION(\"\"\"COMPUTED_VALUE\"\"\"),\"http://purl.org/adms/status/Deprecated\")","v":"http://purl.org/adms/status/Deprecated"},{"$f":"IFERROR(__xludf.DUMMYFUNCTION(\"\"\"COMPUTED_VALUE\"\"\"),\"Obsoleto\")","v":"Obsoleto"},{"$f":"IFERROR(__xludf.DUMMYFUNCTION(\"\"\"COMPUTED_VALUE\"\"\"),\"es\")","v":"es"}]
[{"$f":"IFERROR(__xludf.DUMMYFUNCTION(\"\"\"COMPUTED_VALUE\"\"\"),\"http://purl.org/adms/status/UnderDevelopment\")","v":"http://purl.org/adms/status/UnderDevelopment"},{"$f":"IFERROR(__xludf.DUMMYFUNCTION(\"\"\"COMPUTED_VALUE\"\"\"),\"En desarrollo\")","v":"En desarrollo"},{"$f":"IFERROR(__xludf.DUMMYFUNCTION(\"\"\"COMPUTED_VALUE\"\"\"),\"es\")","v":"es"}]
[{"$f":"IFERROR(__xludf.DUMMYFUNCTION(\"\"\"COMPUTED_VALUE\"\"\"),\"http://purl.org/adms/status/Withdrawn\")","v":"http://purl.org/adms/status/Withdrawn"},{"$f":"IFERROR(__xludf.DUMMYFUNCTION(\"\"\"COMPUTED_VALUE\"\"\"),\"Retirado\")","v":"Retirado"},{"$f":"IFERROR(__xludf.DUMMYFUNCTION(\"\"\"COMPUTED_VALUE\"\"\"),\"es\")","v":"es"}]

{"sheet":"NFO_topic","index":16,"n_rows":20,"n_cols":3,"rows_kept":20,"cut":false,"hidden":true,"merged":[]}
[{"$f":"IFERROR(__xludf.DUMMYFUNCTION(\"IMPORTRANGE(\"\"https://docs.google.com/spreadsheets/d/1p4h5y82-jiH68qGY_WeCV6HuyJKmuyC1XLjVbwjsAdg\"\",\"\"topic!A1:Z100\"\")\"),\"label\")","v":"label"},{"$f":"IFERROR(__xludf.DUMMYFUNCTION(\"\"\"COMPUTED_VALUE\"\"\"),\"id\")","v":"id"}]
[{"$f":"IFERROR(__xludf.DUMMYFUNCTION(\"\"\"COMPUTED_VALUE\"\"\"),\"farming\")","v":"farming"},{"$f":"IFERROR(__xludf.DUMMYFUNCTION(\"\"\"COMPUTED_VALUE\"\"\"),\"http://inspire.ec.europa.eu/metadata-codelist/TopicCategory/farming\")","v":"http://inspire.ec.europa.eu/metadata-codelist/TopicCategory/farming"},"Agricultura"]
[{"$f":"IFERROR(__xludf.DUMMYFUNCTION(\"\"\"COMPUTED_VALUE\"\"\"),\"inlandWaters\")","v":"inlandWaters"},{"$f":"IFERROR(__xludf.DUMMYFUNCTION(\"\"\"COMPUTED_VALUE\"\"\"),\"http://inspire.ec.europa.eu/metadata-codelist/TopicCategory/inlandWaters\")","v":"http://inspire.ec.europa.eu/metadata-codelist/TopicCategory/inlandWaters"},"Aguas interiores"]
[{"$f":"IFERROR(__xludf.DUMMYFUNCTION(\"\"\"COMPUTED_VALUE\"\"\"),\"climatologyMeteorologyAtmosphere\")","v":"climatologyMeteorologyAtmosphere"},{"$f":"IFERROR(__xludf.DUMMYFUNCTION(\"\"\"COMPUTED_VALUE\"\"\"),\"http://inspire.ec.europa.eu/metadata-codelist/TopicCategory/climatologyMeteorologyAtmosphere\")","v":"http://inspire.ec.europa.eu/metadata-codelist/TopicCategory/climatologyMeteorologyAtmosphere"},"Atmósfera climatológica y meteorológica"]
[{"$f":"IFERROR(__xludf.DUMMYFUNCTION(\"\"\"COMPUTED_VALUE\"\"\"),\"biota\")","v":"biota"},{"$f":"IFERROR(__xludf.DUMMYFUNCTION(\"\"\"COMPUTED_VALUE\"\"\"),\"http://inspire.ec.europa.eu/metadata-codelist/TopicCategory/biota\")","v":"http://inspire.ec.europa.eu/metadata-codelist/TopicCategory/biota"},"Biota"]
[{"$f":"IFERROR(__xludf.DUMMYFUNCTION(\"\"\"COMPUTED_VALUE\"\"\"),\"imageryBaseMapsEarthCover\")","v":"imageryBaseMapsEarthCover"},{"$f":"IFERROR(__xludf.DUMMYFUNCTION(\"\"\"COMPUTED_VALUE\"\"\"),\"http://inspire.ec.europa.eu/metadata-codelist/TopicCategory/imageryBaseMapsEarthCover\")","v":"http://inspire.ec.europa.eu/metadata-codelist/TopicCategory/imageryBaseMapsEarthCover"},"Cobertura de Tierra con mapas básicos e imágenes"]
[{"$f":"IFERROR(__xludf.DUMMYFUNCTION(\"\"\"COMPUTED_VALUE\"\"\"),\"economy\")","v":"economy"},{"$f":"IFERROR(__xludf.DUMMYFUNCTION(\"\"\"COMPUTED_VALUE\"\"\"),\"http://inspire.ec.europa.eu/metadata-codelist/TopicCategory/economy\")","v":"http://inspire.ec.europa.eu/metadata-codelist/TopicCategory/economy"},"Economía"]
[{"$f":"IFERROR(__xludf.DUMMYFUNCTION(\"\"\"COMPUTED_VALUE\"\"\"),\"elevation\")","v":"elevation"},{"$f":"IFERROR(__xludf.DUMMYFUNCTION(\"\"\"COMPUTED_VALUE\"\"\"),\"http://inspire.ec.europa.eu/metadata-codelist/TopicCategory/elevation\")","v":"http://inspire.ec.europa.eu/metadata-codelist/TopicCategory/elevation"},"Elevación"]
[{"$f":"IFERROR(__xludf.DUMMYFUNCTION(\"\"\"COMPUTED_VALUE\"\"\"),\"structure\")","v":"structure"},{"$f":"IFERROR(__xludf.DUMMYFUNCTION(\"\"\"COMPUTED_VALUE\"\"\"),\"http://inspire.ec.europa.eu/metadata-codelist/TopicCategory/structure\")","v":"http://inspire.ec.europa.eu/metadata-codelist/TopicCategory/structure"},"Estructura"]
[{"$f":"IFERROR(__xludf.DUMMYFUNCTION(\"\"\"COMPUTED_VALUE\"\"\"),\"geoscientificInformation\")","v":"geoscientificInformation"},{"$f":"IFERROR(__xludf.DUMMYFUNCTION(\"\"\"COMPUTED_VALUE\"\"\"),\"http://inspire.ec.europa.eu/metadata-codelist/TopicCategory/geoscientificInformation\")","v":"http://inspire.ec.europa.eu/metadata-codelist/TopicCategory/geoscientificInformation"},"Información geocientífica"]
[{"$f":"IFERROR(__xludf.DUMMYFUNCTION(\"\"\"COMPUTED_VALUE\"\"\"),\"intelligenceMilitary\")","v":"intelligenceMilitary"},{"$f":"IFERROR(__xludf.DUMMYFUNCTION(\"\"\"COMPUTED_VALUE\"\"\"),\"http://inspire.ec.europa.eu/metadata-codelist/TopicCategory/intelligenceMilitary\")","v":"http://inspire.ec.europa.eu/metadata-codelist/TopicCategory/intelligenceMilitary"},"Inteligencia militar"]
[{"$f":"IFERROR(__xludf.DUMMYFUNCTION(\"\"\"COMPUTED_VALUE\"\"\"),\"boundaries\")","v":"boundaries"},{"$f":"IFERROR(__xludf.DUMMYFUNCTION(\"\"\"COMPUTED_VALUE\"\"\"),\"http://inspire.ec.europa.eu/metadata-codelist/TopicCategory/boundaries\")","v":"http://inspire.ec.europa.eu/metadata-codelist/TopicCategory/boundaries"},"Límites"]
[{"$f":"IFERROR(__xludf.DUMMYFUNCTION(\"\"\"COMPUTED_VALUE\"\"\"),\"location\")","v":"location"},{"$f":"IFERROR(__xludf.DUMMYFUNCTION(\"\"\"COMPUTED_VALUE\"\"\"),\"http://inspire.ec.europa.eu/metadata-codelist/TopicCategory/location\")","v":"http://inspire.ec.europa.eu/metadata-codelist/TopicCategory/location"},"Localización"]
[{"$f":"IFERROR(__xludf.DUMMYFUNCTION(\"\"\"COMPUTED_VALUE\"\"\"),\"environment\")","v":"environment"},{"$f":"IFERROR(__xludf.DUMMYFUNCTION(\"\"\"COMPUTED_VALUE\"\"\"),\"http://inspire.ec.europa.eu/metadata-codelist/TopicCategory/environment\")","v":"http://inspire.ec.europa.eu/metadata-codelist/TopicCategory/environment"},"Medio ambiente"]
[{"$f":"IFERROR(__xludf.DUMMYFUNCTION(\"\"\"COMPUTED_VALUE\"\"\"),\"oceans\")","v":"oceans"},{"$f":"IFERROR(__xludf.DUMMYFUNCTION(\"\"\"COMPUTED_VALUE\"\"\"),\"http://inspire.ec.europa.eu/metadata-codelist/TopicCategory/oceans\")","v":"http://inspire.ec.europa.eu/metadata-codelist/TopicCategory/oceans"},"Océanos"]
[{"$f":"IFERROR(__xludf.DUMMYFUNCTION(\"\"\"COMPUTED_VALUE\"\"\"),\"planningCadastre\")","v":"planningCadastre"},{"$f":"IFERROR(__xludf.DUMMYFUNCTION(\"\"\"COMPUTED_VALUE\"\"\"),\"http://inspire.ec.europa.eu/metadata-codelist/TopicCategory/planningCadastre\")","v":"http://inspire.ec.europa.eu/metadata-codelist/TopicCategory/planningCadastre"},"Planeamiento catastral"]
[{"$f":"IFERROR(__xludf.DUMMYFUNCTION(\"\"\"COMPUTED_VALUE\"\"\"),\"utilitiesCommunication\")","v":"utilitiesCommunication"},{"$f":"IFERROR(__xludf.DUMMYFUNCTION(\"\"\"COMPUTED_VALUE\"\"\"),\"http://inspire.ec.europa.eu/metadata-codelist/TopicCategory/utilitiesCommunication\")","v":"http://inspire.ec.europa.eu/metadata-codelist/TopicCategory/utilitiesCommunication"},"Redes de suministro"]
[{"$f":"IFERROR(__xludf.DUMMYFUNCTION(\"\"\"COMPUTED_VALUE\"\"\"),\"health\")","v":"health"},{"$f":"IFERROR(__xludf.DUMMYFUNCTION(\"\"\"COMPUTED_VALUE\"\"\"),\"http://inspire.ec.europa.eu/metadata-codelist/TopicCategory/health\")","v":"http://inspire.ec.europa.eu/metadata-codelist/TopicCategory/health"},"Salud"]
[{"$f":"IFERROR(__xludf.DUMMYFUNCTION(\"\"\"COMPUTED_VALUE\"\"\"),\"society\")","v":"society"},{"$f":"IFERROR(__xludf.DUMMYFUNCTION(\"\"\"COMPUTED_VALUE\"\"\"),\"http://inspire.ec.europa.eu/metadata-codelist/TopicCategory/society\")","v":"http://inspire.ec.europa.eu/metadata-codelist/TopicCategory/society"},"Sociedad"]
[{"$f":"IFERROR(__xludf.DUMMYFUNCTION(\"\"\"COMPUTED_VALUE\"\"\"),\"transportation\")","v":"transportation"},{"$f":"IFERROR(__xludf.DUMMYFUNCTION(\"\"\"COMPUTED_VALUE\"\"\"),\"http://inspire.ec.europa.eu/metadata-codelist/TopicCategory/transportation\")","v":"http://inspire.ec.europa.eu/metadata-codelist/TopicCategory/transportation"},"Transporte"]

{"sheet":"NFO_theme_es","index":17,"n_rows":45,"n_cols":5,"rows_kept":45,"cut":false,"hidden":true,"merged":[]}
[{"$f":"IFERROR(__xludf.DUMMYFUNCTION(\"IMPORTRANGE(\"\"https://docs.google.com/spreadsheets/d/1p4h5y82-jiH68qGY_WeCV6HuyJKmuyC1XLjVbwjsAdg\"\",\"\"theme_es!A1:Z100\"\")\"),\"id\")","v":"id"},{"$f":"IFERROR(__xludf.DUMMYFUNCTION(\"\"\"COMPUTED_VALUE\"\"\"),\"label\")","v":"label"},{"$f":"IFERROR(__xludf.DUMMYFUNCTION(\"\"\"COMPUTED_VALUE\"\"\"),\"language\")","v":"language"},{"$f":"IFERROR(__xludf.DUMMYFUNCTION(\"\"\"COMPUTED_VALUE\"\"\"),\"description\")","v":"description"},{"$f":"IFERROR(__xludf.DUMMYFUNCTION(\"\"\"COMPUTED_VALUE\"\"\"),\"dcat_ap\")","v":"dcat_ap"}]
[{"$f":"IFERROR(__xludf.DUMMYFUNCTION(\"\"\"COMPUTED_VALUE\"\"\"),\"http://datos.gob.es/kos/sector-publico/sector/ciencia-tecnologia\")","v":"http://datos.gob.es/kos/sector-publico/sector/ciencia-tecnologia"},{"$f":"IFERROR(__xludf.DUMMYFUNCTION(\"\"\"COMPUTED_VALUE\"\"\"),\"Science and technology\")","v":"Science and technology"},{"$f":"IFERROR(__xludf.DUMMYFUNCTION(\"\"\"COMPUTED_VALUE\"\"\"),\"en\")","v":"en"},{"$f":"IFERROR(__xludf.DUMMYFUNCTION(\"\"\"COMPUTED_VALUE\"\"\"),\"Innovation, Research, R&D, Telecommunications, Internet, and Information Society.\")","v":"Innovation, Research, R&D, Telecommunications, Internet, and Information Society."},{"$f":"IFERROR(__xludf.DUMMYFUNCTION(\"\"\"COMPUTED_VALUE\"\"\"),\"http://publications.europa.eu/resource/authority/data-theme/TECH\")","v":"http://publications.europa.eu/resource/authority/data-theme/TECH"}]
[{"$f":"IFERROR(__xludf.DUMMYFUNCTION(\"\"\"COMPUTED_VALUE\"\"\"),\"http://datos.gob.es/kos/sector-publico/sector/comercio\")","v":"http://datos.gob.es/kos/sector-publico/sector/comercio"},{"$f":"IFERROR(__xludf.DUMMYFUNCTION(\"\"\"COMPUTED_VALUE\"\"\"),\"Commerce\")","v":"Commerce"},{"$f":"IFERROR(__xludf.DUMMYFUNCTION(\"\"\"COMPUTED_VALUE\"\"\"),\"en\")","v":"en"},{"$f":"IFERROR(__xludf.DUMMYFUNCTION(\"\"\"COMPUTED_VALUE\"\"\"),\"Consumption.\")","v":"Consumption."},{"$f":"IFERROR(__xludf.DUMMYFUNCTION(\"\"\"COMPUTED_VALUE\"\"\"),\"http://publications.europa.eu/resource/authority/data-theme/ECON\")","v":"http://publications.europa.eu/resource/authority/data-theme/ECON"}]
[{"$f":"IFERROR(__xludf.DUMMYFUNCTION(\"\"\"COMPUTED_VALUE\"\"\"),\"http://datos.gob.es/kos/sector-publico/sector/cultura-ocio\")","v":"http://datos.gob.es/kos/sector-publico/sector/cultura-ocio"},{"$f":"IFERROR(__xludf.DUMMYFUNCTION(\"\"\"COMPUTED_VALUE\"\"\"),\"Culture and leisure\")","v":"Culture and leisure"},{"$f":"IFERROR(__xludf.DUMMYFUNCTION(\"\"\"COMPUTED_VALUE\"\"\"),\"en\")","v":"en"},{"$f":"IFERROR(__xludf.DUMMYFUNCTION(\"\"\"COMPUTED_VALUE\"\"\"),\"Leisure time.\")","v":"Leisure time."},{"$f":"IFERROR(__xludf.DUMMYFUNCTION(\"\"\"COMPUTED_VALUE\"\"\"),\"http://publications.europa.eu/resource/authority/data-theme/EDUC\")","v":"http://publications.europa.eu/resource/authority/data-theme/EDUC"}]
[{"$f":"IFERROR(__xludf.DUMMYFUNCTION(\"\"\"COMPUTED_VALUE\"\"\"),\"http://datos.gob.es/kos/sector-publico/sector/demografia\")","v":"http://datos.gob.es/kos/sector-publico/sector/demografia"},{"$f":"IFERROR(__xludf.DUMMYFUNCTION(\"\"\"COMPUTED_VALUE\"\"\"),\"Demography\")","v":"Demography"},{"$f":"IFERROR(__xludf.DUMMYFUNCTION(\"\"\"COMPUTED_VALUE\"\"\"),\"en\")","v":"en"},{"$f":"IFERROR(__xludf.DUMMYFUNCTION(\"\"\"COMPUTED_VALUE\"\"\"),\"Immigration and Emigration, Family, Women, Childhood, Elderly, Register.\")","v":"Immigration and Emigration, Family, Women, Childhood, Elderly, Register."},{"$f":"IFERROR(__xludf.DUMMYFUNCTION(\"\"\"COMPUTED_VALUE\"\"\"),\"http://publications.europa.eu/resource/authority/data-theme/SOCI\")","v":"http://publications.europa.eu/resource/authority/data-theme/SOCI"}]
[{"$f":"IFERROR(__xludf.DUMMYFUNCTION(\"\"\"COMPUTED_VALUE\"\"\"),\"http://datos.gob.es/kos/sector-publico/sector/deporte\")","v":"http://datos.gob.es/kos/sector-publico/sector/deporte"},{"$f":"IFERROR(__xludf.DUMMYFUNCTION(\"\"\"COMPUTED_VALUE\"\"\"),\"Sport\")","v":"Sport"},{"$f":"IFERROR(__xludf.DUMMYFUNCTION(\"\"\"COMPUTED_VALUE\"\"\"),\"en\")","v":"en"},{"$f":"IFERROR(__xludf.DUMMYFUNCTION(\"\"\"COMPUTED_VALUE\"\"\"),\"Sports facilities, Federations, Competitions.\")","v":"Sports facilities, Federations, Competitions."},{"$f":"IFERROR(__xludf.DUMMYFUNCTION(\"\"\"COMPUTED_VALUE\"\"\"),\"http://publications.europa.eu/resource/authority/data-theme/EDUC\")","v":"http://publications.europa.eu/resource/authority/data-theme/EDUC"}]
[{"$f":"IFERROR(__xludf.DUMMYFUNCTION(\"\"\"COMPUTED_VALUE\"\"\"),\"http://datos.gob.es/kos/sector-publico/sector/economia\")","v":"http://datos.gob.es/kos/sector-publico/sector/economia"},{"$f":"IFERROR(__xludf.DUMMYFUNCTION(\"\"\"COMPUTED_VALUE\"\"\"),\"Economy\")","v":"Economy"},{"$f":"IFERROR(__xludf.DUMMYFUNCTION(\"\"\"COMPUTED_VALUE\"\"\"),\"en\")","v":"en"},{"$f":"IFERROR(__xludf.DUMMYFUNCTION(\"\"\"COMPUTED_VALUE\"\"\"),\"Debt, Currency, Banking, and Finance.\")","v":"Debt, Currency, Banking, and Finance."},{"$f":"IFERROR(__xludf.DUMMYFUNCTION(\"\"\"COMPUTED_VALUE\"\"\"),\"http://publications.europa.eu/resource/authority/data-theme/ECON\")","v":"http://publications.europa.eu/resource/authority/data-theme/ECON"}]
[{"$f":"IFERROR(__xludf.DUMMYFUNCTION(\"\"\"COMPUTED_VALUE\"\"\"),\"http://datos.gob.es/kos/sector-publico/sector/educacion\")","v":"http://datos.gob.es/kos/sector-publico/sector/educacion"},{"$f":"IFERROR(__xludf.DUMMYFUNCTION(\"\"\"COMPUTED_VALUE\"\"\"),\"Education\")","v":"Education"},{"$f":"IFERROR(__xludf.DUMMYFUNCTION(\"\"\"COMPUTED_VALUE\"\"\"),\"en\")","v":"en"},{"$f":"IFERROR(__xludf.DUMMYFUNCTION(\"\"\"COMPUTED_VALUE\"\"\"),\"Education and Training.\")","v":"Education and Training."},{"$f":"IFERROR(__xludf.DUMMYFUNCTION(\"\"\"COMPUTED_VALUE\"\"\"),\"http://publications.europa.eu/resource/authority/data-theme/EDUC\")","v":"http://publications.europa.eu/resource/authority/data-theme/EDUC"}]
[{"$f":"IFERROR(__xludf.DUMMYFUNCTION(\"\"\"COMPUTED_VALUE\"\"\"),\"http://datos.gob.es/kos/sector-publico/sector/empleo\")","v":"http://datos.gob.es/kos/sector-publico/sector/empleo"},{"$f":"IFERROR(__xludf.DUMMYFUNCTION(\"\"\"COMPUTED_VALUE\"\"\"),\"Employment\")","v":"Employment"},{"$f":"IFERROR(__xludf.DUMMYFUNCTION(\"\"\"COMPUTED_VALUE\"\"\"),\"en\")","v":"en"},{"$f":"IFERROR(__xludf.DUMMYFUNCTION(\"\"\"COMPUTED_VALUE\"\"\"),\"Work, Job market.\")","v":"Work, Job market."},{"$f":"IFERROR(__xludf.DUMMYFUNCTION(\"\"\"COMPUTED_VALUE\"\"\"),\"http://publications.europa.eu/resource/authority/data-theme/ECON\")","v":"http://publications.europa.eu/resource/authority/data-theme/ECON"}]
[{"$f":"IFERROR(__xludf.DUMMYFUNCTION(\"\"\"COMPUTED_VALUE\"\"\"),\"http://datos.gob.es/kos/sector-publico/sector/energia\")","v":"http://datos.gob.es/kos/sector-publico/sector/energia"},{"$f":"IFERROR(__xludf.DUMMYFUNCTION(\"\"\"COMPUTED_VALUE\"\"\"),\"Energy\")","v":"Energy"},{"$f":"IFERROR(__xludf.DUMMYFUNCTION(\"\"\"COMPUTED_VALUE\"\"\"),\"en\")","v":"en"},{"$f":"IFERROR(__xludf.DUMMYFUNCTION(\"\"\"COMPUTED_VALUE\"\"\"),\"Renewable energy sources.\")","v":"Renewable energy sources."},{"$f":"IFERROR(__xludf.DUMMYFUNCTION(\"\"\"COMPUTED_VALUE\"\"\"),\"http://publications.europa.eu/resource/authority/data-theme/ENER\")","v":"http://publications.europa.eu/resource/authority/data-theme/ENER"}]
[{"$f":"IFERROR(__xludf.DUMMYFUNCTION(\"\"\"COMPUTED_VALUE\"\"\"),\"http://datos.gob.es/kos/sector-publico/sector/hacienda\")","v":"http://datos.gob.es/kos/sector-publico/sector/hacienda"},{"$f":"IFERROR(__xludf.DUMMYFUNCTION(\"\"\"COMPUTED_VALUE\"\"\"),\"Treasury\")","v":"Treasury"},{"$f":"IFERROR(__xludf.DUMMYFUNCTION(\"\"\"COMPUTED_VALUE\"\"\"),\"en\")","v":"en"},{"$f":"IFERROR(__xludf.DUMMYFUNCTION(\"\"\"COMPUTED_VALUE\"\"\"),\"Taxes.\")","v":"Taxes."},{"$f":"IFERROR(__xludf.DUMMYFUNCTION(\"\"\"COMPUTED_VALUE\"\"\"),\"http://publications.europa.eu/resource/authority/data-theme/GOVE\")","v":"http://publications.europa.eu/resource/authority/data-theme/GOVE"}]
[{"$f":"IFERROR(__xludf.DUMMYFUNCTION(\"\"\"COMPUTED_VALUE\"\"\"),\"http://datos.gob.es/kos/sector-publico/sector/industria\")","v":"http://datos.gob.es/kos/sector-publico/sector/industria"},{"$f":"IFERROR(__xludf.DUMMYFUNCTION(\"\"\"COMPUTED_VALUE\"\"\"),\"Industry\")","v":"Industry"},{"$f":"IFERROR(__xludf.DUMMYFUNCTION(\"\"\"COMPUTED_VALUE\"\"\"),\"en\")","v":"en"},{"$f":"IFERROR(__xludf.DUMMYFUNCTION(\"\"\"COMPUTED_VALUE\"\"\"),\"Mining.\")","v":"Mining."},{"$f":"IFERROR(__xludf.DUMMYFUNCTION(\"\"\"COMPUTED_VALUE\"\"\"),\"http://publications.europa.eu/resource/authority/data-theme/ECON\")","v":"http://publications.europa.eu/resource/authority/data-theme/ECON"}]
[{"$f":"IFERROR(__xludf.DUMMYFUNCTION(\"\"\"COMPUTED_VALUE\"\"\"),\"http://datos.gob.es/kos/sector-publico/sector/legislacion-justicia\")","v":"http://datos.gob.es/kos/sector-publico/sector/legislacion-justicia"},{"$f":"IFERROR(__xludf.DUMMYFUNCTION(\"\"\"COMPUTED_VALUE\"\"\"),\"Legislation and justice\")","v":"Legislation and justice"},{"$f":"IFERROR(__xludf.DUMMYFUNCTION(\"\"\"COMPUTED_VALUE\"\"\"),\"en\")","v":"en"},{"$f":"IFERROR(__xludf.DUMMYFUNCTION(\"\"\"COMPUTED_VALUE\"\"\"),\"Registers.\")","v":"Registers."},{"$f":"IFERROR(__xludf.DUMMYFUNCTION(\"\"\"COMPUTED_VALUE\"\"\"),\"http://publications.europa.eu/resource/authority/data-theme/JUST\")","v":"http://publications.europa.eu/resource/authority/data-theme/JUST"}]
[{"$f":"IFERROR(__xludf.DUMMYFUNCTION(\"\"\"COMPUTED_VALUE\"\"\"),\"http://datos.gob.es/kos/sector-publico/sector/medio-ambiente\")","v":"http://datos.gob.es/kos/sector-publico/sector/medio-ambiente"},{"$f":"IFERROR(__xludf.DUMMYFUNCTION(\"\"\"COMPUTED_VALUE\"\"\"),\"Environment\")","v":"Environment"},{"$f":"IFERROR(__xludf.DUMMYFUNCTION(\"\"\"COMPUTED_VALUE\"\"\"),\"en\")","v":"en"},{"$f":"IFERROR(__xludf.DUMMYFUNCTION(\"\"\"COMPUTED_VALUE\"\"\"),\"Meteorology, Geography, Conservation of fauna and flora.\")","v":"Meteorology, Geography, Conservation of fauna and flora."},{"$f":"IFERROR(__xludf.DUMMYFUNCTION(\"\"\"COMPUTED_VALUE\"\"\"),\"http://publications.europa.eu/resource/authority/data-theme/ENVI\")","v":"http://publications.europa.eu/resource/authority/data-theme/ENVI"}]
[{"$f":"IFERROR(__xludf.DUMMYFUNCTION(\"\"\"COMPUTED_VALUE\"\"\"),\"http://datos.gob.es/kos/sector-publico/sector/medio-rural-pesca\")","v":"http://datos.gob.es/kos/sector-publico/sector/medio-rural-pesca"},{"$f":"IFERROR(__xludf.DUMMYFUNCTION(\"\"\"COMPUTED_VALUE\"\"\"),\"Rural environment\")","v":"Rural environment"},{"$f":"IFERROR(__xludf.DUMMYFUNCTION(\"\"\"COMPUTED_VALUE\"\"\"),\"en\")","v":"en"},{"$f":"IFERROR(__xludf.DUMMYFUNCTION(\"\"\"COMPUTED_VALUE\"\"\"),\"Agriculture, Livestock, Fishing, and Forestry.\")","v":"Agriculture, Livestock, Fishing, and Forestry."},{"$f":"IFERROR(__xludf.DUMMYFUNCTION(\"\"\"COMPUTED_VALUE\"\"\"),\"http://publications.europa.eu/resource/authority/data-theme/AGRI\")","v":"http://publications.europa.eu/resource/authority/data-theme/AGRI"}]
[{"$f":"IFERROR(__xludf.DUMMYFUNCTION(\"\"\"COMPUTED_VALUE\"\"\"),\"http://datos.gob.es/kos/sector-publico/sector/salud\")","v":"http://datos.gob.es/kos/sector-publico/sector/salud"},{"$f":"IFERROR(__xludf.DUMMYFUNCTION(\"\"\"COMPUTED_VALUE\"\"\"),\"Healthcare\")","v":"Healthcare"},{"$f":"IFERROR(__xludf.DUMMYFUNCTION(\"\"\"COMPUTED_VALUE\"\"\"),\"en\")","v":"en"},{"$f":"IFERROR(__xludf.DUMMYFUNCTION(\"\"\"COMPUTED_VALUE\"\"\"),\"Health care.\")","v":"Health care."},{"$f":"IFERROR(__xludf.DUMMYFUNCTION(\"\"\"COMPUTED_VALUE\"\"\"),\"http://publications.europa.eu/resource/authority/data-theme/HEAL\")","v":"http://publications.europa.eu/resource/authority/data-theme/HEAL"}]
[{"$f":"IFERROR(__xludf.DUMMYFUNCTION(\"\"\"COMPUTED_VALUE\"\"\"),\"http://datos.gob.es/kos/sector-publico/sector/sector-publico\")","v":"http://datos.gob.es/kos/sector-publico/sector/sector-publico"},{"$f":"IFERROR(__xludf.DUMMYFUNCTION(\"\"\"COMPUTED_VALUE\"\"\"),\"Public sector\")","v":"Public sector"},{"$f":"IFERROR(__xludf.DUMMYFUNCTION(\"\"\"COMPUTED_VALUE\"\"\"),\"en\")","v":"en"},{"$f":"IFERROR(__xludf.DUMMYFUNCTION(\"\"\"COMPUTED_VALUE\"\"\"),\"Budgets, Institutional Organization Chart, Internal Legislation, Public Function.\")","v":"Budgets, Institutional Organization Chart, Internal Legislation, Public Function."},{"$f":"IFERROR(__xludf.DUMMYFUNCTION(\"\"\"COMPUTED_VALUE\"\"\"),\"http://publications.europa.eu/resource/authority/data-theme/GOVE\")","v":"http://publications.europa.eu/resource/authority/data-theme/GOVE"}]
[{"$f":"IFERROR(__xludf.DUMMYFUNCTION(\"\"\"COMPUTED_VALUE\"\"\"),\"http://datos.gob.es/kos/sector-publico/sector/seguridad\")","v":"http://datos.gob.es/kos/sector-publico/sector/seguridad"},{"$f":"IFERROR(__xludf.DUMMYFUNCTION(\"\"\"COMPUTED_VALUE\"\"\"),\"Security\")","v":"Security"},{"$f":"IFERROR(__xludf.DUMMYFUNCTION(\"\"\"COMPUTED_VALUE\"\"\"),\"en\")","v":"en"},{"$f":"IFERROR(__xludf.DUMMYFUNCTION(\"\"\"COMPUTED_VALUE\"\"\"),\"Civil Protection, Defense.\")","v":"Civil Protection, Defense."},{"$f":"IFERROR(__xludf.DUMMYFUNCTION(\"\"\"COMPUTED_VALUE\"\"\"),\"http://publications.europa.eu/resource/authority/data-theme/JUST\")","v":"http://publications.europa.eu/resource/authority/data-theme/JUST"}]
[{"$f":"IFERROR(__xludf.DUMMYFUNCTION(\"\"\"COMPUTED_VALUE\"\"\"),\"http://datos.gob.es/kos/sector-publico/sector/sociedad-bienestar\")","v":"http://datos.gob.es/kos/sector-publico/sector/sociedad-bienestar"},{"$f":"IFERROR(__xludf.DUMMYFUNCTION(\"\"\"COMPUTED_VALUE\"\"\"),\"Society and welfare\")","v":"Society and welfare"},{"$f":"IFERROR(__xludf.DUMMYFUNCTION(\"\"\"COMPUTED_VALUE\"\"\"),\"en\")","v":"en"},{"$f":"IFERROR(__xludf.DUMMYFUNCTION(\"\"\"COMPUTED_VALUE\"\"\"),\"Citizen Participation, Marginalization, Active Aging, Personal Autonomy, Dependency, Disability, Retirement, Insurance and Pensions, Benefits, and Subsidies.\")","v":"Citizen Participation, Marginalization, Active Aging, Personal Autonomy, Dependency, Disability, Retirement, Insurance and Pensions, Benefits, and Subsidies."},{"$f":"IFERROR(__xludf.DUMMYFUNCTION(\"\"\"COMPUTED_VALUE\"\"\"),\"http://publications.europa.eu/resource/authority/data-theme/SOCI\")","v":"http://publications.europa.eu/resource/authority/data-theme/SOCI"}]
[{"$f":"IFERROR(__xludf.DUMMYFUNCTION(\"\"\"COMPUTED_VALUE\"\"\"),\"http://datos.gob.es/kos/sector-publico/sector/transporte\")","v":"http://datos.gob.es/kos/sector-publico/sector/transporte"},{"$f":"IFERROR(__xludf.DUMMYFUNCTION(\"\"\"COMPUTED_VALUE\"\"\"),\"Transport\")","v":"Transport"},{"$f":"IFERROR(__xludf.DUMMYFUNCTION(\"\"\"COMPUTED_VALUE\"\"\"),\"en\")","v":"en"},{"$f":"IFERROR(__xludf.DUMMYFUNCTION(\"\"\"COMPUTED_VALUE\"\"\"),\"Communications and Traffic.\")","v":"Communications and Traffic."},{"$f":"IFERROR(__xludf.DUMMYFUNCTION(\"\"\"COMPUTED_VALUE\"\"\"),\"http://publications.europa.eu/resource/authority/data-theme/TRAN\")","v":"http://publications.europa.eu/resource/authority/data-theme/TRAN"}]
[{"$f":"IFERROR(__xludf.DUMMYFUNCTION(\"\"\"COMPUTED_VALUE\"\"\"),\"http://datos.gob.es/kos/sector-publico/sector/turismo\")","v":"http://datos.gob.es/kos/sector-publico/sector/turismo"},{"$f":"IFERROR(__xludf.DUMMYFUNCTION(\"\"\"COMPUTED_VALUE\"\"\"),\"Tourism\")","v":"Tourism"},{"$f":"IFERROR(__xludf.DUMMYFUNCTION(\"\"\"COMPUTED_VALUE\"\"\"),\"en\")","v":"en"},{"$f":"IFERROR(__xludf.DUMMYFUNCTION(\"\"\"COMPUTED_VALUE\"\"\"),\"Accommodation, Hospitality, Gastronomy.\")","v":"Accommodation, Hospitality, Gastronomy."},{"$f":"IFERROR(__xludf.DUMMYFUNCTION(\"\"\"COMPUTED_VALUE\"\"\"),\"http://publications.europa.eu/resource/authority/data-theme/ECON\")","v":"http://publications.europa.eu/resource/authority/data-theme/ECON"}]
[{"$f":"IFERROR(__xludf.DUMMYFUNCTION(\"\"\"COMPUTED_VALUE\"\"\"),\"http://datos.gob.es/kos/sector-publico/sector/urbanismo-infraestructuras\")","v":"http://datos.gob.es/kos/sector-publico/sector/urbanismo-infraestructuras"},{"$f":"IFERROR(__xludf.DUMMYFUNCTION(\"\"\"COMPUTED_VALUE\"\"\"),\"Town planning and infrastructures\")","v":"Town planning and infrastructures"},{"$f":"IFERROR(__xludf.DUMMYFUNCTION(\"\"\"COMPUTED_VALUE\"\"\"),\"en\")","v":"en"},{"$f":"IFERROR(__xludf.DUMMYFUNCTION(\"\"\"COMPUTED_VALUE\"\"\"),\"Public Sanitation, Construction (infrastructure, public facilities).\")","v":"Public Sanitation, Construction (infrastructure, public facilities)."},{"$f":"IFERROR(__xludf.DUMMYFUNCTION(\"\"\"COMPUTED_VALUE\"\"\"),\"http://publications.europa.eu/resource/authority/data-theme/REGI\")","v":"http://publications.europa.eu/resource/authority/data-theme/REGI"}]
[{"$f":"IFERROR(__xludf.DUMMYFUNCTION(\"\"\"COMPUTED_VALUE\"\"\"),\"http://datos.gob.es/kos/sector-publico/sector/vivienda\")","v":"http://datos.gob.es/kos/sector-publico/sector/vivienda"},{"$f":"IFERROR(__xludf.DUMMYFUNCTION(\"\"\"COMPUTED_VALUE\"\"\"),\"Housing\")","v":"Housing"},{"$f":"IFERROR(__xludf.DUMMYFUNCTION(\"\"\"COMPUTED_VALUE\"\"\"),\"en\")","v":"en"},{"$f":"IFERROR(__xludf.DUMMYFUNCTION(\"\"\"COMPUTED_VALUE\"\"\"),\"Real estate market, Construction (housing).\")","v":"Real estate market, Construction (housing)."},{"$f":"IFERROR(__xludf.DUMMYFUNCTION(\"\"\"COMPUTED_VALUE\"\"\"),\"http://publications.europa.eu/resource/authority/data-theme/REGI\")","v":"http://publications.europa.eu/resource/authority/data-theme/REGI"}]
[{"$f":"IFERROR(__xludf.DUMMYFUNCTION(\"\"\"COMPUTED_VALUE\"\"\"),\"http://datos.gob.es/kos/sector-publico/sector/ciencia-tecnologia\")","v":"http://datos.gob.es/kos/sector-publico/sector/ciencia-tecnologia"},{"$f":"IFERROR(__xludf.DUMMYFUNCTION(\"\"\"COMPUTED_VALUE\"\"\"),\"Ciencia y tecnología\")","v":"Ciencia y tecnología"},{"$f":"IFERROR(__xludf.DUMMYFUNCTION(\"\"\"COMPUTED_VALUE\"\"\"),\"es\")","v":"es"},{"$f":"IFERROR(__xludf.DUMMYFUNCTION(\"\"\"COMPUTED_VALUE\"\"\"),\"Innovación, Investigación, I/u002BD/u002BI, Telecomunicaciones, Inernet y Sociedad de la Información.\")","v":"Innovación, Investigación, I/u002BD/u002BI, Telecomunicaciones, Inernet y Sociedad de la Información."},{"$f":"IFERROR(__xludf.DUMMYFUNCTION(\"\"\"COMPUTED_VALUE\"\"\"),\"http://publications.europa.eu/resource/authority/data-theme/TECH\")","v":"http://publications.europa.eu/resource/authority/data-theme/TECH"}]
[{"$f":"IFERROR(__xludf.DUMMYFUNCTION(\"\"\"COMPUTED_VALUE\"\"\"),\"http://datos.gob.es/kos/sector-publico/sector/comercio\")","v":"http://datos.gob.es/kos/sector-publico/sector/comercio"},{"$f":"IFERROR(__xludf.DUMMYFUNCTION(\"\"\"COMPUTED_VALUE\"\"\"),\"Comercio\")","v":"Comercio"},{"$f":"IFERROR(__xludf.DUMMYFUNCTION(\"\"\"COMPUTED_VALUE\"\"\"),\"es\")","v":"es"},{"$f":"IFERROR(__xludf.DUMMYFUNCTION(\"\"\"COMPUTED_VALUE\"\"\"),\"Consumo.\")","v":"Consumo."},{"$f":"IFERROR(__xludf.DUMMYFUNCTION(\"\"\"COMPUTED_VALUE\"\"\"),\"http://publications.europa.eu/resource/authority/data-theme/ECON\")","v":"http://publications.europa.eu/resource/authority/data-theme/ECON"}]
[{"$f":"IFERROR(__xludf.DUMMYFUNCTION(\"\"\"COMPUTED_VALUE\"\"\"),\"http://datos.gob.es/kos/sector-publico/sector/cultura-ocio\")","v":"http://datos.gob.es/kos/sector-publico/sector/cultura-ocio"},{"$f":"IFERROR(__xludf.DUMMYFUNCTION(\"\"\"COMPUTED_VALUE\"\"\"),\"Cultura y ocio\")","v":"Cultura y ocio"},{"$f":"IFERROR(__xludf.DUMMYFUNCTION(\"\"\"COMPUTED_VALUE\"\"\"),\"es\")","v":"es"},{"$f":"IFERROR(__xludf.DUMMYFUNCTION(\"\"\"COMPUTED_VALUE\"\"\"),\"Tiempo libre.\")","v":"Tiempo libre."},{"$f":"IFERROR(__xludf.DUMMYFUNCTION(\"\"\"COMPUTED_VALUE\"\"\"),\"http://publications.europa.eu/resource/authority/data-theme/EDUC\")","v":"http://publications.europa.eu/resource/authority/data-theme/EDUC"}]
[{"$f":"IFERROR(__xludf.DUMMYFUNCTION(\"\"\"COMPUTED_VALUE\"\"\"),\"http://datos.gob.es/kos/sector-publico/sector/demografia\")","v":"http://datos.gob.es/kos/sector-publico/sector/demografia"},{"$f":"IFERROR(__xludf.DUMMYFUNCTION(\"\"\"COMPUTED_VALUE\"\"\"),\"Demografía\")","v":"Demografía"},{"$f":"IFERROR(__xludf.DUMMYFUNCTION(\"\"\"COMPUTED_VALUE\"\"\"),\"es\")","v":"es"},{"$f":"IFERROR(__xludf.DUMMYFUNCTION(\"\"\"COMPUTED_VALUE\"\"\"),\"Inmigración y Emigración, Familia, Mujeres, Infancia, Mayores, Padrón.\")","v":"Inmigración y Emigración, Familia, Mujeres, Infancia, Mayores, Padrón."},{"$f":"IFERROR(__xludf.DUMMYFUNCTION(\"\"\"COMPUTED_VALUE\"\"\"),\"http://publications.europa.eu/resource/authority/data-theme/SOCI\")","v":"http://publications.europa.eu/resource/authority/data-theme/SOCI"}]
[{"$f":"IFERROR(__xludf.DUMMYFUNCTION(\"\"\"COMPUTED_VALUE\"\"\"),\"http://datos.gob.es/kos/sector-publico/sector/deporte\")","v":"http://datos.gob.es/kos/sector-publico/sector/deporte"},{"$f":"IFERROR(__xludf.DUMMYFUNCTION(\"\"\"COMPUTED_VALUE\"\"\"),\"Deporte\")","v":"Deporte"},{"$f":"IFERROR(__xludf.DUMMYFUNCTION(\"\"\"COMPUTED_VALUE\"\"\"),\"es\")","v":"es"},{"$f":"IFERROR(__xludf.DUMMYFUNCTION(\"\"\"COMPUTED_VALUE\"\"\"),\"Instalaciones deportivas, Federaciones, Competiciones.\")","v":"Instalaciones deportivas, Federaciones, Competiciones."},{"$f":"IFERROR(__xludf.DUMMYFUNCTION(\"\"\"COMPUTED_VALUE\"\"\"),\"http://publications.europa.eu/resource/authority/data-theme/EDUC\")","v":"http://publications.europa.eu/resource/authority/data-theme/EDUC"}]
[{"$f":"IFERROR(__xludf.DUMMYFUNCTION(\"\"\"COMPUTED_VALUE\"\"\"),\"http://datos.gob.es/kos/sector-publico/sector/economia\")","v":"http://datos.gob.es/kos/sector-publico/sector/economia"},{"$f":"IFERROR(__xludf.DUMMYFUNCTION(\"\"\"COMPUTED_VALUE\"\"\"),\"Economía\")","v":"Economía"},{"$f":"IFERROR(__xludf.DUMMYFUNCTION(\"\"\"COMPUTED_VALUE\"\"\"),\"es\")","v":"es"},{"$f":"IFERROR(__xludf.DUMMYFUNCTION(\"\"\"COMPUTED_VALUE\"\"\"),\"Deuda, Moneda y Banca y finanzas.\")","v":"Deuda, Moneda y Banca y finanzas."},{"$f":"IFERROR(__xludf.DUMMYFUNCTION(\"\"\"COMPUTED_VALUE\"\"\"),\"http://publications.europa.eu/resource/authority/data-theme/ECON\")","v":"http://publications.europa.eu/resource/authority/data-theme/ECON"}]
[{"$f":"IFERROR(__xludf.DUMMYFUNCTION(\"\"\"COMPUTED_VALUE\"\"\"),\"http://datos.gob.es/kos/sector-publico/sector/educacion\")","v":"http://datos.gob.es/kos/sector-publico/sector/educacion"},{"$f":"IFERROR(__xludf.DUMMYFUNCTION(\"\"\"COMPUTED_VALUE\"\"\"),\"Educación\")","v":"Educación"},{"$f":"IFERROR(__xludf.DUMMYFUNCTION(\"\"\"COMPUTED_VALUE\"\"\"),\"es\")","v":"es"},{"$f":"IFERROR(__xludf.DUMMYFUNCTION(\"\"\"COMPUTED_VALUE\"\"\"),\"Formación.\")","v":"Formación."},{"$f":"IFERROR(__xludf.DUMMYFUNCTION(\"\"\"COMPUTED_VALUE\"\"\"),\"http://publications.europa.eu/resource/authority/data-theme/EDUC\")","v":"http://publications.europa.eu/resource/authority/data-theme/EDUC"}]
[{"$f":"IFERROR(__xludf.DUMMYFUNCTION(\"\"\"COMPUTED_VALUE\"\"\"),\"http://datos.gob.es/kos/sector-publico/sector/empleo\")","v":"http://datos.gob.es/kos/sector-publico/sector/empleo"},{"$f":"IFERROR(__xludf.DUMMYFUNCTION(\"\"\"COMPUTED_VALUE\"\"\"),\"Empleo\")","v":"Empleo"},{"$f":"IFERROR(__xludf.DUMMYFUNCTION(\"\"\"COMPUTED_VALUE\"\"\"),\"es\")","v":"es"},{"$f":"IFERROR(__xludf.DUMMYFUNCTION(\"\"\"COMPUTED_VALUE\"\"\"),\"Trabajo, Mercado laboral.\")","v":"Trabajo, Mercado laboral."},{"$f":"IFERROR(__xludf.DUMMYFUNCTION(\"\"\"COMPUTED_VALUE\"\"\"),\"http://publications.europa.eu/resource/authority/data-theme/ECON\")","v":"http://publications.europa.eu/resource/authority/data-theme/ECON"}]
[{"$f":"IFERROR(__xludf.DUMMYFUNCTION(\"\"\"COMPUTED_VALUE\"\"\"),\"http://datos.gob.es/kos/sector-publico/sector/energia\")","v":"http://datos.gob.es/kos/sector-publico/sector/energia"},{"$f":"IFERROR(__xludf.DUMMYFUNCTION(\"\"\"COMPUTED_VALUE\"\"\"),\"Energía\")","v":"Energía"},{"$f":"IFERROR(__xludf.DUMMYFUNCTION(\"\"\"COMPUTED_VALUE\"\"\"),\"es\")","v":"es"},{"$f":"IFERROR(__xludf.DUMMYFUNCTION(\"\"\"COMPUTED_VALUE\"\"\"),\"Fuentes renovables.\")","v":"Fuentes renovables."},{"$f":"IFERROR(__xludf.DUMMYFUNCTION(\"\"\"COMPUTED_VALUE\"\"\"),\"http://publications.europa.eu/resource/authority/data-theme/ENER\")","v":"http://publications.europa.eu/resource/authority/data-theme/ENER"}]
[{"$f":"IFERROR(__xludf.DUMMYFUNCTION(\"\"\"COMPUTED_VALUE\"\"\"),\"http://datos.gob.es/kos/sector-publico/sector/hacienda\")","v":"http://datos.gob.es/kos/sector-publico/sector/hacienda"},{"$f":"IFERROR(__xludf.DUMMYFUNCTION(\"\"\"COMPUTED_VALUE\"\"\"),\"Hacienda\")","v":"Hacienda"},{"$f":"IFERROR(__xludf.DUMMYFUNCTION(\"\"\"COMPUTED_VALUE\"\"\"),\"es\")","v":"es"},{"$f":"IFERROR(__xludf.DUMMYFUNCTION(\"\"\"COMPUTED_VALUE\"\"\"),\"Impuestos.\")","v":"Impuestos."},{"$f":"IFERROR(__xludf.DUMMYFUNCTION(\"\"\"COMPUTED_VALUE\"\"\"),\"http://publications.europa.eu/resource/authority/data-theme/GOVE\")","v":"http://publications.europa.eu/resource/authority/data-theme/GOVE"}]
[{"$f":"IFERROR(__xludf.DUMMYFUNCTION(\"\"\"COMPUTED_VALUE\"\"\"),\"http://datos.gob.es/kos/sector-publico/sector/industria\")","v":"http://datos.gob.es/kos/sector-publico/sector/industria"},{"$f":"IFERROR(__xludf.DUMMYFUNCTION(\"\"\"COMPUTED_VALUE\"\"\"),\"Industria\")","v":"Industria"},{"$f":"IFERROR(__xludf.DUMMYFUNCTION(\"\"\"COMPUTED_VALUE\"\"\"),\"es\")","v":"es"},{"$f":"IFERROR(__xludf.DUMMYFUNCTION(\"\"\"COMPUTED_VALUE\"\"\"),\"Minería.\")","v":"Minería."},{"$f":"IFERROR(__xludf.DUMMYFUNCTION(\"\"\"COMPUTED_VALUE\"\"\"),\"http://publications.europa.eu/resource/authority/data-theme/ECON\")","v":"http://publications.europa.eu/resource/authority/data-theme/ECON"}]
[{"$f":"IFERROR(__xludf.DUMMYFUNCTION(\"\"\"COMPUTED_VALUE\"\"\"),\"http://datos.gob.es/kos/sector-publico/sector/legislacion-justicia\")","v":"http://datos.gob.es/kos/sector-publico/sector/legislacion-justicia"},{"$f":"IFERROR(__xludf.DUMMYFUNCTION(\"\"\"COMPUTED_VALUE\"\"\"),\"Legislación y justicia\")","v":"Legislación y justicia"},{"$f":"IFERROR(__xludf.DUMMYFUNCTION(\"\"\"COMPUTED_VALUE\"\"\"),\"es\")","v":"es"},{"$f":"IFERROR(__xludf.DUMMYFUNCTION(\"\"\"COMPUTED_VALUE\"\"\"),\"Registros.\")","v":"Registros."},{"$f":"IFERROR(__xludf.DUMMYFUNCTION(\"\"\"COMPUTED_VALUE\"\"\"),\"http://publications.europa.eu/resource/authority/data-theme/JUST\")","v":"http://publications.europa.eu/resource/authority/data-theme/JUST"}]
[{"$f":"IFERROR(__xludf.DUMMYFUNCTION(\"\"\"COMPUTED_VALUE\"\"\"),\"http://datos.gob.es/kos/sector-publico/sector/medio-ambiente\")","v":"http://datos.gob.es/kos/sector-publico/sector/medio-ambiente"},{"$f":"IFERROR(__xludf.DUMMYFUNCTION(\"\"\"COMPUTED_VALUE\"\"\"),\"Medio ambiente\")","v":"Medio ambiente"},{"$f":"IFERROR(__xludf.DUMMYFUNCTION(\"\"\"COMPUTED_VALUE\"\"\"),\"es\")","v":"es"},{"$f":"IFERROR(__xludf.DUMMYFUNCTION(\"\"\"COMPUTED_VALUE\"\"\"),\"Meteorología, Geografía, Conservación fauna y flora.\")","v":"Meteorología, Geografía, Conservación fauna y flora."},{"$f":"IFERROR(__xludf.DUMMYFUNCTION(\"\"\"COMPUTED_VALUE\"\"\"),\"http://publications.europa.eu/resource/authority/data-theme/ENVI\")","v":"http://publications.europa.eu/resource/authority/data-theme/ENVI"}]
[{"$f":"IFERROR(__xludf.DUMMYFUNCTION(\"\"\"COMPUTED_VALUE\"\"\"),\"http://datos.gob.es/kos/sector-publico/sector/medio-rural-pesca\")","v":"http://datos.gob.es/kos/sector-publico/sector/medio-rural-pesca"},{"$f":"IFERROR(__xludf.DUMMYFUNCTION(\"\"\"COMPUTED_VALUE\"\"\"),\"Medio Rural\")","v":"Medio Rural"},{"$f":"IFERROR(__xludf.DUMMYFUNCTION(\"\"\"COMPUTED_VALUE\"\"\"),\"es\")","v":"es"},{"$f":"IFERROR(__xludf.DUMMYFUNCTION(\"\"\"COMPUTED_VALUE\"\"\"),\"Agricultura, Ganadería, Pesca y Silvicultura.\")","v":"Agricultura, Ganadería, Pesca y Silvicultura."},{"$f":"IFERROR(__xludf.DUMMYFUNCTION(\"\"\"COMPUTED_VALUE\"\"\"),\"http://publications.europa.eu/resource/authority/data-theme/AGRI\")","v":"http://publications.europa.eu/resource/authority/data-theme/AGRI"}]
[{"$f":"IFERROR(__xludf.DUMMYFUNCTION(\"\"\"COMPUTED_VALUE\"\"\"),\"http://datos.gob.es/kos/sector-publico/sector/salud\")","v":"http://datos.gob.es/kos/sector-publico/sector/salud"},{"$f":"IFERROR(__xludf.DUMMYFUNCTION(\"\"\"COMPUTED_VALUE\"\"\"),\"Salud\")","v":"Salud"},{"$f":"IFERROR(__xludf.DUMMYFUNCTION(\"\"\"COMPUTED_VALUE\"\"\"),\"es\")","v":"es"},{"$f":"IFERROR(__xludf.DUMMYFUNCTION(\"\"\"COMPUTED_VALUE\"\"\"),\"Sanidad.\")","v":"Sanidad."},{"$f":"IFERROR(__xludf.DUMMYFUNCTION(\"\"\"COMPUTED_VALUE\"\"\"),\"http://publications.europa.eu/resource/authority/data-theme/HEAL\")","v":"http://publications.europa.eu/resource/authority/data-theme/HEAL"}]
[{"$f":"IFERROR(__xludf.DUMMYFUNCTION(\"\"\"COMPUTED_VALUE\"\"\"),\"http://datos.gob.es/kos/sector-publico/sector/sector-publico\")","v":"http://datos.gob.es/kos/sector-publico/sector/sector-publico"},{"$f":"IFERROR(__xludf.DUMMYFUNCTION(\"\"\"COMPUTED_VALUE\"\"\"),\"Sector público\")","v":"Sector público"},{"$f":"IFERROR(__xludf.DUMMYFUNCTION(\"\"\"COMPUTED_VALUE\"\"\"),\"es\")","v":"es"},{"$f":"IFERROR(__xludf.DUMMYFUNCTION(\"\"\"COMPUTED_VALUE\"\"\"),\"Presupuestos, Organigrama institucional, Legislación interna, Función pública.\")","v":"Presupuestos, Organigrama institucional, Legislación interna, Función pública."},{"$f":"IFERROR(__xludf.DUMMYFUNCTION(\"\"\"COMPUTED_VALUE\"\"\"),\"http://publications.europa.eu/resource/authority/data-theme/GOVE\")","v":"http://publications.europa.eu/resource/authority/data-theme/GOVE"}]
[{"$f":"IFERROR(__xludf.DUMMYFUNCTION(\"\"\"COMPUTED_VALUE\"\"\"),\"http://datos.gob.es/kos/sector-publico/sector/seguridad\")","v":"http://datos.gob.es/kos/sector-publico/sector/seguridad"},{"$f":"IFERROR(__xludf.DUMMYFUNCTION(\"\"\"COMPUTED_VALUE\"\"\"),\"Seguridad\")","v":"Seguridad"},{"$f":"IFERROR(__xludf.DUMMYFUNCTION(\"\"\"COMPUTED_VALUE\"\"\"),\"es\")","v":"es"},{"$f":"IFERROR(__xludf.DUMMYFUNCTION(\"\"\"COMPUTED_VALUE\"\"\"),\"Protección civil, Defensa.\")","v":"Protección civil, Defensa."},{"$f":"IFERROR(__xludf.DUMMYFUNCTION(\"\"\"COMPUTED_VALUE\"\"\"),\"http://publications.europa.eu/resource/authority/data-theme/JUST\")","v":"http://publications.europa.eu/resource/authority/data-theme/JUST"}]
[{"$f":"IFERROR(__xludf.DUMMYFUNCTION(\"\"\"COMPUTED_VALUE\"\"\"),\"http://datos.gob.es/kos/sector-publico/sector/sociedad-bienestar\")","v":"http://datos.gob.es/kos/sector-publico/sector/sociedad-bienestar"},{"$f":"IFERROR(__xludf.DUMMYFUNCTION(\"\"\"COMPUTED_VALUE\"\"\"),\"Sociedad y bienestar\")","v":"Sociedad y bienestar"},{"$f":"IFERROR(__xludf.DUMMYFUNCTION(\"\"\"COMPUTED_VALUE\"\"\"),\"es\")","v":"es"},{"$f":"IFERROR(__xludf.DUMMYFUNCTION(\"\"\"COMPUTED_VALUE\"\"\"),\"Participación ciudadana, Marginación, Envejecimiento Activo, Autonomía personal y Dependencia, Invalidez, Jubilación, Seguros y Pensiones, Prestaciones y Subvenciones.\")","v":"Participación ciudadana, Marginación, Envejecimiento Activo, Autonomía personal y Dependencia, Invalidez, Jubilación, Seguros y Pensiones, Prestaciones y Subvenciones."},{"$f":"IFERROR(__xludf.DUMMYFUNCTION(\"\"\"COMPUTED_VALUE\"\"\"),\"http://publications.europa.eu/resource/authority/data-theme/SOCI\")","v":"http://publications.europa.eu/resource/authority/data-theme/SOCI"}]
[{"$f":"IFERROR(__xludf.DUMMYFUNCTION(\"\"\"COMPUTED_VALUE\"\"\"),\"http://datos.gob.es/kos/sector-publico/sector/transporte\")","v":"http://datos.gob.es/kos/sector-publico/sector/transporte"},{"$f":"IFERROR(__xludf.DUMMYFUNCTION(\"\"\"COMPUTED_VALUE\"\"\"),\"Transporte\")","v":"Transporte"},{"$f":"IFERROR(__xludf.DUMMYFUNCTION(\"\"\"COMPUTED_VALUE\"\"\"),\"es\")","v":"es"},{"$f":"IFERROR(__xludf.DUMMYFUNCTION(\"\"\"COMPUTED_VALUE\"\"\"),\"Comunicaciones y Tr/u00E1fico.\")","v":"Comunicaciones y Tr/u00E1fico."},{"$f":"IFERROR(__xludf.DUMMYFUNCTION(\"\"\"COMPUTED_VALUE\"\"\"),\"http://publications.europa.eu/resource/authority/data-theme/TRAN\")","v":"http://publications.europa.eu/resource/authority/data-theme/TRAN"}]
[{"$f":"IFERROR(__xludf.DUMMYFUNCTION(\"\"\"COMPUTED_VALUE\"\"\"),\"http://datos.gob.es/kos/sector-publico/sector/turismo\")","v":"http://datos.gob.es/kos/sector-publico/sector/turismo"},{"$f":"IFERROR(__xludf.DUMMYFUNCTION(\"\"\"COMPUTED_VALUE\"\"\"),\"Turismo\")","v":"Turismo"},{"$f":"IFERROR(__xludf.DUMMYFUNCTION(\"\"\"COMPUTED_VALUE\"\"\"),\"es\")","v":"es"},{"$f":"IFERROR(__xludf.DUMMYFUNCTION(\"\"\"COMPUTED_VALUE\"\"\"),\"Alojamientos, Hostelería, Gastronomía.\")","v":"Alojamientos, Hostelería, Gastronomía."},{"$f":"IFERROR(__xludf.DUMMYFUNCTION(\"\"\"COMPUTED_VALUE\"\"\"),\"http://publications.europa.eu/resource/authority/data-theme/ECON\")","v":"http://publications.europa.eu/resource/authority/data-theme/ECON"}]
[{"$f":"IFERROR(__xludf.DUMMYFUNCTION(\"\"\"COMPUTED_VALUE\"\"\"),\"http://datos.gob.es/kos/sector-publico/sector/urbanismo-infraestructuras\")","v":"http://datos.gob.es/kos/sector-publico/sector/urbanismo-infraestructuras"},{"$f":"IFERROR(__xludf.DUMMYFUNCTION(\"\"\"COMPUTED_VALUE\"\"\"),\"Urbanismo e infraestructuras\")","v":"Urbanismo e infraestructuras"},{"$f":"IFERROR(__xludf.DUMMYFUNCTION(\"\"\"COMPUTED_VALUE\"\"\"),\"es\")","v":"es"},{"$f":"IFERROR(__xludf.DUMMYFUNCTION(\"\"\"COMPUTED_VALUE\"\"\"),\"Saneamiento público, Construcción (infraestructuras, equipamientos públicos).\")","v":"Saneamiento público, Construcción (infraestructuras, equipamientos públicos)."},{"$f":"IFERROR(__xludf.DUMMYFUNCTION(\"\"\"COMPUTED_VALUE\"\"\"),\"http://publications.europa.eu/resource/authority/data-theme/REGI\")","v":"http://publications.europa.eu/resource/authority/data-theme/REGI"}]
[{"$f":"IFERROR(__xludf.DUMMYFUNCTION(\"\"\"COMPUTED_VALUE\"\"\"),\"http://datos.gob.es/kos/sector-publico/sector/vivienda\")","v":"http://datos.gob.es/kos/sector-publico/sector/vivienda"},{"$f":"IFERROR(__xludf.DUMMYFUNCTION(\"\"\"COMPUTED_VALUE\"\"\"),\"Vivienda\")","v":"Vivienda"},{"$f":"IFERROR(__xludf.DUMMYFUNCTION(\"\"\"COMPUTED_VALUE\"\"\"),\"es\")","v":"es"},{"$f":"IFERROR(__xludf.DUMMYFUNCTION(\"\"\"COMPUTED_VALUE\"\"\"),\"Mercado inmobiliario, Construcción (viviendas).\")","v":"Mercado inmobiliario, Construcción (viviendas)."},{"$f":"IFERROR(__xludf.DUMMYFUNCTION(\"\"\"COMPUTED_VALUE\"\"\"),\"http://publications.europa.eu/resource/authority/data-theme/REGI\")","v":"http://publications.europa.eu/resource/authority/data-theme/REGI"}]

{"sheet":"NFO_tag_uri","index":18,"n_rows":39,"n_cols":4,"rows_kept":39,"cut":false,"hidden":true,"merged":[]}
[{"$f":"IFERROR(__xludf.DUMMYFUNCTION(\"IMPORTRANGE(\"\"https://docs.google.com/spreadsheets/d/1p4h5y82-jiH68qGY_WeCV6HuyJKmuyC1XLjVbwjsAdg\"\",\"\"tag_uri!A1:Z100\"\")\"),\"id\")","v":"id"},{"$f":"IFERROR(__xludf.DUMMYFUNCTION(\"\"\"COMPUTED_VALUE\"\"\"),\"language\")","v":"language"},{"$f":"IFERROR(__xludf.DUMMYFUNCTION(\"\"\"COMPUTED_VALUE\"\"\"),\"label\")","v":"label"},{"$f":"IFERROR(__xludf.DUMMYFUNCTION(\"\"\"COMPUTED_VALUE\"\"\"),\"definition\")","v":"definition"}]
[{"$f":"IFERROR(__xludf.DUMMYFUNCTION(\"\"\"COMPUTED_VALUE\"\"\"),\"http://inspire.ec.europa.eu/metadata-codelist/TopicCategory/farming\")","v":"http://inspire.ec.europa.eu/metadata-codelist/TopicCategory/farming"},{"$f":"IFERROR(__xludf.DUMMYFUNCTION(\"\"\"COMPUTED_VALUE\"\"\"),\"es\")","v":"es"},{"$f":"IFERROR(__xludf.DUMMYFUNCTION(\"\"\"COMPUTED_VALUE\"\"\"),\"Agricultura\")","v":"Agricultura"},{"$f":"IFERROR(__xludf.DUMMYFUNCTION(\"\"\"COMPUTED_VALUE\"\"\"),\"Cría de animales o cultivo de plantas.\")","v":"Cría de animales o cultivo de plantas."}]
[{"$f":"IFERROR(__xludf.DUMMYFUNCTION(\"\"\"COMPUTED_VALUE\"\"\"),\"http://inspire.ec.europa.eu/metadata-codelist/TopicCategory/biota\")","v":"http://inspire.ec.europa.eu/metadata-codelist/TopicCategory/biota"},{"$f":"IFERROR(__xludf.DUMMYFUNCTION(\"\"\"COMPUTED_VALUE\"\"\"),\"es\")","v":"es"},{"$f":"IFERROR(__xludf.DUMMYFUNCTION(\"\"\"COMPUTED_VALUE\"\"\"),\"Biota\")","v":"Biota"},{"$f":"IFERROR(__xludf.DUMMYFUNCTION(\"\"\"COMPUTED_VALUE\"\"\"),\"Flora o fauna en el medio natural.\")","v":"Flora o fauna en el medio natural."}]
[{"$f":"IFERROR(__xludf.DUMMYFUNCTION(\"\"\"COMPUTED_VALUE\"\"\"),\"http://inspire.ec.europa.eu/metadata-codelist/TopicCategory/boundaries\")","v":"http://inspire.ec.europa.eu/metadata-codelist/TopicCategory/boundaries"},{"$f":"IFERROR(__xludf.DUMMYFUNCTION(\"\"\"COMPUTED_VALUE\"\"\"),\"es\")","v":"es"},{"$f":"IFERROR(__xludf.DUMMYFUNCTION(\"\"\"COMPUTED_VALUE\"\"\"),\"Límites\")","v":"Límites"},{"$f":"IFERROR(__xludf.DUMMYFUNCTION(\"\"\"COMPUTED_VALUE\"\"\"),\"Descripciones legales del terreno.\")","v":"Descripciones legales del terreno."}]
[{"$f":"IFERROR(__xludf.DUMMYFUNCTION(\"\"\"COMPUTED_VALUE\"\"\"),\"http://inspire.ec.europa.eu/metadata-codelist/TopicCategory/climatologyMeteorologyAtmosphere\")","v":"http://inspire.ec.europa.eu/metadata-codelist/TopicCategory/climatologyMeteorologyAtmosphere"},{"$f":"IFERROR(__xludf.DUMMYFUNCTION(\"\"\"COMPUTED_VALUE\"\"\"),\"es\")","v":"es"},{"$f":"IFERROR(__xludf.DUMMYFUNCTION(\"\"\"COMPUTED_VALUE\"\"\"),\"Atmósfera climatológica y meteorológica\")","v":"Atmósfera climatológica y meteorológica"},{"$f":"IFERROR(__xludf.DUMMYFUNCTION(\"\"\"COMPUTED_VALUE\"\"\"),\"Procesos y fenómenos de la atmósfera.\")","v":"Procesos y fenómenos de la atmósfera."}]
[{"$f":"IFERROR(__xludf.DUMMYFUNCTION(\"\"\"COMPUTED_VALUE\"\"\"),\"http://inspire.ec.europa.eu/metadata-codelist/TopicCategory/economy\")","v":"http://inspire.ec.europa.eu/metadata-codelist/TopicCategory/economy"},{"$f":"IFERROR(__xludf.DUMMYFUNCTION(\"\"\"COMPUTED_VALUE\"\"\"),\"es\")","v":"es"},{"$f":"IFERROR(__xludf.DUMMYFUNCTION(\"\"\"COMPUTED_VALUE\"\"\"),\"Economía\")","v":"Economía"},{"$f":"IFERROR(__xludf.DUMMYFUNCTION(\"\"\"COMPUTED_VALUE\"\"\"),\"Actividades y condiciones económicas y empleo.\")","v":"Actividades y condiciones económicas y empleo."}]
[{"$f":"IFERROR(__xludf.DUMMYFUNCTION(\"\"\"COMPUTED_VALUE\"\"\"),\"http://inspire.ec.europa.eu/metadata-codelist/TopicCategory/elevation\")","v":"http://inspire.ec.europa.eu/metadata-codelist/TopicCategory/elevation"},{"$f":"IFERROR(__xludf.DUMMYFUNCTION(\"\"\"COMPUTED_VALUE\"\"\"),\"es\")","v":"es"},{"$f":"IFERROR(__xludf.DUMMYFUNCTION(\"\"\"COMPUTED_VALUE\"\"\"),\"Elevación\")","v":"Elevación"},{"$f":"IFERROR(__xludf.DUMMYFUNCTION(\"\"\"COMPUTED_VALUE\"\"\"),\"Altura sobre o bajo el nivel del mar.\")","v":"Altura sobre o bajo el nivel del mar."}]
[{"$f":"IFERROR(__xludf.DUMMYFUNCTION(\"\"\"COMPUTED_VALUE\"\"\"),\"http://inspire.ec.europa.eu/metadata-codelist/TopicCategory/environment\")","v":"http://inspire.ec.europa.eu/metadata-codelist/TopicCategory/environment"},{"$f":"IFERROR(__xludf.DUMMYFUNCTION(\"\"\"COMPUTED_VALUE\"\"\"),\"es\")","v":"es"},{"$f":"IFERROR(__xludf.DUMMYFUNCTION(\"\"\"COMPUTED_VALUE\"\"\"),\"Medio ambiente\")","v":"Medio ambiente"},{"$f":"IFERROR(__xludf.DUMMYFUNCTION(\"\"\"COMPUTED_VALUE\"\"\"),\"Recursos medioambientales, protección y conservación.\")","v":"Recursos medioambientales, protección y conservación."}]
[{"$f":"IFERROR(__xludf.DUMMYFUNCTION(\"\"\"COMPUTED_VALUE\"\"\"),\"http://inspire.ec.europa.eu/metadata-codelist/TopicCategory/geoscientificInformation\")","v":"http://inspire.ec.europa.eu/metadata-codelist/TopicCategory/geoscientificInformation"},{"$f":"IFERROR(__xludf.DUMMYFUNCTION(\"\"\"COMPUTED_VALUE\"\"\"),\"es\")","v":"es"},{"$f":"IFERROR(__xludf.DUMMYFUNCTION(\"\"\"COMPUTED_VALUE\"\"\"),\"Información geocientífica\")","v":"Información geocientífica"},{"$f":"IFERROR(__xludf.DUMMYFUNCTION(\"\"\"COMPUTED_VALUE\"\"\"),\"Información perteneciente a las ciencias de la Tierra.\")","v":"Información perteneciente a las ciencias de la Tierra."}]
[{"$f":"IFERROR(__xludf.DUMMYFUNCTION(\"\"\"COMPUTED_VALUE\"\"\"),\"http://inspire.ec.europa.eu/metadata-codelist/TopicCategory/health\")","v":"http://inspire.ec.europa.eu/metadata-codelist/TopicCategory/health"},{"$f":"IFERROR(__xludf.DUMMYFUNCTION(\"\"\"COMPUTED_VALUE\"\"\"),\"es\")","v":"es"},{"$f":"IFERROR(__xludf.DUMMYFUNCTION(\"\"\"COMPUTED_VALUE\"\"\"),\"Salud\")","v":"Salud"},{"$f":"IFERROR(__xludf.DUMMYFUNCTION(\"\"\"COMPUTED_VALUE\"\"\"),\"Salud, servicios sanitarios, ecología humana y seguridad.\")","v":"Salud, servicios sanitarios, ecología humana y seguridad."}]
[{"$f":"IFERROR(__xludf.DUMMYFUNCTION(\"\"\"COMPUTED_VALUE\"\"\"),\"http://inspire.ec.europa.eu/metadata-codelist/TopicCategory/imageryBaseMapsEarthCover\")","v":"http://inspire.ec.europa.eu/metadata-codelist/TopicCategory/imageryBaseMapsEarthCover"},{"$f":"IFERROR(__xludf.DUMMYFUNCTION(\"\"\"COMPUTED_VALUE\"\"\"),\"es\")","v":"es"},{"$f":"IFERROR(__xludf.DUMMYFUNCTION(\"\"\"COMPUTED_VALUE\"\"\"),\"Cobertura de la Tierra con mapas básicos e imágenes\")","v":"Cobertura de la Tierra con mapas básicos e imágenes"},{"$f":"IFERROR(__xludf.DUMMYFUNCTION(\"\"\"COMPUTED_VALUE\"\"\"),\"Cartografía básica.\")","v":"Cartografía básica."}]
[{"$f":"IFERROR(__xludf.DUMMYFUNCTION(\"\"\"COMPUTED_VALUE\"\"\"),\"http://inspire.ec.europa.eu/metadata-codelist/TopicCategory/intelligenceMilitary\")","v":"http://inspire.ec.europa.eu/metadata-codelist/TopicCategory/intelligenceMilitary"},{"$f":"IFERROR(__xludf.DUMMYFUNCTION(\"\"\"COMPUTED_VALUE\"\"\"),\"es\")","v":"es"},{"$f":"IFERROR(__xludf.DUMMYFUNCTION(\"\"\"COMPUTED_VALUE\"\"\"),\"Inteligencia militar\")","v":"Inteligencia militar"},{"$f":"IFERROR(__xludf.DUMMYFUNCTION(\"\"\"COMPUTED_VALUE\"\"\"),\"Bases, estructuras y actividades militares.\")","v":"Bases, estructuras y actividades militares."}]
[{"$f":"IFERROR(__xludf.DUMMYFUNCTION(\"\"\"COMPUTED_VALUE\"\"\"),\"http://inspire.ec.europa.eu/metadata-codelist/TopicCategory/inlandWaters\")","v":"http://inspire.ec.europa.eu/metadata-codelist/TopicCategory/inlandWaters"},{"$f":"IFERROR(__xludf.DUMMYFUNCTION(\"\"\"COMPUTED_VALUE\"\"\"),\"es\")","v":"es"},{"$f":"IFERROR(__xludf.DUMMYFUNCTION(\"\"\"COMPUTED_VALUE\"\"\"),\"Aguas interiores\")","v":"Aguas interiores"},{"$f":"IFERROR(__xludf.DUMMYFUNCTION(\"\"\"COMPUTED_VALUE\"\"\"),\"Fenómenos de las aguas interiores, sistemas de drenaje y sus características.\")","v":"Fenómenos de las aguas interiores, sistemas de drenaje y sus características."}]
[{"$f":"IFERROR(__xludf.DUMMYFUNCTION(\"\"\"COMPUTED_VALUE\"\"\"),\"http://inspire.ec.europa.eu/metadata-codelist/TopicCategory/location\")","v":"http://inspire.ec.europa.eu/metadata-codelist/TopicCategory/location"},{"$f":"IFERROR(__xludf.DUMMYFUNCTION(\"\"\"COMPUTED_VALUE\"\"\"),\"es\")","v":"es"},{"$f":"IFERROR(__xludf.DUMMYFUNCTION(\"\"\"COMPUTED_VALUE\"\"\"),\"Localización\")","v":"Localización"},{"$f":"IFERROR(__xludf.DUMMYFUNCTION(\"\"\"COMPUTED_VALUE\"\"\"),\"Información y servicios de posicionamiento\")","v":"Información y servicios de posicionamiento"}]
[{"$f":"IFERROR(__xludf.DUMMYFUNCTION(\"\"\"COMPUTED_VALUE\"\"\"),\"http://inspire.ec.europa.eu/metadata-codelist/TopicCategory/oceans\")","v":"http://inspire.ec.europa.eu/metadata-codelist/TopicCategory/oceans"},{"$f":"IFERROR(__xludf.DUMMYFUNCTION(\"\"\"COMPUTED_VALUE\"\"\"),\"es\")","v":"es"},{"$f":"IFERROR(__xludf.DUMMYFUNCTION(\"\"\"COMPUTED_VALUE\"\"\"),\"Océanos\")","v":"Océanos"},{"$f":"IFERROR(__xludf.DUMMYFUNCTION(\"\"\"COMPUTED_VALUE\"\"\"),\"Fenómenos y características de las aguas saladas (excluidas las aguas interiores).\")","v":"Fenómenos y características de las aguas saladas (excluidas las aguas interiores)."}]
[{"$f":"IFERROR(__xludf.DUMMYFUNCTION(\"\"\"COMPUTED_VALUE\"\"\"),\"http://inspire.ec.europa.eu/metadata-codelist/TopicCategory/planningCadastre\")","v":"http://inspire.ec.europa.eu/metadata-codelist/TopicCategory/planningCadastre"},{"$f":"IFERROR(__xludf.DUMMYFUNCTION(\"\"\"COMPUTED_VALUE\"\"\"),\"es\")","v":"es"},{"$f":"IFERROR(__xludf.DUMMYFUNCTION(\"\"\"COMPUTED_VALUE\"\"\"),\"Planeamiento catastral\")","v":"Planeamiento catastral"},{"$f":"IFERROR(__xludf.DUMMYFUNCTION(\"\"\"COMPUTED_VALUE\"\"\"),\"Información utilizada para actuaciones en relación con el uso futuro del suelo.\")","v":"Información utilizada para actuaciones en relación con el uso futuro del suelo."}]
[{"$f":"IFERROR(__xludf.DUMMYFUNCTION(\"\"\"COMPUTED_VALUE\"\"\"),\"http://inspire.ec.europa.eu/metadata-codelist/TopicCategory/society\")","v":"http://inspire.ec.europa.eu/metadata-codelist/TopicCategory/society"},{"$f":"IFERROR(__xludf.DUMMYFUNCTION(\"\"\"COMPUTED_VALUE\"\"\"),\"es\")","v":"es"},{"$f":"IFERROR(__xludf.DUMMYFUNCTION(\"\"\"COMPUTED_VALUE\"\"\"),\"Sociedad\")","v":"Sociedad"},{"$f":"IFERROR(__xludf.DUMMYFUNCTION(\"\"\"COMPUTED_VALUE\"\"\"),\"Características de la sociedad y la cultura.\")","v":"Características de la sociedad y la cultura."}]
[{"$f":"IFERROR(__xludf.DUMMYFUNCTION(\"\"\"COMPUTED_VALUE\"\"\"),\"http://inspire.ec.europa.eu/metadata-codelist/TopicCategory/structure\")","v":"http://inspire.ec.europa.eu/metadata-codelist/TopicCategory/structure"},{"$f":"IFERROR(__xludf.DUMMYFUNCTION(\"\"\"COMPUTED_VALUE\"\"\"),\"es\")","v":"es"},{"$f":"IFERROR(__xludf.DUMMYFUNCTION(\"\"\"COMPUTED_VALUE\"\"\"),\"Estructura\")","v":"Estructura"},{"$f":"IFERROR(__xludf.DUMMYFUNCTION(\"\"\"COMPUTED_VALUE\"\"\"),\"Construcciones hechas por el hombre.\")","v":"Construcciones hechas por el hombre."}]
[{"$f":"IFERROR(__xludf.DUMMYFUNCTION(\"\"\"COMPUTED_VALUE\"\"\"),\"http://inspire.ec.europa.eu/metadata-codelist/TopicCategory/transportation\")","v":"http://inspire.ec.europa.eu/metadata-codelist/TopicCategory/transportation"},{"$f":"IFERROR(__xludf.DUMMYFUNCTION(\"\"\"COMPUTED_VALUE\"\"\"),\"es\")","v":"es"},{"$f":"IFERROR(__xludf.DUMMYFUNCTION(\"\"\"COMPUTED_VALUE\"\"\"),\"Transporte\")","v":"Transporte"},{"$f":"IFERROR(__xludf.DUMMYFUNCTION(\"\"\"COMPUTED_VALUE\"\"\"),\"Medios y ayudas para transportar personas o mercancías.\")","v":"Medios y ayudas para transportar personas o mercancías."}]
[{"$f":"IFERROR(__xludf.DUMMYFUNCTION(\"\"\"COMPUTED_VALUE\"\"\"),\"http://inspire.ec.europa.eu/metadata-codelist/TopicCategory/utilitiesCommunication\")","v":"http://inspire.ec.europa.eu/metadata-codelist/TopicCategory/utilitiesCommunication"},{"$f":"IFERROR(__xludf.DUMMYFUNCTION(\"\"\"COMPUTED_VALUE\"\"\"),\"es\")","v":"es"},{"$f":"IFERROR(__xludf.DUMMYFUNCTION(\"\"\"COMPUTED_VALUE\"\"\"),\"Redes de suministro\")","v":"Redes de suministro"},{"$f":"IFERROR(__xludf.DUMMYFUNCTION(\"\"\"COMPUTED_VALUE\"\"\"),\"Redes de agua, de energía, de retirada de residuos, de infraestructuras de comunicaciones y servicios.\")","v":"Redes de agua, de energía, de retirada de residuos, de infraestructuras de comunicaciones y servicios."}]
[{"$f":"IFERROR(__xludf.DUMMYFUNCTION(\"\"\"COMPUTED_VALUE\"\"\"),\"http://inspire.ec.europa.eu/metadata-codelist/TopicCategory/farming\")","v":"http://inspire.ec.europa.eu/metadata-codelist/TopicCategory/farming"},{"$f":"IFERROR(__xludf.DUMMYFUNCTION(\"\"\"COMPUTED_VALUE\"\"\"),\"en\")","v":"en"},{"$f":"IFERROR(__xludf.DUMMYFUNCTION(\"\"\"COMPUTED_VALUE\"\"\"),\"Farming\")","v":"Farming"},{"$f":"IFERROR(__xludf.DUMMYFUNCTION(\"\"\"COMPUTED_VALUE\"\"\"),\"Rearing of animals and/or cultivation of plants.\")","v":"Rearing of animals and/or cultivation of plants."}]
[{"$f":"IFERROR(__xludf.DUMMYFUNCTION(\"\"\"COMPUTED_VALUE\"\"\"),\"http://inspire.ec.europa.eu/metadata-codelist/TopicCategory/biota\")","v":"http://inspire.ec.europa.eu/metadata-codelist/TopicCategory/biota"},{"$f":"IFERROR(__xludf.DUMMYFUNCTION(\"\"\"COMPUTED_VALUE\"\"\"),\"en\")","v":"en"},{"$f":"IFERROR(__xludf.DUMMYFUNCTION(\"\"\"COMPUTED_VALUE\"\"\"),\"Biota\")","v":"Biota"},{"$f":"IFERROR(__xludf.DUMMYFUNCTION(\"\"\"COMPUTED_VALUE\"\"\"),\"Flora and/or fauna in natural environment.\")","v":"Flora and/or fauna in natural environment."}]
[{"$f":"IFERROR(__xludf.DUMMYFUNCTION(\"\"\"COMPUTED_VALUE\"\"\"),\"http://inspire.ec.europa.eu/metadata-codelist/TopicCategory/boundaries\")","v":"http://inspire.ec.europa.eu/metadata-codelist/TopicCategory/boundaries"},{"$f":"IFERROR(__xludf.DUMMYFUNCTION(\"\"\"COMPUTED_VALUE\"\"\"),\"en\")","v":"en"},{"$f":"IFERROR(__xludf.DUMMYFUNCTION(\"\"\"COMPUTED_VALUE\"\"\"),\"Boundaries\")","v":"Boundaries"},{"$f":"IFERROR(__xludf.DUMMYFUNCTION(\"\"\"COMPUTED_VALUE\"\"\"),\"Legal land descriptions.\")","v":"Legal land descriptions."}]
[{"$f":"IFERROR(__xludf.DUMMYFUNCTION(\"\"\"COMPUTED_VALUE\"\"\"),\"http://inspire.ec.europa.eu/metadata-codelist/TopicCategory/climatologyMeteorologyAtmosphere\")","v":"http://inspire.ec.europa.eu/metadata-codelist/TopicCategory/climatologyMeteorologyAtmosphere"},{"$f":"IFERROR(__xludf.DUMMYFUNCTION(\"\"\"COMPUTED_VALUE\"\"\"),\"en\")","v":"en"},{"$f":"IFERROR(__xludf.DUMMYFUNCTION(\"\"\"COMPUTED_VALUE\"\"\"),\"Climatology / Meteorology / Atmosphere\")","v":"Climatology / Meteorology / Atmosphere"},{"$f":"IFERROR(__xludf.DUMMYFUNCTION(\"\"\"COMPUTED_VALUE\"\"\"),\"Processes and phenomena of the atmosphere.\")","v":"Processes and phenomena of the atmosphere."}]
[{"$f":"IFERROR(__xludf.DUMMYFUNCTION(\"\"\"COMPUTED_VALUE\"\"\"),\"http://inspire.ec.europa.eu/metadata-codelist/TopicCategory/economy\")","v":"http://inspire.ec.europa.eu/metadata-codelist/TopicCategory/economy"},{"$f":"IFERROR(__xludf.DUMMYFUNCTION(\"\"\"COMPUTED_VALUE\"\"\"),\"en\")","v":"en"},{"$f":"IFERROR(__xludf.DUMMYFUNCTION(\"\"\"COMPUTED_VALUE\"\"\"),\"Economy\")","v":"Economy"},{"$f":"IFERROR(__xludf.DUMMYFUNCTION(\"\"\"COMPUTED_VALUE\"\"\"),\"Economic activities, conditions and employment.\")","v":"Economic activities, conditions and employment."}]
[{"$f":"IFERROR(__xludf.DUMMYFUNCTION(\"\"\"COMPUTED_VALUE\"\"\"),\"http://inspire.ec.europa.eu/metadata-codelist/TopicCategory/elevation\")","v":"http://inspire.ec.europa.eu/metadata-codelist/TopicCategory/elevation"},{"$f":"IFERROR(__xludf.DUMMYFUNCTION(\"\"\"COMPUTED_VALUE\"\"\"),\"en\")","v":"en"},{"$f":"IFERROR(__xludf.DUMMYFUNCTION(\"\"\"COMPUTED_VALUE\"\"\"),\"Elevation\")","v":"Elevation"},{"$f":"IFERROR(__xludf.DUMMYFUNCTION(\"\"\"COMPUTED_VALUE\"\"\"),\"Height above or below sea level.\")","v":"Height above or below sea level."}]
[{"$f":"IFERROR(__xludf.DUMMYFUNCTION(\"\"\"COMPUTED_VALUE\"\"\"),\"http://inspire.ec.europa.eu/metadata-codelist/TopicCategory/environment\")","v":"http://inspire.ec.europa.eu/metadata-codelist/TopicCategory/environment"},{"$f":"IFERROR(__xludf.DUMMYFUNCTION(\"\"\"COMPUTED_VALUE\"\"\"),\"en\")","v":"en"},{"$f":"IFERROR(__xludf.DUMMYFUNCTION(\"\"\"COMPUTED_VALUE\"\"\"),\"Environment\")","v":"Environment"},{"$f":"IFERROR(__xludf.DUMMYFUNCTION(\"\"\"COMPUTED_VALUE\"\"\"),\"Environmental resources, protection and conservation.\")","v":"Environmental resources, protection and conservation."}]
[{"$f":"IFERROR(__xludf.DUMMYFUNCTION(\"\"\"COMPUTED_VALUE\"\"\"),\"http://inspire.ec.europa.eu/metadata-codelist/TopicCategory/geoscientificInformation\")","v":"http://inspire.ec.europa.eu/metadata-codelist/TopicCategory/geoscientificInformation"},{"$f":"IFERROR(__xludf.DUMMYFUNCTION(\"\"\"COMPUTED_VALUE\"\"\"),\"en\")","v":"en"},{"$f":"IFERROR(__xludf.DUMMYFUNCTION(\"\"\"COMPUTED_VALUE\"\"\"),\"Geoscientific Information\")","v":"Geoscientific Information"},{"$f":"IFERROR(__xludf.DUMMYFUNCTION(\"\"\"COMPUTED_VALUE\"\"\"),\"Information pertaining to earth sciences.\")","v":"Information pertaining to earth sciences."}]
[{"$f":"IFERROR(__xludf.DUMMYFUNCTION(\"\"\"COMPUTED_VALUE\"\"\"),\"http://inspire.ec.europa.eu/metadata-codelist/TopicCategory/health\")","v":"http://inspire.ec.europa.eu/metadata-codelist/TopicCategory/health"},{"$f":"IFERROR(__xludf.DUMMYFUNCTION(\"\"\"COMPUTED_VALUE\"\"\"),\"en\")","v":"en"},{"$f":"IFERROR(__xludf.DUMMYFUNCTION(\"\"\"COMPUTED_VALUE\"\"\"),\"Health\")","v":"Health"},{"$f":"IFERROR(__xludf.DUMMYFUNCTION(\"\"\"COMPUTED_VALUE\"\"\"),\"Health, health services, human ecology, and safety.\")","v":"Health, health services, human ecology, and safety."}]
[{"$f":"IFERROR(__xludf.DUMMYFUNCTION(\"\"\"COMPUTED_VALUE\"\"\"),\"http://inspire.ec.europa.eu/metadata-codelist/TopicCategory/imageryBaseMapsEarthCover\")","v":"http://inspire.ec.europa.eu/metadata-codelist/TopicCategory/imageryBaseMapsEarthCover"},{"$f":"IFERROR(__xludf.DUMMYFUNCTION(\"\"\"COMPUTED_VALUE\"\"\"),\"en\")","v":"en"},{"$f":"IFERROR(__xludf.DUMMYFUNCTION(\"\"\"COMPUTED_VALUE\"\"\"),\"Imagery / Base Maps / Earth Cover\")","v":"Imagery / Base Maps / Earth Cover"},{"$f":"IFERROR(__xludf.DUMMYFUNCTION(\"\"\"COMPUTED_VALUE\"\"\"),\"Base maps.\")","v":"Base maps."}]
[{"$f":"IFERROR(__xludf.DUMMYFUNCTION(\"\"\"COMPUTED_VALUE\"\"\"),\"http://inspire.ec.europa.eu/metadata-codelist/TopicCategory/intelligenceMilitary\")","v":"http://inspire.ec.europa.eu/metadata-codelist/TopicCategory/intelligenceMilitary"},{"$f":"IFERROR(__xludf.DUMMYFUNCTION(\"\"\"COMPUTED_VALUE\"\"\"),\"en\")","v":"en"},{"$f":"IFERROR(__xludf.DUMMYFUNCTION(\"\"\"COMPUTED_VALUE\"\"\"),\"Intelligence / Military\")","v":"Intelligence / Military"},{"$f":"IFERROR(__xludf.DUMMYFUNCTION(\"\"\"COMPUTED_VALUE\"\"\"),\"Military bases, structures, activities.\")","v":"Military bases, structures, activities."}]
[{"$f":"IFERROR(__xludf.DUMMYFUNCTION(\"\"\"COMPUTED_VALUE\"\"\"),\"http://inspire.ec.europa.eu/metadata-codelist/TopicCategory/inlandWaters\")","v":"http://inspire.ec.europa.eu/metadata-codelist/TopicCategory/inlandWaters"},{"$f":"IFERROR(__xludf.DUMMYFUNCTION(\"\"\"COMPUTED_VALUE\"\"\"),\"en\")","v":"en"},{"$f":"IFERROR(__xludf.DUMMYFUNCTION(\"\"\"COMPUTED_VALUE\"\"\"),\"Inland Waters\")","v":"Inland Waters"},{"$f":"IFERROR(__xludf.DUMMYFUNCTION(\"\"\"COMPUTED_VALUE\"\"\"),\"Inland water features, drainage systems and their characteristics.\")","v":"Inland water features, drainage systems and their characteristics."}]
[{"$f":"IFERROR(__xludf.DUMMYFUNCTION(\"\"\"COMPUTED_VALUE\"\"\"),\"http://inspire.ec.europa.eu/metadata-codelist/TopicCategory/location\")","v":"http://inspire.ec.europa.eu/metadata-codelist/TopicCategory/location"},{"$f":"IFERROR(__xludf.DUMMYFUNCTION(\"\"\"COMPUTED_VALUE\"\"\"),\"en\")","v":"en"},{"$f":"IFERROR(__xludf.DUMMYFUNCTION(\"\"\"COMPUTED_VALUE\"\"\"),\"Location\")","v":"Location"},{"$f":"IFERROR(__xludf.DUMMYFUNCTION(\"\"\"COMPUTED_VALUE\"\"\"),\"Positional information and services.\")","v":"Positional information and services."}]
[{"$f":"IFERROR(__xludf.DUMMYFUNCTION(\"\"\"COMPUTED_VALUE\"\"\"),\"http://inspire.ec.europa.eu/metadata-codelist/TopicCategory/oceans\")","v":"http://inspire.ec.europa.eu/metadata-codelist/TopicCategory/oceans"},{"$f":"IFERROR(__xludf.DUMMYFUNCTION(\"\"\"COMPUTED_VALUE\"\"\"),\"en\")","v":"en"},{"$f":"IFERROR(__xludf.DUMMYFUNCTION(\"\"\"COMPUTED_VALUE\"\"\"),\"Oceans\")","v":"Oceans"},{"$f":"IFERROR(__xludf.DUMMYFUNCTION(\"\"\"COMPUTED_VALUE\"\"\"),\"Features and characteristics of salt water bodies (excluding inland waters).\")","v":"Features and characteristics of salt water bodies (excluding inland waters)."}]
[{"$f":"IFERROR(__xludf.DUMMYFUNCTION(\"\"\"COMPUTED_VALUE\"\"\"),\"http://inspire.ec.europa.eu/metadata-codelist/TopicCategory/planningCadastre\")","v":"http://inspire.ec.europa.eu/metadata-codelist/TopicCategory/planningCadastre"},{"$f":"IFERROR(__xludf.DUMMYFUNCTION(\"\"\"COMPUTED_VALUE\"\"\"),\"en\")","v":"en"},{"$f":"IFERROR(__xludf.DUMMYFUNCTION(\"\"\"COMPUTED_VALUE\"\"\"),\"Planning / Cadastre\")","v":"Planning / Cadastre"},{"$f":"IFERROR(__xludf.DUMMYFUNCTION(\"\"\"COMPUTED_VALUE\"\"\"),\"Information used for appropriate actions for future use of the land.\")","v":"Information used for appropriate actions for future use of the land."}]
[{"$f":"IFERROR(__xludf.DUMMYFUNCTION(\"\"\"COMPUTED_VALUE\"\"\"),\"http://inspire.ec.europa.eu/metadata-codelist/TopicCategory/society\")","v":"http://inspire.ec.europa.eu/metadata-codelist/TopicCategory/society"},{"$f":"IFERROR(__xludf.DUMMYFUNCTION(\"\"\"COMPUTED_VALUE\"\"\"),\"en\")","v":"en"},{"$f":"IFERROR(__xludf.DUMMYFUNCTION(\"\"\"COMPUTED_VALUE\"\"\"),\"Society\")","v":"Society"},{"$f":"IFERROR(__xludf.DUMMYFUNCTION(\"\"\"COMPUTED_VALUE\"\"\"),\"Characteristics of society and cultures.\")","v":"Characteristics of society and cultures."}]
[{"$f":"IFERROR(__xludf.DUMMYFUNCTION(\"\"\"COMPUTED_VALUE\"\"\"),\"http://inspire.ec.europa.eu/metadata-codelist/TopicCategory/structure\")","v":"http://inspire.ec.europa.eu/metadata-codelist/TopicCategory/structure"},{"$f":"IFERROR(__xludf.DUMMYFUNCTION(\"\"\"COMPUTED_VALUE\"\"\"),\"en\")","v":"en"},{"$f":"IFERROR(__xludf.DUMMYFUNCTION(\"\"\"COMPUTED_VALUE\"\"\"),\"Structure\")","v":"Structure"},{"$f":"IFERROR(__xludf.DUMMYFUNCTION(\"\"\"COMPUTED_VALUE\"\"\"),\"Man-made construction.\")","v":"Man-made construction."}]
[{"$f":"IFERROR(__xludf.DUMMYFUNCTION(\"\"\"COMPUTED_VALUE\"\"\"),\"http://inspire.ec.europa.eu/metadata-codelist/TopicCategory/transportation\")","v":"http://inspire.ec.europa.eu/metadata-codelist/TopicCategory/transportation"},{"$f":"IFERROR(__xludf.DUMMYFUNCTION(\"\"\"COMPUTED_VALUE\"\"\"),\"en\")","v":"en"},{"$f":"IFERROR(__xludf.DUMMYFUNCTION(\"\"\"COMPUTED_VALUE\"\"\"),\"Transportation\")","v":"Transportation"},{"$f":"IFERROR(__xludf.DUMMYFUNCTION(\"\"\"COMPUTED_VALUE\"\"\"),\"Means and aids for conveying persons and/or goods.\")","v":"Means and aids for conveying persons and/or goods."}]
[{"$f":"IFERROR(__xludf.DUMMYFUNCTION(\"\"\"COMPUTED_VALUE\"\"\"),\"http://inspire.ec.europa.eu/metadata-codelist/TopicCategory/utilitiesCommunication\")","v":"http://inspire.ec.europa.eu/metadata-codelist/TopicCategory/utilitiesCommunication"},{"$f":"IFERROR(__xludf.DUMMYFUNCTION(\"\"\"COMPUTED_VALUE\"\"\"),\"en\")","v":"en"},{"$f":"IFERROR(__xludf.DUMMYFUNCTION(\"\"\"COMPUTED_VALUE\"\"\"),\"Utilities / Communication\")","v":"Utilities / Communication"},{"$f":"IFERROR(__xludf.DUMMYFUNCTION(\"\"\"COMPUTED_VALUE\"\"\"),\"Energy, water and waste systems and communications infrastructure and services.\")","v":"Energy, water and waste systems and communications infrastructure and services."}]

{"sheet":"NFO_theme","index":19,"n_rows":69,"n_cols":3,"rows_kept":69,"cut":false,"hidden":true,"merged":[]}
[{"$f":"IFERROR(__xludf.DUMMYFUNCTION(\"IMPORTRANGE(\"\"https://docs.google.com/spreadsheets/d/1p4h5y82-jiH68qGY_WeCV6HuyJKmuyC1XLjVbwjsAdg\"\",\"\"theme!A1:Z100\"\")\"),\"id\")","v":"id"},{"$f":"IFERROR(__xludf.DUMMYFUNCTION(\"\"\"COMPUTED_VALUE\"\"\"),\"label\")","v":"label"},{"$f":"IFERROR(__xludf.DUMMYFUNCTION(\"\"\"COMPUTED_VALUE\"\"\"),\"language\")","v":"language"}]
[{"$f":"IFERROR(__xludf.DUMMYFUNCTION(\"\"\"COMPUTED_VALUE\"\"\"),\"http://inspire.ec.europa.eu/theme/ac\")","v":"http://inspire.ec.europa.eu/theme/ac"},{"$f":"IFERROR(__xludf.DUMMYFUNCTION(\"\"\"COMPUTED_VALUE\"\"\"),\"Atmospheric Conditions (AC)\")","v":"Atmospheric Conditions (AC)"},{"$f":"IFERROR(__xludf.DUMMYFUNCTION(\"\"\"COMPUTED_VALUE\"\"\"),\"en\")","v":"en"}]
[{"$f":"IFERROR(__xludf.DUMMYFUNCTION(\"\"\"COMPUTED_VALUE\"\"\"),\"http://inspire.ec.europa.eu/theme/ad\")","v":"http://inspire.ec.europa.eu/theme/ad"},{"$f":"IFERROR(__xludf.DUMMYFUNCTION(\"\"\"COMPUTED_VALUE\"\"\"),\"Addresses (AD)\")","v":"Addresses (AD)"},{"$f":"IFERROR(__xludf.DUMMYFUNCTION(\"\"\"COMPUTED_VALUE\"\"\"),\"en\")","v":"en"}]
[{"$f":"IFERROR(__xludf.DUMMYFUNCTION(\"\"\"COMPUTED_VALUE\"\"\"),\"http://inspire.ec.europa.eu/theme/af\")","v":"http://inspire.ec.europa.eu/theme/af"},{"$f":"IFERROR(__xludf.DUMMYFUNCTION(\"\"\"COMPUTED_VALUE\"\"\"),\"Agricultural and Aquaculture Facilities (AF)\")","v":"Agricultural and Aquaculture Facilities (AF)"},{"$f":"IFERROR(__xludf.DUMMYFUNCTION(\"\"\"COMPUTED_VALUE\"\"\"),\"en\")","v":"en"}]
[{"$f":"IFERROR(__xludf.DUMMYFUNCTION(\"\"\"COMPUTED_VALUE\"\"\"),\"http://inspire.ec.europa.eu/theme/am\")","v":"http://inspire.ec.europa.eu/theme/am"},{"$f":"IFERROR(__xludf.DUMMYFUNCTION(\"\"\"COMPUTED_VALUE\"\"\"),\"Area Management/Restriction/Regulation Zones and Reporting Units (AM)\")","v":"Area Management/Restriction/Regulation Zones and Reporting Units (AM)"},{"$f":"IFERROR(__xludf.DUMMYFUNCTION(\"\"\"COMPUTED_VALUE\"\"\"),\"en\")","v":"en"}]
[{"$f":"IFERROR(__xludf.DUMMYFUNCTION(\"\"\"COMPUTED_VALUE\"\"\"),\"http://inspire.ec.europa.eu/theme/au\")","v":"http://inspire.ec.europa.eu/theme/au"},{"$f":"IFERROR(__xludf.DUMMYFUNCTION(\"\"\"COMPUTED_VALUE\"\"\"),\"Administrative units (SO)\")","v":"Administrative units (SO)"},{"$f":"IFERROR(__xludf.DUMMYFUNCTION(\"\"\"COMPUTED_VALUE\"\"\"),\"en\")","v":"en"}]
[{"$f":"IFERROR(__xludf.DUMMYFUNCTION(\"\"\"COMPUTED_VALUE\"\"\"),\"http://inspire.ec.europa.eu/theme/br\")","v":"http://inspire.ec.europa.eu/theme/br"},{"$f":"IFERROR(__xludf.DUMMYFUNCTION(\"\"\"COMPUTED_VALUE\"\"\"),\"Bio-geographical regions (BR)\")","v":"Bio-geographical regions (BR)"},{"$f":"IFERROR(__xludf.DUMMYFUNCTION(\"\"\"COMPUTED_VALUE\"\"\"),\"en\")","v":"en"}]
[{"$f":"IFERROR(__xludf.DUMMYFUNCTION(\"\"\"COMPUTED_VALUE\"\"\"),\"http://inspire.ec.europa.eu/theme/bu\")","v":"http://inspire.ec.europa.eu/theme/bu"},{"$f":"IFERROR(__xludf.DUMMYFUNCTION(\"\"\"COMPUTED_VALUE\"\"\"),\"Buildings (BU)\")","v":"Buildings (BU)"},{"$f":"IFERROR(__xludf.DUMMYFUNCTION(\"\"\"COMPUTED_VALUE\"\"\"),\"en\")","v":"en"}]
[{"$f":"IFERROR(__xludf.DUMMYFUNCTION(\"\"\"COMPUTED_VALUE\"\"\"),\"http://inspire.ec.europa.eu/theme/cp\")","v":"http://inspire.ec.europa.eu/theme/cp"},{"$f":"IFERROR(__xludf.DUMMYFUNCTION(\"\"\"COMPUTED_VALUE\"\"\"),\"Cadastral parcels (CP)\")","v":"Cadastral parcels (CP)"},{"$f":"IFERROR(__xludf.DUMMYFUNCTION(\"\"\"COMPUTED_VALUE\"\"\"),\"en\")","v":"en"}]
[{"$f":"IFERROR(__xludf.DUMMYFUNCTION(\"\"\"COMPUTED_VALUE\"\"\"),\"http://inspire.ec.europa.eu/theme/ef\")","v":"http://inspire.ec.europa.eu/theme/ef"},{"$f":"IFERROR(__xludf.DUMMYFUNCTION(\"\"\"COMPUTED_VALUE\"\"\"),\"Environmental Monitoring Facilities (EF)\")","v":"Environmental Monitoring Facilities (EF)"},{"$f":"IFERROR(__xludf.DUMMYFUNCTION(\"\"\"COMPUTED_VALUE\"\"\"),\"en\")","v":"en"}]
[{"$f":"IFERROR(__xludf.DUMMYFUNCTION(\"\"\"COMPUTED_VALUE\"\"\"),\"http://inspire.ec.europa.eu/theme/el\")","v":"http://inspire.ec.europa.eu/theme/el"},{"$f":"IFERROR(__xludf.DUMMYFUNCTION(\"\"\"COMPUTED_VALUE\"\"\"),\"Elevations (EL)\")","v":"Elevations (EL)"},{"$f":"IFERROR(__xludf.DUMMYFUNCTION(\"\"\"COMPUTED_VALUE\"\"\"),\"en\")","v":"en"}]
[{"$f":"IFERROR(__xludf.DUMMYFUNCTION(\"\"\"COMPUTED_VALUE\"\"\"),\"http://inspire.ec.europa.eu/theme/er\")","v":"http://inspire.ec.europa.eu/theme/er"},{"$f":"IFERROR(__xludf.DUMMYFUNCTION(\"\"\"COMPUTED_VALUE\"\"\"),\"Natural resources (ER)\")","v":"Natural resources (ER)"},{"$f":"IFERROR(__xludf.DUMMYFUNCTION(\"\"\"COMPUTED_VALUE\"\"\"),\"en\")","v":"en"}]
[{"$f":"IFERROR(__xludf.DUMMYFUNCTION(\"\"\"COMPUTED_VALUE\"\"\"),\"http://inspire.ec.europa.eu/theme/ge\")","v":"http://inspire.ec.europa.eu/theme/ge"},{"$f":"IFERROR(__xludf.DUMMYFUNCTION(\"\"\"COMPUTED_VALUE\"\"\"),\"Geology (GE)\")","v":"Geology (GE)"},{"$f":"IFERROR(__xludf.DUMMYFUNCTION(\"\"\"COMPUTED_VALUE\"\"\"),\"en\")","v":"en"}]
[{"$f":"IFERROR(__xludf.DUMMYFUNCTION(\"\"\"COMPUTED_VALUE\"\"\"),\"http://inspire.ec.europa.eu/theme/gg\")","v":"http://inspire.ec.europa.eu/theme/gg"},{"$f":"IFERROR(__xludf.DUMMYFUNCTION(\"\"\"COMPUTED_VALUE\"\"\"),\"Geographical Grid Systems (GG)\")","v":"Geographical Grid Systems (GG)"},{"$f":"IFERROR(__xludf.DUMMYFUNCTION(\"\"\"COMPUTED_VALUE\"\"\"),\"en\")","v":"en"}]
[{"$f":"IFERROR(__xludf.DUMMYFUNCTION(\"\"\"COMPUTED_VALUE\"\"\"),\"http://inspire.ec.europa.eu/theme/gn\")","v":"http://inspire.ec.europa.eu/theme/gn"},{"$f":"IFERROR(__xludf.DUMMYFUNCTION(\"\"\"COMPUTED_VALUE\"\"\"),\"Geographical names (GN)\")","v":"Geographical names (GN)"},{"$f":"IFERROR(__xludf.DUMMYFUNCTION(\"\"\"COMPUTED_VALUE\"\"\"),\"en\")","v":"en"}]
[{"$f":"IFERROR(__xludf.DUMMYFUNCTION(\"\"\"COMPUTED_VALUE\"\"\"),\"http://inspire.ec.europa.eu/theme/hb\")","v":"http://inspire.ec.europa.eu/theme/hb"},{"$f":"IFERROR(__xludf.DUMMYFUNCTION(\"\"\"COMPUTED_VALUE\"\"\"),\"Habitats and Biotopes (HB)\")","v":"Habitats and Biotopes (HB)"},{"$f":"IFERROR(__xludf.DUMMYFUNCTION(\"\"\"COMPUTED_VALUE\"\"\"),\"en\")","v":"en"}]
[{"$f":"IFERROR(__xludf.DUMMYFUNCTION(\"\"\"COMPUTED_VALUE\"\"\"),\"http://inspire.ec.europa.eu/theme/hh\")","v":"http://inspire.ec.europa.eu/theme/hh"},{"$f":"IFERROR(__xludf.DUMMYFUNCTION(\"\"\"COMPUTED_VALUE\"\"\"),\"Human health and safety (HH)\")","v":"Human health and safety (HH)"},{"$f":"IFERROR(__xludf.DUMMYFUNCTION(\"\"\"COMPUTED_VALUE\"\"\"),\"en\")","v":"en"}]
[{"$f":"IFERROR(__xludf.DUMMYFUNCTION(\"\"\"COMPUTED_VALUE\"\"\"),\"http://inspire.ec.europa.eu/theme/hy\")","v":"http://inspire.ec.europa.eu/theme/hy"},{"$f":"IFERROR(__xludf.DUMMYFUNCTION(\"\"\"COMPUTED_VALUE\"\"\"),\"Hydrography (HY)\")","v":"Hydrography (HY)"},{"$f":"IFERROR(__xludf.DUMMYFUNCTION(\"\"\"COMPUTED_VALUE\"\"\"),\"en\")","v":"en"}]
[{"$f":"IFERROR(__xludf.DUMMYFUNCTION(\"\"\"COMPUTED_VALUE\"\"\"),\"http://inspire.ec.europa.eu/theme/lc\")","v":"http://inspire.ec.europa.eu/theme/lc"},{"$f":"IFERROR(__xludf.DUMMYFUNCTION(\"\"\"COMPUTED_VALUE\"\"\"),\"Land Cover (LC)\")","v":"Land Cover (LC)"},{"$f":"IFERROR(__xludf.DUMMYFUNCTION(\"\"\"COMPUTED_VALUE\"\"\"),\"en\")","v":"en"}]
[{"$f":"IFERROR(__xludf.DUMMYFUNCTION(\"\"\"COMPUTED_VALUE\"\"\"),\"http://inspire.ec.europa.eu/theme/lu\")","v":"http://inspire.ec.europa.eu/theme/lu"},{"$f":"IFERROR(__xludf.DUMMYFUNCTION(\"\"\"COMPUTED_VALUE\"\"\"),\"Land use (LU)\")","v":"Land use (LU)"},{"$f":"IFERROR(__xludf.DUMMYFUNCTION(\"\"\"COMPUTED_VALUE\"\"\"),\"en\")","v":"en"}]
[{"$f":"IFERROR(__xludf.DUMMYFUNCTION(\"\"\"COMPUTED_VALUE\"\"\"),\"http://inspire.ec.europa.eu/theme/mf\")","v":"http://inspire.ec.europa.eu/theme/mf"},{"$f":"IFERROR(__xludf.DUMMYFUNCTION(\"\"\"COMPUTED_VALUE\"\"\"),\"Meteorological Geographical Features (MF)\")","v":"Meteorological Geographical Features (MF)"},{"$f":"IFERROR(__xludf.DUMMYFUNCTION(\"\"\"COMPUTED_VALUE\"\"\"),\"en\")","v":"en"}]
[{"$f":"IFERROR(__xludf.DUMMYFUNCTION(\"\"\"COMPUTED_VALUE\"\"\"),\"http://inspire.ec.europa.eu/theme/mr\")","v":"http://inspire.ec.europa.eu/theme/mr"},{"$f":"IFERROR(__xludf.DUMMYFUNCTION(\"\"\"COMPUTED_VALUE\"\"\"),\"Mineral resources (MR)\")","v":"Mineral resources (MR)"},{"$f":"IFERROR(__xludf.DUMMYFUNCTION(\"\"\"COMPUTED_VALUE\"\"\"),\"en\")","v":"en"}]
[{"$f":"IFERROR(__xludf.DUMMYFUNCTION(\"\"\"COMPUTED_VALUE\"\"\"),\"http://inspire.ec.europa.eu/theme/nz\")","v":"http://inspire.ec.europa.eu/theme/nz"},{"$f":"IFERROR(__xludf.DUMMYFUNCTION(\"\"\"COMPUTED_VALUE\"\"\"),\"Natural risk zones (NZ)\")","v":"Natural risk zones (NZ)"},{"$f":"IFERROR(__xludf.DUMMYFUNCTION(\"\"\"COMPUTED_VALUE\"\"\"),\"en\")","v":"en"}]
[{"$f":"IFERROR(__xludf.DUMMYFUNCTION(\"\"\"COMPUTED_VALUE\"\"\"),\"http://inspire.ec.europa.eu/theme/of\")","v":"http://inspire.ec.europa.eu/theme/of"},{"$f":"IFERROR(__xludf.DUMMYFUNCTION(\"\"\"COMPUTED_VALUE\"\"\"),\"Oceanographic Geographical Features (OF)\")","v":"Oceanographic Geographical Features (OF)"},{"$f":"IFERROR(__xludf.DUMMYFUNCTION(\"\"\"COMPUTED_VALUE\"\"\"),\"en\")","v":"en"}]
[{"$f":"IFERROR(__xludf.DUMMYFUNCTION(\"\"\"COMPUTED_VALUE\"\"\"),\"http://inspire.ec.europa.eu/theme/oi\")","v":"http://inspire.ec.europa.eu/theme/oi"},{"$f":"IFERROR(__xludf.DUMMYFUNCTION(\"\"\"COMPUTED_VALUE\"\"\"),\"Orthoimagery (OI)\")","v":"Orthoimagery (OI)"},{"$f":"IFERROR(__xludf.DUMMYFUNCTION(\"\"\"COMPUTED_VALUE\"\"\"),\"en\")","v":"en"}]
[{"$f":"IFERROR(__xludf.DUMMYFUNCTION(\"\"\"COMPUTED_VALUE\"\"\"),\"http://inspire.ec.europa.eu/theme/pd\")","v":"http://inspire.ec.europa.eu/theme/pd"},{"$f":"IFERROR(__xludf.DUMMYFUNCTION(\"\"\"COMPUTED_VALUE\"\"\"),\"Population distribution — demography (PD)\")","v":"Population distribution — demography (PD)"},{"$f":"IFERROR(__xludf.DUMMYFUNCTION(\"\"\"COMPUTED_VALUE\"\"\"),\"en\")","v":"en"}]
[{"$f":"IFERROR(__xludf.DUMMYFUNCTION(\"\"\"COMPUTED_VALUE\"\"\"),\"http://inspire.ec.europa.eu/theme/pf\")","v":"http://inspire.ec.europa.eu/theme/pf"},{"$f":"IFERROR(__xludf.DUMMYFUNCTION(\"\"\"COMPUTED_VALUE\"\"\"),\"Production and Industrial Facilities (PF)\")","v":"Production and Industrial Facilities (PF)"},{"$f":"IFERROR(__xludf.DUMMYFUNCTION(\"\"\"COMPUTED_VALUE\"\"\"),\"en\")","v":"en"}]
[{"$f":"IFERROR(__xludf.DUMMYFUNCTION(\"\"\"COMPUTED_VALUE\"\"\"),\"http://inspire.ec.europa.eu/theme/ps\")","v":"http://inspire.ec.europa.eu/theme/ps"},{"$f":"IFERROR(__xludf.DUMMYFUNCTION(\"\"\"COMPUTED_VALUE\"\"\"),\"Protected sites (PS)\")","v":"Protected sites (PS)"},{"$f":"IFERROR(__xludf.DUMMYFUNCTION(\"\"\"COMPUTED_VALUE\"\"\"),\"en\")","v":"en"}]
[{"$f":"IFERROR(__xludf.DUMMYFUNCTION(\"\"\"COMPUTED_VALUE\"\"\"),\"http://inspire.ec.europa.eu/theme/rs\")","v":"http://inspire.ec.europa.eu/theme/rs"},{"$f":"IFERROR(__xludf.DUMMYFUNCTION(\"\"\"COMPUTED_VALUE\"\"\"),\"Coordinate Reference Systems (RS)\")","v":"Coordinate Reference Systems (RS)"},{"$f":"IFERROR(__xludf.DUMMYFUNCTION(\"\"\"COMPUTED_VALUE\"\"\"),\"en\")","v":"en"}]
[{"$f":"IFERROR(__xludf.DUMMYFUNCTION(\"\"\"COMPUTED_VALUE\"\"\"),\"http://inspire.ec.europa.eu/theme/sd\")","v":"http://inspire.ec.europa.eu/theme/sd"},{"$f":"IFERROR(__xludf.DUMMYFUNCTION(\"\"\"COMPUTED_VALUE\"\"\"),\"Species distribution (SD)\")","v":"Species distribution (SD)"},{"$f":"IFERROR(__xludf.DUMMYFUNCTION(\"\"\"COMPUTED_VALUE\"\"\"),\"en\")","v":"en"}]
[{"$f":"IFERROR(__xludf.DUMMYFUNCTION(\"\"\"COMPUTED_VALUE\"\"\"),\"http://inspire.ec.europa.eu/theme/so\")","v":"http://inspire.ec.europa.eu/theme/so"},{"$f":"IFERROR(__xludf.DUMMYFUNCTION(\"\"\"COMPUTED_VALUE\"\"\"),\"Soil (SO)\")","v":"Soil (SO)"},{"$f":"IFERROR(__xludf.DUMMYFUNCTION(\"\"\"COMPUTED_VALUE\"\"\"),\"en\")","v":"en"}]
[{"$f":"IFERROR(__xludf.DUMMYFUNCTION(\"\"\"COMPUTED_VALUE\"\"\"),\"http://inspire.ec.europa.eu/theme/sr\")","v":"http://inspire.ec.europa.eu/theme/sr"},{"$f":"IFERROR(__xludf.DUMMYFUNCTION(\"\"\"COMPUTED_VALUE\"\"\"),\"Sea regions (BR)\")","v":"Sea regions (BR)"},{"$f":"IFERROR(__xludf.DUMMYFUNCTION(\"\"\"COMPUTED_VALUE\"\"\"),\"en\")","v":"en"}]
[{"$f":"IFERROR(__xludf.DUMMYFUNCTION(\"\"\"COMPUTED_VALUE\"\"\"),\"http://inspire.ec.europa.eu/theme/su\")","v":"http://inspire.ec.europa.eu/theme/su"},{"$f":"IFERROR(__xludf.DUMMYFUNCTION(\"\"\"COMPUTED_VALUE\"\"\"),\"Statistical units (SU)\")","v":"Statistical units (SU)"},{"$f":"IFERROR(__xludf.DUMMYFUNCTION(\"\"\"COMPUTED_VALUE\"\"\"),\"en\")","v":"en"}]
[{"$f":"IFERROR(__xludf.DUMMYFUNCTION(\"\"\"COMPUTED_VALUE\"\"\"),\"http://inspire.ec.europa.eu/theme/tn\")","v":"http://inspire.ec.europa.eu/theme/tn"},{"$f":"IFERROR(__xludf.DUMMYFUNCTION(\"\"\"COMPUTED_VALUE\"\"\"),\"Transport networks (TN)\")","v":"Transport networks (TN)"},{"$f":"IFERROR(__xludf.DUMMYFUNCTION(\"\"\"COMPUTED_VALUE\"\"\"),\"en\")","v":"en"}]
[{"$f":"IFERROR(__xludf.DUMMYFUNCTION(\"\"\"COMPUTED_VALUE\"\"\"),\"http://inspire.ec.europa.eu/theme/us\")","v":"http://inspire.ec.europa.eu/theme/us"},{"$f":"IFERROR(__xludf.DUMMYFUNCTION(\"\"\"COMPUTED_VALUE\"\"\"),\"Utility and governmental services (US)\")","v":"Utility and governmental services (US)"},{"$f":"IFERROR(__xludf.DUMMYFUNCTION(\"\"\"COMPUTED_VALUE\"\"\"),\"en\")","v":"en"}]
[{"$f":"IFERROR(__xludf.DUMMYFUNCTION(\"\"\"COMPUTED_VALUE\"\"\"),\"http://inspire.ec.europa.eu/theme/ac\")","v":"http://inspire.ec.europa.eu/theme/ac"},{"$f":"IFERROR(__xludf.DUMMYFUNCTION(\"\"\"COMPUTED_VALUE\"\"\"),\"Condiciones atmosféricas (AC)\")","v":"Condiciones atmosféricas (AC)"},{"$f":"IFERROR(__xludf.DUMMYFUNCTION(\"\"\"COMPUTED_VALUE\"\"\"),\"es\")","v":"es"}]
[{"$f":"IFERROR(__xludf.DUMMYFUNCTION(\"\"\"COMPUTED_VALUE\"\"\"),\"http://inspire.ec.europa.eu/theme/ad\")","v":"http://inspire.ec.europa.eu/theme/ad"},{"$f":"IFERROR(__xludf.DUMMYFUNCTION(\"\"\"COMPUTED_VALUE\"\"\"),\"Direcciones (AD)\")","v":"Direcciones (AD)"},{"$f":"IFERROR(__xludf.DUMMYFUNCTION(\"\"\"COMPUTED_VALUE\"\"\"),\"es\")","v":"es"}]
[{"$f":"IFERROR(__xludf.DUMMYFUNCTION(\"\"\"COMPUTED_VALUE\"\"\"),\"http://inspire.ec.europa.eu/theme/af\")","v":"http://inspire.ec.europa.eu/theme/af"},{"$f":"IFERROR(__xludf.DUMMYFUNCTION(\"\"\"COMPUTED_VALUE\"\"\"),\"Instalaciones agrícolas y de acuicultura (AF)\")","v":"Instalaciones agrícolas y de acuicultura (AF)"},{"$f":"IFERROR(__xludf.DUMMYFUNCTION(\"\"\"COMPUTED_VALUE\"\"\"),\"es\")","v":"es"}]
[{"$f":"IFERROR(__xludf.DUMMYFUNCTION(\"\"\"COMPUTED_VALUE\"\"\"),\"http://inspire.ec.europa.eu/theme/am\")","v":"http://inspire.ec.europa.eu/theme/am"},{"$f":"IFERROR(__xludf.DUMMYFUNCTION(\"\"\"COMPUTED_VALUE\"\"\"),\"Zonas sujetas a ordenación, a restricciones o reglamentaciones y unidades de notificación (AM)\")","v":"Zonas sujetas a ordenación, a restricciones o reglamentaciones y unidades de notificación (AM)"},{"$f":"IFERROR(__xludf.DUMMYFUNCTION(\"\"\"COMPUTED_VALUE\"\"\"),\"es\")","v":"es"}]
[{"$f":"IFERROR(__xludf.DUMMYFUNCTION(\"\"\"COMPUTED_VALUE\"\"\"),\"http://inspire.ec.europa.eu/theme/au\")","v":"http://inspire.ec.europa.eu/theme/au"},{"$f":"IFERROR(__xludf.DUMMYFUNCTION(\"\"\"COMPUTED_VALUE\"\"\"),\"Unidades administrativas (SO)\")","v":"Unidades administrativas (SO)"},{"$f":"IFERROR(__xludf.DUMMYFUNCTION(\"\"\"COMPUTED_VALUE\"\"\"),\"es\")","v":"es"}]
[{"$f":"IFERROR(__xludf.DUMMYFUNCTION(\"\"\"COMPUTED_VALUE\"\"\"),\"http://inspire.ec.europa.eu/theme/br\")","v":"http://inspire.ec.europa.eu/theme/br"},{"$f":"IFERROR(__xludf.DUMMYFUNCTION(\"\"\"COMPUTED_VALUE\"\"\"),\"Regiones biogeográficas (BR)\")","v":"Regiones biogeográficas (BR)"},{"$f":"IFERROR(__xludf.DUMMYFUNCTION(\"\"\"COMPUTED_VALUE\"\"\"),\"es\")","v":"es"}]
[{"$f":"IFERROR(__xludf.DUMMYFUNCTION(\"\"\"COMPUTED_VALUE\"\"\"),\"http://inspire.ec.europa.eu/theme/bu\")","v":"http://inspire.ec.europa.eu/theme/bu"},{"$f":"IFERROR(__xludf.DUMMYFUNCTION(\"\"\"COMPUTED_VALUE\"\"\"),\"Edificios (BU)\")","v":"Edificios (BU)"},{"$f":"IFERROR(__xludf.DUMMYFUNCTION(\"\"\"COMPUTED_VALUE\"\"\"),\"es\")","v":"es"}]
[{"$f":"IFERROR(__xludf.DUMMYFUNCTION(\"\"\"COMPUTED_VALUE\"\"\"),\"http://inspire.ec.europa.eu/theme/cp\")","v":"http://inspire.ec.europa.eu/theme/cp"},{"$f":"IFERROR(__xludf.DUMMYFUNCTION(\"\"\"COMPUTED_VALUE\"\"\"),\"Parcelas catastrales (CP)\")","v":"Parcelas catastrales (CP)"},{"$f":"IFERROR(__xludf.DUMMYFUNCTION(\"\"\"COMPUTED_VALUE\"\"\"),\"es\")","v":"es"}]
[{"$f":"IFERROR(__xludf.DUMMYFUNCTION(\"\"\"COMPUTED_VALUE\"\"\"),\"http://inspire.ec.europa.eu/theme/ef\")","v":"http://inspire.ec.europa.eu/theme/ef"},{"$f":"IFERROR(__xludf.DUMMYFUNCTION(\"\"\"COMPUTED_VALUE\"\"\"),\"Instalaciones de observación del medio ambiente (EF)\")","v":"Instalaciones de observación del medio ambiente (EF)"},{"$f":"IFERROR(__xludf.DUMMYFUNCTION(\"\"\"COMPUTED_VALUE\"\"\"),\"es\")","v":"es"}]
[{"$f":"IFERROR(__xludf.DUMMYFUNCTION(\"\"\"COMPUTED_VALUE\"\"\"),\"http://inspire.ec.europa.eu/theme/el\")","v":"http://inspire.ec.europa.eu/theme/el"},{"$f":"IFERROR(__xludf.DUMMYFUNCTION(\"\"\"COMPUTED_VALUE\"\"\"),\"Elevaciones (EL)\")","v":"Elevaciones (EL)"},{"$f":"IFERROR(__xludf.DUMMYFUNCTION(\"\"\"COMPUTED_VALUE\"\"\"),\"es\")","v":"es"}]
[{"$f":"IFERROR(__xludf.DUMMYFUNCTION(\"\"\"COMPUTED_VALUE\"\"\"),\"http://inspire.ec.europa.eu/theme/er\")","v":"http://inspire.ec.europa.eu/theme/er"},{"$f":"IFERROR(__xludf.DUMMYFUNCTION(\"\"\"COMPUTED_VALUE\"\"\"),\"Recursos energéticos (ER)\")","v":"Recursos energéticos (ER)"},{"$f":"IFERROR(__xludf.DUMMYFUNCTION(\"\"\"COMPUTED_VALUE\"\"\"),\"es\")","v":"es"}]
[{"$f":"IFERROR(__xludf.DUMMYFUNCTION(\"\"\"COMPUTED_VALUE\"\"\"),\"http://inspire.ec.europa.eu/theme/ge\")","v":"http://inspire.ec.europa.eu/theme/ge"},{"$f":"IFERROR(__xludf.DUMMYFUNCTION(\"\"\"COMPUTED_VALUE\"\"\"),\"Geología (GE)\")","v":"Geología (GE)"},{"$f":"IFERROR(__xludf.DUMMYFUNCTION(\"\"\"COMPUTED_VALUE\"\"\"),\"es\")","v":"es"}]
[{"$f":"IFERROR(__xludf.DUMMYFUNCTION(\"\"\"COMPUTED_VALUE\"\"\"),\"http://inspire.ec.europa.eu/theme/gg\")","v":"http://inspire.ec.europa.eu/theme/gg"},{"$f":"IFERROR(__xludf.DUMMYFUNCTION(\"\"\"COMPUTED_VALUE\"\"\"),\"Sistema de cuadrículas geográficas (GG)\")","v":"Sistema de cuadrículas geográficas (GG)"},{"$f":"IFERROR(__xludf.DUMMYFUNCTION(\"\"\"COMPUTED_VALUE\"\"\"),\"es\")","v":"es"}]
[{"$f":"IFERROR(__xludf.DUMMYFUNCTION(\"\"\"COMPUTED_VALUE\"\"\"),\"http://inspire.ec.europa.eu/theme/gn\")","v":"http://inspire.ec.europa.eu/theme/gn"},{"$f":"IFERROR(__xludf.DUMMYFUNCTION(\"\"\"COMPUTED_VALUE\"\"\"),\"Nombres geográficos (GN)\")","v":"Nombres geográficos (GN)"},{"$f":"IFERROR(__xludf.DUMMYFUNCTION(\"\"\"COMPUTED_VALUE\"\"\"),\"es\")","v":"es"}]
[{"$f":"IFERROR(__xludf.DUMMYFUNCTION(\"\"\"COMPUTED_VALUE\"\"\"),\"http://inspire.ec.europa.eu/theme/hb\")","v":"http://inspire.ec.europa.eu/theme/hb"},{"$f":"IFERROR(__xludf.DUMMYFUNCTION(\"\"\"COMPUTED_VALUE\"\"\"),\"Hábitats y biotopos (HB)\")","v":"Hábitats y biotopos (HB)"},{"$f":"IFERROR(__xludf.DUMMYFUNCTION(\"\"\"COMPUTED_VALUE\"\"\"),\"es\")","v":"es"}]
[{"$f":"IFERROR(__xludf.DUMMYFUNCTION(\"\"\"COMPUTED_VALUE\"\"\"),\"http://inspire.ec.europa.eu/theme/hh\")","v":"http://inspire.ec.europa.eu/theme/hh"},{"$f":"IFERROR(__xludf.DUMMYFUNCTION(\"\"\"COMPUTED_VALUE\"\"\"),\"Salud y seguridad humanas (HH)\")","v":"Salud y seguridad humanas (HH)"},{"$f":"IFERROR(__xludf.DUMMYFUNCTION(\"\"\"COMPUTED_VALUE\"\"\"),\"es\")","v":"es"}]
[{"$f":"IFERROR(__xludf.DUMMYFUNCTION(\"\"\"COMPUTED_VALUE\"\"\"),\"http://inspire.ec.europa.eu/theme/hy\")","v":"http://inspire.ec.europa.eu/theme/hy"},{"$f":"IFERROR(__xludf.DUMMYFUNCTION(\"\"\"COMPUTED_VALUE\"\"\"),\"Hidrografía (HY)\")","v":"Hidrografía (HY)"},{"$f":"IFERROR(__xludf.DUMMYFUNCTION(\"\"\"COMPUTED_VALUE\"\"\"),\"es\")","v":"es"}]
[{"$f":"IFERROR(__xludf.DUMMYFUNCTION(\"\"\"COMPUTED_VALUE\"\"\"),\"http://inspire.ec.europa.eu/theme/lc\")","v":"http://inspire.ec.europa.eu/theme/lc"},{"$f":"IFERROR(__xludf.DUMMYFUNCTION(\"\"\"COMPUTED_VALUE\"\"\"),\"Cubierta terrestre (LC)\")","v":"Cubierta terrestre (LC)"},{"$f":"IFERROR(__xludf.DUMMYFUNCTION(\"\"\"COMPUTED_VALUE\"\"\"),\"es\")","v":"es"}]
[{"$f":"IFERROR(__xludf.DUMMYFUNCTION(\"\"\"COMPUTED_VALUE\"\"\"),\"http://inspire.ec.europa.eu/theme/lu\")","v":"http://inspire.ec.europa.eu/theme/lu"},{"$f":"IFERROR(__xludf.DUMMYFUNCTION(\"\"\"COMPUTED_VALUE\"\"\"),\"Uso del suelo (LU)\")","v":"Uso del suelo (LU)"},{"$f":"IFERROR(__xludf.DUMMYFUNCTION(\"\"\"COMPUTED_VALUE\"\"\"),\"es\")","v":"es"}]
[{"$f":"IFERROR(__xludf.DUMMYFUNCTION(\"\"\"COMPUTED_VALUE\"\"\"),\"http://inspire.ec.europa.eu/theme/mf\")","v":"http://inspire.ec.europa.eu/theme/mf"},{"$f":"IFERROR(__xludf.DUMMYFUNCTION(\"\"\"COMPUTED_VALUE\"\"\"),\"Aspectos geográficos de carácter meteorológico (MF)\")","v":"Aspectos geográficos de carácter meteorológico (MF)"},{"$f":"IFERROR(__xludf.DUMMYFUNCTION(\"\"\"COMPUTED_VALUE\"\"\"),\"es\")","v":"es"}]
[{"$f":"IFERROR(__xludf.DUMMYFUNCTION(\"\"\"COMPUTED_VALUE\"\"\"),\"http://inspire.ec.europa.eu/theme/mr\")","v":"http://inspire.ec.europa.eu/theme/mr"},{"$f":"IFERROR(__xludf.DUMMYFUNCTION(\"\"\"COMPUTED_VALUE\"\"\"),\"Recursos minerales (MR)\")","v":"Recursos minerales (MR)"},{"$f":"IFERROR(__xludf.DUMMYFUNCTION(\"\"\"COMPUTED_VALUE\"\"\"),\"es\")","v":"es"}]
[{"$f":"IFERROR(__xludf.DUMMYFUNCTION(\"\"\"COMPUTED_VALUE\"\"\"),\"http://inspire.ec.europa.eu/theme/nz\")","v":"http://inspire.ec.europa.eu/theme/nz"},{"$f":"IFERROR(__xludf.DUMMYFUNCTION(\"\"\"COMPUTED_VALUE\"\"\"),\"Zonas de riesgos naturales (NZ)\")","v":"Zonas de riesgos naturales (NZ)"},{"$f":"IFERROR(__xludf.DUMMYFUNCTION(\"\"\"COMPUTED_VALUE\"\"\"),\"es\")","v":"es"}]
[{"$f":"IFERROR(__xludf.DUMMYFUNCTION(\"\"\"COMPUTED_VALUE\"\"\"),\"http://inspire.ec.europa.eu/theme/of\")","v":"http://inspire.ec.europa.eu/theme/of"},{"$f":"IFERROR(__xludf.DUMMYFUNCTION(\"\"\"COMPUTED_VALUE\"\"\"),\"Rasgos geográficos oceanográficos (OF)\")","v":"Rasgos geográficos oceanográficos (OF)"},{"$f":"IFERROR(__xludf.DUMMYFUNCTION(\"\"\"COMPUTED_VALUE\"\"\"),\"es\")","v":"es"}]
[{"$f":"IFERROR(__xludf.DUMMYFUNCTION(\"\"\"COMPUTED_VALUE\"\"\"),\"http://inspire.ec.europa.eu/theme/oi\")","v":"http://inspire.ec.europa.eu/theme/oi"},{"$f":"IFERROR(__xludf.DUMMYFUNCTION(\"\"\"COMPUTED_VALUE\"\"\"),\"Ortoimágenes (OI)\")","v":"Ortoimágenes (OI)"},{"$f":"IFERROR(__xludf.DUMMYFUNCTION(\"\"\"COMPUTED_VALUE\"\"\"),\"es\")","v":"es"}]
[{"$f":"IFERROR(__xludf.DUMMYFUNCTION(\"\"\"COMPUTED_VALUE\"\"\"),\"http://inspire.ec.europa.eu/theme/pf\")","v":"http://inspire.ec.europa.eu/theme/pf"},{"$f":"IFERROR(__xludf.DUMMYFUNCTION(\"\"\"COMPUTED_VALUE\"\"\"),\"Instalaciones de producción e industriales (PF)\")","v":"Instalaciones de producción e industriales (PF)"},{"$f":"IFERROR(__xludf.DUMMYFUNCTION(\"\"\"COMPUTED_VALUE\"\"\"),\"es\")","v":"es"}]
[{"$f":"IFERROR(__xludf.DUMMYFUNCTION(\"\"\"COMPUTED_VALUE\"\"\"),\"http://inspire.ec.europa.eu/theme/ps\")","v":"http://inspire.ec.europa.eu/theme/ps"},{"$f":"IFERROR(__xludf.DUMMYFUNCTION(\"\"\"COMPUTED_VALUE\"\"\"),\"Lugares protegidos (PS)\")","v":"Lugares protegidos (PS)"},{"$f":"IFERROR(__xludf.DUMMYFUNCTION(\"\"\"COMPUTED_VALUE\"\"\"),\"es\")","v":"es"}]
[{"$f":"IFERROR(__xludf.DUMMYFUNCTION(\"\"\"COMPUTED_VALUE\"\"\"),\"http://inspire.ec.europa.eu/theme/rs\")","v":"http://inspire.ec.europa.eu/theme/rs"},{"$f":"IFERROR(__xludf.DUMMYFUNCTION(\"\"\"COMPUTED_VALUE\"\"\"),\"Sistemas de coordenadas de referencia (RS)\")","v":"Sistemas de coordenadas de referencia (RS)"},{"$f":"IFERROR(__xludf.DUMMYFUNCTION(\"\"\"COMPUTED_VALUE\"\"\"),\"es\")","v":"es"}]
[{"$f":"IFERROR(__xludf.DUMMYFUNCTION(\"\"\"COMPUTED_VALUE\"\"\"),\"http://inspire.ec.europa.eu/theme/sd\")","v":"http://inspire.ec.europa.eu/theme/sd"},{"$f":"IFERROR(__xludf.DUMMYFUNCTION(\"\"\"COMPUTED_VALUE\"\"\"),\"Distribución de las especies (SD)\")","v":"Distribución de las especies (SD)"},{"$f":"IFERROR(__xludf.DUMMYFUNCTION(\"\"\"COMPUTED_VALUE\"\"\"),\"es\")","v":"es"}]
[{"$f":"IFERROR(__xludf.DUMMYFUNCTION(\"\"\"COMPUTED_VALUE\"\"\"),\"http://inspire.ec.europa.eu/theme/so\")","v":"http://inspire.ec.europa.eu/theme/so"},{"$f":"IFERROR(__xludf.DUMMYFUNCTION(\"\"\"COMPUTED_VALUE\"\"\"),\"Suelo (SO)\")","v":"Suelo (SO)"},{"$f":"IFERROR(__xludf.DUMMYFUNCTION(\"\"\"COMPUTED_VALUE\"\"\"),\"es\")","v":"es"}]
[{"$f":"IFERROR(__xludf.DUMMYFUNCTION(\"\"\"COMPUTED_VALUE\"\"\"),\"http://inspire.ec.europa.eu/theme/sr\")","v":"http://inspire.ec.europa.eu/theme/sr"},{"$f":"IFERROR(__xludf.DUMMYFUNCTION(\"\"\"COMPUTED_VALUE\"\"\"),\"Regiones marinas (SR)\")","v":"Regiones marinas (SR)"},{"$f":"IFERROR(__xludf.DUMMYFUNCTION(\"\"\"COMPUTED_VALUE\"\"\"),\"es\")","v":"es"}]
[{"$f":"IFERROR(__xludf.DUMMYFUNCTION(\"\"\"COMPUTED_VALUE\"\"\"),\"http://inspire.ec.europa.eu/theme/su\")","v":"http://inspire.ec.europa.eu/theme/su"},{"$f":"IFERROR(__xludf.DUMMYFUNCTION(\"\"\"COMPUTED_VALUE\"\"\"),\"Unidades estadísticas (SU)\")","v":"Unidades estadísticas (SU)"},{"$f":"IFERROR(__xludf.DUMMYFUNCTION(\"\"\"COMPUTED_VALUE\"\"\"),\"es\")","v":"es"}]
[{"$f":"IFERROR(__xludf.DUMMYFUNCTION(\"\"\"COMPUTED_VALUE\"\"\"),\"http://inspire.ec.europa.eu/theme/tn\")","v":"http://inspire.ec.europa.eu/theme/tn"},{"$f":"IFERROR(__xludf.DUMMYFUNCTION(\"\"\"COMPUTED_VALUE\"\"\"),\"Redes de transporte (TN)\")","v":"Redes de transporte (TN)"},{"$f":"IFERROR(__xludf.DUMMYFUNCTION(\"\"\"COMPUTED_VALUE\"\"\"),\"es\")","v":"es"}]
[{"$f":"IFERROR(__xludf.DUMMYFUNCTION(\"\"\"COMPUTED_VALUE\"\"\"),\"http://inspire.ec.europa.eu/theme/us\")","v":"http://inspire.ec.europa.eu/theme/us"},{"$f":"IFERROR(__xludf.DUMMYFUNCTION(\"\"\"COMPUTED_VALUE\"\"\"),\"Servicios de utilidad pública y estatales (US)\")","v":"Servicios de utilidad pública y estatales (US)"},{"$f":"IFERROR(__xludf.DUMMYFUNCTION(\"\"\"COMPUTED_VALUE\"\"\"),\"es\")","v":"es"}]
[{"$f":"IFERROR(__xludf.DUMMYFUNCTION(\"\"\"COMPUTED_VALUE\"\"\"),\"https://inspire.ec.europa.eu/theme/pd\")","v":"https://inspire.ec.europa.eu/theme/pd"},{"$f":"IFERROR(__xludf.DUMMYFUNCTION(\"\"\"COMPUTED_VALUE\"\"\"),\"Distribución de la población - demografía (PD)\")","v":"Distribución de la población - demografía (PD)"},{"$f":"IFERROR(__xludf.DUMMYFUNCTION(\"\"\"COMPUTED_VALUE\"\"\"),\"es\")","v":"es"}]

{"sheet":"Licencia","index":20,"n_rows":16,"n_cols":1,"rows_kept":16,"cut":false,"hidden":true,"merged":[]}
["Creative Commons Attribution (CC BY 4.0)"]
["Creative Commons Attribution Share-Alike (CC BY-SA)"]
["Creative Commons CCZero (CC0)"]
["Creative Commons Non-Commercial (Cualquiera) (CC BY-NC)"]
["Creative Commons No-Derivs (Cualquiera) (CC BY-ND)"]
["GNU Free Documentation License"]
["No se especificó la licencia"]
["Open Data Commons Attribution License"]
["Open Data Commons Open Database License (ODbL)"]
["Open Data Commons Public Domain Dedication and License (PDDL)"]
["Otra (Abierta)"]
["Otra (Distribución)"]
["Otra (No abierta)"]
["Otra (No comercial)"]
["Otra (Public Domain)"]
["UK Open Government Licence (OGL)"]

{"sheet":"Palabras_clave","index":21,"n_rows":223,"n_cols":1,"rows_kept":223,"cut":false,"hidden":true,"merged":[]}
["PALABRAS CLAVE"]
["accidentes"]
["acidificación"]
["acuicultura"]
["adaptabilidad"]
["ADN"]
["afecciones"]
["agricultura"]
["aguas interiores"]
["aguas exteriores"]
["aguas residuales"]
["aire"]
["alertas"]
["alimentación"]
["alóctonas"]
["amenazas"]
["análisis espacial"]
["anidación"]
["anillamiento"]
["apicultura"]
["áreas de importancia ecológica"]
["arrecifes"]
["asentamiento larval"]
["avistamientos"]
["bancos de arena"]
["bentos"]
["bioeconomía"]
["biogeografía"]
["bioindicadores"]
["bioinformática"]
["biomarcadores"]
["biomasa"]
["cambio climático"]
["cañón submarino"]
["capturas accidentales"]
["cartografía"]
["caza"]
["censo"]
["chimeneas submarinas"]
["ciclo vegetativo"]
["clima"]
["colisión"]
["columnas marinas"]
["comercio ilegal"]
["conducta alimentaria"]
["conservación in situ"]
["conservación ex situ"]
["contaminación"]
["crecimiento"]
["cría de animales"]
["criterios de planificación"]
["criterios de selección"]
["cuevas"]
["cultivos"]
["custodia del territorio"]
["daños"]
["declive"]
["defensa"]
["degradación"]
["demarcación hidrográfica"]
["demografía"]
["densidad"]
["desalación"]
["desarrollo sostenible"]
["desertificación"]
["detritus"]
["diagnóstico ambiental"]
["diferenciación genética"]
["dinámica poblacional"]
["dióxido de carbono (CO₂)"]
["dispersión del flujo de genes"]
["dispositivos"]
["distribución"]
["diversidad"]
["diversidad genética"]
["ecología"]
["economía"]
["eficiencia "]
["embarcaciones"]
["energías renovables"]
["enfermedades"]
["enmallamiento"]
["epizootía"]
["erosión"]
["especies migratorias"]
["especies protegidas"]
["estrés oxidativo"]
["eutrofización"]
["evolución morfológica"]
["factores de estrés"]
["fenología"]
["fisiología"]
["floración"]
["formación biogénica"]
["fotosíntesis"]
["fragmentacion"]
["ganadería"]
["genética"]
["geodiversidad"]
["geología"]
["gestación"]
["gestión costera"]
["gestión de áreas marinas"]
["gestión forestal"]
["gestión sostenible"]
["gradiente térmico"]
["hábitats"]
["hábitats amenazados"]
["herbivoría"]
["hidrodinámicas"]
["hipoxia"]
["humedales"]
["Impacto ambiental"]
["impacto humano"]
["impacto socieconómico"]
["incendios"]
["infracciones"]
["infraestructuras"]
["Inundación"]
["invasiones"]
["invernada"]
["investigación"]
["irradiación"]
["jaulas"]
["legislación"]
["lesiones"]
["libro rojo"]
["lista roja"]
["luz"]
["mapa"]
["marcaje"]
["medición"]
["medidas"]
["medidas de actuación"]
["medidas de gestión"]
["mitigación"]
["mesocosmos"]
["metabolismo"]
["migración"]
["minería"]
["monitorización"]
["montañas"]
["montes submarinos"]
["morfología"]
["mortalidad"]
["muestreo"]
["nacimientos"]
["navegación"]
["nidificación"]
["nutrientes"]
["observación"]
["oligotrofía"]
["organismos"]
["paisajes"]
["parajes"]
["parásitos"]
["partículas"]
["pastoreo"]
["patología"]
["pesca"]
["piscicultura"]
["planes de acción"]
["planes de conservación"]
["planes de gestión"]
["plan de protección"]
["plan de recuperación"]
["plantas desalinizadoras"]
["plásticos"]
["playas"]
["población"]
["polinizadores"]
["precipitaciones"]
["presas"]
["presiones y amenazas"]
["producción"]
["prospecciones"]
["protección"]
["puertos"]
["radiación UV"]
["rasa mareal"]
["reciclaje"]
["red hidrográfica"]
["redes"]
["reforestación"]
["regeneración"]
["reintroducción"]
["renaturalización"]
["reproducción"]
["reproducción clonal"]
["rescates"]
["reservas"]
["residuos"]
["restauración"]
["ríos"]
["salinización"]
["sanciones"]
["secuencias deposicionales"]
["sedimentación"]
["seguimiento"]
["sequía"]
["silvicultura"]
["sísmica"]
["sensores remotos-teledetección"]
["soluciones técnicas"]
["sostenibilidad"]
["suelo"]
["supervivencia"]
["talud continental"]
["tamaños"]
["tasas"]
["tecnología"]
["tejidos"]
["temperatura"]
["tipos de muestreo"]
["tráfico marítimo"]
["varamientos"]
["venenos"]
["vertebrados"]
["vertidos"]
["vías pecuarias"]
["vigilancia"]
["virus"]
["vulnerabilidad"]